Workbook

Sheet 2018
A1: Log Number | B1: Engineering Group | C1: Date | D1: TE Tool No | E1: Category | F1: Problem Summary | G1: Site | H1: Originator | I1: Assignee 1 (UK/ US) | J1: Assignee 2 (WPPL) | K1: Date Completed | L1: Remark/Closure | M1: Priority | N1: STATUS | P1: Priority | R1: Site | S1: (All)
M2: 1- High(< 1 week) | P2: 1- High(< 1 week)
A3: S180001 | B3: Test Engineering | C3: 43203 | D3: TE82995-2 | E3: Repair | F3: Known good UUT use to test on TE82995-2 show "Pierce Test Failed" see attached print screen capture. | G3: Venture | H3: Tan Hong Cheng | J3: Desmond | K3: 43203 | L3: Replace the Control Board (P/N: 210000367) inside the test box, problem never resurface. | M3: 2-Medium (<4 weeks) | N3: CLOSED | P3: 2- Medium(<4 weeks) | R3: Count of Assignee 2 (WPPL) | S3: Column Labels
A4: S180002 | B4: Manufacturing Engineering | C4: 43210 | D4: 999119657 | E4: Repair | F4: Shuttle Press with Punch Station cannot power on. Open casing found Y3 alarm on. Perform check on all wire connection no loose connection found. Use multi-meter to measure the 24 VDC Output connector found no output. Suspect power supply is faulty or other issue cause Y3 alarm on. | G4: Venture | H4: Tan Hong Cheng | J4: Desmond | K4: 43210 | L4: Venture found an alternate 24 PWS and fixed. 2 spare oringal part number of power supplies received for Milford for future use | M4: 2-Medium (<4 weeks) | N4: CLOSED | P4: 3- Low (> 4 weeks & above) | R4: Row Labels | S4: CLOSED | T4: Open | U4: Grand Total
A5: S180003 | B5: Manufacturing Engineering | C5: 04.26.2018 | D5: QDa Pumping Block Removal Tool | E5: New | F5: When the UUT test failed, it is nessessary to verify with Gold Brick parts fo find the failure. Because of the vacuum sucking pressure during the UUT is operating, the pumping block is always difficult to remove from the analyzer housing. | G5: Venture | H5: Alan Oh | J5: Mandy | K5: 43290 | L5: [09Jul18] Venture have received this removal tool - updated by Mandy | M5: 2-Medium (<4 weeks) | N5: CLOSED | R5: Desmond | S5: 9 | U5: 9
A6: S180004 | B6: Test Engineering | C6: 43278 | D6: TE82943 | E6: Others | F6: Missing serial number at the bottom of the test report (Ser.No) of Acquity BSM 18K PLUS test in some Test record and it is encountered across all test stations TE82943 #1,#19,#20,#21,#22 and #24. Please kindly refer to the "BSM Test Record.JPG" | G6: Venture | H6: Chan Myae Soe | I6: Milford - Ed Jackson | J6: Hua Zhen | M6: 3- Low (> 4 weeks & above) | N6: Open | P6: Status | R6: 1- High(< 1 week) | S6: 3 | U6: 3
A7: S180005 | B7: Test Engineering | C7: 06.25.2018 | D7: TE83064-All | E7: Upgrade | F7: Starting from end of April (mainly after software & firmware updates) till now, we are observing high Needle Seal Force failures for all FTN models at all testers. Please refers to attached ppt files for information that we observed about this failure. The purpose of this OESR is to request help from Waters' Test engineer for Needle Seal Force failure and to prequest direction to prevent/reduce this failure. | G7: Venture | H7: Eilwin | I7: Milford-Rick | J7: Hua Zhen | M7: 3- Low (> 4 weeks & above) | N7: Open | P7: Open | R7: 2-Medium (<4 weeks)2 | S7: 6 | U7: 6
A8: S180006 | B8: Manufacturing Engineering | C8: 06.27.2018 | D8: N/A | E8: Others | F8: On 13 Jun 2018, Part Number: 186015085. Instrument serial number F18FTP669G barcode label sheet generate by GES system is incorrect. Production operators failed to detect it and scan into Genealogy System. When this error was detected later, production operators try to correct the error and re-entry the correct data result in multiple entry was enter. | G8: Venture | H8: Tan Hong Cheng | I8: Milford-Roland | J8: Desmond | K8: 43278 | L8: [27Jun18] Data entered into Sigmasure cannot be adjusted. Amend on hardcopy of Sigmasure data. | M8: 2-Medium (<4 weeks) | N8: CLOSED | P8: Closed | R8: Edwin | S8: 6 | T8: 1 | U8: 7
A9: S180007 | B9: Test Engineering | C9: 05.29.2018 | D9: TE82736 | E9: Others | F9: Milford requests to have test data for Alliance Display, Degasser and Heater/Cooler test in the past 2 years. | G9: Milford | H9: Milford-Mike | J9: Hua Zhen | K9: 43279 | L9: OESR: 182580. [26Jun18] Discussed with Flex, they will feedback about the feasibility and time required for this job done. [28Jun18] Sent the data to Mike. | M9: 2-Medium (<4 weeks) | N9: CLOSED | P9: category | R9: 1- High(< 1 week) | S9: 1 | U9: 1
A10: S180008 | B10: Test Engineering | C10: 08.24.2018 | D10: TE83013 | E10: Upgrade | F10: E cord interface test failure | G10: WPPL | H10: WPPL - Siew Yee | I10: Milford-Matt | J10: Hua Zhen | M10: 3- Low (> 4 weeks & above) | N10: Open | P10: Repair | R10: 3- Low (> 4 weeks & above) | S10: 1 | T10: 1 | U10: 2
A11: S180009 | B11: Test Engineering | C11: 06.25.2018 | D11: Leak Detector | E11: New | F11: Leak detector used in QDa and Beacon about to due for calibration. Please define the PM requirement and calibration requirement. | G11: Venture | H11: Loo Kok Leong | J11: Siddharth | L11: raised PO. 16-Jul-18: The leak bottle has been replaced with a leak bottle from the demo unit so that the calibration status of the instrument is not affected. The leak bottle that was ordered will be installed in the end of July. Servicing to be done in August, when there is no production. 30-Aug-18: The new calibrated leak bottle has been installed in the HLD. The calibration certificate has been given to Su Fern. Since we have not used the HLD a lot in the last year, after speaking with Paul, we have decided that the PM will be done next year after we buy the new HLD. | M11: 2-Medium (<4 weeks) | N11: Closed | P11: Duplicate | R11: 2-Medium (<4 weeks)2 | S11: 4 | U11: 4
A12: S180010 | B12: Manufacturing Engineering | E12: Others | F12: Please provide a summary of the following tubing used on the ACQUITY column manager test station: For this request, I am interested in the ID and length of each tube, including: 1. Pump Outlet tubing (BSM-SM) 2. UUT interconnect tube1 (SM-UUT) 3. UUT interconnect tube 2 (UUT-Detector) Also the detector/flowcell outlet Back Pressure Regulator (what is the pressure rating - 250 PSI, 500 PSI, other?) It would be good to have this information relatively quickly, so try to determine the tubing details as quickly as possible. Thanks, Mike | G12: Milford | H12: Milford-Mike | J12: Hua Zhen | K12: 43279 | L12: The request has been fulfilled. | M12: 2-Medium (<4 weeks) | N12: CLOSED | P12: New | R12: Hua Zhen | S12: 63 | T12: 14 | U12: 77
A13: S180011 | B13: Test Engineering | C13: 06.29.2018 | D13: TE82525-2 | E13: Repair | F13: TE82525-2 Pump Tray Tester is keep on failing on Ripple Test \ Flow Test. Action taken to verify the failure: 1. Pin Plug FV2 during Ripple Test - Test Result PASS 2. Pin Plug FV2 during Flow Test - Test Resut PASS 3. Removed the Pin Plug during Ripple Test - Test Result FAIL and observed small amount of leak solvent during test. 4. Removed the Pin Plug during Flow Test - Test Result FAIL and observed small amount of leak solvent during test. 5. Therefore I conclude that the rootcause is leaky ASFVO Flow Valve. | G13: Flex | H13: Joel | I13: Milford - Mark Jussaume | J13: Hua Zhen | M13: 2-Medium (<4 weeks) | N13: Closed | P13: Upgrade | R13: 1- High(< 1 week) | S13: 21 | U13: 21
A14: S180012 | B14: Test Engineering | C14: 43106 | D14: N/A | E14: Others | F14: We would like to request download the test record from Sigmasure 7 for the following Serial Numbers: PN : 186015080 SN E18QSP539A E18QSP536A E18QSP540A E18QSP542A E18QSP541A | G14: Flex | H14: Joel | J14: Desmond | K14: 43278 | L14: Flex requests printer replacement, wait for Flex to get back latest status about this printer replacement Information provided to Flex | M14: 2-Medium (<4 weeks) | N14: CLOSED | P14: Others | R14: 3- Low (> 4 weeks & above) | S14: 7 | T14: 8 | U14: 15
A15: S180013 | B15: Test Engineering | C15: 43280 | D15: TE82943-1 | E15: New | F15: Production is seeing a spike of 0.3ml/min flow rate accuracy failures (lower spec limit – 0.297ml/min) on QSM (186017000) in Apr . Please kindly refer to the "Brainstorming for 0 3ml flowrate test failure-29 Jun.pptx" for detail study. | G15: Venture | H15: Chan Myae Soe | I15: Milford-Edward Jackson | J15: Hua Zhen | M15: 3- Low (> 4 weeks & above) | N15: Closed | R15: 2-Medium (<4 weeks)2 | S15: 31 | T15: 2 | U15: 33
A16: S180014 | B16: Test Engineering | C16: 43283 | D16: TE83064-16 | E16: Repair | F16: On 02-July-2018, Pump B of BSM of TE83064-16 has high leakage and cannot continue testing anymore . Both seals of primary and accumulator of pump B are required to be changed due to wear and tear. Affected part numbers to be changed are WAT076152(CRC O-ring 2.016) W1425000930-R (Seal Wash .0787 ID) W1425001037-R (Seal Wash Press Dual Supply) Since we are using these parts at Venture GES production, we replaced them for TE16. | G16: Venture | H16: EiLwin | J16: Hua Zhen | K16: 43283 | L16: Fixed by replacing parts from Venture production and billed to WPPL | M16: 1- High(< 1 week) | N16: CLOSED | R16: 2- Medium(<4 weeks) | S16: 4 | T16: 4 | U16: 8
A17: S180015 | B17: Test Engineering | C17: 43283 | D17: 83086-2 | E17: Repair | F17: 1. Analog board 210000399 in GTS test fixture was burnt during testing of Aquity RI Persoanality board 210000699. 2. Request for replacement for 210000339 Analog board | G17: CEI | H17: CA Tan | J17: Desmond | K17: 43283 | L17: 2 PCB from Milford were collected by CA for this repair | M17: 1- High(< 1 week) | N17: CLOSED | R17: Mandy | S17: 2 | T17: 1 | U17: 3
A18: S180016 | B18: Test Engineering | C18: 43285 | D18: TE82998-1 | E18: Repair | F18: 1.Testing for 210000422 Vista Pump PCBA at GTS was down due to bad Degasser board in test fixture. 2. Request for replacemnt and spare degasser board, p/n.725000459 Qaters QPSI Degasser. | G18: CEI | H18: CA Tan | J18: Hua Zhen | K18: 43291 | L18: [04Jul2018] Sent kit PN to Jie Hui for purchasing of this PCB -; [06Jul2018] Christine received MRO [10Jul2018] Only 1 PCB was received, CA from CEI will collect it on 11 Jul 2018 | M18: 1- High(< 1 week) | N18: CLOSED | R18: 3- Low (> 4 weeks & above) | T18: 1 | U18: 1
A19: S180017 | B19: Test Engineering | C19: 43285 | D19: TE82943-13 | E19: Repair | F19: TE82943 - 13 - Weighing balance hr-200 (s/n:12326184) showing unstable reading.(unable to get the zero reading) Action Taken : 1) Ensure that the bubble spirit level is center of balance. 2) Re-Zero the weighing balance but to no avail. 3) Ensure that balance stability is not influence by breeze or vibration. 4) Remove weighing pan,re insert the pan and Re-zero but no avail. 5) Press and hold the Re-Zero key until balance display CAL.Release the RE-Zero Key.Display shows "Error 1". | G19: Flex | H19: Joel | J19: Yee Hwa | L19: [05Jul18] Quotation in progress [10Jul18] ITS-ZiLun collected 2 balance from Flex on 09Jul18. To get status from Zilun on quotation and lead time [10Aug18] PO issued. Lead time 3 week. ETA:early Oct [3.Oct] ETA: WW41 | M19: 3- Low (> 4 weeks & above) | N19: Closed | R19: 2-Medium (<4 weeks)2 | S19: 2 | U19: 2
A20: S180018 | B20: Test Engineering | C20: 43285 | D20: TE82943-17 | E20: Repair | F20: TE82943 - 17 - Weighing balance hr-200 (s/n:12326279) has no display.(Faulty display) | G20: Flex | H20: Joel | J20: Yee Hwa | K20: 43301 | L20: [05Jul18] Quotation in progress Similar as item S180017 [10Jul18] ITS-ZiLun collected 2 balance from Flex on 09Jul18. To get status from Zilun on quotation and lead time [20Jul18] Repaired and received on 18Jul18. | M20: 1- High(< 1 week) | N20: CLOSED | R20: Siddharth | S20: 1 | U20: 1
A21: S180019 | B21: Manufacturing Engineering | C21: 43286 | D21: 999027952-2 | E21: Repair | F21: Tooling 999027652-2 pin broken when use on Actuator Assembly for iBSM&QSM. There is no spare pin at Venture GES.(Need 4 pcs) | G21: Venture | H21: Chua Chong Keong | J21: Desmond | K21: 43307 | L21: [05Jul18] GES Chong Keong to advise the reason for damage as the pins are recently changed in Apr 2018. [10Jul18] Chong Keong to follow up with supplier about material quality as all pins broken in 3 months. [26Jul18] Chong Keong received the part replacement - 10pcs. | M21: 1- High(< 1 week) | N21: CLOSED | R21: 2-Medium (<4 weeks)2 | S21: 1 | U21: 1
A22: S180020 | B22: Test Engineering | C22: 43106 | D22: TE82475 | E22: Repair | F22: TE82475 - Pressure Decay Tester is not able to hold off pressure for position 1. Action Taken : Verified System Transducer during calibration to 1000 PSI - OK Verified Position 1 : during calibration to 1000 PSI - OK Verified Position 2 : during calibration 10 1000 PSI - OK Perform testing as per WAT025373 - to each position and result failed. Position 1 Pneumatic Valve 1 exhibit abMedium temperature during operation compare to other valve . Suspect to have issue with Valve Number 71216SN1BL00N0L111Q3 | G22: Flex | H22: Joel | J22: Hua Zhen | K22: 43294 | M22: 1- High(< 1 week) | N22: CLOSED | R22: Yee Hwa | S22: 14 | T22: 2 | U22: 16
A23: S180021 | B23: Test Engineering | C23: 43287 | D23: TE82988-12 | E23: New | F23: Tester or system not able to power on. This is due to the " AC Power distribution box " not working.It has been noticed that when the AC switch in the front panel of the tester is switch on there was an arching like sound generated in the AC Power distribution box. The arching sounds like behaviorally the same with the old GTS previously before we have replaced with new power distribution box. | G23: Venture | H23: Jason GES | J23: Hua Zhen | K23: 43301 | L23: [06Jul18] OSER received [10Jul18] To confirm the failure and meanwhile for arrival of repaired Power box from Milford [13Jul18] Email from Paul asked to inspect the power plug for distribution box, Jason at Venture was informed [16Jul18] GES was informed to collect repaired power distribution box from WPPL and verify on new GTS see if the arching is caused by 3-phase power line capacity/stablity. [20Jul18] The issue is fixed by tightening power connector screws and case closed | M23: 2-Medium (<4 weeks) | N23: CLOSED | R23: 1- High(< 1 week) | S23: 4 | U23: 4
A24: S180022 | B24: Test Engineering | C24: 43290 | D24: TE82882-9 | E24: Others | F24: TE82882-9 and TE82882-14 Footer Mismatch with Serial Number. Action Taken: 1. Stop using TE82882-9 amd 14 2. Retest UUT affected to other station 3. Refer to attached print-sample | G24: Flex | H24: Joel | J24: Yee Hwa | L24: OESR 182647 [10Jul18] Joel will update OESR to reflect the all testers were affected by this issue [17Jul18] Create Sigmasure 7 access for Phani, Joel, Gary and CK. [20Jul18] Sigmasure 7 access have been created but Milford advise detector test data will not be able to share with Flex due to security reasons. TMD to be raise by Yee Hwa for the interim period till the tester is resolved by Eric. [14Aug18] TMD is not required per discussed with WPPL Quality team. Pending Eric to resolve the issue. [12Sep18] Bug fiexed in ECO9224731. | M24: 3- Low (> 4 weeks & above) | N24: Closed | R24: 3- Low (> 4 weeks & above) | S24: 3 | T24: 1 | U24: 4
A25: S180023 | B25: Test Engineering | C25: 43292 | D25: TE83064-13 | E25: Repair | F25: TE83064-13 is having system over pressure due to Column 4 (P/N:186002350) blockage. The column has been flushed in both direction to purge out the blockage but still causing system over pressure. Therefore, request column P/N:186002350 (Qty 1) for TE83064-13. Attached is a reference screen shot of system over pressure for reference. | G25: Venture | H25: EiLwin | J25: Hua Zhen | K25: 43294 | L25: [12Jul18] Hong Cheng come WPPL to collect Column for repair [13Jul18] The overpressure issue was fixed by replacing column 4 | M25: 1- High(< 1 week) | N25: CLOSED | R25: 2-Medium (<4 weeks)2 | S25: 7 | U25: 7
A26: S180024 | B26: Manufacturing Engineering | C26: 43293 | D26: Label Printer | E26: Others | F26: Found WAT024406 (Label, Serial Shipping Label) content is illegible during packing. Serial Number: G18SM4001A Request Waters personnel to assist to re-print Shipping label at Flex site. Qty: 1pc Root Cause: Mis-handling of Label | G26: Flex | H26: CK Tan | J26: Yee Hwa | K26: 43293 | L26: [12Jul18] Case closed. This OESR is for record purpose | M26: 3- Low (> 4 weeks & above) | N26: CLOSED | R26: 2- Medium(<4 weeks) | T26: 1 | U26: 1
A27: S180025 | B27: Test Engineering | C27: 43293 | D27: TE83064 | E27: Others | F27: Please send in the Test Equipment Qualification Report S/No Document Number Document Title 1 TE83064-10-TEQR_LTERATION 00 Test Equipment Qualification Report for TE83064-10 2 TE83064-11-TEQR_LTERATION 00 Test Equipment Qualification Report for TE83064-11 3 TE83064-12-TEQR_LTERATION 01 Test Equipment Qualification Report for TE83064-12 4 TE83064-13-TEQR_LTERATION 01 Test Equipment Qualification Report for TE83064-13 5 TE83064-14-TEQR_LTERATION 02 Test Equipment Qualification Report for TE83064-14 6 TE83064-15-TEQR_LTERATION 02 Test Equipment Qualification Report for TE83064-15 7 TE83064-16-TEQR_LTERATION 03 Test Equipment Qualification Report for TE83064-16 8 TE83064-17-TEQR_LTERATION 03 Test Equipment Qualification Report for TE83064-17 | G27: Venture | H27: Tan Hong Cheng | J27: Edwin | K27: 43304 | L27: [13Jul18] Already sent IQ report of 2 Testers, will send the rest to Hong Cheng [16Jul18] Hong Cheng will check with their quality department and advise if can close this request after explaining to him about TEQR. [23Jul18] Qualification report was accepted by Venture quality and case closed | M27: 2-Medium (<4 weeks) | N27: CLOSED | R27: SuFern | S27: 1 | U27: 1
A28: S180026 | B28: Test Engineering | C28: 43293 | D28: TE82998-1 | E28: Repair | F28: The CPU board at the 210000345 GTS fixture (TE#83001-3) suspected not working. To replace with a new board, we will require the CPU firmware. Attached is a request for CPU firmware for GTS FCT fixtures.. The firmware is required if the CPU board at the fixture need to be replace. | G28: CEI | H28: CA Tan | J28: Edwin | M28: 2-Medium (<4 weeks) | N28: Closed | R28: 3- Low (> 4 weeks & above) | S28: 1 | U28: 1
A29: S180027 | B29: Test Engineering | C29: 43293 | D29: TE82988-3 | E29: Repair | F29: Tester was failing test " Serial Communication " and Suspected that the CPU is faulty or not able to booth up. Pass board have been tested too but also failing.Screenshot of the failure are attached in the email for reference. | G29: Venture | H29: Jason GES | J29: Hua Zhen | K29: 43311 | L29: [19Jul18] Venture found a replacement CPU from the other fixture and GTS is working with this replacement now, but still need to get a permanent replacement from Milford [23Jul18] Mark will ship 2x cpu with firmware loaded to WPPL [26Jul18] PCBA pass to Jason. | M29: 1- High(< 1 week) | N29: CLOSED | R29: Grand Total | S29: 96 | T29: 18 | U29: 114
A30: S180028 | B30: Test Engineering | C30: 43294 | D30: TE82998-1 | E30: Repair | F30: 1.Testing for 210000422 Vista Pump PCBA at GTS was down due to bad Degasser board in test fixture. 2. Request for one (1) replacement and two (2) spare degasser boards, p/n.725000459 Waters QPSI Degasser PCBA. | G30: CEI | H30: CA Tan | J30: Hua Zhen | K30: 43297 | L30: [13Jul18] This GTS Degasser is frquently breakdown, further investiagetion is required. [16Jul18] The board was passed to CA and monitoring the issue now | M30: 1- High(< 1 week) | N30: CLOSED
A31: S180029 | B31: Test Engineering | C31: 43297 | D31: TE83031-1 | E31: New | F31: The existing optics bench alignment stations are using Golden flow cell to align all the optics benches.These Golden flow cells do not have the proper PM procedure to maintain their performance initially.Venture recently working with WPPL to release PM procedure for these golden flow cells. PM could help to improve flow cell performance for mechanically but it couldn't help when the flow cells are facing optically degaraded and againg. Milford Engineer agreed Venture should have one back up golden flow cell in any case of flow cell degrading over a few years of usage and for not interrupting production while it waiting Milford to send over new Golden flow cell. Request to send over new Golden Flow cells for Optics Alignment Test Stations. Please share with us how to perform the measurement and any specification threshold for replacement. Refer to attached photos of Ref photo diode flow cell. | G31: Venture | H31: MiMi | J31: Mandy | M31: 3- Low (> 4 weeks & above) | N31: Open
A32: S180030 | B32: Test Engineering | C32: 43298 | D32: TE82774 | E32: Others | F32: Redline TSP 735000698 add Install Dust Cover, Part Number: xxx into the 26 pin D-Sub connector on page 14 of 36. | G32: Venture | H32: Tan Hong Cheng | J32: Edwin | L32: [17Jul18] check with Hong Cheng to further understand ther request [27Jul18] Edwin to review redline for change to sent to Milford. [20Sep18] Engineering felt this is an isolated case so they do not wish to proceed with new part number unless there is more cases. Recommend to close | M32: 2-Medium (<4 weeks) | N32: Closed
A33: S180031 | B33: Test Engineering | C33: 43298 | D33: TE82817 | E33: Others | F33: Please help to down down TSP 735000887 in word format for Venture GES to mark up.14 of 36. | G33: Venture | H33: Tan Hong Cheng | J33: Edwin | K33: 43301 | L33: [17Jul18] Edwin to advise if should send word format TSP to Venture? [20Jul18] Venture will redline on PDF. | M33: 2-Medium (<4 weeks) | N33: CLOSED
A34: S180032 | B34: Test Engineering | C34: 43299 | D34: TE83026 Column Manager | E34: Others | F34: Sigmasure6 could not be reached. "Problem Loading Page - Unable to connect" message is returned eventhough sigmasure7 is working. | G34: Venture | H34: CHAN MYAE SOE | J34: Hua Zhen | K34: 43300 | L34: [19Jul18] Confirmed with Bill the server is down and no solution for time being | M34: 2-Medium (<4 weeks) | N34: CLOSED
A35: S180033 | B35: Test Engineering | C35: 43299 | D35: TE82995-All | E35: Others | F35: In Signmasure 7, we cannot access the test data of sub-assembly testers TE82995 -2 and TE82995 -3. Please refers to screen shot attached which shows what we could access at Sigmasure 7. Please help to provide test data for TE82995-2 & TE82995-3 from Jan 2017 to till todate. The purpose of this request is to check Needle Seal Force test data trend by sub-assembly testers. | G35: Venture | H35: EiLwin | J35: Hua Zhen | K35: 43304 | L35: [23Jul18] Data sent to Lwin. | M35: 2-Medium (<4 weeks) | N35: CLOSED
A36: S180034 | B36: Test Engineering | C36: 43301 | D36: TE82882-14 | E36: Upgrade | F36: 1. TE82882-14 Shunt \ Cell Energy 6ms reading is (0) and Outcome FAIL, the 2998 Refresh Final Test Overall Result - PASS , Eric Turner mentioned that "That particular test is not an official spec" 2. TE82882-14 Noise Run result is FAIL and but the result 2998 Referesh Final Test Overall Result - PASS. Flex Acton Taken : Restest UUT and if pass release for shipment Pls. refer to attached file for test reult. | G36: Flex | H36: Joel | J36: Mandy | M36: 2-Medium (<4 weeks) | N36: Closed
A37: S180035 | B37: Test Engineering | C37: 43305 | D37: TE82984-01 | E37: New | F37: "Valve Jumper" test step did not stated in Appendix of TSP 735002056. Jumper setting of 186015008 is different from others. Would like to request to add valve jumper step in TSP. Attached graphical user interface in .bmp format. | G37: Venture | H37: Chan Myae Soe | J37: Hua Zhen | L37: [27Jul18] Request Redline TSP from Chan [10Aug18] The word format of TSP sent to Chan as per request, waiting her reply with Redline TSP [14Aug18] Chan in Venture update the latest TSP has covered the change and case closed | M37: 2-Medium (<4 weeks) | N37: Closed
A38: S180036 | B38: Test Engineering | C38: 43305 | D38: NA | E38: Others | F38: Request to download test data from 1st Jul 2018 to 24th Jul 2018 (or until the day of download) of 186015042, 186015043, 18601545, 186015007, 186015008 and 186015009. Time zone is China Time | G38: Venture | H38: Chan Myae Soe | J38: Hua Zhen | K38: 43305 | L38: [24Jul18] Data provided to Chan. | M38: 2-Medium (<4 weeks) | N38: CLOSED
A39: S180037 | B39: Test Engineering | C39: 43305 | D39: TE82987-01 | E39: Repair | F39: No power on Ethernet adapter. Confirmed that ethernet adapter is faulty. | G39: Venture | H39: Chan Myae Soe | J39: Hua Zhen | K39: 43326 | L39: [27Jul18] Email approval given to Chan to purchase an off the shelf ethernet switch. [14Aug18] The switch has been purchased. Case closed | M39: 2-Medium (<4 weeks) | N39: Closed
A40: S180038 | B40: Test Engineering | C40: 206 | D40: Certificate Print | E40: Repair | F40: Waters Corporation Instrument Certificate Printing WATERSCOFP1 HP Laser Jet Enterprise M604 Encounter Run-time error '68' Device unavailable, Cannot link to Server. Flex try out below step :- 1.Re-start the system >>Still unable to print and occur the same error . | G40: Flex | H40: Gary | J40: Yee Hwa | K40: 43307 | L40: Bill has reconfigure the server. The error due to file tranferring by Dave Moss. | M40: 2-Medium (<4 weeks) | N40: Closed
...

Sheet 2021
A1: Log Number | B1: Engineering Group | C1: OESR Date Received | D1: Target Closure Date | E1: TE Tool No | F1: Problem Summary | G1: Site | H1: Originator | I1: Assignee (WPPL) | J1: Date Completed | K1: Remark/Closure | L1: OESR to Milford | M1: Milford OESR No. | N1: 1- High(< 1 week) | O1: STATUS | P1: Time for closure (Days) | Q1: Open Days
A2: S21001 | B2: Test | C2: 44202 | D2: 44225 | E2: TE82943-15 | F2: 1. Problem Statement. - TE82943-15 Electroncis Balance have missing segment display, Power Supply is OK - Suspect to be display or internal ciscuit issue. Not able to repair at Flex 2. Acceptance criteria that is not met. (e.g. relevant specification number and revision) - Balance shall have display to be able to read measurement. 3. Relevant records (e.g. Incomin QA, Test Records, Photos, trackise NCRs numbers and related issue) - Refer to attached pictures. 4. Info on whether this issue impacts revenue. - shall impact revenue for BSM and QSM Plus as the test station is common to 186015001 and 186015080. | G2: Flex | H2: Joel | I2: Hua Zhen | J2: 44211 | K2: [8Jan21] Flex to get Quote from Vendor; [14Jan21] Repair request was approved. Flex to follow up this repair with supplier | L2: No | N2: 1- High(< 1 week) | O2: Close | P2: =NETWORKDAYS(C2, J2) -> 8
A3: S21002 | B3: Manufacturing | C3: 44202 | E3: NA | F3: Reprint of Waters Label due to : 1. 186015043 (1 label) - "Product of Singapore" had faded and affected serial number is A21CMP530G. Please refer to the attachement "A21CMP530G.JPG" | G3: Venture | H3: Chan | I3: Yee Hwa | J3: =C3 -> 44202 | K3: Reprinted label. | L3: No | N3: 1- High(< 1 week) | O3: Close | Q3: =NETWORKDAYS(C3, TODAY()) -> 9
A4: S21003 | B4: Manufacturing | C4: 44203 | E4: NA | F4: 1. Problem Statement. - ISNL for Model 186015033 printed out wrong SN and COO 2. Acceptance criteria that is not met. (e.g. relevant specification number and revision) - Correct SN "A21UPL315A" - Correct COO "Product of Singapore" 3. Relevant records (e.g. Incomin QA, Test Records, Photos, trackise NCRs numbers and related issue) - Refer to PDF attachment for details "OESR Reprint ISNL A21UPL315N 2021-01-06" 4. Info on whether this issue impacts revenue - Yes impact to revenue | G4: Flex | H4: Aldwin | I4: Eugene | J4: 44209 | K4: Reprinted label with right COO and SN. | L4: No | N4: 1- High(< 1 week) | O4: Close | P4: =NETWORKDAYS(C4, J4) -> 5
A5: S21004 | B5: Manufacturing | C5: 44207 | E5: NA | F5: Sigmasure is down and we are unable to scan genealogy data for the current built instrument. It is confirmed that all the PCs cannot access SigmaSure and prompt "network error" | G5: Venture | H5: Alan | I5: Yee Hwa | J5: =C5 -> 44207 | K5: SS recovered in same day. | L5: No | N5: 1- High(< 1 week) | O5: Close | Q5: =NETWORKDAYS(C5, TODAY()) -> 6
A6: S21005 | B6: Test | C6: 44208 | E6: NA | F6: Description:ICT Fixture transfer from China to request ICT fixtures files/program and onsite set up Items needed: 1) ICT program 2) ICT Fixtures files. 3) Onsite support to configure and program set up. Affected Part No : W1210001115 Shipment Impact:No Estimated Date: Jan 2021 Additional Time needed for analysis: 7 days Attachment: ICT Fixture Image | G6: Venture | H6: Ricky | I6: Edwin | J6: 44211 | K6: [14Jan21] Waters UK was informed regarding request from Venture. Venture to follow up the request. | L6: No | N6: 2-Medium | O6: Close | P6: =NETWORKDAYS(C6, J6) -> 4
A7: S21006 | B7: Test | C7: 44210 | D7: 44217 | E7: TE83064-15 | F7: Description : Communication failure and long beep sound at TUV Detector S/N:G05UPT009N from FTN tester TE83064-15. Steps of Analysis : 1. Power cycled TUV and tried. Still failed. 2. Shut Down system PC and tried. Still failed. 3. Swapped LAN cable of TUV with a good known LAN, still failed. 4. Swapped Ethernet port and tried still failed. Shipment Impact : No shipment impact due to this issue. Estimated Date : NA Additional Time needed for analysis : No further failure analysis could be performed. Attachment : Failure screenshot | G7: Venture | H7: Lwin | I7: Hua Zhen | K7: [14Jan21] Tried with reload firmware, the original communication issue was resolved.But failing with calibration error. Will check if can fix it by re-calibrate | L7: No | N7: 2-Medium | O7: Open | Q7: =NETWORKDAYS(C7, TODAY()) -> 3
A8: S21007 | B8: Test | C8: 44210 | D8: 44217 | E8: NA | F8: Description : *.xml files found at sigmaqueue and sendbuffer folders. Steps of Analysis : From recent tester PC manintenance, found *.xml files inside sigmaquene and sendbuffer folders for some of the testers. Please refers to attached file for tester ID. Shipment Impact : No shipment impact due to this issue. Estimated Date : NA Additional Time needed for analysis : No further failure analysis could be performed. Attachment : Attached affected testers and their IP address. Attached screenshot of xml file. | G8: Venture | H8: Lwin | I8: Hua Zhen | K8: [14Jan21] OESR 214548 was created for this request. Matt will look into this request | L8: Yes | M8: 214548 | N8: 2-Medium | O8: Open | Q8: =NETWORKDAYS(C8, TODAY()) -> 3
A9: S21008 | B9: Manufacturing | C9: 44211 | E9: NA | F9: 1. Problem Statement. - Observed slowness or long time to print ISNL and COFP via enLabel. It takes an average of 182 sec each to print 1x ISNL or 1x COFP. 2. Acceptance criteria that is not met. (e.g. relevant specification number and revision) - Faster print out, approx 10 to 20 sec to print each INSL or COFP. 3. Relevant records (e.g. Incomin QA, Test Records, Photos, trackise NCRs numbers and related issue) - NA 4. Info on whether this issue impacts revenue - Yes impact to revenue. | G9: Flex | H9: Aldwin | I9: Eugene | L9: No | N9: 1- High(< 1 week) | O9: Open | Q9: =NETWORKDAYS(C9, TODAY()) -> 2
A10: S21009
A11: S21010
A12: S21011
A13: S21012
A14: S21013
A15: S21014
A16: S21015
A17: S21016
A18: S21017
A19: S21018
A20: S21019
A21: S21020
... A251: S21250

Sheet 2019
A1: Log Number | B1: Engineering Group | C1: OESR Date Received | D1: TE Tool No | E1: Category | F1: Problem Summary | G1: Site | H1: Originator | I1: Assignee 1 (UK/ US) | J1: Assignee 2 (WPPL) | K1: Date Completed | L1: Today | M1: Remark/Closure | N1: OESR to Milford | O1: 1- High(< 1 week) | P1: STATUS | Q1: Time for closure (Days) | R1: Total Time Taken | S1: Priority | T1: Open Days
A2: S190001 | B2: Test Engineering | C2: 43468 | F2: PDA FINAL TEST EQUIPMENT at Flex currently have 6 pcs of PDA Medium Shunt PN # 289002226, Last Q4'2018 Weekly ave. build and test is 40 units, moving forward next week PDA shall require weekly ave. of 54 units.of build and test. Therefore, Flex would like to request for add'l 3 units of shunts 289002226 to cope up with production. | G2: Flex | J2: Yee Hwa | M2: Loaned 2 PDA Medium Shunt and 3 TUV Shunt to Flex, to be return if shipment reduce. | N2: No | O2: 2- Medium(<4 weeks) | P2: Closed | Q2: 2 | R2: =Q2*0.25 -> 0.5 | S2: 2- Medium(<4 weeks)
A3: S190002 | B3: Manufacturing Engineering | C3: 43468 | F3: MPMV Station Assy on motor 999027590 Motor to Housing Assy Fixture can tighten one cycle of screw and stop unble to tighten in second cycle. Note : Without load motor able to run full cycle and with load with motor unable complete full cycle. | G3: Flex | J3: Yee Hwa | M3: Adjusted "Torque driver swtich pressure"- solved | N3: No | O3: 1- High(< 1 week) | P3: Closed | Q3: 1 | R3: =Q3*0.5 -> 0.5 | S3: 3- Low (> 4 weeks & above)
A4: S190003 | B4: Test Engineering | C4: 43469 | F4: Request PM procedure for TCM II with PN 186002441 | G4: Flex | J4: HuaZhen | M4: [04Jan2019] Sent PM procedure to Joel [11Jan19] OESR 193050 [08Feb19] The updated PM procedure was received by ECO. Flex was informed and started with PM | N4: Yes | O4: 2- Medium(<4 weeks) | P4: Closed | Q4: 26 | R4: =Q4*0.25 -> 6.5 | S4: 1- High(< 1 week)
A5: S190004 | B5: Test Engineering | C5: 43278 | D5: TE82943 | E5: Others | F5: Missing serial number at the bottom of the test report (Ser.No) of Acquity BSM 18K PLUS test in some Test record and it is encountered across all test stations TE82943 #1,#19,#20,#21,#22 and #24. Please kindly refer to the "BSM Test Record.JPG" | G5: Venture | H5: Chan Myae Soe | I5: Milford - Ed Jackson | J5: Yee Hwa | K5: 43721 | M5: OESR 182626 [30Aug18] Ed Reply: No updates to report. Expect to look into this anomaly soon. It's not repeatable and completely random from what I've discovered. [19Oct18] Ed update: Made a Test Program code modification on the TE Lab PC and is under evaluation. [11Jan19] Checked with Venture, the issue is still existing randomly. [31Jan19] 29Jan2019: It has not been resolved and still require support to solve the issue. 29-Jan-2019: A fix for this intermittent condition has been added to the latest test programs. It was going to be released along with Firebrick firmware in January. However, Firebrick firmware is now being rolled up into Gold firmware. So now it will be released in April with the Gold firmware release. Apr23: same status. expecting release soon. [13Sep19]formally close TMD010661 v02 as ECO9229308 is already implemented | N5: Yes | O5: 2- Medium(<4 weeks) | P5: Closed | Q5: =NETWORKDAYS(C5,K5) -> 318 | R5: =Q5*0.25 -> 79.5 | S5: Status
A6: S190005 | B6: Test Engineering | C6: 43276 | D6: TE83064-All | E6: Upgrade | F6: Starting from end of April (mainly after software & firmware updates) till now, we are observing high Needle Seal Force failures for all FTN models at all testers. Please refers to attached ppt files for information that we observed about this failure. The purpose of this OESR is to request help from Waters' Test engineer for Needle Seal Force failure and to prequest direction to prevent/reduce this failure. | G6: Venture | H6: Eilwin | I6: Milford-Rick | J6: HuaZhen | N6: Yes | O6: 3- Low (> 4 weeks & above) | P6: Closed | Q6: 162 | R6: =0.1*Q6 -> 16.2 | S6: Open
A7: S190006 | B7: Test Engineering | C7: 43336 | D7: TE83013 | E7: Upgrade | F7: TE83013-1 is observed to experience a test sequence error at "Ecord Interface Test" by skipping to instruct to connect "Ecord" to the UUT while testing for 186015042. They have recently changed the tester PCBA P/N:210000367 (ASSY PCB CPSM CONTROLPCB) Rev H because existing P/N:210000367 Rev G was faulty on 14-Aug-2017. Refer to videos for failure occurrence. | G7: Venture | H7: WPPL - Siew Yee | I7: Milford-Matt | J7: HuaZhen | K7: 43790 | N7: Yes | O7: 3- Low (> 4 weeks & above) | P7: Closed | Q7: =NETWORKDAYS(C7,K7) -> 325 | R7: =0.1*Q7 -> 32.5 | S7: Closed
A8: S190007 | B8: Test Engineering | C8: 43297 | D8: TE83031-1 | E8: New | F8: The existing optics bench alignment stations are using Golden flow cell to align all the optics benches.These Golden flow cells do not have the proper PM procedure to maintain their performance initially.Venture recently working with WPPL to release PM procedure for these golden flow cells. PM could help to improve flow cell performance for mechanically but it couldn't help when the flow cells are facing optically degaraded and againg. Milford Engineer agreed Venture should have one back up golden flow cell in any case of flow cell degrading over a few years of usage and for not interrupting production while it waiting Milford to send over new Golden flow cell. Request to send over new Golden Flow cells for Optics Alignment Test Stations. Please share with us how to perform the measurement and any specification threshold for replacement. Refer to attached photos of Ref photo diode flow cell. | G8: Venture | H8: MiMi | J8: Mandy | K8: 43753 | N8: No | O8: 3- Low (> 4 weeks & above) | P8: Closed | Q8: =NETWORKDAYS(C8,K8) -> 327 | R8: =0.1*Q8 -> 32.7 | S8: category
A9: S190008 | B9: Test Engineering | C9: 43329 | D9: TE82760 | E9: New | F9: On the month of Jun & July, Venture production found some failures in Ram-Ray Valley Energy during FLR detectors final test for 5029 models. The UUTs were passed when they replaced with new PMTs. The failed PMTs were used in 2475 models detectors, passed the test. Venture requested Hamamatsu to provide the failed PMTs test data and performed some data analysis and some evaluation to find the correlation between Hamamatsu test data and our test based on our knowledge. Refer to attached slides for details. OESR is requested to be raised to follow up and get some advices from Milford Engineer to look into the possible root causes if this failure occur in future. | G9: Venture | H9: MiMi | J9: Edwin | N9: No | O9: 3- Low (> 4 weeks & above) | P9: Closed | Q9: 230 | R9: =0.1*Q9 -> 23 | S9: Repair
A10: S190009 | B10: Manufacturing Engineering | C10: 43356 | D10: 999028048 | E10: Duplicate | F10: Wear and tear of tool. Require replacement. [19Sep] Flex to source spare; no impact to production | G10: Flex | J10: Yee Hwa | K10: =TODAY() -> 44214 | M10: Flex to source replacement quotation. 999042121. Quatation provided, decided Yuan Heng on 28Sep ETA: end Oct | N10: No | O10: 3- Low (> 4 weeks & above) | P10: Closed | Q10: =NETWORKDAYS(C10,K10) -> 613 | R10: =0.1*Q10 -> 61.3 | S10: Duplicate
A11: S190010 | B11: Test Engineering | C11: 43425 | D11: TE82743-03 | E11: Repair | F11: Racal Functional Tester vacuum always turn on. A Medium operation of the tester is the vaccum only on at the start of the test of any UUT and off when the test stop. But currently the situation is the vaccum always on. | G11: Venture | J11: HuaZhen | M11: [23Nov18] OESR 182936 [07Dec18] contacted the local supplier for the valve, wait for quotation [10Jan19] PO was issued and asked ETA today [01FEB19] Part ETA early Mar; | N11: Yes | O11: 3- Low (> 4 weeks & above) | P11: Closed | Q11: 56 | R11: =0.1*Q11 -> 5.6 | S11: New
A12: S190011 | B12: Test Engineering | C12: 43425 | D12: TE82943 | E12: Others | F12: Production is seeing high failure of 0.3ml flow rate accuracy failure at TE#1. Please kindly refer to the "TE82943_1 High Failure.pptx" | G12: Venture | J12: HuaZhen | M12: [23Nov18] OESR#182935 [07Dec18] Received tubings and start evaluation in Jan 2019 [11Jan18] Installed tubing on TE1, The test result shows positive, it's under monitoring with more test data [31Jan19] Test result shows improvement of FPY | N12: Yes | O12: 3- Low (> 4 weeks & above) | P12: Closed | Q12: 55 | R12: =0.1*Q12 -> 5.5 | S12: Upgrade
A13: S190012 | B13: Manufacturing Engineering | C13: 43428 | D13: 999045819 | E13: Others | F13: Tooling 999045819 Spiral Wrap 3 , Both roller unable to hold tubing due to wear n tear . Affecting for both models 186269505 & 186269506. | G13: Flex | J13: Yee Hwa | K13: 43712 | M13: Sourcing in progress. [04Sep19] Closed during eng meeting. Tools in use now | N13: No | O13: 3- Low (> 4 weeks & above) | P13: Closed | Q13: =NETWORKDAYS(C13,K13) -> 203 | R13: =0.1*Q13 -> 20.3 | S13: Others
A14: S190013 | B14: Test Engineering | C14: 43431 | D14: TE82988-2 | E14: Others | F14: 1. Model 210000384 boards failing at TE82988-2 GTS Tester but when test at 2690 TE 82510 Tester the boards able to passed. Failed Test UUT Power : (GTS TE82988-2) 1.Power Supply Status - Failed 2.Test 3.3V Supply - marginal failure Note : shipment will be at risk . | G14: Flex | J14: HuaZhen | M14: [07Dec18] Milford is evaluating if need to change the spec or not [11Jan19] OESR 182950 : 28-Nov-2018: The failure has been assessed. A VAF has been created, reviewed and approved. 29-Nov-2018: An EDV is required, (created, reviewed, approved, executed). Then an EDV Report will need to be created, reviewed and approved. From this point the new test program can be released to production. Current thinking is that we may have these documents in approved at the earliest 03-Dec-2018. [08Feb19] Sent the schematic to Flex and asked them to focus on troubleshooting of 'Test UUT Power' as it's the majority of failures. [14Feb19] Test program was upgraded to version 0.1. Waiting for validation from Milford | N14: Yes | O14: 3- Low (> 4 weeks & above) | P14: Closed | Q14: 49 | R14: =0.1*Q14 -> 4.9
A15: S190014 | B15: Test Engineering | C15: 43439 | D15: TE82475 | E15: Others | F15: 1. PCBA Controller PN Not Available Qty: 1 pc. 2. Transducer (Range 2000 PSI) - PN not available Qty: 1 pc Note: 1. Need to get advise from Mlford as mention parts are Waters customised board 2. Not able to open the flow cell tester as Flowcell running everyday. | G15: Flex | J15: HuaZhen | M15: OESR: 182975 OFI | N15: YES | O15: 3- Low (> 4 weeks & above) | P15: Closed | Q15: 5 | R15: =0.1*Q15 -> 0.5
A16: S190015 | B16: Test Engineering | C16: 43439 | D16: TE82534 | E16: Others | F16: SPARE PARTS REQUEST : DESCRIPTION Qty Required: 1. PCBA Controller PN SC2072 ASSY181310-02 National Instruments 1 pc. 2. Waters Pump Conctrol Module - PN not available from Front/Back View 1 pc Note: Above parts not able to source by Flex. Refer to Attach TE 82534 515 Final Tester | G16: Flex | J16: HuaZhen | M16: OESR: 182975, shared OESR with above OFI | N16: No | O16: 3- Low (> 4 weeks & above) | P16: Closed | Q16: 5 | R16: =0.1*Q16 -> 0.5
A17: S190016 | B17: Test Engineering | C17: 43439 | D17: TE82613 | E17: Others | F17: SPARE PARTS REQUEST : DESCRIPTION Qty Required: 1. TE82613 Pump Mechanic Run In Modeule PCBA PA not available Note: Pls. refer to attach TE 82613-2 Pump Mechanic Run In Module file | G17: Flex | J17: HuaZhen | M17: OESR: 182975,shared OESR with above OFI | N17: No | O17: 3- Low (> 4 weeks & above) | P17: Closed | Q17: 5 | R17: =0.1*Q17 -> 0.5
A18: S190017 | B18: Test Engineering | C18: 43439 | D18: TE82705 | E18: Others | F18: SPARE PARTS REQUEST : DESCRIPTION Qty Required: 1. Interface Card 1 set 2. Controller Card 1 set Note: PCBA Controller No Part Number on the surface Refer to Attach TE 82705 1500 Series Pump Final Test Sation | G18: Flex | J18: HuaZhen | M18: OESR: 182975,shared OESR with above OFI | N18: No | O18: 3- Low (> 4 weeks & above) | P18: Closed | Q18: 5 | R18: =0.1*Q18 -> 0.5
A19: S190018 | B19: Test Engineering | C19: 43439 | D19: TE82534 | E19: Others | F19: SPARE PARTS REQUEST : DESCRIPTION Qty Required: 1. 515 Bezel Assembly Tester 1 set Note: PCBA Controller No Part Number on the surface Refer to Attach TE 82581 Bezel Assembly Tester | G19: Flex | J19: HuaZhen | M19: OESR: 182975,shared OESR with above OFI | N19: No | O19: 3- Low (> 4 weeks & above) | P19: Closed | Q19: 5 | R19: =0.1*Q19 -> 0.5
A20: S190019 | B20: Test Engineering | C20: 43430 | D20: TE82817 | E20: Upgrade | F20: During business review, it is found that TE82817 is at high risk and it could be down any time. This tester down can cause production line of PCM to be stopped. This test station has IBM M50 PC and test box which are very old. Upon checking, IBM M50 pc was manufactured in 2003 and its OS is window XP. Test box for PCM is also an old test box. Please refers to attached photos for reference. Therefore, request to upgrade PC and test box for TE82817. | G20: Venture | J20: HuaZhen | M20: [19Dec18]OESR 183008 [20ec18] Jaaffar said it's not high on piority list and asking if WPPL can build a new tester; [11Jan19] Mandy was identified as POC to follow up this new tester moderize project. | N20: YES | O20: 3- Low (> 4 weeks & above) | P20: Closed | Q20: 35 | R20: =0.1*Q20 -> 3.5
A21: S190020 | B21: Test Engineering | C21: 43460 | D21: TE82900-2 | E21: Others | F21: Request for functional tester wiring diagram to aid in troubleshooting. | G21: Flex | J21: HuaZhen | M21: OESR183012 [26th Dec 18] Senai's ST Ng raised a request for schematics on wiring diagram of functional testers [01Jan19] Received Diagram | N21: YES | O21: 2- Medium(<4 weeks) | P21: Closed | Q21: 4 | R21: =Q21*0.25 -> 1
A22: S190021 | B22: Test Engineering | C22: 43461 | D22: TE9046-11 | E22: Repair | F22: To repair the testware frequency board. | G22: Flex | J22: HuaZhen | M22: [28th Dec 18] Senai's Sua raised a request for ICT test fixture repair | N22: No | O22: 2- Medium(<4 weeks) | P22: Closed | Q22: 1 | R22: =Q22*0.25 -> 0.25
A23: S190022 | B23: Test Engineering | C23: 43474 | D23: TE82988-9 | E23: Repair | F23: 1. GEOTEST chassis in GTS tester TE#82988-9 randomly shuts down. 2. Found cause of shutdown due to one DC power supply module in the GEOTEST chassis. 3. Power supply module was check and cleaned. No visible defect found. 4. The unit may run Ok for many days, then suddenly shutdown by it self. 5. A replcement power power supply module is required. See attaached. 6. This GTS tester is mainly for testing PCBA for Waters UK (Micromass). | G23: CEI | J23: HuaZhen | M23: [10Jan19] Edwin checked with Ray to proceed with parts purchasing and replacement, Crosscharge to UK; [11Jan19] GeoTest Chassis was loan to CEI; Asked to either repair their existing chassis or return the bad chassis if they're not able to source PSU replacment | N23: No | O23: 2- Medium(<4 weeks) | P23: Closed | Q23: 2 | R23: =Q23*0.25 -> 0.5
A24: S190023 | B24: Test Engineering | C24: 43474 | D24: TE82988-2 | E24: Repair | F24: Model 2100001203 & 2100001164 tested using same FT Fixture TE0084037-2 failure FT Test with Error message prompted "Is Scope Triggered?" . Retest 5 boards each model also failure above similar failure mode. Senai engineer was try to change cable from TE82888 card to UUT but still having similar failure. I also change spare cable from TE82888 card to 210000415 cards in fixture but still same failure. | G24: Flex | J24: HuaZhen | M24: [10Jan19] OESR 193041 [11Jan19] Test Sequence online debug option was enabled. Richard deselected the option as Administrator | N24: Yes | O24: 1- High(< 1 week) | P24: Closed | Q24: 2 | R24: =Q24*0.5 -> 1
A25: S190024 | B25: Test Engineering | C25: 43476 | D25: TE82510 | E25: Repair | F25: 1. 210000411 board were tested on the Alliance tester with the fixture (Job# 3011206), the test output a corrupted display on the backlit LCD along the test and failed at the test sequence "FLOPPY INTERFACE TEST, TESTING FLOPPY ON J-27 **** ACCESSING FILE **** 2. For the display output corruption issue, display were swapped with another assembly with the display producing very dim output, we were able to see that the output was still corrupted as in the sample image attached together in email. 3. For "FLOPPY INTERFACE TEST, TESTING FLOPPY ON J-27 **** ACCESSING FILE **** , we've swapped the floppy disk along with the IDE cable. The floppy drive were able to be turned on and were actuating the floppy disk for reading. 4. All probes changed. | G25: Flex | J25: HuaZhen | M25: [11Jan19] OESR 193051 [15Jan19] Received a text file from Edward Jackson and asked Flex to rerun the test with file from Milford [31Jan19] Flex KP sent 411 fixture to Flex Senai and ETA to Flex Senai on 4th Feb 2019 [08Feb19] Ed has confirmed the fixture was verified in Milford and Flex Senai did verification of fucationality too. Both verification shows the fixture is in good working and fit for prodution test. | N25: Yes | O25: 2- Medium(<4 weeks) | P25: Closed | Q25: 20 | R25: =Q25*0.25 -> 5
A26: S190025 | B26: Test Engineering | C26: 43482 | D26: TE83064-10 | E26: Repair | F26: There was leakge at BSM of TE83064 -10 during dynamic leak test. After checking BSM dynamic test through console, there were minor leakage found on Accumulator of Pump A and Pump B. After changing these seals, there was still leakge at dynamic leak test (by pass) more than 1000nL caused by BSM vent valve. After changing BSM vent valve, resolved leakage issue. Here is request for replacement of (x2) set of BSM seal and BSM vent valve. | G26: Venture | J26: HuaZhen | M26: [18Jan19] The tester is fixed and a MRO needs to be raised for Vent Valve | N26: No | O26: 2- Medium(<4 weeks) | P26: Closed | Q26: 1 | R26: =Q26*0.25 -> 0.25
A27: S190026 | B27: Test Engineering | C27: 43483 | D27: TE82988-9 | E27: Repair | F27: 1. Pickering 40-139-201 52-SPDT Relay Card at Geotest Chaasis Slot 19 having some bad relays causing test failures to PCBA testing. 2. Request a replacement card. | G27: CEI | J27: HuaZhen | M27: [18Jun19] Checked with CA regarding OESR, and he agreed to close this OESR for time being and need to discuss with Edwin if going to buy another spare since the original spare is still holding in Milford. | N27: No | O27: 3- Low (> 4 weeks & above) | P27: Closed | Q27: 1 | R27: =0.1*Q27 -> 0.1
A28: S190027 | B28: Test Engineering | C28: 43476 | D28: tester PC | E28: Others | F28: During PM for tester PCs in Venture, they identified the following tester PCs have the unsent test documents in 'SendBuffer' folder. Please kindly help to resubmission as per requirement in TSP 735003678 Generic PC Maintenance Procedure. Below is the list of PCs, 1. TE83013-2 2. TE83006 3. TE83013-1 4. TE83032-1 5. TE83031 6. TE82995-3 7. TE82995-2 | G28: Venture | J28: HuaZhen | M28: [21Jan19] OESR 193064 | N28: Yes | O28: 3- Low (> 4 weeks & above) | P28: Closed | Q28: 8 | R28: =0.1*Q28 -> 0.8
A29: S190028 | B29: Manufacturing Engineering | C29: 43487 | D29: SigmaSure | E29: Others | F29: ECO 9221720 & 9221721 Life cycle change on SL Power Supply 279000852 to Delta Power Supply 279003675 for Detectors. Sigmasure need change power supply part number from 27900852 to 279003675 1.Singapore Kallang date build on 23 Jan 2019 2. Singapore Kallang date build on 24 Jan 2019 WAT-186002487 WAT-186248900 WAT-186017002 WAT-186017003 WAT-186015034 WAT-186015032 WAT-186017012 WAT-186015033 WAT-186017013 WAT-186002998 WAT-186015053 WAT-186299800 WAT-186015031 | G29: Flex | J29: Yee Hwa | N29: No | O29: 2- Medium(<4 weeks) | P29: Closed | Q29: 120 | R29: =Q29*0.25 -> 30
A30: S190029 | B30: Test Engineering | C30: 43494 | D30: tester PC | E30: Others | F30: Below testers have unsent files under 'Sendbuffer' folder. IP address and tester name as shown below: 10.249.55.15 TE82865-5 CPSO Final Test Station 10.249.55.16 TE82865-6 CPSO Final Test Station 10.249.55.17 TE82865-2 ASO Final Test Station | G30: CEI | J30: HuaZhen | M30: OESR193081 [31Jan2019] Reviewed files... tried to resubmit them to SigmaQuest but they came back as SQ0007 and SQ0011 files. Checked genealogy and found records have been submitted once already (SQ0007 indicates a similar record already exists). Just to be safe, I cleared the files and dumped them in the TE-1 desktop folder called "SENDBUFFER Archive" in case this comes back as a problem. The SENDBUFFER is now clear, notified Rick of disposition. No qualification required, just some moving of files. | N30: Yes | O30: 3- Low (> 4 weeks & above) | P30: Closed | Q30: 2 | R30: =0.1*Q30 -> 0.2
A31: S190030 | B31: Test Engineering | C31: 43504 | D31: TE82987-1 | E31: Repair | F31: In tester TE82987-1, observed that leakage in part number: 410001901 ( GES part number: W1205001926-R, Description: Fitting, one-piece, 10-32, Black. Thus, the whole set of the above mentioned part number is required to replace in tester. Required quantity to replace: 15 pieces | G31: Venture | J31: HuaZhen | M31: [08Feb19] Requested Chan to resend OESR with item price and state the reason to replace all 15 pcs together. [25Feb19] Replacing 12 pcs of fitting and noted it down as a Preventive Maintanance for replacing every 2 years | N31: No | O31: 2- Medium(<4 weeks) | P31: Closed | Q31: 13 | R31: =Q31*0.25 -> 3.25
A32: S190031 | B32: Manufacturing Engineering | C32: 43507 | D32: Sigmasure | E32: Others | F32: Sigmasure in Detector 186015034 Acquity UPC2 PDA On 02/08/2019 Sigmasure show 5 part number and 02/10/2019 Sigmasure show extra 6 part number (Additional of 279002225) request to remove. Please refer to attachment | G32: Flex | J32: Yee Hwa | M32: SS7 Corrected by Matt F on 12 Feb | N32: No | O32: 2- Medium(<4 weeks) | P32: Closed | Q32: 1 | R32: =Q32*0.25 -> 0.25
A33: S190032 | B33: Test Engineering | C33: 43510 | D33: CEIPNL1 | E33: Repair | F33: Part Number label Printer was unable to power up after shutdown when i was cloning of the harddisk. I have check there was no power and the fan was not working. Suspect the power supply failure and i have checked with my MIS we did not have any similar power supply. Pls advice. Please see attached picture of the power supply. | G33: CEI | J33: HuaZhen | M33: [14Feb19] Informed Wang from CEI to collect power supply from Jie Hui and updatet the status [15Feb19] The PC is reovered after replacing PSU | N33: No | O33: 2- Medium(<4 weeks) | P33: Closed | Q33: 1 | R33: =Q33*0.25 -> 0.25
A34: S190033 | B34: Manufacturing Engineering | C34: 43510 | D34: Label Print | E34: Others | F34: ASP 279003278 Found WAT024406 (Label, Serial Shipping Label) content is illegible during assembly. Serial Number: A19998252A Root Cause: Mis-handling of Label ASP 279001743 Serial Number: A19TUV463A Found WAT024406 (Label, Serial Shipping Label) content is illegible after printing. Root Cause: Label printing defect. Request Waters personnel to assist to re-print label at Flex site. Qty: 2pcs | G34: Flex | J34: Yee Hwa | M34: Action completed. | N34: No | O34: 3- Low (> 4 weeks & above) | P34: Closed | Q34: 1 | R34: =0.1*Q34 -> 0.1
A35: S190034 | B35: Test Engineering | C35: 43511 | D35: TE83026 | E35: Others | F35: At the test step of Column LEDs, the frequency of color changing on both button LEDs is very fast and both inner LEDs color (red and green) are running parallel. Is it posssible to check color LEDs status one by one? Please help to evaluate it. Please kindly refer to the attached photo named "5049 Column LED test" for your reference. | G35: Venture | J35: HuaZhen | M35: [18Feb19] OESR 193130: This OESR will be added to the planned changes to TE83026 in second quarter this year. I might be able to perform the LED test sequentially, the control of those LEDs via the diagnostic port is a bit problematic due to the instrument firmware. But, I will see what can be done to improve it. In the meantime, it is important that the operator observes each LED lit both red and green as instructed prior to continuing the test. | N35: Yes | O35: 3- Low (> 4 weeks & above) | P35: Closed | Q35: 3 | R35: =0.1*Q35 -> 0.3
A36: S190035 | B36: Manufacturing Engineering | C36: 43514 | D36: 418000219 | E36: Others | F36: 2 pcs of Tool No: 418000219 ALIGNMENT SHELF, SAMPLE ORGANIZER found out of spec after the measurement and it was due long term slide in and out in the Z-axis assembly. With this wear and tear the shelf might not able to detect the slide in slide out issue during the assembly. Therefore, we would like to replace the shelf to improve the issue. | G36: CEI | J36: Yee Hwa | M36: Notification from CEI on Shelf replacement due to wear and tear. Requested CEI to update PM proc to include critical dimention check quarterly. No action require from WPPL. | N36: No | O36: 3- Low (> 4 weeks & above) | P36: Closed | Q36: 1 | R36: =0.1*Q36 -> 0.1
A37: S190036 | B37: Test Engineering | C37: 43514 | D37: TE83064 | E37: Others | F37: For all FTN units which were tested starting from 16-Feb-2019, "location" on test records shows as "CleanRoom, Milford,US" instead of "GES/Venture, SG". This happended on all FTN testers at Venture,GES. Please refers to attached pictures and attached file for affected unit serial numbers. | G37: Venture | J37: HuaZhen | M37: [19Feb2019] The address is updated. | N37: No | O37: 2- Medium(<4 weeks) | P37: Closed | Q37: 1 | R37: =Q37*0.25 -> 0.25
A38: S190037 | B38: Test Engineering | C38: 43515 | D38: TE82760 | E38: Others | F38: During FLR detector final test, Signal to Noise Ratio failure was one of the top failure after Raman/Rayleigh failure. The units are failed the 1st test with readings approximately zero (~0.00) and the 2nd test (retest) passed with over thousands (>1000). 55.56% of Signal/Noise Ratio failure are failed with readings nearly to "zero". As such, we would like to know what could be the root cause of this failure as it is beyond our knowledge and how to prevent this failure to improve our FPY. Refer to attachement for details. | G38: Venture | J38: HuaZhen | M38: [25Feb19] OESR 193148 raised [22Mar19] Eric asked a consistently failing unit but no such unit is exiisting so far. Sufern replied Matt about this FPY issue on 14 Mar 19 [03Jun19] Eric will update test program to enable diagnostic tool for troubleshooting [21Jun19] Park it as monitoring if there's no increament of failure rate | N38: Yes | O38: 3- Low (> 4 weeks & above) | P38: Closed | Q38: 3 | R38: =0.1*Q38 -> 0.3
A39: S190038 | B39: Test Engineering | C39: 43516 | D39: TE82943-18 | E39: Repair | F39: Electronics Weigh Balance AND-HR200 SN 12326186 showing unstable reading during calibration on 100g and 200g and not able to perform calibration. The usage range requires only 60 to 85 grams. It does not affect the final result due to instability occur only above 100gram onwards. The AND-HR200 SN 1236186 has been taken-oy from the line and put to not in use | G39: Flex | J39: HuaZhen | M39: [01Mar2019] ITS was contacted for repair [08Mar2019] ITS asking a fialure video from Flex, so he can advise next course of actions. [24Jun2019] Joel will follow up with ITS about return of balance and clsoe this OESR | N39: No | O39: 3- Low (> 4 weeks & above) | P39: Closed | Q39: 92 | R39: =0.1*Q39 -> 9.2
A40: S190039 | B40: Manufacturing Engineering | C40: 43522 | D40: Label Print | E40: Others | F40: Certification of Functional Performance print error: Under the "Model" section, printed wording is showing "ACQUITY UPL8N9TUV DETECTOR" We tried re-printing it again but the problem persist. Refer to attached photo. | G40: Flex | J40: Yee Hwa | N40: No | O40: 3- Low (> 4 weeks & above) | P40: Closed | Q40: 2 | R40: =0.1*Q40 -> 0.2
...

Sheet Slide
B10: Year
C12: Total OESR | D12: No. of Closed | E12: No. of Open | F12: Days Closed (Avg) | G12: Days Open (Avg) | H12: Monitoring (OFI)
B13: Singapore | C13: =SUM(D13:E13) -> 7 | D13: =COUNTIFS('2021'!L:L,"No",'2021'!O:O,"Close") -> 5 | E13: =COUNTIFS('2021'!L:L,"No",'2021'!O:O,"Open") -> 2 | F13: =AVERAGEIFS('2021'!P:P,'2021'!L:L,"No",'2021'!O:O,"Close") -> 5.6666667 | G13: =AVERAGEIFS('2021'!Q:Q,'2021'!L:L,"No",'2021'!O:O,"Open") -> 2.5 | H13: =COUNTIFS(Monitoring!J:J,"No",Monitoring!L:L,"Monitoring") -> 0
B14: Milford | C14: =SUM(D14:E14) -> 1 | D14: =COUNTIFS('2021'!L:L,"Yes",'2021'!O:O,"Close") -> 0 | E14: =COUNTIFS('2021'!L:L,"Yes",'2021'!O:O,"Open") -> 1 | F14: =AVERAGEIFS('2021'!P:P,'2021'!L:L,"Yes",'2021'!O:O,"Close") -> #DIV/0! | G14: =AVERAGEIFS('2021'!Q:Q,'2021'!L:L,"Yes",'2021'!O:O,"Open") -> 3 | H14: =COUNTIFS(Monitoring!J:J,"Yes",Monitoring!L:L,"Monitoring") -> 0
B15: Grand Total | C15: =SUM(D15:E15) -> 8 | D15: =SUM(D13:D14) -> 5 | E15: =SUM(E13:E14) -> 3 | F15: =AVERAGE(F13:F14) -> #DIV/0! | G15: =AVERAGE(G13:G14) -> 2.75 | H15: =SUM(H13:H14) -> 0

Sheet Summary
A1: STATUS | B1: (All)
A3: Count of OESR Date Received | B3: Column Labels
A4: Row Labels | B4: 1- High(< 1 week) | C4: 2- Medium(<4 weeks) | D4: 3- Low (> 4 weeks & above) | E4: Grand Total
A5: Desmond | B5: 2 | C5: 4 | E5: 6
A6: Edwin | B6: 1 | C6: 1 | D6: 1 | E6: 3
A7: HuaZhen | B7: 14 | C7: 40 | D7: 46 | E7: 100
