Workbook
Name _Hlk15918595: '2019'!$E$113
Name _Hlk535919867: '2019'!$E$29
Name _Hlk6822233: '2019'!$E$68
Name Text13: '2019'!$D$117

Sheet 2019
A1: Log Number | B1: Engineering Group | C1: OESR Date Received | D1: TE Tool No | E1: Problem Summary | F1: Site | G1: Originator | H1: Assignee 2 (WPPL) | I1: Date Completed | J1: Remark/Closure | K1: OESR to Milford | L1: 1- High(< 1 week) | M1: STATUS | N1: Time for closure (Days)
A2: S190001 | B2: Test Engineering | C2: 43468 | D2: Shunts | E2: PDA FINAL TEST EQUIPMENT at Flex currently have 6 pcs of PDA Medium Shunt PN # 289002226, Last Q4'2018 Weekly ave. build and test is 40 units, moving forward next week PDA shall require weekly ave. of 54 units.of build and test. Therefore, Flex would like to request for add'l 3 units of shunts 289002226 to cope up with production. | F2: Flex | H2: Yee Hwa | J2: Loaned 2 PDA Medium Shunt and 3 TUV Shunt to Flex, to be return if shipment reduce. | K2: No | L2: 2- Medium(<4 weeks) | M2: Close | N2: 2
A3: S190002 | B3: Manufacturing Engineering | C3: 43468 | D3: 999027590 | E3: MPMV Station Assy on motor 999027590 Motor to Housing Assy Fixture can tighten one cycle of screw and stop unble to tighten in second cycle. Note : Without load motor able to run full cycle and with load with motor unable complete full cycle. | F3: Flex | H3: Yee Hwa | J3: Adjusted "Torque driver swtich pressure"- solved | K3: No | L3: 1- High(< 1 week) | M3: Close | N3: 1
A4: S190003 | B4: Test Engineering | C4: 43469 | D4: PM Procedure | E4: Request PM procedure for TCM II with PN 186002441 | F4: Flex | H4: HuaZhen | J4: [04Jan2019] Sent PM procedure to Joel [11Jan19] OESR 193050 [08Feb19] The updated PM procedure was received by ECO. Flex was informed and started with PM | K4: Yes | L4: 2- Medium(<4 weeks) | M4: Close | N4: 26
A5: S190004 | B5: Test Engineering | C5: 43278 | D5: TE82943 | E5: Missing serial number at the bottom of the test report (Ser.No) of Acquity BSM 18K PLUS test in some Test record and it is encountered across all test stations TE82943 #1,#19,#20,#21,#22 and #24. Please kindly refer to the "BSM Test Record.JPG" | F5: Venture | G5: Chan Myae Soe | H5: Yee Hwa | I5: 43721 | J5: OESR 182626 [30Aug18] Ed Reply: No updates to report. Expect to look into this anomaly soon. It's not repeatable and completely random from what I've discovered. [19Oct18] Ed update: Made a Test Program code modification on the TE Lab PC and is under evaluation. [11Jan19] Checked with Venture, the issue is still existing randomly. [31Jan19] 29Jan2019: It has not been resolved and still require support to solve the issue. 29-Jan-2019: A fix for this intermittent condition has been added to the latest test programs. It was going to be released along with Firebrick firmware in January. However, Firebrick firmware is now being rolled up into Gold firmware. So now it will be released in April with the Gold firmware release. Apr23: same status. expecting release soon. [13Sep19]formally close TMD010661 v02 as ECO9229308 is already implemented | K5: Yes | L5: 2- Medium(<4 weeks) | M5: Close | N5: =NETWORKDAYS(C5,I5) -> 318
A6: S190005 | B6: Test Engineering | C6: 43276 | D6: TE83064-All | E6: Starting from end of April (mainly after software & firmware updates) till now, we are observing high Needle Seal Force failures for all FTN models at all testers. Please refers to attached ppt files for information that we observed about this failure. The purpose of this OESR is to request help from Waters' Test engineer for Needle Seal Force failure and to prequest direction to prevent/reduce this failure. | F6: Venture | G6: Eilwin | H6: HuaZhen | J6: OESR 182633 [06Jul18] GES being tasked to measure spring force. [17Jul18] GES have verified 10 springs and confirmed that the spring force are all within specs. To share results with Rick and ask for further advise. [27Jul18] Venture to provide the test results for the 10pcs spring under evaluation. [10Aug18] Rick questioned Load Cell replacement for repair, Venture was informed to provide explaination. Changing spec from 48 to 40 is in discussion in Milford [14Aug18] No load cell(seal wash block) was replaced but re-assemble of load cell was performed. Venture agreed to focus on those re-assemble required units to seek improvement of yeild. Venture will update team with test data on Thursday. [21Aug18] Venture look into the units failed and required reassemble the seal wash block data and will contact with Milford to pursuit a solution [28Aug18] Test Data and Venture Spring Study sent to Rick, no reply so far [31Aug18] Rick advise to have evaluation on Spring Cup with 90 degree interval, Venture was informed [20sep18] The Spring Cup evaluation data sent to Rick and suggested by Edwin to have Venture to get higher spec of Spring from supplier to do evaluation [12Oct18] Rich advised to study the relation between misalignment of wash cup and needle seal force failure issue [10Jan19] Milford and RD is studying on changing of PSD [31Jan19] Changes to the test specification are in discussion to lower the Needle Seal Force specification from 48 to 40. This would alleviate the majority of the failures at the Singapore test site as well as some at the milford site. Change is part of larger discussion to change multiple test specifications on the CPSM final test station. | K6: Yes | L6: 3- Low (> 4 weeks & above) | M6: Close | N6: 162
A7: S190006 | B7: Test Engineering | C7: 43336 | D7: TE83013 | E7: TE83013-1 is observed to experience a test sequence error at "Ecord Interface Test" by skipping to instruct to connect "Ecord" to the UUT while testing for 186015042. They have recently changed the tester PCBA P/N:210000367 (ASSY PCB CPSM CONTROLPCB) Rev H because existing P/N:210000367 Rev G was faulty on 14-Aug-2017. Refer to videos for failure occurrence. | F7: Venture | G7: WPPL - Siew Yee | H7: HuaZhen | I7: 43790 | J7: OESR 171993 Milford will upgrade the tester, in progress [20Sep18] Matt replied on 12 Sep 18 ,'New tester is still pending. Schedule has slipped a bit, as the new test is still a little unreliable. I am working on it and will be looking to you for help with the upgrade schedule as soon as I get it nailed down.' [24Sep18] Matt Brule update: the same status 24-Nov-2018 Working on bug as time allows expect resolution soon, working to prove theory about Ecord formatting 17 DEC 2018 Same status (Pending Matt Brule.) 23-Jan-2019, expect to get freed up to complete this in February 23-FEB-2019, expect to get freed up to complete this soon 25th Jun - Edwin comment - Huazhen to follow up with Matt on status. 25th Jun - Emailed Matt to check status [27Jun19] No reply from Matt [02Jul19] Huazhen to sent a reminder. [04Jul19] Sent remider to Matt [10Jul19] Matt -- New tester coming soon, this is finally back at the top of my list. [21Nov19] No further action required from WPPL. Close this OSER and park under monitoring | K7: Yes | L7: 3- Low (> 4 weeks & above) | M7: Close | N7: =NETWORKDAYS(C7,I7) -> 325
A8: S190007 | B8: Test Engineering | C8: 43297 | D8: TE83031-1 | E8: The existing optics bench alignment stations are using Golden flow cell to align all the optics benches.These Golden flow cells do not have the proper PM procedure to maintain their performance initially.Venture recently working with WPPL to release PM procedure for these golden flow cells. PM could help to improve flow cell performance for mechanically but it couldn't help when the flow cells are facing optically degaraded and againg. Milford Engineer agreed Venture should have one back up golden flow cell in any case of flow cell degrading over a few years of usage and for not interrupting production while it waiting Milford to send over new Golden flow cell. Request to send over new Golden Flow cells for Optics Alignment Test Stations. Please share with us how to perform the measurement and any specification threshold for replacement. Refer to attached photos of Ref photo diode flow cell. | F8: Venture | G8: MiMi | H8: Mandy | I8: 43753 | J8: Email from 16th July from Matt Franklin 'creating a new Photodiode Flow Cell and a New Golden Flow Cell to be used during the optics bench alignment station' Update on 14Aug from Matt, prototypes made and software due to be complete by the end of Aug. May take a couple of iterations to get the process/software to a good point. Expect these will be ready to ship to Sg by the end of the year. Current flow cells to be monitored until then. [15th October 2018] Matt has updated that the new flow cells will most likely be available at end of 19Q1 due to one staff member leaving and additional testing being carried out. [24th June 2019] Expected completion date is now end of 2019. [31Oct19] Duplicate OESR S190125. Close | K8: No | L8: 3- Low (> 4 weeks & above) | M8: Close | N8: =NETWORKDAYS(C8,I8) -> 327
A9: S190008 | B9: Test Engineering | C9: 43329 | D9: TE82760 | E9: On the month of Jun & July, Venture production found some failures in Ram-Ray Valley Energy during FLR detectors final test for 5029 models. The UUTs were passed when they replaced with new PMTs. The failed PMTs were used in 2475 models detectors, passed the test. Venture requested Hamamatsu to provide the failed PMTs test data and performed some data analysis and some evaluation to find the correlation between Hamamatsu test data and our test based on our knowledge. Refer to attached slides for details. OESR is requested to be raised to follow up and get some advices from Milford Engineer to look into the possible root causes if this failure occur in future. | F9: Venture | G9: MiMi | H9: Edwin | J9: No failures of this type since 23rd July. 17th August, Edwin will make contact with Milford engineering to get more details on the type of failure that is happening. [3thSep18]: This is a part related issue on Hamamatsu Lamp. Reassigned to Edwin to follow up. [20thSep18]: No advise yet from Matt/ Nic, will continue to follow up [27thJun19]: Matt indicated there is no anomaly monitored on the PMTs and is likely related to the alignment of the flowcells on noise issue. New golden flowcells in process of begin fabricated under a different OESR. To close | K9: No | L9: 3- Low (> 4 weeks & above) | M9: Close | N9: 230
A10: S190009 | B10: Manufacturing Engineering | C10: 43356 | D10: 999028048 | E10: Wear and tear of tool. Require replacement. [19Sep] Flex to source spare; no impact to production | F10: Flex | H10: Yee Hwa | I10: =TODAY() -> 44230 | J10: Flex to source replacement quotation. 999042121. Quatation provided, decided Yuan Heng on 28Sep ETA: end Oct | K10: No | L10: 3- Low (> 4 weeks & above) | M10: Close | N10: =NETWORKDAYS(C10,I10) -> 625
A11: S190010 | B11: Test Engineering | C11: 43425 | D11: TE82743-03 | E11: Racal Functional Tester vacuum always turn on. A Medium operation of the tester is the vaccum only on at the start of the test of any UUT and off when the test stop. But currently the situation is the vaccum always on. | F11: Venture | H11: HuaZhen | J11: [23Nov18] OESR 182936 [07Dec18] contacted the local supplier for the valve, wait for quotation [10Jan19] PO was issued and asked ETA today [01FEB19] Part ETA early Mar; | K11: Yes | L11: 3- Low (> 4 weeks & above) | M11: Close | N11: 56
A12: S190011 | B12: Test Engineering | C12: 43425 | D12: TE82943 | E12: Production is seeing high failure of 0.3ml flow rate accuracy failure at TE#1. Please kindly refer to the "TE82943_1 High Failure.pptx" | F12: Venture | H12: HuaZhen | J12: [23Nov18] OESR#182935 [07Dec18] Received tubings and start evaluation in Jan 2019 [11Jan18] Installed tubing on TE1, The test result shows positive, it's under monitoring with more test data [31Jan19] Test result shows improvement of FPY | K12: Yes | L12: 3- Low (> 4 weeks & above) | M12: Close | N12: 55
A13: S190012 | B13: Manufacturing Engineering | C13: 43428 | D13: 999045819 | E13: Tooling 999045819 Spiral Wrap 3 , Both roller unable to hold tubing due to wear n tear . Affecting for both models 186269505 & 186269506. | F13: Flex | H13: Yee Hwa | I13: 43712 | J13: Sourcing in progress. [04Sep19] Close during eng meeting. Tools in use now | K13: No | L13: 3- Low (> 4 weeks & above) | M13: Close | N13: =NETWORKDAYS(C13,I13) -> 203
A14: S190013 | B14: Test Engineering | C14: 43431 | D14: TE82988-2 | E14: 1. Model 210000384 boards failing at TE82988-2 GTS Tester but when test at 2690 TE 82510 Tester the boards able to passed. Failed Test UUT Power : (GTS TE82988-2) 1.Power Supply Status - Failed 2.Test 3.3V Supply - marginal failure Note : shipment will be at risk . | F14: Flex | H14: HuaZhen | J14: [07Dec18] Milford is evaluating if need to change the spec or not [11Jan19] OESR 182950 : 28-Nov-2018: The failure has been assessed. A VAF has been created, reviewed and approved. 29-Nov-2018: An EDV is required, (created, reviewed, approved, executed). Then an EDV Report will need to be created, reviewed and approved. From this point the new test program can be released to production. Current thinking is that we may have these documents in approved at the earliest 03-Dec-2018. [08Feb19] Sent the schematic to Flex and asked them to focus on troubleshooting of 'Test UUT Power' as it's the majority of failures. [14Feb19] Test program was upgraded to version 0.1. Waiting for validation from Milford | K14: Yes | L14: 3- Low (> 4 weeks & above) | M14: Close | N14: 49
A15: S190014 | B15: Test Engineering | C15: 43439 | D15: TE82475 | E15: 1. PCBA Controller PN Not Available Qty: 1 pc. 2. Transducer (Range 2000 PSI) - PN not available Qty: 1 pc Note: 1. Need to get advise from Mlford as mention parts are Waters customised board 2. Not able to open the flow cell tester as Flowcell running everyday. | F15: Flex | H15: HuaZhen | J15: OESR: 182975 OFI | K15: YES | L15: 3- Low (> 4 weeks & above) | M15: Close | N15: 5
A16: S190015 | B16: Test Engineering | C16: 43439 | D16: TE82534 | E16: SPARE PARTS REQUEST : DESCRIPTION Qty Required: 1. PCBA Controller PN SC2072 ASSY181310-02 National Instruments 1 pc. 2. Waters Pump Conctrol Module - PN not available from Front/Back View 1 pc Note: Above parts not able to source by Flex. Refer to Attach TE 82534 515 Final Tester | F16: Flex | H16: HuaZhen | J16: OESR: 182975, shared OESR with above OFI | K16: No | L16: 3- Low (> 4 weeks & above) | M16: Close | N16: 5
A17: S190016 | B17: Test Engineering | C17: 43439 | D17: TE82613 | E17: SPARE PARTS REQUEST : DESCRIPTION Qty Required: 1. TE82613 Pump Mechanic Run In Modeule PCBA PA not available Note: Pls. refer to attach TE 82613-2 Pump Mechanic Run In Module file | F17: Flex | H17: HuaZhen | J17: OESR: 182975,shared OESR with above OFI | K17: No | L17: 3- Low (> 4 weeks & above) | M17: Close | N17: 5
A18: S190017 | B18: Test Engineering | C18: 43439 | D18: TE82705 | E18: SPARE PARTS REQUEST : DESCRIPTION Qty Required: 1. Interface Card 1 set 2. Controller Card 1 set Note: PCBA Controller No Part Number on the surface Refer to Attach TE 82705 1500 Series Pump Final Test Sation | F18: Flex | H18: HuaZhen | J18: OESR: 182975,shared OESR with above OFI | K18: No | L18: 3- Low (> 4 weeks & above) | M18: Close | N18: 5
A19: S190018 | B19: Test Engineering | C19: 43439 | D19: TE82534 | E19: SPARE PARTS REQUEST : DESCRIPTION Qty Required: 1. 515 Bezel Assembly Tester 1 set Note: PCBA Controller No Part Number on the surface Refer to Attach TE 82581 Bezel Assembly Tester | F19: Flex | H19: HuaZhen | J19: OESR: 182975,shared OESR with above OFI | K19: No | L19: 3- Low (> 4 weeks & above) | M19: Close | N19: 5
A20: S190019 | B20: Test Engineering | C20: 43430 | D20: TE82817 | E20: During business review, it is found that TE82817 is at high risk and it could be down any time. This tester down can cause production line of PCM to be stopped. This test station has IBM M50 PC and test box which are very old. Upon checking, IBM M50 pc was manufactured in 2003 and its OS is window XP. Test box for PCM is also an old test box. Please refers to attached photos for reference. Therefore, request to upgrade PC and test box for TE82817. | F20: Venture | H20: HuaZhen | J20: [19Dec18]OESR 183008 [20ec18] Jaaffar said it's not high on piority list and asking if WPPL can build a new tester; [11Jan19] Mandy was identified as POC to follow up this new tester moderize project. | K20: YES | L20: 3- Low (> 4 weeks & above) | M20: Close | N20: 35
A21: S190020 | B21: Test Engineering | C21: 43460 | D21: TE82900-2 | E21: Request for functional tester wiring diagram to aid in troubleshooting. | F21: Flex | H21: HuaZhen | J21: OESR183012 [26th Dec 18] Senai's ST Ng raised a request for schematics on wiring diagram of functional testers [01Jan19] Received Diagram | K21: YES | L21: 2- Medium(<4 weeks) | M21: Close | N21: 4
A22: S190021 | B22: Test Engineering | C22: 43461 | D22: TE9046-11 | E22: To repair the testware frequency board. | F22: Flex | H22: HuaZhen | J22: [28th Dec 18] Senai's Sua raised a request for ICT test fixture repair | K22: No | L22: 2- Medium(<4 weeks) | M22: Close | N22: 1
A23: S190022 | B23: Test Engineering | C23: 43474 | D23: TE82988-9 | E23: 1. GEOTEST chassis in GTS tester TE#82988-9 randomly shuts down. 2. Found cause of shutdown due to one DC power supply module in the GEOTEST chassis. 3. Power supply module was check and cleaned. No visible defect found. 4. The unit may run Ok for many days, then suddenly shutdown by it self. 5. A replcement power power supply module is required. See attaached. 6. This GTS tester is mainly for testing PCBA for Waters UK (Micromass). | F23: CEI | H23: HuaZhen | J23: [10Jan19] Edwin checked with Ray to proceed with parts purchasing and replacement, Crosscharge to UK; [11Jan19] GeoTest Chassis was loan to CEI; Asked to either repair their existing chassis or return the bad chassis if they're not able to source PSU replacment | K23: No | L23: 2- Medium(<4 weeks) | M23: Close | N23: 2
A24: S190023 | B24: Test Engineering | C24: 43474 | D24: TE82988-2 | E24: Model 2100001203 & 2100001164 tested using same FT Fixture TE0084037-2 failure FT Test with Error message prompted "Is Scope Triggered?" . Retest 5 boards each model also failure above similar failure mode. Senai engineer was try to change cable from TE82888 card to UUT but still having similar failure. I also change spare cable from TE82888 card to 210000415 cards in fixture but still same failure. | F24: Flex | H24: HuaZhen | J24: [10Jan19] OESR 193041 [11Jan19] Test Sequence online debug option was enabled. Richard deselected the option as Administrator | K24: Yes | L24: 1- High(< 1 week) | M24: Close | N24: 2
A25: S190024 | B25: Test Engineering | C25: 43476 | D25: TE82510 | E25: 1. 210000411 board were tested on the Alliance tester with the fixture (Job# 3011206), the test output a corrupted display on the backlit LCD along the test and failed at the test sequence "FLOPPY INTERFACE TEST, TESTING FLOPPY ON J-27 **** ACCESSING FILE **** 2. For the display output corruption issue, display were swapped with another assembly with the display producing very dim output, we were able to see that the output was still corrupted as in the sample image attached together in email. 3. For "FLOPPY INTERFACE TEST, TESTING FLOPPY ON J-27 **** ACCESSING FILE **** , we've swapped the floppy disk along with the IDE cable. The floppy drive were able to be turned on and were actuating the floppy disk for reading. 4. All probes changed. | F25: Flex | H25: HuaZhen | J25: [11Jan19] OESR 193051 [15Jan19] Received a text file from Edward Jackson and asked Flex to rerun the test with file from Milford [31Jan19] Flex KP sent 411 fixture to Flex Senai and ETA to Flex Senai on 4th Feb 2019 [08Feb19] Ed has confirmed the fixture was verified in Milford and Flex Senai did verification of fucationality too. Both verification shows the fixture is in good working and fit for prodution test. | K25: Yes | L25: 2- Medium(<4 weeks) | M25: Close | N25: 20
... A28: S190027 | B28: Test Engineering | C28: 43476 | D28: tester PC | E28: During PM for tester PCs in Venture, they identified the following tester PCs have the unsent test documents in 'SendBuffer' folder. Please kindly help to resubmission as per requirement in TSP 735003678 Generic PC Maintenance Procedure. Below is the list of PCs, 1. TE83013-2 2. TE83006 3. TE83013-1 4. TE83032-1 5. TE83031 6. TE82995-3 7. TE82995-2 | F28: Venture | H28: HuaZhen | J28: [21Jan19] OESR 193064 | K28: Yes | L28: 3- Low (> 4 weeks & above) | M28: Close | N28: 8
A29: S190028 | B29: Manufacturing Engineering | C29: 43487 | D29: SigmaSure | E29: ECO 9221720 & 9221721 Life cycle change on SL Power Supply 279000852 to Delta Power Supply 279003675 for Detectors. Sigmasure need change power supply part number from 27900852 to 279003675 1.Singapore Kallang date build on 23 Jan 2019 2. Singapore Kallang date build on 24 Jan 2019 WAT-186002487 WAT-186248900 WAT-186017002 WAT-186017003 WAT-186015034 WAT-186015032 WAT-186017012 WAT-186015033 WAT-186017013 WAT-186002998 WAT-186015053 WAT-186299800 WAT-186015031 | F29: Flex | H29: Yee Hwa | K29: No | L29: 2- Medium(<4 weeks) | M29: Close | N29: 120
A30: S190029 | B30: Test Engineering | C30: 43494 | D30: tester PC | E30: Below testers have unsent files under 'Sendbuffer' folder. IP address and tester name as shown below: 10.249.55.15 TE82865-5 CPSO Final Test Station 10.249.55.16 TE82865-6 CPSO Final Test Station 10.249.55.17 TE82865-2 ASO Final Test Station | F30: CEI | H30: HuaZhen | J30: OESR193081 [31Jan2019] Reviewed files... tried to resubmit them to SigmaQuest but they came back as SQ0007 and SQ0011 files. Checked genealogy and found records have been submitted once already (SQ0007 indicates a similar record already exists). Just to be safe, I cleared the files and dumped them in the TE-1 desktop folder called "SENDBUFFER Archive" in case this comes back as a problem. The SENDBUFFER is now clear, notified Rick of disposition. No qualification required, just some moving of files. | K30: Yes | L30: 3- Low (> 4 weeks & above) | M30: Close | N30: 2
A31: S190030 | B31: Test Engineering | C31: 43504 | D31: TE82987-1 | E31: In tester TE82987-1, observed that leakage in part number: 410001901 ( GES part number: W1205001926-R, Description: Fitting, one-piece, 10-32, Black. Thus, the whole set of the above mentioned part number is required to replace in tester. Required quantity to replace: 15 pieces | F31: Venture | H31: HuaZhen | J31: [08Feb19] Requested Chan to resend OESR with item price and state the reason to replace all 15 pcs together. [25Feb19] Replacing 12 pcs of fitting and noted it down as a Preventive Maintanance for replacing every 2 years | K31: No | L31: 2- Medium(<4 weeks) | M31: Close | N31: 13
A32: S190031 | B32: Manufacturing Engineering | C32: 43507 | D32: Sigmasure | E32: Sigmasure in Detector 186015034 Acquity UPC2 PDA On 02/08/2019 Sigmasure show 5 part number and 02/10/2019 Sigmasure show extra 6 part number (Additional of 279002225) request to remove. Please refer to attachment | F32: Flex | H32: Yee Hwa | J32: SS7 Corrected by Matt F on 12 Feb | K32: No | L32: 2- Medium(<4 weeks) | M32: Close | N32: 1
A33: S190032 | B33: Test Engineering | C33: 43510 | D33: CEIPNL1 | E33: Part Number label Printer was unable to power up after shutdown when i was cloning of the harddisk. I have check there was no power and the fan was not working. Suspect the power supply failure and i have checked with my MIS we did not have any similar power supply. Pls advice. Please see attached picture of the power supply. | F33: CEI | H33: HuaZhen | J33: [14Feb19] Informed Wang from CEI to collect power supply from Jie Hui and updatet the status [15Feb19] The PC is reovered after replacing PSU | K33: No | L33: 2- Medium(<4 weeks) | M33: Close | N33: 1
A34: S190033 | B34: Manufacturing Engineering | C34: 43510 | D34: Label Print | E34: ASP 279003278 Found WAT024406 (Label, Serial Shipping Label) content is illegible during assembly. Serial Number: A19998252A Root Cause: Mis-handling of Label ASP 279001743 Serial Number: A19TUV463A Found WAT024406 (Label, Serial Shipping Label) content is illegible after printing. Root Cause: Label printing defect. Request Waters personnel to assist to re-print label at Flex site. Qty: 2pcs | F34: Flex | H34: Yee Hwa | J34: Action completed. | K34: No | L34: 3- Low (> 4 weeks & above) | M34: Close | N34: 1
A35: S190034 | B35: Test Engineering | C35: 43511 | D35: TE83026 | E35: At the test step of Column LEDs, the frequency of color changing on both button LEDs is very fast and both inner LEDs color (red and green) are running parallel. Is it posssible to check color LEDs status one by one? Please help to evaluate it. Please kindly refer to the attached photo named "5049 Column LED test" for your reference. | F35: Venture | H35: HuaZhen | J35: [18Feb19] OESR 193130: This OESR will be added to the planned changes to TE83026 in second quarter this year. I might be able to perform the LED test sequentially, the control of those LEDs via the diagnostic port is a bit problematic due to the instrument firmware. But, I will see what can be done to improve it. In the meantime, it is important that the operator observes each LED lit both red and green as instructed prior to continuing the test. | K35: Yes | L35: 3- Low (> 4 weeks & above) | M35: Close | N35: 3
A36: S190035 | B36: Manufacturing Engineering | C36: 43514 | D36: 418000219 | E36: 2 pcs of Tool No: 418000219 ALIGNMENT SHELF, SAMPLE ORGANIZER found out of spec after the measurement and it was due long term slide in and out in the Z-axis assembly. With this wear and tear the shelf might not able to detect the slide in slide out issue during the assembly. Therefore, we would like to replace the shelf to improve the issue. | F36: CEI | H36: Yee Hwa | J36: Notification from CEI on Shelf replacement due to wear and tear. Requested CEI to update PM proc to include critical dimention check quarterly. No action require from WPPL. | K36: No | L36: 3- Low (> 4 weeks & above) | M36: Close | N36: 1
A37: S190036 | B37: Test Engineering | C37: 43514 | D37: TE83064 | E37: For all FTN units which were tested starting from 16-Feb-2019, "location" on test records shows as "CleanRoom, Milford,US" instead of "GES/Venture, SG". This happended on all FTN testers at Venture,GES. Please refers to attached pictures and attached file for affected unit serial numbers. | F37: Venture | H37: HuaZhen | J37: [19Feb2019] The address is updated. | K37: No | L37: 2- Medium(<4 weeks) | M37: Close | N37: 1
A38: S190037 | B38: Test Engineering | C38: 43515 | D38: TE82760 | E38: During FLR detector final test, Signal to Noise Ratio failure was one of the top failure after Raman/Rayleigh failure. The units are failed the 1st test with readings approximately zero (~0.00) and the 2nd test (retest) passed with over thousands (>1000). 55.56% of Signal/Noise Ratio failure are failed with readings nearly to "zero". As such, we would like to know what could be the root cause of this failure as it is beyond our knowledge and how to prevent this failure to improve our FPY. Refer to attachement for details. | F38: Venture | H38: HuaZhen | J38: [25Feb19] OESR 193148 raised [22Mar19] Eric asked a consistently failing unit but no such unit is exiisting so far. Sufern replied Matt about this FPY issue on 14 Mar 19 [03Jun19] Eric will update test program to enable diagnostic tool for troubleshooting [21Jun19] Park it as monitoring if there's no increament of failure rate | K38: Yes | L38: 3- Low (> 4 weeks & above) | M38: Close | N38: 3
A39: S190038 | B39: Test Engineering | C39: 43516 | D39: TE82943-18 | E39: Electronics Weigh Balance AND-HR200 SN 12326186 showing unstable reading during calibration on 100g and 200g and not able to perform calibration. The usage range requires only 60 to 85 grams. It does not affect the final result due to instability occur only above 100gram onwards. The AND-HR200 SN 1236186 has been taken-oy from the line and put to not in use | F39: Flex | H39: HuaZhen | J39: [01Mar2019] ITS was contacted for repair [08Mar2019] ITS asking a fialure video from Flex, so he can advise next course of actions. [24Jun2019] Joel will follow up with ITS about return of balance and clsoe this OESR | K39: No | L39: 3- Low (> 4 weeks & above) | M39: Close | N39: 92
A40: S190039 | B40: Manufacturing Engineering | C40: 43522 | D40: Label Print | E40: Certification of Functional Performance print error: Under the "Model" section, printed wording is showing "ACQUITY UPL8N9TUV DETECTOR" We tried re-printing it again but the problem persist. Refer to attached photo. | F40: Flex | H40: Yee Hwa | K40: No | L40: 3- Low (> 4 weeks & above) | M40: Close | N40: 2
A41: S190040 | B41: Manufacturing Engineering | C41: 43528 | D41: Label Print | E41: Certification of Functional Performance scan-print error: Under the description section, technician scan in the serial number instead of the description, causing the certification print-out is showing chassis serial number in the "Model" section. Root cause: Human-caused error Refer to attached photo. | F41: Flex | H41: Yee Hwa | J41: 6 mar - OESR-ed to Milford and fixed | K41: Yes | L41: 3- Low (> 4 weeks & above) | M41: Close | N41: 2
A42: S190041 | B42: Test Engineering | C42: 43529 | D42: TE82996 | E42: 1. TE82996 -Driver Rev.A adapter is used at the GTS1 test fixture TE82994-2, for the tesing of 210000368 and 210000904 CPSM Driver boards. 2.Total monthly production quantity was about 660 boards. 3. Base on manufacturer speciifcation for the 180 pin connector on the adapter board, the mechnaical durability is 100 mating cycles. 4. Due to the high usage for this adapter, we will like to request replacement of this adapter. | F42: CEI | H42: HuaZhen | J42: [08Mar2019] Requested CA to update the production impact to set priority. [01Apr2019] Received spare Adapaters from Milford and it's part of spare inventory now | K42: No | L42: 3- Low (> 4 weeks & above) | M42: Close | N42: 18
...

Sheet 2020
A1: Log Number | B1: Engineering Group | C1: OESR Date Received | D1: TE Tool No | E1: Problem Summary | F1: Site | G1: Originator | H1: Assignee 2 (WPPL) | I1: Date Completed | J1: Remark/Closure | K1: OESR to Milford | L1: 1- High(< 1 week) | M1: STATUS | N1: Time for closure (Days)
A2: S20001 | B2: Manufacturing | C2: 43836 | D2: ASP | E2: 1. CEI to review every half yearly on the ASP and TSP for CPSO and ASO for any change in revision at Waters Portal. However we could not access the ASP and TSP recently. Could you help to advise CEI. Thankyou. | F2: CEI | G2: Jason Wang | H2: Su Fern | I2: 43896 | J2: [15Jan20] SF raised BT request on this matter. [21Feb20] BT working in progress [06Mar20] Desmond -- Close this OESR as it's tracked under BT ticket. | K2: No | L2: 2- Medium(<4 weeks) | M2: Close | N2: =NETWORKDAYS(C2,I2) -> 45
A3: S20002 | B3: Manufacturing | C3: 43838 | D3: 44K-040 | E3: Description : Required to perform Dummy load test before testing of units. Steps of Analysis : 1) Change to another Pat and Flash, No trouble found. 2) Change to another power source, No trouble found Will not impact to any shipment at the moment as there is another tester which can support thr test. Attachment : Photos of errors message found | F3: Venture | G3: Alan Oh | H3: Siddharth | I3: 43872 | J3: [09 Jan 20] Spoken to Will Hudd in Wilmslow about the issue. He mentioned that we will have to replace the resistor. He will give me the value once he has calculated it. [30Jan20] The resistor value across the leads has been changed from 92.5kohms to 82.2kohms. The dummy load now works correctly. This is a temporary fix. [31 Jan 20] Will Hud has posted the new resistors that will replace the existing resistors. It will arrive in Singpaore on 3rd/4th Feb. [11 Feb2020] Venture received the resistors from Will Hudd during lunch time. Installed it on the dummy load and verified. Both testers show a value of 2.56 mA and 2.59mA respectively (Spec >2.50mA). Both the tester is functioning correct, hence can close OESR | K3: NO | L3: 2- Medium(<4 weeks) | M3: Close | N3: =NETWORKDAYS(C3,I3) -> 25
A4: S20003 | B4: Test | C4: 43840 | D4: TE82526-1 | E4: 1. Problem Statement. - TE82526-1 Pump Tray Tester Not flow solvent due to defective BSDA025T-NC-PV (ShutOff Valve) . - Shutoff Valve showing broken diaphragm (refer to attached photo.) 2. Acceptance criteria that is not met. (e.g. relevant specification number and revision) - TE82526-1 must be able to flow solvent during seal wash test 3. Relevant records (e.g. Incomin QA, Test Records, Photos, trackise NCRs numbers and related issue) - N/A 4. Info on whether this issue impacts revenue - Build for the next 2 weeks is enough for 2x unit of Pump Tray Tester | F4: Flex | G4: Joel | H4: Hua Zhen | I4: 43840 | J4: [10Jan20] Advise Flex to collect the spare part and find a way to prevent recurring | K4: NO | L4: 1- High(< 1 week) | M4: Close | N4: =NETWORKDAYS(C4,I4) -> 1
A5: S20004 | B5: Test | C5: 43843 | D5: TE83064-14 | E5: Description : Assembly Welded Tube (P/N:430003154) was broken due to wear and tear at FTN tester TE83064-14. Steps of Analysis : Tubing was broken due to wear and tear during new test tubing change. Shipment Impact : No shipment impact due to this. Estimated Date : NA Additional Time needed for analysis : NA Attachment : Photos of tubing sample and broken evidence. No price information is available | F5: Venture | G5: Lwin | H5: Hua Zhen | I5: 43843 | J5: [17Jan20] Parts collected as per request | K5: NO | L5: 2- Medium(<4 weeks) | M5: Close | N5: =NETWORKDAYS(C5,I5) -> 1
A6: S20005 | B6: Manufacturing | C6: 43845 | D6: NA | E6: Instrument Serial Number Printing: Instrument Serial Number print out with barcode with broken line) 1. Model: 186269506 ASSY, e2695 WITH HEATER/COOLER S/N: A20SM4286A (Barcode with broken line) | F6: Flex | G6: Gary | H6: Hua Zhen | I6: 43845 | J6: [17Jan20] Reprint collected as per request | K6: NO | L6: 1- High(< 1 week) | M6: Close | N6: =NETWORKDAYS(C6,I6) -> 1
A7: S20006 | B7: Manufacturing | C7: 43845 | D7: NA | E7: Description: Instrument serial number label: A20SMH581G & A20SMH605G need reprint. Steps of Analysis: 1: 1st piece print out after change ribbon. 2: Label printing incomplete. Affected Part No & Qty need for replacement: 186186301, qty 2. Shipment Impact: NA Estimated Date: NA Additional Time needed for analysis: NA | F7: Venture | G7: Hong Cheng | H7: Su Fern | I7: 43845 | K7: NO | L7: 1- High(< 1 week) | M7: Close | N7: =NETWORKDAYS(C7,I7) -> 1
A8: S20007 | B8: Manufacturing | C8: 43845 | D8: NA | E8: Instrument Serial Number Printing: Instrument Serial Number Label need to replace due broken pallet at Waters Distribution Centre. IDR :190856 Model: 186015080 ACQUITY UPLC H-Class PLUS QSM S/N: G19QSP507A | F8: Flex | G8: Gary | H8: Hua Zhen | I8: 43845 | J8: [17Jan20] Reprint collected as per request | K8: NO | L8: 1- High(< 1 week) | M8: Close | N8: =NETWORKDAYS(C8,I8) -> 1
A9: S20008 | B9: Manufacturing | C9: 43861 | D9: NA | E9: SigmaSure system down, unable to capture parts number serial in system. Currently flex use in-house Traceability to record. Affected on Detector and QSM family. | F9: Flex | G9: Gary | H9: Guan Yee | I9: 43861 | K9: NO | L9: 1- High(< 1 week) | M9: Close | N9: =NETWORKDAYS(C9,I9) -> 1
A10: S20009 | B10: Manufacturing | C10: 43861 | D10: NA | E10: Instrument Serial Number Printing: Instrument Serial Number Label printing misalignment 1. Model: 289000560 S/N: A20SHC571A | F10: Flex | G10: Gary | H10: Guan Yee | I10: 43861 | K10: No | L10: 1- High(< 1 week) | M10: Close | N10: =NETWORKDAYS(C10,I10) -> 1
A11: S20010 | B11: Manufacturing | C11: 43866 | D11: NA | E11: Description: To reprint serial number label for 186015082 x1 (S/N J19BSP916G) shipped from GDC to ADC was damaged in transit. This unit was required to inspect, retest and reprint out serial number as per stated in NCR report as attached.. Shipment Impact: Yes Estimated Date: 12th Feb 2020 Attachment: NCR-SG200103 (Approved plan).pdf | F11: Venture | G11: Chua | H11: Desmond | I11: 43871 | K11: No | L11: 1- High(< 1 week) | M11: Close | N11: =NETWORKDAYS(C11,I11) -> 4
A12: S20011 | B12: Test | C12: 43866 | D12: TE82882-11 | E12: 1. Problem Statement. -PDA Final Test System TE82882-11 Not able to login from Empower using username "system' and password "metsys". 2. Acceptance criteria that is not met. (e.g. relevant specification number and revision) - Must be able to login using username "system" and password "metsys" and execute PDA Final Test. 3. Relevant records (e.g. Incomin QA, Test Records, Photos, trackise NCRs numbers and related issue) - N/A 4. Info on whether this issue impacts revenue - No impact as available tester able to test as per demand required. | F12: Flex | G12: Joel | H12: Hua Zhen | I12: 43867 | J12: [6Feb20] Flex restored image and fixed the issue. Closed | K12: NO | L12: 2- Medium(<4 weeks) | M12: Close | N12: =NETWORKDAYS(C12,I12) -> 2
A13: S20012 | B13: Test | C13: 43869 | D13: TE82988-2 | E13: 1. Problem Statement. -210000414 at FCT GTS tester facing POS11 Failed. Actual Reading 1.0V ,Hi- 11.2 Lo-10.8 -210000415 at FCT GTS tester facing Motor Drive Failed. Check hold State- Winding 2 Actual Reading 23.984, Hi-10 Lo-0. 2. Acceptance criteria that is not met. (e.g. relevant specification number and revision) - Must be able to pass pcba FCT testing. 3. Relevant records (e.g. Incomin QA, Test Records, Photos, trackise NCRs numbers and related issue) - N/A 4. Info on whether this issue impacts revenue -Impact on 21000345, 21000415, 21000414 and 21001164 | F13: Flex | G13: Bernard | H13: Hua Zhen | I13: 43875 | J13: [11Feb20] 210000414- PASSED. Original CPU Card repaired by changing U16 and U18. 210000415- PASSED(11/02/2020). Original CPU Card repaired by changing burned L1. [14Feb20] The tester is working and pending for spare parts from Milford under existing OESR 203852 | K13: Yes | L13: 1- High(< 1 week) | M13: Close | N13: =NETWORKDAYS(C13,I13) -> 5
A14: S20013 | B14: Manufacturing | C14: 43872 | D14: NA | E14: Instrument Serial Number Printing: Instrument Serial Number print out with Missing barcode) 1. Model: 186248900 2489 UV/Visible Detector S/N: B2087E674A (Missing Barcode ) | F14: Flex | G14: Gary | H14: Guan Yee | I14: 43872 | J14: Reprinted | K14: No | L14: 1- High(< 1 week) | M14: Close | N14: =NETWORKDAYS(C14,I14) -> 1
A15: S20014 | B15: Manufacturing | C15: 43873 | D15: NA | E15: Description: Instrument serial number label: B20UPF586G need reprint. Steps of Analysis: Poor printing, found wording "r" smudge. Affected Part No & Qty need for replacement: 186015029, qty 1. Shipment Impact: NA Estimated Date: NA Additional Time needed for analysis: NA | F15: Venture | G15: Hong Cheng | H15: Su Fern | I15: 43875 | J15: Reprinted | K15: NO | L15: 1- High(< 1 week) | M15: Close | N15: =NETWORKDAYS(C15,I15) -> 3
A16: S20015 | B16: Manufacturing | C16: 43879 | D16: NA | E16: Description: Instrument serial number label: B20CHA015G & B20CHA016G need reprint. Steps of Analysis: Poor printing, found wording "r" smudge. Affected Part No & Qty need for replacement: 186015042, qty 2. Shipment Impact: NA Estimated Date: NA Additional Time needed for analysis: NA | F16: Venture | G16: Hong Cheng | H16: Yee Hwa | I16: 43879 | J16: Reprinted | K16: No | L16: 1- High(< 1 week) | M16: Close | N16: =NETWORKDAYS(C16,I16) -> 1
A17: S20016 | B17: Test | C17: 43881 | D17: TE82988-12 | E17: Description :TE82988 COMPUTER STATION ,POWER ON BUT NO DISPLAY Steps of Analysis : 1. Check the power supply cable connection ( no issue ) 2. Disconnect and connect the power supply from the motherboard and Power ON all mother FAN is ON but still no display POWER LED is OFF 3. Disconnect the HDD /DVD Rom and power ON still no display. 4. Connect to 3 different LCD monitor but also no display. Affected Part No & Qty need for replacement :TE82988-12 COMPUTER station for model W1210001115 Shipment Impact :YES Estimated Date :NA Additional Time needed for analysis : Attachment : Yes / No, refer to COMPUTER STATION MODEL INFO.JPG | F17: Venture | G17: Ricky Cortez | H17: Hua Zhen | I17: 43887 | J17: [20Feb20] Asked Venture to try duplicating a working PC by using backup image. [21Feb20] OESR 203967 was created for this repair . Milford redirect the OESR to UK Waters. Troubleshooting is in progress [28Feb20] Venture found a similar PC to continue the production and sending the this PC to Waters UK for repair. No actions from Waters Singapore. Close this case | K17: Yes | L17: 1- High(< 1 week) | M17: Close | N17: =NETWORKDAYS(C17,I17) -> 5
A18: S20017 | B18: Test | C18: 43886 | D18: TE82839 | E18: down time 19 Feb to 21Feb 2020 1) Racal TE#82839 210001161 PERSONALITY 2200 ELEVATOR (RoHS) PCBA WA9910-0000-7044-G unable to test due to Power up initialization test Fail. Vref measured 0V spec. 4.09V to 4.103V. Finding: VXI slot 1260-120 card 138 Mux relay card Racal instruments 415156 Rev A cage codeS/N:00050578 relay K64 measured 1.8ohm [normal 0 ohm] lead solder no wetting. see attached relay card picture. The last down time for this Mux relay card is on 4Oct to 9oct 2019 due to relay K72 contact open -resolved by tapping on K72 to close the contact. 2) During the troubleshooting process, we notice one of three 24V Fan on VXI system Fan very noisy and sometimes Fan stop rotating, need help to get it spin. see attached Fan picture. | F18: CEI | G18: Liu Dejia | H18: Hua Zhen | I18: 43889 | J18: [28Feb20] CEI to confirm if the FAN is faulty, then source/replace this faulty FAN. Regarding MUX Relay card, do repair/replace the faulty relay when needed. | K18: No | L18: 1- High(< 1 week) | M18: Close | N18: =NETWORKDAYS(C18,I18) -> 4
A19: S20018 | B19: Manufacturing | C19: 43888 | D19: NA | E19: Instrument Serial Number Printing: Instrument Serial Number print out with broken with on description) 1. Model: 186269505 e2695 Sep Mod w/o H/C S/N: B20SM7339A (Broken line on description) | F19: Flex | G19: Gary | H19: Guan Yee | I19: 43888 | J19: [27 Feb20] label reprinted | K19: No | L19: 1- High(< 1 week) | M19: Close | N19: =NETWORKDAYS(C19,I19) -> 1
A20: S20019 | B20: Test | C20: 43892 | D20: TE83064-15 | E20: Description : Leakage at BSM system of FTN tester.Leakage found at both pump A (primary) and pump B (accumulator). Steps of Analysis : 1.Change BSM seal of pump B (Accumulator). Verified and still leak. 2.Change BSM vent valve and verified. no more leakage at pump B (Accumulator).But still have leakage at pump A (primary). 3.Changed seal wash housing (due to leakage and dent) and 4.Changed pump head of pump A (primary) due to plating issue. Shipment Impact : No shipment impact due to this. Estimated Date : NA Additional Time needed for analysis : functional of TE15 has been verified with both I Class and H Class units. Results are ok. Attachment : Photos of leakage results, BSM seal dent and plating issue at pump head. | F20: Venture | G20: Lwin | H20: Hua Zhen | I20: 43893 | J20: [03Mar20] BSM is fixed by replacing parts. Closed | K20: No | L20: 2- Medium(<4 weeks) | M20: Close | N20: =NETWORKDAYS(C20,I20) -> 2
A21: S20020 | B21: Test | C21: 43895 | D21: TE82882-11 | E21: Problem Statement. -PDA Final Test System TE82882-11 Not able too into WinOS due to corrupted WinOS (pls refer to attached photo) - tried to used the back-up from Acronis Imaging software but not able to activate the image. 2. Acceptance criteria that is not met. (e.g. relevant specification number and revision) - Must be able to login using to Win OS. 3. Relevant records (e.g. Incomin QA, Test Records, Photos, trackise NCRs numbers and related issue) - N/A 4. Info on whether this issue impacts revenue - No impact as available tester able to test as per demand required. | F21: Flex | G21: Joel | H21: Hua Zhen | I21: 43895 | J21: [05Mar20] PC is working now. Closed | K21: No | L21: 2- Medium(<4 weeks) | M21: Close | N21: =NETWORKDAYS(C21,I21) -> 1
A22: S20021 | B22: Test | C22: 43895 | D22: TE82839 | E22: down time 19 Feb to 21Feb 2020 1) Racal TE#82839 210001161 PERSONALITY 2200 ELEVATOR (RoHS) PCBA WA9910-0000-7044-G unable to test due to Power up initialization test Fail. Vref measured 0V spec. 4.09V to 4.103V. 2) 1260-100 , PN.407655-01T (Adapt A-Switch Carrier module with 4 card inside (See picture) 3）6065P-8 , P/N.70-0036-011 (Message base servant interupter) （See picture） | F22: CEI | G22: Liu Dejia | H22: Hua Zhen | I22: 43902 | J22: [06Mar20] Asked CEI to provide more details about failure and shipment impact. OESR204004 was raised to Milford [12Mar20] Meryl updated team the tester is fixed by replacing relays. | K22: Yes | L22: 1- High(< 1 week) | M22: Close | N22: =NETWORKDAYS(C22,I22) -> 6
A23: S20022 | B23: Manufacturing | C23: 43899 | D23: NA | E23: Description: Instrument serial number label: K19CHA391G need reprint. Steps of Analysis: NCR: SG200204, carton box damaged due to mishandling by Schenker personnel during picking. Affected Part No & Qty need for replacement: 186015042, qty 1. Shipment Impact: NA Estimated Date: NA Additional Time needed for analysis: NA Attachment: | F23: Venture | G23: Hong Cheng | H23: Yee Hwa | I23: 43899 | J23: [09Mar20] label reprinted | K23: No | L23: 1- High(< 1 week) | M23: Close | N23: =NETWORKDAYS(C23,I23) -> 1
... A52: S20051 | B52: Manufacturing | C52: 44026 | D52: NA | E52: SigmaSure system down, unable to capture parts number serial in system. Currently flex use in-house Traceability to record. Affected on Detector and QSM family. | F52: Flex | G52: Gary | H52: Desmond | I52: 44026 | J52: [14Jul20] Sigmasure server is back normal. | K52: No | L52: 1- High(< 1 week) | M52: Close | N52: =NETWORKDAYS(C52,I52) -> 1
A53: S20052 | B53: Test | C53: 44027 | D53: TE82503-5 | E53: 1. Problem Statement. - TE82503-5 Injector Seal Pack Tester not able to pass Stream Count Fail. Its is suspected to be related to HUMPHREYpneumatic switch PN M401 37 24VDC . - Observed air leaking causing failure 2. Acceptance criteria that is not met. (e.g. relevant specification number and revision) - TE82503-5 must be able to pass stream count test 3. Relevant records (e.g. Incomin QA, Test Records, Photos, trackise NCRs numbers and related issue) - N/A 4. Info on whether this issue impacts revenue - Build for the next 2 weeks is enough for 1x unit of Injector Seal Pack Tester | F53: Flex | G53: Joel | H53: Hua Zhen | I53: 44049 | J53: [18Jul20] OESR 204192 was sent to Milford to request a replacement air valve and meanwhile asking Flex to source it locally [26Jul20] Flex is working with local distributor to get a replacement part. Presently the loading able to hold-off until Aug 2020 with 1 working test station, unless there’s as surge of loading (or more than 25 units per day). [02Aug20] Milford shipped repair parts to Flex and Flex to update repair status [06Aug20] Flex has received and replaced air switch from Milford. Tester is recovered. Closed | K53: Yes | L53: 1- High(< 1 week) | M53: Close | N53: 17
A54: S20053 | B54: Manufacturing | C54: 44035 | D54: NA | E54: Informed that SigmaSure is currently down and we are unable to scan genealogy data for the current built instrument. It is confirmed that all the PCs cannot access SigmaSure and prompt "network error" | F54: Venture | G54: Chan | H54: Yee Hwa | I54: 44035 | J54: SS recovered. Closed. | K54: No | L54: 1- High(< 1 week) | M54: Close | N54: =NETWORKDAYS(C54,I54) -> 1
A55: S20054 | B55: Manufacturing | C55: 44035 | D55: NA | E55: Instrument Serial label / Spare Number labe print out with hair line on the barcode. | F55: Flex | G55: Gary | H55: Desmond | I55: 44035 | J55: [23Jul20] Label reprinted and close this OESR. | K55: No | L55: 1- High(< 1 week) | M55: Close | N55: =NETWORKDAYS(C55,I55) -> 1
A56: S20055 | B56: Manufacturing | C56: 44035 | D56: NA | E56: SigmaSure system down, unable to capture parts number serial in system. Currently flex use in-house Traceability to record. Affected on Detector and QSM family. | F56: Flex | G56: Gary | H56: Desmond | I56: 44035 | J56: [23Jul20] Sigmasure server is back normal. | K56: No | L56: 1- High(< 1 week) | M56: Close | N56: =NETWORKDAYS(C56,I56) -> 1
A57: S20056 | B57: Test | C57: 44036 | D57: TB537B | E57: Description : 2 issues detected : 1. A red light found on the LED display and testing cannot be done for that channel. 2. There are a lot of duplicate Device channel found when performing the test. | F57: Venture | G57: Alan Oh | H57: Siddharth | I57: 44046 | J57: [03.08.20] Isue resolved by William Hudd by remote logging to the Tester PC. Alan at Venture has conofrmed that the issue is resolved. | K57: No | L57: 2- Medium(<4 weeks) | M57: Close | N57: =NETWORKDAYS(C57,I57) -> 7
A58: S20057 | B58: Manufacturing | C58: 44039 | D58: NA | E58: Instrument Serial Number print out with white line on barcode / missing Icon. 1. Model: 186017002 Acquity Arc 2489 UV/Vis Det Serial Number G20VTU407A 2. Model: 186248900 2489 UV/Visible Detector Serial Number G2087E596A 3. Model: 186015032 Acquity UPLC PDA Detector Serial Number G20UPD297A | F58: Flex | G58: Gary | H58: Desmond | I58: 44039 | J58: [23Jul20] Label reprinted and close this OESR. | K58: No | L58: 1- High(< 1 week) | M58: Close | N58: =NETWORKDAYS(C58,I58) -> 1
A59: S20058 | B59: Test | C59: 44039 | D59: TE82988-2 | E59: 1. Problem Statement. -TDK-Lambda with serial number 09M1037A found voltage rotary knob is not responding during the calibration at 3rd party (MicroPrecision)calibration facility. Details on the attached. 2. Acceptance criteria that is not met. (e.g. relevant specification number and revision) - Must be able to pass calibration requirements 3. Relevant records (e.g. Incomin QA, Test Records, Photos, trackise NCRs numbers and related issue) - Calibration Report 4. Info on whether this issue impacts revenue -Impact on 210000415,210000345,210000414,210000384,210001164,210001203 and 210000444 for August month 150k requirement | F59: Flex | G59: Bernard | H59: Hua Zhen | I59: 44049 | J59: [02Aug20] Spare power supply has been calibrated and all equipment was shipped back to Flex Senai. Flex to update status [06Aug20] Flex updated the GTS is covered. Closed. | K59: NO | L59: 1- High(< 1 week) | M59: Close | N59: 9
A60: S20059 | B60: Test | C60: 44041 | D60: TE83064-13 | E60: Description : Failed dynamic leak test with leak rate was above spec limit. Steps of Analysis : 1.Checked BSM seal of pump A and pump B. Leakage was at pump A Accumulator. 2.Changed BSM high pressure seal at Pump A accumulator,leakage was still at pumpA accumulator. 3.Changed BSM vent valve and can recover from leakage and passed dynamic leak test. Result: Need to change BSM vent valve of BSM tester TE83064-13. Shipment Impact : No shipment impact due to this issue. Estimated Date : NA Additional Time needed for analysis : functional of TE13 has been verified with both I Class and H Class units. Results are ok. Attachment : Photos of leakage results. | F60: Venture | G60: Lwin | H60: Hua Zhen | I60: 44042 | J60: [30Jul20] Tester was fixed by replaced requested parts. | K60: No | L60: 2- Medium(<4 weeks) | M60: Close | N60: =NETWORKDAYS(C60,I60) -> 2
A61: S20060 | B61: Manufacturing | C61: 44041 | D61: 999042549 | E61: Tooling 999042549 Insert, Upper Ram, Check Valve Housing. Found tooling with hair line crack . Please refer email picture. | F61: Flex | G61: Gary | H61: Guan Yee | I61: 44046 | J61: [03Aug20] Replaced the cracked insert. | K61: No | L61: 1- High(< 1 week) | M61: Close | N61: =NETWORKDAYS(C61,I61) -> 4
A62: S20061 | B62: Test | C62: 44048 | D62: TB-08 | E62: Description : Detected loud grinding noise from rotary backing pump which is installed inside the QDa Test Bay no 8. Other observation: Check the pump waste pump oil level, seems normal. Derbris/rusty particulates around the pump's itself. Pump S/N:100120703, PM due date:26-MAR-2021 | F62: Venture | G62: Mimi | H62: Siddharth | I62: 44117 | J62: [05 Aug 2020] Mandy contatcted the supplier and the supplier will collect the pump on 11-Aug (2pm) for further investigation. [11 Aug 2020] Mandy said "The pump has been collected and the engineer will do the inspection by the end of this week when he can access his office. Ill keep you updated. [03Aug20] Replaced the cracked insert.[03Aug20] Replaced the cracked insert.'' [25 Aug] Mandy has raised PO WPPL-OP-043 for the pump to be repaired. [04Sept] The pump is at the supplier. The supplier waiting for parts to start the repair. [07 Oct] ITS has mentioned that the parts are enroute to SG. No ETD yet from the supplier [13 Oct] Pump repaired and delivered to Venture. Service report submitted and Mimi mentioned that the pump is working fine. Therefore, OESR can be closed. | K62: No | L62: 2- Medium(<4 weeks) | M62: Close | N62: =NETWORKDAYS(C62,I62) -> 50
A63: S20062 | B63: Test | C63: 44049 | D63: TE82995-2 | E63: Description : System Error. Steps of Analysis : Check RTZ assembly and no issue found. Check cable connection from RTZ assembly to Test box. No issue found. Check sensor cable connection to sensor interface board. Found connector J4 is wear and tear. It was came out from PCB. Replaced new sensor interface board 210000393. Re-run the test. Passed. Verified testing with a few RTZ sub-assemblies and no issue occurred. Affected Part No & Qty need for replacement : 210000393 (Qty 1) Shipment Impact : No impact Estimated Date : NA Additional Time needed for analysis : Analysis performed.Resolved system error. Attachment : Referene photos & price info. | F63: Venture | G63: Lwin | H63: Hua Zhen | I63: 44049 | J63: [6Aug20] Tester is recovered. Closed | K63: No | L63: 2- Medium(<4 weeks) | M63: Close | N63: 1
A64: S20063 | B64: Manufacturing | C64: 44050 | D64: NA | E64: We have received the following 4 units for rework. The packaging boxes were damaged upon receiving and need to be replaced. As a result serial labels need to be replaced. RMA# Material Serial Number 20918 186015014 A19CPO551H 20919 186015014 A19CPO560H 20920 186015014 A19CPO561H 20921 186015014 B19CPO574H Request to manual print the serial labels as above. | F64: CEI | G64: Jason Wang | H64: Eugene | I64: 44054 | J64: [11Aug20] Desmond have helped to print the serial label for CEI. | K64: No | L64: 1- High(< 1 week) | M64: Close | N64: 1
A65: S20064 | B65: Test | C65: 44054 | D65: TE82720-1 | E65: 1. Problem Statement. -Keithley 236 SN 0810603 found failed during verification after repair and calibrate from Tektronix US. Attached the failures encounter. 2. Acceptance criteria that is not met. (e.g. relevant specification number and revision) - Must be able to pass calibration requirements 3. Relevant records (e.g. Incomin QA, Test Records, Photos, trackise NCRs numbers and related issue) - Test Record 4. Info on whether this issue impacts revenue -Impact on 279002660/279001098/081318 for September month requirement | F65: Flex | G65: Bernard | H65: Hua Zhen | I65: 44056 | J65: [13Aug20] Flex should confirm the repaired unit performance and claim warranty if ncessary. Void this OESR as it's closed under previous OESR. | K65: No | L65: 1- High(< 1 week) | M65: Close | N65: 1
A66: S20065 | B66: Manufacturing | C66: 44055 | D66: NA | E66: Instrument Serial Number Printing: Instrument Serial Number print out with missing Waters logo and request by WPPL Loh Wei Xiang) 1. Model: 186017002 Aquity Arc 2489 UV/Vis Det S/N:H20VTU429A ( Miss Waters logo) 2. Model: 186017002 Aquity Arc 2489 UV/Vis Det S/N:F20VTU387A (Request by WPPL Loh Wei Xiang) 3. Model: 186015033 Aquity UPLC PDA eLambda Det S/N:F20UPL702A (Request by WPPL Loh Wei Xiang) | F66: Flex | G66: Gary | H66: Desmond | I66: 44055 | J66: Investiation is required before printing. | K66: No | L66: 1- High(< 1 week) | M66: Close | N66: 1
A67: S20066 | B67: Manufacturing | C67: 44057 | D67: NA | E67: Instrument Serial Number Printing: Instrument Serial Number print out with missing Waters logo and Label PC WATERSPNL1 unable boost-up (Intermittent) 1. Model: 186269506 e2695 Sep Mod w/HC S/N:H20SM4717A ( Miss Waters logo) | F67: Flex | G67: Gary | H67: Desmond | I67: 44057 | J67: Label Reprinted | K67: No | L67: 1- High(< 1 week) | M67: Close | N67: 1
A68: S20067 | B68: Test | C68: 44057 | D68: 2475FLRDLWEX | E68: TSP 735000589 Rev F, page 7 of 7, steps 4 to 6 are repetitive in 735000615. Our practice is following TSP 735000615 for these steps as per our training in Wexford during year 2013. As such we would like to remove these steps from this TSP 735000589. | F68: Venture | G68: Mimi | H68: Hua Zhen | I68: 44064 | J68: [16Aug20] Need to review update before checking with Milford [21Aug20] OESR 204249 was created for this TSP update. No actions from WPPL and put it under monitoring | K68: Yes | L68: 2- Medium(<4 weeks) | M68: Close | N68: 1
...

Sheet Combine
A1: Log Number | B1: Engineering Group | C1: OESR Date Received | D1: TE Tool No | E1: Problem Summary | F1: Site | G1: Originator | H1: Assignee 2 (WPPL) | I1: Date Completed | J1: Remark/Closure | K1: OESR to Milford | L1: 1- High(< 1 week) | M1: STATUS | N1: Time for closure (Days)
A2: S190001 | B2: Test Engineering | C2: 43468 | D2: Shunts | E2: PDA FINAL TEST EQUIPMENT at Flex currently have 6 pcs of PDA Medium Shunt PN # 289002226, Last Q4'2018 Weekly ave. build and test is 40 units, moving forward next week PDA shall require weekly ave. of 54 units.of build and test. Therefore, Flex would like to request for add'l 3 units of shunts 289002226 to cope up with production. | F2: Flex | G2: Joel | H2: Yee Hwa | J2: Loaned 2 PDA Medium Shunt and 3 TUV Shunt to Flex, to be return if shipment reduce. | K2: No | L2: 2- Medium(<4 weeks) | M2: Close | N2: 2
A3: S190002 | B3: Manufacturing Engineering | C3: 43468 | D3: 999027590 | E3: MPMV Station Assy on motor 999027590 Motor to Housing Assy Fixture can tighten one cycle of screw and stop unble to tighten in second cycle. Note : Without load motor able to run full cycle and with load with motor unable complete full cycle. | F3: Flex | G3: Gary | H3: Yee Hwa | J3: Adjusted "Torque driver swtich pressure"- solved | K3: No | L3: 1- High(< 1 week) | M3: Close | N3: 1
A4: S190003 | B4: Test Engineering | C4: 43469 | D4: PM Procedure | E4: Request PM procedure for TCM II with PN 186002441 | F4: Flex | G4: Joel | H4: HuaZhen | J4: [04Jan2019] Sent PM procedure to Joel [11Jan19] OESR 193050 [08Feb19] The updated PM procedure was received by ECO. Flex was informed and started with PM | K4: Yes | L4: 2- Medium(<4 weeks) | M4: Close | N4: 26
A5: S190004 | B5: Test Engineering | C5: 43278 | D5: TE82943 | E5: Missing serial number at the bottom of the test report (Ser.No) of Acquity BSM 18K PLUS test in some Test record and it is encountered across all test stations TE82943 #1,#19,#20,#21,#22 and #24. Please kindly refer to the "BSM Test Record.JPG" | F5: Venture | G5: Chan Myae Soe | H5: Yee Hwa | I5: 43721 | J5: OESR 182626 [30Aug18] Ed Reply: No updates to report. Expect to look into this anomaly soon. It's not repeatable and completely random from what I've discovered. [19Oct18] Ed update: Made a Test Program code modification on the TE Lab PC and is under evaluation. [11Jan19] Checked with Venture, the issue is still existing randomly. [31Jan19] 29Jan2019: It has not been resolved and still require support to solve the issue. 29-Jan-2019: A fix for this intermittent condition has been added to the latest test programs. It was going to be released along with Firebrick firmware in January. However, Firebrick firmware is now being rolled up into Gold firmware. So now it will be released in April with the Gold firmware release. Apr23: same status. expecting release soon. [13Sep19]formally close TMD010661 v02 as ECO9229308 is already implemented | K5: Yes | L5: 2- Medium(<4 weeks) | M5: Close | N5: =NETWORKDAYS(C5,I5) -> 318
