Workbook

Sheet Summary 
A1: Total items in CMs
B2: Flex Singapore | C2: Flex Senai | D2: Venture Singapore | E2: Venture PCBA | F2: CEI Singapore | G2: CEI Batam | H2: Richport | I2: Keypoint
A3: Computers | B3: ='Flex (Singapore)'!B1 -> 54 | C3: ='Flex Senai (Malaysia)'!B1 -> 5 | D3: ='Venture (Singapore)'!B1 -> 38 | E3: 2 | F3: ='CEI (Singapore)'!B1 -> 8 | G3: ='CEI Batam (Indonesia)'!B1 -> 2 | H3: 0 | I3: 0
A4: Server | B4: ='Flex (Singapore)'!B59 -> 1 | C4: ='Flex Senai (Malaysia)'!B11 -> 1 | D4: ='Venture (Singapore)'!B42 -> 1 | E4: ='Venture PCBA (Singapore)'!B7 -> 1 | F4: ='CEI (Singapore)'!B13 -> 1 | G4: 2 | H4: 0 | I4: 0
A5: Lable Printers | B5: ='Flex (Singapore)'!B64 -> 2 | C5: 0 | D5: ='Venture (Singapore)'!B46 -> 2 | E5: 0 | F5: 0 | G5: 0 | H5: 0 | I5: 0
B8: PC/Server in the color are managed by Bill Irons

Sheet Flex (Singapore)
A1: PC (Tester) = | B1: =56-2 -> 54
A2: IP Address | B2: Computer Name | C2: Computer Description | D2: IP # Assigned | E2: Platform | F2: Serial Number | G2: Mfg Year | H2: RAM (GB) | I2: OS | J2: Symantec AV | K2: Wannacrypt Update
A3: 10.249.26.2 | B3: SOLECTRONISNL1 | C3: Solectron Instrument Serial Number Label 1 | D3: 38737 | E3: M50 | F3: KKPPZ6P | H3: 0.5 | I3: Windows XP SP3 | J3: SAV Endpoint 12 | K3: Done
A4: =LEFT(A3,FIND("x",SUBSTITUTE(A3,".","x",3))-1)&"."&(MID(A3,FIND("x",SUBSTITUTE(A3,".","x",3))+1,3)+1) -> 10.249.26.3 | B4: SOLECTRONPNL1 | C4: Solectron Part Number Label 1 | D4: 38737 | E4: M50 | F4: KKPAA7A | H4: 2 | I4: Windows XP SP3 | J4: SAV Endpoint 12 | K4: Done
A5: =LEFT(A4,FIND("x",SUBSTITUTE(A4,".","x",3))-1)&"."&(MID(A4,FIND("x",SUBSTITUTE(A4,".","x",3))+1,3)+1) -> 10.249.26.4 | B5: SOLECTRONCOFP1 | C5: Solectron Certificate Of Functional Performance 1 | D5: 38737 | E5: M50 | F5: KKMAB8Z | H5: 1 | I5: Windows XP SP3 | J5: SAV Endpoint 12 | K5: Done
A6: 10.249.26.9 | B6: TE82800-2 | C6: Acquity Solvent Manager Pump Test Station | D6: 40189 | E6: LAC/E 12 | H6: 2 | I6: Windows XP SP3 | J6: SAV Endpoint 12 | K6: Done
A7: =LEFT(A6,FIND("x",SUBSTITUTE(A6,".","x",3))-1)&"."&(MID(A6,FIND("x",SUBSTITUTE(A6,".","x",3))+1,3)+1) -> 10.249.26.10 | B7: TE82800-3 | C7: Acquity Solvent Manager Pump Test Station | D7: 40100 | E7: M50 | F7: KKPAB0R | G7: 2005 | H7: 1.5 | I7: Windows XP SP3 | J7: SAV Endpoint 12 | K7: Done
A8: =LEFT(A7,FIND("x",SUBSTITUTE(A7,".","x",3))-1)&"."&(MID(A7,FIND("x",SUBSTITUTE(A7,".","x",3))+1,3)+1) -> 10.249.26.11 | B8: TE82943-11 | C8: Acquity Solvent Manager Test Station | D8: 40100 | E8: LAC/E 12 | F8: H08L32067W* | G8: 2008 | H8: 2 | I8: Windows XP SP3 | J8: SAV Endpoint 12 | K8: Done
A9: =LEFT(A8,FIND("x",SUBSTITUTE(A8,".","x",3))-1)&"."&(MID(A8,FIND("x",SUBSTITUTE(A8,".","x",3))+1,3)+1) -> 10.249.26.12 | B9: TE82943-12 | C9: Acquity Solvent Manager Test Station | D9: 40100 | E9: LAC/E 12 | F9: MO8L32055W | G9: 2008 | H9: 2 | I9: Windows XP SP3 | J9: SAV Endpoint 12 | K9: Done
A10: =LEFT(A9,FIND("x",SUBSTITUTE(A9,".","x",3))-1)&"."&(MID(A9,FIND("x",SUBSTITUTE(A9,".","x",3))+1,3)+1) -> 10.249.26.13 | B10: TE82943-13 | C10: Acquity Solvent Manager Test Station | D10: 40100 | E10: LAC/E 12 | F10: M08L32151W | G10: 2008 | H10: 2 | I10: Windows XP SP3 | J10: SAV Endpoint 12 | K10: Done
A11: =LEFT(A10,FIND("x",SUBSTITUTE(A10,".","x",3))-1)&"."&(MID(A10,FIND("x",SUBSTITUTE(A10,".","x",3))+1,3)+1) -> 10.249.26.14 | B11: TE82943-14 | C11: Acquity Solvent Manager Test Station | D11: 40100 | E11: LAC/E 12 | F11: M08L32177W | G11: 2008 | H11: 2 | I11: Windows XP SP3 | J11: SAV Endpoint 12 | K11: Done
A12: =LEFT(A11,FIND("x",SUBSTITUTE(A11,".","x",3))-1)&"."&(MID(A11,FIND("x",SUBSTITUTE(A11,".","x",3))+1,3)+1) -> 10.249.26.15 | B12: TE82943-15 | C12: Acquity Solvent Manager Test Station | D12: 40100 | E12: LAC/E 12 | F12: M08L32051W | G12: 2008 | H12: 2 | I12: Windows XP SP3 | J12: SAV Endpoint 12 | K12: Done
A13: =LEFT(A12,FIND("x",SUBSTITUTE(A12,".","x",3))-1)&"."&(MID(A12,FIND("x",SUBSTITUTE(A12,".","x",3))+1,3)+1) -> 10.249.26.16 | B13: TE82943-16 | C13: Acquity Solvent Manager Test Station | D13: 40100 | E13: LAC/E 12 | F13: B08L32155W* | G13: 2008 | H13: 2 | I13: Windows XP SP3 | J13: SAV Endpoint 12 | K13: Done
A14: =LEFT(A13,FIND("x",SUBSTITUTE(A13,".","x",3))-1)&"."&(MID(A13,FIND("x",SUBSTITUTE(A13,".","x",3))+1,3)+1) -> 10.249.26.17 | B14: TE82943-17 | C14: Acquity Solvent Manager Test Station | D14: 40100 | E14: LAC/E 12 | F14: H07L32328W* | G14: 2007 | H14: 2 | I14: Windows XP SP3 | J14: SAV Endpoint 12 | K14: Done
A15: =LEFT(A14,FIND("x",SUBSTITUTE(A14,".","x",3))-1)&"."&(MID(A14,FIND("x",SUBSTITUTE(A14,".","x",3))+1,3)+1) -> 10.249.26.18 | B15: TE82943-18 | C15: Acquity Solvent Manager Test Station | D15: 40100 | E15: LAC/E 12 | F15: L08L32004W* | G15: 2008 | H15: 2 | I15: Windows XP SP3 | J15: SAV Endpoint 12 | K15: Done
A16: 10.249.26.20 | B16: Final-Test-1 | C16: Alliance Final Test Station | D16: 38777 | E16: LAC/E 13 | F16: KKPAA0H | H16: 2 | I16: Windows XP SP3 | J16: SAV Endpoint 12 | K16: Done
A17: =LEFT(A16,FIND("x",SUBSTITUTE(A16,".","x",3))-1)&"."&(MID(A16,FIND("x",SUBSTITUTE(A16,".","x",3))+1,3)+1) -> 10.249.26.21 | B17: Final-Test-2 | C17: Alliance Final Test Station | D17: 38777 | E17: M50 | F17: KKPRA3T | G17: 2005 | H17: 1 | I17: Windows XP SP2 | J17: SAV Endpoint 12
A18: =LEFT(A17,FIND("x",SUBSTITUTE(A17,".","x",3))-1)&"."&(MID(A17,FIND("x",SUBSTITUTE(A17,".","x",3))+1,3)+1) -> 10.249.26.22 | B18: Final-Test-3 | C18: Alliance Final Test Station | D18: 38777 | E18: LAC/E 13 | F18: M11L32019W | G18: 2011 | H18: 2 | I18: Windows XP SP3 | J18: SAV Endpoint 12 | K18: Done
A19: =LEFT(A18,FIND("x",SUBSTITUTE(A18,".","x",3))-1)&"."&(MID(A18,FIND("x",SUBSTITUTE(A18,".","x",3))+1,3)+1) -> 10.249.26.23 | B19: Final-Test-4 | C19: Alliance Final Test Station | D19: 38777 | E19: LAC/E 13 | F19: H10L32039W | G19: 2010 | H19: 2 | I19: Windows XP SP3 | J19: SAV Endpoint 12 | K19: Done
A20: 10.249.26.24 | B20: Final-Test-5 | C20: Alliance Final Test Station | D20: 42093 | E20: LAC/E 13 | H20: 4 | I20: Windows XP SP3 | J20: SAV Endpoint 12 | K20: Done
A21: =LEFT(A20,FIND("x",SUBSTITUTE(A20,".","x",3))-1)&"."&(MID(A20,FIND("x",SUBSTITUTE(A20,".","x",3))+1,3)+1) -> 10.249.26.25 | B21: Final-Test-6 | C21: Alliance Final Test Station | D21: 43240 | E21: LAC/E 13 | H21: 4 | I21: Windows 7 | J21: SAV Endpoint 12
A22: 10.249.26.26 | B22: Pumptray-Test-1 | C22: Alliance Pumptray Tester | D22: 38777 | E22: M50 | F22: KKLTM8V | G22: 2005 | H22: 1 | I22: Windows XP SP2 | J22: SAV Endpoint 12
A23: =LEFT(A22,FIND("x",SUBSTITUTE(A22,".","x",3))-1)&"."&(MID(A22,FIND("x",SUBSTITUTE(A22,".","x",3))+1,3)+1) -> 10.249.26.27 | B23: Pumptray-Test-2 | C23: Alliance Pumptray Tester | D23: 38777 | E23: M55 | H23: 2 | I23: Windows XP SP3 | J23: SAV Endpoint 12 | K23: Done
A24: =LEFT(A23,FIND("x",SUBSTITUTE(A23,".","x",3))-1)&"."&(MID(A23,FIND("x",SUBSTITUTE(A23,".","x",3))+1,3)+1) -> 10.249.26.28 | B24: Pumptray-Test-3 | C24: Alliance Pumptray Tester | D24: 38777 | E24: M58 | H24: 2 | I24: Windows XP SP3 | J24: SAV Endpoint 12 | K24: Done
A25: =LEFT(A24,FIND("x",SUBSTITUTE(A24,".","x",3))-1)&"."&(MID(A24,FIND("x",SUBSTITUTE(A24,".","x",3))+1,3)+1) -> 10.249.26.29 | B25: Pump-Test-1 | C25: Alliance Pump Tester | D25: 38777 | E25: M50 | F25: KKTCP0T | G25: 2005 | H25: 1 | I25: Windows XP SP2 | J25: SAV Endpoint 12 | K25: Done
A26: =LEFT(A25,FIND("x",SUBSTITUTE(A25,".","x",3))-1)&"."&(MID(A25,FIND("x",SUBSTITUTE(A25,".","x",3))+1,3)+1) -> 10.249.26.30 | B26: - | C26: HP PC with RS232 Port | D26: 38777 | E26: Other | H26: 0.5 | I26: Windows XP SP3 | J26: None
A27: 10.249.26.32 | B27: RearPanel-Tester | C27: Autoloader and Rear Panel Tester | D27: 39650 | E27: LAC/E 12 | F27: C08L32093W | G27: 2008 | H27: 2 | I27: Windows XP SP3 | J27: SAV Endpoint 12 | K27: Done
A28: 10.249.26.34 | B28: AutoLoader-2 | C28: Alliance AutoLoader 2 | D28: 39665 | E28: LAC/E 12 | F28: B08L32122N | G28: 2008 | H28: 2 | I28: Windows XP SP3 | J28: SAV Endpoint 12 | K28: Done
A29: =LEFT(A28,FIND("x",SUBSTITUTE(A28,".","x",3))-1)&"."&(MID(A28,FIND("x",SUBSTITUTE(A28,".","x",3))+1,3)+1) -> 10.249.26.35 | B29: TE82520-1 | C29: Alliance CCD Test Station | D29: 41397 | E29: M50 | F29: KKPAA4Y | H29: 1 | I29: Windows XP SP3 | J29: SAV Endpoint 12 | K29: Done
A30: =LEFT(A29,FIND("x",SUBSTITUTE(A29,".","x",3))-1)&"."&(MID(A29,FIND("x",SUBSTITUTE(A29,".","x",3))+1,3)+1) -> 10.249.26.36 | B30: TE82520-2 | C30: Alliance CCD Test Station | D30: 41964 | E30: LAC/E 15 | H30: 8 | I30: Windows 7 | J30: SAV Endpoint 12 | K30: Done
A31: 10.249.26.40 | B31: TE82903-6 | C31: TUV Final Test System | D31: 39504 | E31: LAC/E 10 | F31: G05L32009W | G31: 2005 | H31: 1 | I31: Windows XP SP3 | J31: SAV Endpoint 12 | K31: Done
A32: 10.249.26.42 | B32: TE82903-8 | C32: TUV Final Test System | D32: 39504 | E32: LAC/E 10 | F32: J04L32120W | G32: 2004 | H32: 1 | I32: Windows XP SP3 | J32: SAV Endpoint 12 | K32: Done
A33: =LEFT(A32,FIND("x",SUBSTITUTE(A32,".","x",3))-1)&"."&(MID(A32,FIND("x",SUBSTITUTE(A32,".","x",3))+1,3)+1) -> 10.249.26.43 | B33: TE82903-9 | C33: TUV Final Test System | D33: 39504 | E33: LAC/E 11 | H33: 2 | I33: Windows XP SP2 | J33: SAV Endpoint 12
A34: =LEFT(A33,FIND("x",SUBSTITUTE(A33,".","x",3))-1)&"."&(MID(A33,FIND("x",SUBSTITUTE(A33,".","x",3))+1,3)+1) -> 10.249.26.44 | B34: TE82903-10 | C34: TUV Final Test System | D34: 39504 | E34: LAC/E 10 | F34: J04L32102W | G34: 2004 | H34: 1 | I34: Windows XP SP3 | J34: SAV Endpoint 12 | K34: Done
A35: =LEFT(A34,FIND("x",SUBSTITUTE(A34,".","x",3))-1)&"."&(MID(A34,FIND("x",SUBSTITUTE(A34,".","x",3))+1,3)+1) -> 10.249.26.45 | B35: TE82964-1 | C35: Detector Pretest System | D35: 39504 | E35: LAC/E 10 | F35: H04BLM012C* | G35: 2004 | H35: 1 | I35: Windows XP SP3 | J35: SAV Endpoint 12 | K35: Done
A36: 10.249.26.50 | B36: TE82534-1 | C36: 515 Test | D36: 38777 | E36: M58 | F36: LMGKCVW | H36: 2 | I36: Windows XP SP3 | J36: SAV Endpoint 12 | K36: Done
A37: =LEFT(A36,FIND("x",SUBSTITUTE(A36,".","x",3))-1)&"."&(MID(A36,FIND("x",SUBSTITUTE(A36,".","x",3))+1,3)+1) -> 10.249.26.51 | B37: TE82705-2 | C37: Breeze Test | D37: 38777 | E37: M58 | F37: LMGPRBH | H37: 2 | I37: Windows XP SP3 | J37: SAV Endpoint 12 | K37: Done
A38: 10.249.26.55 | B38: Genealogy-SDS | C38: Acquity BSM/QSM Genealogy Input Station | D38: 40151 | E38: LAC/E 12 | F38: M07L32046W | G38: 2007 | H38: 2 | I38: Windows XP SP3 | J38: SAV Endpoint 12 | K38: Done
A39: 10.249.26.56 | B39: Genealogy-DET | C39: Detector Genealogy Input Station | D39: 42017 | E39: LAC/E 12 | H39: 2 | I39: Windows XP SP3 | J39: SAV Endpoint 12 | K39: Done
A40: 10.249.26.63 | B40: TE82918-2 | C40: 2998 Fine Alignment System | D40: 39587 | E40: LAC/E 12 | F40: B08L32065W | G40: 2008 | H40: 2 | I40: Windows XP SP3 | J40: SAV Endpoint 12 | K40: Done
A41: =LEFT(A40,FIND("x",SUBSTITUTE(A40,".","x",3))-1)&"."&(MID(A40,FIND("x",SUBSTITUTE(A40,".","x",3))+1,3)+1) -> 10.249.26.64 | B41: TE82868-2 | C41: 2998 Aperture Alignment System | D41: 39587 | E41: LAC/E 12 | F41: K07L32122W | G41: 2007 | H41: 2 | I41: Windows XP SP3 | J41: SAV Endpoint 12 | K41: Done
A42: =LEFT(A41,FIND("x",SUBSTITUTE(A41,".","x",3))-1)&"."&(MID(A41,FIND("x",SUBSTITUTE(A41,".","x",3))+1,3)+1) -> 10.249.26.65 | B42: TE82951-2 | C42: 2998 Mask Alignment System | D42: 39587 | E42: LAC/E 11 | F42: J06L32014W* | G42: 2006 | H42: 1 | I42: Windows XP SP3 | J42: SAV Endpoint 12 | K42: Done
A43: 10.249.26.68 | B43: TE82973-1 | C43: 2998 Flowcell Noise and Drift System | D43: 39595 | E43: LAC/E 12 | F43: B08L32248W* | G43: 2008 | H43: 2 | I43: Windows XP SP3 | J43: SAV Endpoint 12 | K43: Done
A44: 10.249.26.71 | B44: TE82916-2 | C44: 2998 Flowcell Alignment System | D44: 39728 | E44: LAC/E 12 | F44: K07L32024W* | G44: 2007 | H44: 2 | I44: Windows XP SP3 | J44: SAV Endpoint 12 | K44: Done
A45: =LEFT(A44,FIND("x",SUBSTITUTE(A44,".","x",3))-1)&"."&(MID(A44,FIND("x",SUBSTITUTE(A44,".","x",3))+1,3)+1) -> 10.249.26.72 | B45: TE82917-1 | C45: 2998 Rough Alignment System | D45: 39811 | E45: LAC/E 12 | F45: B08L32068W | G45: 2008 | H45: 1 | I45: Windows XP SP3 | J45: SAV Endpoint 12 | K45: Done
A46: =LEFT(A45,FIND("x",SUBSTITUTE(A45,".","x",3))-1)&"."&(MID(A45,FIND("x",SUBSTITUTE(A45,".","x",3))+1,3)+1) -> 10.249.26.73 | B46: TE82880-2 | C46: PDA Rough Alignment System | D46: 39951 | E46: LAC/E 12 | F46: L07L32070W | G46: 2007 | H46: 2 | I46: Windows XP SP3 | J46: SAV Endpoint 12 | K46: Done
A47: =LEFT(A46,FIND("x",SUBSTITUTE(A46,".","x",3))-1)&"."&(MID(A46,FIND("x",SUBSTITUTE(A46,".","x",3))+1,3)+1) -> 10.249.26.74 | B47: TE82881-2 | C47: PDA Fine Alignment System | D47: 39951 | E47: LAC/E 12 | F47: D08L32121W* | G47: 2008 | H47: 2 | I47: Windows XP SP3 | J47: SAV Endpoint 12 | K47: Done
A48: =LEFT(A47,FIND("x",SUBSTITUTE(A47,".","x",3))-1)&"."&(MID(A47,FIND("x",SUBSTITUTE(A47,".","x",3))+1,3)+1) -> 10.249.26.75 | B48: TE82969-1 | C48: PDA Linearity Test System | D48: 39951 | E48: LAC/E 13 | F48: C10L32154W | G48: 2010 | H48: 2 | I48: Windows XP SP3 | J48: SAV Endpoint 12 | K48: Done
A49: =LEFT(A48,FIND("x",SUBSTITUTE(A48,".","x",3))-1)&"."&(MID(A48,FIND("x",SUBSTITUTE(A48,".","x",3))+1,3)+1) -> 10.249.26.76 | B49: TE82972-1 | C49: PDA Download Station | D49: 39951 | E49: LAC/E 12 | F49: C08L32078W | G49: 2008 | H49: 2 | I49: Windows XP SP3 | J49: SAV Endpoint 12 | K49: Done
A50: =LEFT(A49,FIND("x",SUBSTITUTE(A49,".","x",3))-1)&"."&(MID(A49,FIND("x",SUBSTITUTE(A49,".","x",3))+1,3)+1) -> 10.249.26.77 | B50: TE82882-1 | C50: 2998/PDA Final Test System | D50: 39951 | E50: LAC/E 10 | F50: D04BLM247C* | G50: 2004 | H50: 1 | I50: Windows XP SP3 | J50: SAV Endpoint 12
A51: =LEFT(A50,FIND("x",SUBSTITUTE(A50,".","x",3))-1)&"."&(MID(A50,FIND("x",SUBSTITUTE(A50,".","x",3))+1,3)+1) -> 10.249.26.78 | B51: TE82882-2 | C51: 2998/PDA Final Test System | D51: 39951 | E51: LAC/E 11 | F51: C06BLM057C* | G51: 2006 | H51: 2 | I51: Windows XP SP3 | J51: SAV Endpoint 12 | K51: Done
A52: =LEFT(A51,FIND("x",SUBSTITUTE(A51,".","x",3))-1)&"."&(MID(A51,FIND("x",SUBSTITUTE(A51,".","x",3))+1,3)+1) -> 10.249.26.79 | B52: TE82882-8 | C52: 2998/PDA Final Test System | D52: 39952 | I52: Windows 7 | J52: SAV Endpoint 12 | K52: Done
A53: =LEFT(A52,FIND("x",SUBSTITUTE(A52,".","x",3))-1)&"."&(MID(A52,FIND("x",SUBSTITUTE(A52,".","x",3))+1,3)+1) -> 10.249.26.80 | B53: TE82882-9 | C53: 2998/PDA Final Test System | D53: 39953 | I53: Windows 7 | J53: SAV Endpoint 12 | K53: Done
A54: =LEFT(A53,FIND("x",SUBSTITUTE(A53,".","x",3))-1)&"."&(MID(A53,FIND("x",SUBSTITUTE(A53,".","x",3))+1,3)+1) -> 10.249.26.81 | B54: TE82882-10 | C54: 2998/PDA Final Test System | D54: 39954 | I54: Windows 7 | J54: SAV Endpoint 12 | K54: Done
A55: =LEFT(A54,FIND("x",SUBSTITUTE(A54,".","x",3))-1)&"."&(MID(A54,FIND("x",SUBSTITUTE(A54,".","x",3))+1,3)+1) -> 10.249.26.82 | B55: TE82882-11 | C55: 2998/PDA Final Test System | D55: 39955 | I55: Windows 7 | J55: SAV Endpoint 12 | K55: Done
A56: 10.249.26.90 | B56: SQT-Workstation | C56: SQT Workstation | F56: C12L32205W | I56: Windows 7 | J56: SAV Endpoint 12 | K56: Done
A59: Server = | B59: 1
A60: IP Address | B60: Computer Name | C60: Computer Description | D60: IP # Assigned | E60: Platform | F60: Serial Number | G60: Mfg Year | H60: RAM (GB) | I60: OS | J60: Symantec AV
A61: 10.249.26.1 | B61: SOLECTRONMFG | C61: Solectron Server (Flextronics Singapore) | D61: 38737 | E61: Other | F61: 40NM291 | G61: 2005 | H61: 1 | I61: Server 2003 | J61: SAV Endpoint 12
A64: Label Printers = | B64: 2
A65: Pinter Model | B65: Manufacturer | C65: Serial Number | D65: Mfg Year | E65: Service Provider | F65: Contract start date | G65: Contract due date
A66: DMX I-4308 | B66: Honeywell | C66: 54177579 | E66: Autopack Pte Ltd
A67: DMX I-4308 | B67: Honeywell | C67: 54177587 | E67: Autopack Pte Ltd

Sheet Flex Senai (Malaysia)
A1: PC (Tester) = | B1: =7-2 -> 5
A2: IP Address | B2: Computer Name | C2: Computer Description | D2: IP # Assigned | E2: Platform | F2: Serial Number | G2: Mfg Year | H2: RAM (GB) | I2: OS | J2: Symantec AV
A3: 10.249.49.10 | B3: TE82720-1 | C3: Detector Front End Board Tester | D3: 40837 | E3: LAC/E 10 | H3: 1 | I3: Windows XP SP3 | J3: SAV Endpoint 12
A4: =LEFT(A3,FIND("x",SUBSTITUTE(A3,".","x",3))-1)&"."&(MID(A3,FIND("x",SUBSTITUTE(A3,".","x",3))+1,3)+1) -> 10.249.49.11 | B4: TE82940-1 | C4: 2489 Personality Board Debug Tester | D4: 40837 | E4: LAC/E 12 | H4: 1 | I4: Windows XP SP3 | J4: SAV Endpoint 12
A5: =LEFT(A4,FIND("x",SUBSTITUTE(A4,".","x",3))-1)&"."&(MID(A4,FIND("x",SUBSTITUTE(A4,".","x",3))+1,3)+1) -> 10.249.49.12 | B5: TE82961-1 2 | C5: 2998 Charge Amp Board Tester | D5: 40837 | E5: LAC/E 12 | H5: 2 | I5: Windows XP SP2 | J5: SAV Endpoint 12
A6: =LEFT(A5,FIND("x",SUBSTITUTE(A5,".","x",3))-1)&"."&(MID(A5,FIND("x",SUBSTITUTE(A5,".","x",3))+1,3)+1) -> 10.249.49.13 | B6: TE82895-1 | C6: 2998 Personality Board Debug Tester | D6: 40837 | E6: LAC/E 13 | H6: 2 | I6: Windows XP SP3 | J6: SAV Endpoint 12
A7: 10.249.49.19 | B7: TE82988-2 | C7: Waters GTS (Board Functional Tester) | E7: GTS | H7: 2 | I7: Windows XP SP3 | J7: SAV Endpoint 12
A11: Server = | B11: 1
A12: IP Address | B12: Computer Name | C12: Computer Description | D12: IP # Assigned | E12: Platform | F12: Serial Number | G12: Mfg Year | H12: RAM (GB) | I12: OS | J12: Symantec AV
A13: 10.249.49.1 | B13: FLEXTRONICSMFG | C13: FLEXTRONICS Malaysia Server | D13: 40688 | E13: Other | H13: 4 | I13: Server 2008 R2 | J13: SAV Endpoint 12

Sheet Venture (Singapore)
A1: PC (Tester) = | B1: =40-2 -> 38
A2: IP Address | B2: Computer Name | C2: Computer Description | D2: IP # Assigned | E2: Platform | F2: Serial Number | G2: Mfg Year | H2: RAM (GB) | I2: OS | J2: Symantec AV
A3: 10.249.40.2 | B3: VENTUREISNL1 | C3: VENTURE Instrument Serial Number Label 1 | D3: 39868 | E3: LAC/E 12 | F3: 52600014591 | H3: 2 | I3: Windows XP SP2 | J3: SAV Endpoint 12
A4: =LEFT(A3,FIND("x",SUBSTITUTE(A3,".","x",3))-1)&"."&(MID(A3,FIND("x",SUBSTITUTE(A3,".","x",3))+1,3)+1) -> 10.249.40.3 | B4: VENTUREPNL1 | C4: VENTURE Part Number Label 1 | D4: 39868 | E4: LAC/E 12 | F4: 52600016051 | H4: 2 | I4: Windows XP SP2
A5: =LEFT(A4,FIND("x",SUBSTITUTE(A4,".","x",3))-1)&"."&(MID(A4,FIND("x",SUBSTITUTE(A4,".","x",3))+1,3)+1) -> 10.249.40.4 | B5: VENTURECOFP1 | C5: VENTURE Certificate Of Functional Performance 1 | D5: 39868 | E5: LAC/E 12 | F5: 52600014511 | H5: 2 | I5: Windows XP SP2 | J5: SAV Endpoint 12
A6: 10.249.40.6 | B6: VENTUREGEN1 | C6: VENTURE GENEALOGY 1 | D6: 41620 | E6: LAC/E 12 | H6: 2 | I6: Windows XP SP3 | J6: SAV Endpoint 12
A7: =LEFT(A6,FIND("x",SUBSTITUTE(A6,".","x",3))-1)&"."&(MID(A6,FIND("x",SUBSTITUTE(A6,".","x",3))+1,3)+1) -> 10.249.40.7 | B7: VENTUREGEN2 | C7: VENTURE GENEALOGY 2 | D7: 41620 | E7: LAC/E 12 | H7: 2 | I7: Windows XP SP3 | J7: SAV Endpoint 12
A8: =LEFT(A7,FIND("x",SUBSTITUTE(A7,".","x",3))-1)&"."&(MID(A7,FIND("x",SUBSTITUTE(A7,".","x",3))+1,3)+1) -> 10.249.40.8 | B8: TE82720-2 | C8: Detector Front-End Board Tester | D8: 41582 | E8: GTS | F8: 13726-0202-11-1001 | H8: 2 | I8: Windows XP SP3 | J8: SAV Endpoint 12
A9: =LEFT(A8,FIND("x",SUBSTITUTE(A8,".","x",3))-1)&"."&(MID(A8,FIND("x",SUBSTITUTE(A8,".","x",3))+1,3)+1) -> 10.249.40.9 | B9: TE82943-19 | C9: ACQUITY Solvent Manager Test Station | D9: 41582 | E9: LAC/E 13 | H9: 4 | I9: Windows XP SP3 | J9: SAV Endpoint 12
A10: =LEFT(A9,FIND("x",SUBSTITUTE(A9,".","x",3))-1)&"."&(MID(A9,FIND("x",SUBSTITUTE(A9,".","x",3))+1,3)+1) -> 10.249.40.10 | B10: TE82943-20 | C10: ACQUITY Solvent Manager Test Station | D10: 41582 | E10: LAC/E 13 | H10: 3 | I10: Windows XP SP3 | J10: SAV Endpoint 12
A11: =LEFT(A10,FIND("x",SUBSTITUTE(A10,".","x",3))-1)&"."&(MID(A10,FIND("x",SUBSTITUTE(A10,".","x",3))+1,3)+1) -> 10.249.40.11 | B11: TE82943-21 | C11: ACQUITY Solvent Manager Test Station | D11: 41582 | E11: LAC/E 13 | H11: 4 | I11: Windows XP SP3 | J11: SAV Endpoint 12
A12: =LEFT(A11,FIND("x",SUBSTITUTE(A11,".","x",3))-1)&"."&(MID(A11,FIND("x",SUBSTITUTE(A11,".","x",3))+1,3)+1) -> 10.249.40.12 | B12: TE82943-22 | C12: ACQUITY Solvent Manager Test Station | D12: 41582 | E12: LAC/E 13 | H12: 4 | I12: Windows XP SP3 | J12: SAV Endpoint 12
A13: =LEFT('Venture PCBA (Singapore)'!A4,FIND("x",SUBSTITUTE('Venture PCBA (Singapore)'!A4,".","x",3))-1)&"."&(MID('Venture PCBA (Singapore)'!A4,FIND("x",SUBSTITUTE('Venture PCBA (Singapore)'!A4,".","x",3))+1,3)+1) -> 10.249.40.20 | B13: TE82956-2 | C13: Acquity Column Heater Test Station | D13: 39868 | E13: LAC/E 12 | H13: 2 | I13: Windows XP SP3 | J13: SAV Endpoint 12
A14: =LEFT(A13,FIND("x",SUBSTITUTE(A13,".","x",3))-1)&"."&(MID(A13,FIND("x",SUBSTITUTE(A13,".","x",3))+1,3)+1) -> 10.249.40.21 | B14: TE82984-1 | C14: Acquity Column Manager Dry Test Station | D14: 39868 | E14: LAC/E 12 | H14: 2 | I14: Windows XP SP3 | J14: SAV Endpoint 12
A15: =LEFT(A14,FIND("x",SUBSTITUTE(A14,".","x",3))-1)&"."&(MID(A14,FIND("x",SUBSTITUTE(A14,".","x",3))+1,3)+1) -> 10.249.40.22 | B15: TE92987-1 | C15: Acquity Column Manager Wet Test Station | D15: 39868 | E15: LAC/E 12 | H15: 2 | I15: Windows XP SP3 | J15: SAV Endpoint 12
A16: =LEFT(A15,FIND("x",SUBSTITUTE(A15,".","x",3))-1)&"."&(MID(A15,FIND("x",SUBSTITUTE(A15,".","x",3))+1,3)+1) -> 10.249.40.23 | B16: TE82817 | C16: PCM II Test Station | D16: 40151 | E16: M50 | H16: 1 | I16: Windows XP SP3 | J16: SAV Endpoint 12
A17: =LEFT(A16,FIND("x",SUBSTITUTE(A16,".","x",3))-1)&"."&(MID(A16,FIND("x",SUBSTITUTE(A16,".","x",3))+1,3)+1) -> 10.249.40.24 | B17: TE83013-2 | C17: High Temperature Column Heater Tester | D17: 40665 | E17: M50 | H17: 2 | I17: Windows XP SP3 | J17: SAV Endpoint 12
A18: =LEFT(A17,FIND("x",SUBSTITUTE(A17,".","x",3))-1)&"."&(MID(A17,FIND("x",SUBSTITUTE(A17,".","x",3))+1,3)+1) -> 10.249.40.25 | B18: TE83013-1 | C18: High Temperature Column Heater Tester | D18: 40316 | E18: LAC/E 11 | H18: 2 | I18: Windows XP SP3 | J18: SAV Endpoint 12
A19: =LEFT(A18,FIND("x",SUBSTITUTE(A18,".","x",3))-1)&"."&(MID(A18,FIND("x",SUBSTITUTE(A18,".","x",3))+1,3)+1) -> 10.249.40.26 | B19: TE82723 | C19: Breeze Column Heater Test Station | D19: 2010-07-13 ? | E19: M52 | F19: LMTFW1M | H19: 1 | I19: Windows XP SP3 | J19: SAV Endpoint 12
A20: =LEFT(A19,FIND("x",SUBSTITUTE(A19,".","x",3))-1)&"."&(MID(A19,FIND("x",SUBSTITUTE(A19,".","x",3))+1,3)+1) -> 10.249.40.27 | B20: TE83026-1 | C20: Acquity CM-A Test Station | D20: 40679 | E20: M58 | H20: 4 | I20: Windows XP SP3 | J20: SAV Endpoint 12
A21: =LEFT(A20,FIND("x",SUBSTITUTE(A20,".","x",3))-1)&"."&(MID(A20,FIND("x",SUBSTITUTE(A20,".","x",3))+1,3)+1) -> 10.249.40.28 | B21: TE83026-2 | C21: Acquity CM-A Test Station | D21: 40967 | E21: LAC/E 13 | H21: 2 | I21: Windows XP SP3 | J21: SAV Endpoint 12
A22: =LEFT(A21,FIND("x",SUBSTITUTE(A21,".","x",3))-1)&"."&(MID(A21,FIND("x",SUBSTITUTE(A21,".","x",3))+1,3)+1) -> 10.249.40.29 | B22: 2475FLRDLWEX | C22: 2475-Acq FLR Firmware Download Station | D22: 41576 | E22: LAC/E 13 | H22: 2 | I22: Windows XP SP3 | J22: SAV Endpoint 12
A23: =LEFT(A22,FIND("x",SUBSTITUTE(A22,".","x",3))-1)&"."&(MID(A22,FIND("x",SUBSTITUTE(A22,".","x",3))+1,3)+1) -> 10.249.40.30 | B23: TE83064-10 | C23: Acquity FTN Autosampler Test System | D23: 40457 | E23: M58 | H23: 2 | I23: Windows XP SP3 | J23: SAV Endpoint 12
A24: =LEFT(A23,FIND("x",SUBSTITUTE(A23,".","x",3))-1)&"."&(MID(A23,FIND("x",SUBSTITUTE(A23,".","x",3))+1,3)+1) -> 10.249.40.31 | B24: TE83064-11 | C24: Acquity FTN Autosampler Test System | D24: 40457 | E24: M58 | H24: 4 | I24: Windows XP SP3 | J24: SAV Endpoint 12
A25: =LEFT(A24,FIND("x",SUBSTITUTE(A24,".","x",3))-1)&"."&(MID(A24,FIND("x",SUBSTITUTE(A24,".","x",3))+1,3)+1) -> 10.249.40.32 | B25: TE83064-12 | C25: Acquity FTN Autosampler Test System | D25: 40457 | E25: M58 | H25: 2 | I25: Windows XP SP3 | J25: SAV Endpoint 12
A26: =LEFT(A25,FIND("x",SUBSTITUTE(A25,".","x",3))-1)&"."&(MID(A25,FIND("x",SUBSTITUTE(A25,".","x",3))+1,3)+1) -> 10.249.40.33 | B26: TE83064-13 | C26: Acquity FTN Autosampler Test System | D26: 40457 | E26: M58 | H26: 2 | I26: Windows XP SP3 | J26: SAV Endpoint 12
A27: =LEFT(A26,FIND("x",SUBSTITUTE(A26,".","x",3))-1)&"."&(MID(A26,FIND("x",SUBSTITUTE(A26,".","x",3))+1,3)+1) -> 10.249.40.34 | B27: TE83064-14 | C27: Acquity FTN Autosampler Test System | D27: 40457 | E27: M58 | H27: 4 | I27: Windows XP SP3 | J27: SAV Endpoint 12
A28: =LEFT(A27,FIND("x",SUBSTITUTE(A27,".","x",3))-1)&"."&(MID(A27,FIND("x",SUBSTITUTE(A27,".","x",3))+1,3)+1) -> 10.249.40.35 | B28: TE83064-15 | C28: Acquity FTN Autosampler Test System | D28: 40457 | E28: M58 | H28: 4 | I28: Windows XP SP3 | J28: SAV Endpoint 12
A29: =LEFT(A28,FIND("x",SUBSTITUTE(A28,".","x",3))-1)&"."&(MID(A28,FIND("x",SUBSTITUTE(A28,".","x",3))+1,3)+1) -> 10.249.40.36 | B29: TE83064-16 | C29: Acquity FTN Autosampler Test System | D29: 40457 | E29: M58 | H29: 2 | I29: Windows XP SP3 | J29: SAV Endpoint 12
A30: =LEFT(A29,FIND("x",SUBSTITUTE(A29,".","x",3))-1)&"."&(MID(A29,FIND("x",SUBSTITUTE(A29,".","x",3))+1,3)+1) -> 10.249.40.37 | B30: TE83064-17 | C30: Acquity FTN Autosampler Test System | D30: 40457 | E30: M58 | H30: 2 | I30: Windows XP SP3 | J30: SAV Endpoint 12
A31: =LEFT(A30,FIND("x",SUBSTITUTE(A30,".","x",3))-1)&"."&(MID(A30,FIND("x",SUBSTITUTE(A30,".","x",3))+1,3)+1) -> 10.249.40.38 | B31: TE82760-5 | C31: 2475-Acq FLR Fluorescence Detector Final Test | D31: 41526 | E31: LAC/E 13 | H31: 2 | I31: Windows XP SP3 | J31: SAV Endpoint 12
... A33: =LEFT(A32,FIND("x",SUBSTITUTE(A32,".","x",3))-1)&"."&(MID(A32,FIND("x",SUBSTITUTE(A32,".","x",3))+1,3)+1) -> 10.249.40.40 | B33: TE82995-2 | C33: Acquity CPSM RZZ Assembly Test Station | D33: 40457 | E33: M58 | H33: 2 | I33: Windows XP SP3 | J33: SAV Endpoint 12
A34: =LEFT(A33,FIND("x",SUBSTITUTE(A33,".","x",3))-1)&"."&(MID(A33,FIND("x",SUBSTITUTE(A33,".","x",3))+1,3)+1) -> 10.249.40.41 | B34: TE83006-2 | C34: Acquity FTN Autosampler MSV Test Station | D34: 40457 | E34: M58 | F34: LMCZMBC | H34: 2 | I34: Windows XP SP3 | J34: SAV Endpoint 12
A35: =LEFT(A34,FIND("x",SUBSTITUTE(A34,".","x",3))-1)&"."&(MID(A34,FIND("x",SUBSTITUTE(A34,".","x",3))+1,3)+1) -> 10.249.40.42 | B35: TE82774-2 | C35: Alliance Column Heater/Cooler Test Station | D35: 40961 | E35: LAC/E 13 | H35: 4 | I35: Windows XP SP3 | J35: SAV Endpoint 12
A36: =LEFT(A35,FIND("x",SUBSTITUTE(A35,".","x",3))-1)&"."&(MID(A35,FIND("x",SUBSTITUTE(A35,".","x",3))+1,3)+1) -> 10.249.40.43 | B36: TE82774-3 | C36: Alliance Column Heater/Cooler Test Station | D36: 40961 | E36: LAC/E 13 | H36: 3 | I36: Windows XP SP3 | J36: SAV Endpoint 12
A37: =LEFT(A36,FIND("x",SUBSTITUTE(A36,".","x",3))-1)&"."&(MID(A36,FIND("x",SUBSTITUTE(A36,".","x",3))+1,3)+1) -> 10.249.40.44 | B37: TE83029-1 | C37: 2475-Acq FLR Lamp Alignment Station | D37: 41576 | E37: LAC/E 13 | H37: 2 | I37: Windows XP SP3 | J37: SAV Endpoint 12
A38: =LEFT(A37,FIND("x",SUBSTITUTE(A37,".","x",3))-1)&"."&(MID(A37,FIND("x",SUBSTITUTE(A37,".","x",3))+1,3)+1) -> 10.249.40.45 | B38: TE83031-1 | C38: 2475 Optics Alignment Station | D38: 41576 | E38: LAC/E 13 | H38: 2 | I38: Windows XP SP3 | J38: SAV Endpoint 12
A39: =LEFT(A38,FIND("x",SUBSTITUTE(A38,".","x",3))-1)&"."&(MID(A38,FIND("x",SUBSTITUTE(A38,".","x",3))+1,3)+1) -> 10.249.40.46 | B39: TE83032-1 | C39: FLR Optics Alignment Station | D39: 41576 | E39: LAC/E 13 | H39: 2 | I39: Windows XP SP3 | J39: SAV Endpoint 12
A40: =LEFT(A39,FIND("x",SUBSTITUTE(A39,".","x",3))-1)&"."&(MID(A39,FIND("x",SUBSTITUTE(A39,".","x",3))+1,3)+1) -> 10.249.40.47 | B40: TE82760-4 | C40: 2475-Acq FLR Fluorescence Detector Final Test | D40: 41526 | E40: LAC/E 13 | H40: 2 | I40: Windows XP SP3 | J40: SAV Endpoint 12
A42: Server = | B42: 1
A43: IP Address | B43: Computer Name | C43: Computer Description | D43: IP # Assigned | E43: Platform | F43: Serial Number | G43: Mfg Year | H43: RAM (GB) | I43: OS | J43: Symantec AV
A44: 10.249.40.1 | B44: VENTUREMFG | C44: VENTURE Server | D44: 39868 | E44: Other | F44: 59TJLJ1 | H44: 4 | I44: Server 2003 R2 | J44: SAV Endpoint 12
A46: Label Printers = | B46: 2
A47: Pinter Model | B47: Manufacturer | C47: Serial Number | D47: Mfg Year | E47: Service Provider | F47: Contract start date | G47: Contract due date
A48: DMX I-4308
A49: DMX I-4308

Sheet Venture PCBA (Singapore)
A1: PC (Tester) = | B1: 2
A2: IP Address | B2: Computer Name | C2: Computer Description | D2: IP # Assigned | E2: Platform | F2: Serial Number | G2: Mfg Year | H2: RAM (GB) | I2: OS | J2: Symantec AV
A3: 10.249.40.18 | B3: TE82743-3 | C3: RACAL Functional Board Tester | D3: 41074 | E3: RACAL | H3: 2 | I3: Windows 2000 | J3: SAV Endpoint 11
A4: =LEFT(A3,FIND("x",SUBSTITUTE(A3,".","x",3))-1)&"."&(MID(A3,FIND("x",SUBSTITUTE(A3,".","x",3))+1,3)+1) -> 10.249.40.19 | B4: TE82988-3 | C4: Waters GTS (Functional Board Tester) | D4: 2010-05-25 ? | E4: GTS | H4: 2 | I4: Windows XP SP3 | J4: SAV Endpoint 12
A7: Server = | B7: 1
A8: IP Address | B8: Computer Name | C8: Computer Description | D8: IP # Assigned | E8: Platform | F8: Serial Number | G8: Mfg Year | H8: RAM (GB) | I8: OS | J8: Symantec AV
A9: 10.249.40.233 | B9: VENTUREMFG | C9: VENTURE Server(UK)
A11: Label Printers = | B11: 0
A12: Pinter Model | B12: Manufacturer | C12: Serial Number | D12: Mfg Year | E12: Service Provider | F12: Contract start date | G12: Contract due date

Sheet CEI (Singapore)
A1: PC (Tester) = | B1: 8
A2: IP Address | B2: Computer Name | C2: Computer Description | D2: IP # Assigned | E2: Platform | F2: Serial Number | G2: Mfg Year | H2: RAM (GB) | I2: OS | J2: Symantec AV
A3: 10.249.55.2 | B3: CEIISNL1 | C3: CEI Instrument Serial Number Label 1 | D3: 41445 | E3: LAC/E 12 | F3: 52600023768 | H3: 2 | I3: Windows XP SP3 | J3: SAV Endpoint 12
A4: =LEFT(A3,FIND("x",SUBSTITUTE(A3,".","x",3))-1)&"."&(MID(A3,FIND("x",SUBSTITUTE(A3,".","x",3))+1,3)+1) -> 10.249.55.3 | B4: CEIPNL1 | C4: CEI Part Number Label 1 | D4: 41445 | E4: LAC/E 12 | F4: 52600026950 | H4: 2 | I4: Windows XP SP3 | J4: SAV Endpoint 12
A5: =LEFT(A4,FIND("x",SUBSTITUTE(A4,".","x",3))-1)&"."&(MID(A4,FIND("x",SUBSTITUTE(A4,".","x",3))+1,3)+1) -> 10.249.55.4 | B5: CEICOFP1 | C5: CEI Certificate Of Functional Performance 1 | D5: 41445 | E5: LAC/E 12 | F5: 52600022351 | H5: 2 | I5: Windows XP SP3 | J5: SAV Endpoint 12
A6: =LEFT(A5,FIND("x",SUBSTITUTE(A5,".","x",3))-1)&"."&(MID(A5,FIND("x",SUBSTITUTE(A5,".","x",3))+1,3)+1) -> 10.249.55.5 | B6: CEIGEN1 | C6: CEI GENEALOGY 1 | D6: 41446 | E6: LAC/E 12 | H6: 2 | I6: Windows XP SP3 | J6: SAV Endpoint 12
A7: =LEFT(A6,FIND("x",SUBSTITUTE(A6,".","x",3))-1)&"."&(MID(A6,FIND("x",SUBSTITUTE(A6,".","x",3))+1,3)+1) -> 10.249.55.6 | B7: CEIGEN2 | C7: CEI GENEALOGY 2 | D7: 41446 | E7: LAC/E 12 | H7: 2 | I7: Windows XP SP3 | J7: SAV Endpoint 12
A8: 10.249.55.15 | B8: TE82865-5 | C8: CPSO Final Test Station | D8: 41512 | E8: M58 | H8: 4 | I8: Windows XP SP3 | J8: SAV Endpoint 12
A9: 10.249.55.16 | B9: TE82865-6 | C9: CPSO Final Test Station | D9: 41512 | E9: M58 | H9: 4 | I9: Windows XP SP3 | J9: SAV Endpoint 12
A10: 10.249.55.17 | B10: TE82865-2 | C10: ASO Final Test Station | D10: 42248 | E10: M50 | H10: 1 | I10: Windows XP SP3 | J10: SAV Endpoint 12
A13: Server = | B13: 1
A14: IP Address | B14: Computer Name | C14: Computer Description | D14: IP # Assigned | E14: Platform | F14: Serial Number | G14: Mfg Year | H14: RAM (GB) | I14: OS | J14: Symantec AV
A15: 10.249.55.1 | B15: CEIMFG | C15: CEI Server, Singapore | D15: 41445 | E15: Other | F15: 33RTGX1 | H15: 8 | I15: Server 2008 R2 | J15: SAV Endpoint 12
A17: Label Printers = | B17: 0
A18: Pinter Model | B18: Manufacturer | C18: Serial Number | D18: Mfg Year | E18: Service Provider | F18: Contract start date | G18: Contract due date

Sheet CEI Batam (Indonesia)
A1: PC (Tester) = | B1: 2
A2: IP Address | B2: Computer Name | C2: Computer Description | D2: IP # Assigned | E2: Platform | F2: Serial Number | G2: Mfg Year | H2: RAM (GB) | I2: OS | J2: Symantec AV
A3: 10.249.50.18 | B3: TE82743-2 | C3: RACAL Functional Board Tester | E3: RACAL | H3: 2 | I3: Windows 2000 | J3: SAV Endpoint 11
A4: =LEFT(A3,FIND("x",SUBSTITUTE(A3,".","x",3))-1)&"."&(MID(A3,FIND("x",SUBSTITUTE(A3,".","x",3))+1,3)+1) -> 10.249.50.19 | B4: TE82988-4 | C4: Waters GTS (Functional Board Tester) | E4: GTS | H4: 2 | I4: Windows XP SP3 | J4: SAV Endpoint 12
A7: Server = | B7: 2
A8: IP Address | B8: Computer Name | C8: Computer Description | D8: IP # Assigned | E8: Platform | F8: Serial Number | G8: Mfg Year | H8: RAM (GB) | I8: OS | J8: Symantec AV
A9: 10.249.50.1 | B9: CEIMFG | C9: CEI Server, Indonesia | D9: 40820 | E9: Other | H9: 4 | I9: Server 2008 R2 | J9: SAV Endpoint 12
A12: Label Printers = | B12: 0
A13: Pinter Model | B13: Manufacturer | C13: Serial Number | D13: Mfg Year | E13: Service Provider | F13: Contract start date | G13: Contract due date

Sheet Richport 
A1: PC (Tester) =
A2: IP Address | B2: Computer Name | C2: Computer Description | D2: IP # Assigned | E2: Platform | F2: Serial Number | G2: Mfg Year | H2: RAM (GB) | I2: OS | J2: Symantec AV

Sheet Keypoint
A1: PC (Tester) =
A2: IP Address | B2: Computer Name | C2: Computer Description | D2: IP # Assigned | E2: Platform | F2: Serial Number | G2: Mfg Year | H2: RAM (GB) | I2: OS | J2: Symantec AV
A3: N/A (No Internet connection) | B3: KEYPOINTPNL 1 | C3: KeyPoint Part Number Labelling 1 | D3: NA | E3: Waters Model: D915GUX;Desktop: Intel® Pentium ®4 CPU 3.00GHz x86 | F3: 55274-OEM-0056863-15375 | G3: 2005 | H3: 0.99 | I3: Microsoft Windows XP Professional Version 2002 Service Pack 3 | J3: Ver: 11.0.5002.333
A4: N/A(No Internet connection) | B4: KEYPOINTAB1 | C4: KeyPoint Auto Bagger 1 | D4: NA | E4: Waters Model: LAC/E32 Config#12; Desktop: Intel® Core ™2 CPU 6400@2.13GHz x86 | F4: 76487-OEM-0066135-21407 | G4: 2007 | H4: 1.97 | I4: Microsoft Windows XP Professional Version 2002 Service Pack 3 | J4: Ver: 11.0.5002.333
