Workbook
Name AcceptedPlanRange: OFFSET('Accepted Plan'!$C$4,0,0,COUNTA('Accepted Plan'!$C:$C)-2,COUNTA('Accepted Plan'!$4:$4)+4)
Name MasterData: OFFSET('Master Data'!$A$4,0,0,COUNTA('Master Data'!$B:$B)-1,COUNTA('Master Data'!$4:$4))

Sheet PIVOT_LC
A1: Product Center | B1: LC
A2: Product Line | B2: (Multiple Items)
E3: Plants | F3: Production Volume | G3: Manufacturing Cost
B4: Values | E4: MIL | F4: =B6 -> 4309 | G4: =C6 -> 381117.67
A5: Row Labels | B5: Sum of 2014 Total | C5: Sum of Manufacturing Cost | E5: WPPL + Transfer | F5: =B8+B7 -> 28614 | G5: =C8+C7 -> 161024.44
A6: MIL (US31) | B6: 4309 | C6: 381117.67 | E6: Total | F6: =SUM(F4:F5) -> 32923 | G6: =SUM(G4:G5) -> 542142.11
A7: MIL (US31) - Transfer to WPPL (SG20) | B7: 1315 | C7: 17713.2 | E7: WPPL % of Total | F7: =F5/F6 -> 0.86911885 | G7: =G5/G6 -> 0.29701519
A8: WPPL (SG20) | B8: 27299 | C8: 143311.24
A9: Grand Total | B9: 32923 | C9: 542142.11
A18: Product Center | B18: MS
B20: Values
A21: Row Labels | B21: Sum of 2014 Total | C21: Sum of Manufacturing Cost
A22: MAN (UK50) | B22: 390 | C22: 1015017.4
A23: MAN (UK50)- Transfer to WEX (EI10) | B23: 1015 | C23: 51013.62
A24: MIL (US31) | B24: 6 | C24: 11156.97
A25: WEX (EI10) | B25: 768 | C25: 289834.73
A26: Grand Total | B26: 2179 | C26: 1367022.7

Sheet Master Data
A1: 1 | B1: 2 | C1: 3 | D1: 4 | E1: 5 | F1: 6 | G1: 7 | H1: 8 | I1: 9 | J1: 10 | K1: 11 | L1: 12 | M1: 13 | N1: 14 | O1: 15 | P1: 16 | Q1: 17 | R1: 18 | S1: 19 | T1: 20 | U1: 21 | V1: 22 | W1: 23 | X1: 24 | Y1: 25 | Z1: 26 | AA1: 27 | AB1: 28 | AC1: 29 | AD1: 30 | AE1: 31 | AF1: 32 | AG1: 33 | AH1: 34 | AI1: 35 | AJ1: 36 | AK1: 37 | AL1: 38 | AM1: 39 | AN1: 40 | AO1: 41 | AP1: 42 | AQ1: 43 | AR1: 44 | AS1: 45 | AT1: 46
K2: Current Plan | AA2: ='Accepted Plan'!L2 -> 10 | AB2: ='Accepted Plan'!M2 -> 11 | AC2: ='Accepted Plan'!N2 -> 12 | AD2: ='Accepted Plan'!O2 -> 13 | AE2: ='Accepted Plan'!P2 -> 14 | AF2: ='Accepted Plan'!Q2 -> 15 | AG2: ='Accepted Plan'!R2 -> 16 | AH2: ='Accepted Plan'!S2 -> 17 | ... AP2: ='Accepted Plan'!AA2 -> 25 | AQ2: 26 | AR2: 27 | AS2: 28 | AT2: 29
K3: Accepted Plan | AA3: ='Accepted Plan'!BW2 -> 73 | AB3: ='Accepted Plan'!BX2 -> 74 | AC3: ='Accepted Plan'!BY2 -> 75 | AD3: ='Accepted Plan'!BZ2 -> 76 | AE3: ='Accepted Plan'!CA2 -> 77 | AF3: ='Accepted Plan'!CB2 -> 78 | AG3: ='Accepted Plan'!CC2 -> 79 | AH3: ='Accepted Plan'!CD2 -> 80 | ... AP3: ='Accepted Plan'!CL2 -> 88 | AQ3: 89 | AR3: 90 | AS3: 91 | AT3: 92
A4: Proposed PN | B4: PN | C4: Description | D4: PLANT | E4: Target Global INV | F4: Product Center | G4: Product Family | H4: Product Line | I4: Manufacturing Cost | J4: Production Planner | K4: Plan Type | L4: Q1-09 | M4: Q2-09 | N4: Q3-09 | O4: Q4-09 | P4: 2009 Total | Q4: Q1-10 | R4: Q2-10 | S4: Q3-10 | T4: Q4-10 | U4: 2010 Total | V4: Q1-11 | W4: Q2-11 | X4: Q3-11 | Y4: Q4-11 | Z4: 2011 Total | AA4: Q1-12 | AB4: Q2-12 | AC4: Q3-12 | AD4: Q4-12 | AE4: 2012 Total | AF4: Q1 2013 | AG4: Q2 2013 | AH4: Q3 2013 | AI4: Q4 2013 | AJ4: 2013 Total | AK4: Q1 2014 | AL4: Q2 2014 | AM4: Q3 2014 | AN4: Q4 2014 | AO4: 2014 Total | AP4: Q1 2015 | AQ4: Q2 2015 | AR4: Q3 2015 | AS4: Q4 2015 | AT4: 2015 Total
A5: =CONCATENATE(B5,"P") -> 176000613P | B5: 176000613 | C5: =VLOOKUP($B5,AcceptedPlanRange,2,0) -> QUATTRO MICRO GC-MS/MS | D5: =VLOOKUP($B5,AcceptedPlanRange,3,0) -> MAN (UK50) | E5: 0 | F5: =VLOOKUP($B5,AcceptedPlanRange,4,0) -> MS | G5: =VLOOKUP($B5,AcceptedPlanRange,5,0) -> GC-MS | H5: =VLOOKUP($B5,AcceptedPlanRange,6,0) -> GC-MS | I5: =VLOOKUP($B5,AcceptedPlanRange,7,0) -> 71227.42 | J5: =VLOOKUP($B5,AcceptedPlanRange,8,0) -> Stephen Connor | K5: Proposed Production | X5: 7 | Y5: 0 | Z5: 7 | AA5: 0 | AB5: 0 | AC5: 0 | AD5: 0 | AE5: 0 | AF5: 0 | AG5: 0 | AH5: 0 | AI5: 0 | AJ5: =SUBTOTAL(9,AF5:AI5) -> 0 | AK5: 0 | AL5: 0 | AM5: 0 | AN5: 0 | AO5: =SUBTOTAL(9,AK5:AN5) -> 0 | AP5: 0 | AQ5: 0 | AR5: 0 | AS5: 0 | AT5: =SUBTOTAL(9,AP5:AS5) -> 0
A6: =CONCATENATE(B6,"P") -> 176000851P | B6: 176000851 | C6: =VLOOKUP($B6,AcceptedPlanRange,2,0) -> AutoSpec Premier | D6: =VLOOKUP($B6,AcceptedPlanRange,3,0) -> MAN (UK50) | E6: 0 | F6: =VLOOKUP($B6,AcceptedPlanRange,4,0) -> MS | G6: =VLOOKUP($B6,AcceptedPlanRange,5,0) -> GC-MS | H6: =VLOOKUP($B6,AcceptedPlanRange,6,0) -> GC-MS | I6: =VLOOKUP($B6,AcceptedPlanRange,7,0) -> 166042.37 | J6: =VLOOKUP($B6,AcceptedPlanRange,8,0) -> Stephen Connor | K6: Proposed Production | X6: 5 | Y6: 4 | Z6: 9 | AA6: 4 | AB6: 5 | AC6: 7 | AD6: 6 | AE6: 22 | AF6: 7 | AG6: 5 | AH6: 4 | AI6: 5 | AJ6: =SUBTOTAL(9,AF6:AI6) -> 0 | AK6: 4 | AL6: 4 | AM6: 4 | AN6: 4 | AO6: =SUBTOTAL(9,AK6:AN6) -> 0 | AP6: 0 | AQ6: 0 | AR6: 0 | AS6: 0 | AT6: =SUBTOTAL(9,AP6:AS6) -> 0
A7: =CONCATENATE(B7,"P") -> 176000972P | B7: 176000972 | C7: =VLOOKUP($B7,AcceptedPlanRange,2,0) -> GCT Premier Instrument | D7: =VLOOKUP($B7,AcceptedPlanRange,3,0) -> MAN (UK50) | E7: 0 | F7: =VLOOKUP($B7,AcceptedPlanRange,4,0) -> MS | G7: =VLOOKUP($B7,AcceptedPlanRange,5,0) -> GC-MS | H7: =VLOOKUP($B7,AcceptedPlanRange,6,0) -> GC-MS | I7: =VLOOKUP($B7,AcceptedPlanRange,7,0) -> 0 | J7: =VLOOKUP($B7,AcceptedPlanRange,8,0) -> Stephen Connor | K7: Proposed Production | X7: 3 | Y7: 3 | Z7: 6 | AA7: 4 | AB7: 2 | AC7: 0 | AD7: 0 | AE7: 6 | AF7: 0 | AG7: 0 | AH7: 0 | AI7: 0 | AJ7: =SUBTOTAL(9,AF7:AI7) -> 0 | AK7: 0 | AL7: 0 | AM7: 0 | AN7: 0 | AO7: =SUBTOTAL(9,AK7:AN7) -> 0 | AP7: 0 | AQ7: 0 | AR7: 0 | AS7: 0 | AT7: =SUBTOTAL(9,AP7:AS7) -> 0
A8: =CONCATENATE(B8,"P") -> 186000321P | B8: 186000321 | C8: =VLOOKUP($B8,AcceptedPlanRange,2,0) -> ASSY, POST COLUMN REACTION MODULE | D8: =VLOOKUP($B8,AcceptedPlanRange,3,0) -> MIL (US31) | F8: =VLOOKUP($B8,AcceptedPlanRange,4,0) -> LC | G8: =VLOOKUP($B8,AcceptedPlanRange,5,0) -> Legacy LC | H8: =VLOOKUP($B8,AcceptedPlanRange,6,0) -> Accessories | I8: =VLOOKUP($B8,AcceptedPlanRange,7,0) -> 1520.17 | J8: =VLOOKUP($B8,AcceptedPlanRange,8,0) -> Sharon Bibbo | K8: Proposed Production | Y8: 17 | Z8: 17 | AA8: 36 | AB8: 49 | AC8: 34 | AD8: 54 | AE8: 173 | AF8: 40 | AG8: 35 | AH8: 35 | AI8: 20 | AJ8: =SUBTOTAL(9,AF8:AI8) -> 130 | AK8: 25 | AL8: 30 | AM8: 30 | AN8: 35 | AO8: =SUBTOTAL(9,AK8:AN8) -> 120 | AP8: 20 | AQ8: 38 | AR8: 0 | AS8: 0 | AT8: =SUBTOTAL(9,AP8:AS8) -> 58
A9: =CONCATENATE(B9,"P") -> 186000872P | B9: 186000872 | C9: =VLOOKUP($B9,AcceptedPlanRange,2,0) -> KIT, 7725I MANUAL INJECTOR,1500 SERIES | D9: =VLOOKUP($B9,AcceptedPlanRange,3,0) -> MIL (US31) | F9: =VLOOKUP($B9,AcceptedPlanRange,4,0) -> LC | G9: =VLOOKUP($B9,AcceptedPlanRange,5,0) -> Legacy LC | H9: =VLOOKUP($B9,AcceptedPlanRange,6,0) -> Accessories | I9: =VLOOKUP($B9,AcceptedPlanRange,7,0) -> 478.46 | J9: =VLOOKUP($B9,AcceptedPlanRange,8,0) -> Paul Brusco | K9: Proposed Production | Y9: 65 | Z9: 65 | AA9: 55 | AB9: 90 | AC9: 50 | AD9: 120 | AE9: 315 | AF9: 40 | AG9: 60 | AH9: 45 | AI9: 40 | AJ9: =SUBTOTAL(9,AF9:AI9) -> 185 | AK9: 45 | AL9: 50 | AM9: 50 | AN9: 55 | AO9: =SUBTOTAL(9,AK9:AN9) -> 200 | AP9: 50 | AQ9: 55 | AR9: 0 | AS9: 0 | AT9: =SUBTOTAL(9,AP9:AS9) -> 105
A10: =CONCATENATE(B10,"P") -> 186001500P | B10: 186001500 | C10: =VLOOKUP($B10,AcceptedPlanRange,2,0) -> 1500 COLUMN HEATER | D10: =VLOOKUP($B10,AcceptedPlanRange,3,0) -> WPPL (SG20) | F10: =VLOOKUP($B10,AcceptedPlanRange,4,0) -> LC | G10: =VLOOKUP($B10,AcceptedPlanRange,5,0) -> Legacy LC | H10: =VLOOKUP($B10,AcceptedPlanRange,6,0) -> Accessories | I10: =VLOOKUP($B10,AcceptedPlanRange,7,0) -> 774.9 | J10: =VLOOKUP($B10,AcceptedPlanRange,8,0) -> Ee Ling Lim | K10: Proposed Production | Y10: 112 | Z10: 112 | AA10: 60 | AB10: 80 | AC10: 90 | AD10: 80 | AE10: 310 | AF10: 30 | AG10: 32 | AH10: 38 | AI10: 30 | AJ10: =SUBTOTAL(9,AF10:AI10) -> 0 | AK10: 60 | AL10: 55 | AM10: 50 | AN10: 55 | AO10: =SUBTOTAL(9,AK10:AN10) -> 0 | AP10: 50 | AQ10: 60 | AR10: 0 | AS10: 0 | AT10: =SUBTOTAL(9,AP10:AS10) -> 0
A11: =CONCATENATE(B11,"P") -> 186001515P | B11: 186001515 | C11: =VLOOKUP($B11,AcceptedPlanRange,2,0) -> 1515 ISOCRATIC HPLC PUMP | D11: =VLOOKUP($B11,AcceptedPlanRange,3,0) -> WPPL (SG20) | F11: =VLOOKUP($B11,AcceptedPlanRange,4,0) -> LC | G11: =VLOOKUP($B11,AcceptedPlanRange,5,0) -> Legacy LC | H11: =VLOOKUP($B11,AcceptedPlanRange,6,0) -> Pumps | I11: =VLOOKUP($B11,AcceptedPlanRange,7,0) -> 2646.3 | J11: =VLOOKUP($B11,AcceptedPlanRange,8,0) -> Ee Ling Lim | K11: Proposed Production | Y11: 41 | Z11: 41 | AA11: 25 | AB11: 49 | AC11: 40 | AD11: 55 | AE11: 169 | AF11: 30 | AG11: 50 | AH11: 40 | AI11: 30 | AJ11: =SUBTOTAL(9,AF11:AI11) -> 0 | AK11: 30 | AL11: 30 | AM11: 20 | AN11: 25 | AO11: =SUBTOTAL(9,AK11:AN11) -> 0 | AP11: 30 | AQ11: 42 | AR11: 0 | AS11: 0 | AT11: =SUBTOTAL(9,AP11:AS11) -> 0
A12: =CONCATENATE(B12,"P") -> 186001525P | B12: 186001525 | C12: =VLOOKUP($B12,AcceptedPlanRange,2,0) -> 1525 BINARY HPLC PUMP | D12: =VLOOKUP($B12,AcceptedPlanRange,3,0) -> WPPL (SG20) | F12: =VLOOKUP($B12,AcceptedPlanRange,4,0) -> LC | G12: =VLOOKUP($B12,AcceptedPlanRange,5,0) -> Legacy LC | H12: =VLOOKUP($B12,AcceptedPlanRange,6,0) -> Pumps | I12: =VLOOKUP($B12,AcceptedPlanRange,7,0) -> 3658.17 | J12: =VLOOKUP($B12,AcceptedPlanRange,8,0) -> Ee Ling Lim | K12: Proposed Production | Y12: 100 | Z12: 100 | AA12: 95 | AB12: 100 | AC12: 120 | AD12: 80 | AE12: 395 | AF12: 60 | AG12: 90 | AH12: 70 | AI12: 55 | AJ12: =SUBTOTAL(9,AF12:AI12) -> 0 | AK12: 70 | AL12: 70 | AM12: 65 | AN12: 70 | AO12: =SUBTOTAL(9,AK12:AN12) -> 0 | AQ12: 0 | AR12: 0 | AS12: 0 | AT12: =SUBTOTAL(9,AP12:AS12) -> 0
A13: =CONCATENATE(B13,"P") -> 186001791P | B13: 186001791 | C13: =VLOOKUP($B13,AcceptedPlanRange,2,0) -> ALLIANCE COL. HEATER COOLER | D13: =VLOOKUP($B13,AcceptedPlanRange,3,0) -> WPPL (SG20) | F13: =VLOOKUP($B13,AcceptedPlanRange,4,0) -> LC | G13: =VLOOKUP($B13,AcceptedPlanRange,5,0) -> Alliance | H13: =VLOOKUP($B13,AcceptedPlanRange,6,0) -> Column Managers | I13: =VLOOKUP($B13,AcceptedPlanRange,7,0) -> 837.72 | J13: =VLOOKUP($B13,AcceptedPlanRange,8,0) -> Ee Ling Lim | K13: Proposed Production | Y13: 265 | Z13: 265 | AA13: 330 | AB13: 390 | AC13: 350 | AD13: 430 | AE13: 1500 | AF13: 185 | AG13: 20 | AH13: 30 | AI13: 30 | AJ13: =SUBTOTAL(9,AF13:AI13) -> 0 | AK13: 40 | AL13: 40 | AM13: 35 | AN13: 35 | AO13: =SUBTOTAL(9,AK13:AN13) -> 0 | AP13: 0 | AQ13: 0 | AR13: 0 | AS13: 0 | AT13: =SUBTOTAL(9,AP13:AS13) -> 0
A14: =CONCATENATE(B14,"P") -> 186001825P | B14: 186001825 | C14: =VLOOKUP($B14,AcceptedPlanRange,2,0) -> 1525µ Binary HPLC Pump w/Degasser | D14: =VLOOKUP($B14,AcceptedPlanRange,3,0) -> WPPL (SG20) | F14: =VLOOKUP($B14,AcceptedPlanRange,4,0) -> LC | G14: =VLOOKUP($B14,AcceptedPlanRange,5,0) -> Legacy LC | H14: =VLOOKUP($B14,AcceptedPlanRange,6,0) -> Pumps | I14: =VLOOKUP($B14,AcceptedPlanRange,7,0) -> 6248.84 | J14: =VLOOKUP($B14,AcceptedPlanRange,8,0) -> Ee Ling Lim | K14: Proposed Production | Y14: 8 | Z14: 8 | AA14: 0 | AB14: 0 | AC14: 7 | AD14: 5 | AE14: 12 | AF14: 12 | AG14: 18 | AH14: 15 | AI14: 15 | AJ14: =SUBTOTAL(9,AF14:AI14) -> 0 | AK14: 15 | AL14: 15 | AM14: 14 | AN14: 15 | AO14: =SUBTOTAL(9,AK14:AN14) -> 0 | AP14: 12 | AQ14: 14 | AR14: 0 | AS14: 0 | AT14: =SUBTOTAL(9,AP14:AS14) -> 0
A15: =CONCATENATE(B15,"P") -> 186001863P | B15: 186001863 | C15: =VLOOKUP($B15,AcceptedPlanRange,2,0) -> ALLIANCE COL.HEATER | D15: =VLOOKUP($B15,AcceptedPlanRange,3,0) -> WPPL (SG20) | F15: =VLOOKUP($B15,AcceptedPlanRange,4,0) -> LC | G15: =VLOOKUP($B15,AcceptedPlanRange,5,0) -> Alliance | H15: =VLOOKUP($B15,AcceptedPlanRange,6,0) -> Column Managers | I15: =VLOOKUP($B15,AcceptedPlanRange,7,0) -> 544.73 | J15: =VLOOKUP($B15,AcceptedPlanRange,8,0) -> Ee Ling Lim | K15: Proposed Production | Y15: 420 | Z15: 420 | AA15: 440 | AB15: 530 | AC15: 420 | AD15: 560 | AE15: 1950 | AF15: 80 | AG15: 20 | AH15: 10 | AI15: 0 | AJ15: =SUBTOTAL(9,AF15:AI15) -> 0 | AK15: 0 | AL15: 10 | AM15: 10 | AN15: 0 | AO15: =SUBTOTAL(9,AK15:AN15) -> 0 | AP15: 10 | AQ15: 0 | AR15: 0 | AS15: 0 | AT15: =SUBTOTAL(9,AP15:AS15) -> 0
A16: =CONCATENATE(B16,"P") -> 186001878P | B16: 186001878 | C16: =VLOOKUP($B16,AcceptedPlanRange,2,0) -> Waters Fraction Collector III | D16: =VLOOKUP($B16,AcceptedPlanRange,3,0) -> OEM | F16: =VLOOKUP($B16,AcceptedPlanRange,4,0) -> LC | G16: =VLOOKUP($B16,AcceptedPlanRange,5,0) -> Legacy LC | H16: =VLOOKUP($B16,AcceptedPlanRange,6,0) -> Accessories | I16: =VLOOKUP($B16,AcceptedPlanRange,7,0) -> 2362.42 | J16: =VLOOKUP($B16,AcceptedPlanRange,8,0) -> Hanchen Lu | K16: Proposed Production | Y16: 90 | Z16: 90 | AA16: 50 | AB16: 90 | AC16: 75 | AD16: 50 | AE16: 265 | AF16: 60 | AG16: 75 | AH16: 60 | AI16: 60 | AJ16: =SUBTOTAL(9,AF16:AI16) -> 0 | AK16: 50 | AL16: 50 | AM16: 48 | AN16: 65 | AO16: =SUBTOTAL(9,AK16:AN16) -> 0 | AP16: 50 | AQ16: 55 | AR16: 0 | AS16: 0 | AT16: =SUBTOTAL(9,AP16:AS16) -> 0
A17: =CONCATENATE(B17,"P") -> 186002424P | B17: 186002424 | C17: =VLOOKUP($B17,AcceptedPlanRange,2,0) -> Waters 2424 ELS Detector | D17: =VLOOKUP($B17,AcceptedPlanRange,3,0) -> MIL (US31) | F17: =VLOOKUP($B17,AcceptedPlanRange,4,0) -> LC | G17: =VLOOKUP($B17,AcceptedPlanRange,5,0) -> Alliance | H17: =VLOOKUP($B17,AcceptedPlanRange,6,0) -> Detectors | I17: =VLOOKUP($B17,AcceptedPlanRange,7,0) -> 5422.15 | J17: =VLOOKUP($B17,AcceptedPlanRange,8,0) -> Paul Brusco | K17: Proposed Production | Y17: 30 | Z17: 30 | AA17: 53 | AB17: 62 | AC17: 45 | AD17: 50 | AE17: 210 | AF17: 60 | AG17: 30 | AH17: 17 | AI17: 30 | AJ17: =SUBTOTAL(9,AF17:AI17) -> 137 | AK17: 20 | AL17: 20 | AM17: 15 | AN17: 20 | AO17: =SUBTOTAL(9,AK17:AN17) -> 75 | AP17: 20 | AQ17: 20 | AR17: 0 | AS17: 0 | AT17: =SUBTOTAL(9,AP17:AS17) -> 40
A18: =CONCATENATE(B18,"P") -> 186002441P | B18: 186002441 | C18: =VLOOKUP($B18,AcceptedPlanRange,2,0) -> Temperature Control Module II | D18: =VLOOKUP($B18,AcceptedPlanRange,3,0) -> WPPL (SG20) | F18: =VLOOKUP($B18,AcceptedPlanRange,4,0) -> LC | G18: =VLOOKUP($B18,AcceptedPlanRange,5,0) -> Legacy LC | H18: =VLOOKUP($B18,AcceptedPlanRange,6,0) -> Accessories | I18: =VLOOKUP($B18,AcceptedPlanRange,7,0) -> 669.66 | J18: =VLOOKUP($B18,AcceptedPlanRange,8,0) -> Ee Ling Lim | K18: Proposed Production | Y18: 54 | Z18: 54 | AA18: 82 | AB18: 68 | AC18: 112 | AD18: 85 | AE18: 347 | AF18: 60 | AG18: 64 | AH18: 46 | AI18: 69 | AJ18: =SUBTOTAL(9,AF18:AI18) -> 0 | AK18: 50 | AL18: 50 | AM18: 45 | AN18: 60 | AO18: =SUBTOTAL(9,AK18:AN18) -> 0 | AP18: 45 | AQ18: 64 | AR18: 0 | AS18: 0 | AT18: =SUBTOTAL(9,AP18:AS18) -> 0
A19: =CONCATENATE(B19,"P") -> 186002449P | B19: 186002449 | C19: =VLOOKUP($B19,AcceptedPlanRange,2,0) -> PCM II - PUMP CONTROL MODULE | D19: =VLOOKUP($B19,AcceptedPlanRange,3,0) -> WPPL (SG20) | F19: =VLOOKUP($B19,AcceptedPlanRange,4,0) -> Data | G19: =VLOOKUP($B19,AcceptedPlanRange,5,0) -> Data H/W | H19: =VLOOKUP($B19,AcceptedPlanRange,6,0) -> Data H/W | I19: =VLOOKUP($B19,AcceptedPlanRange,7,0) -> 735.02 | J19: =VLOOKUP($B19,AcceptedPlanRange,8,0) -> Ee Ling Lim | K19: Proposed Production | Y19: 46 | Z19: 46 | AA19: 40 | AB19: 70 | AC19: 40 | AD19: 70 | AE19: 220 | AF19: 45 | AG19: 52 | AH19: 66 | AI19: 41 | AJ19: =SUBTOTAL(9,AF19:AI19) -> 0 | AK19: 50 | AL19: 40 | AM19: 35 | AN19: 50 | AO19: =SUBTOTAL(9,AK19:AN19) -> 0 | AP19: 45 | AQ19: 50 | AR19: 0 | AS19: 0 | AT19: =SUBTOTAL(9,AP19:AS19) -> 0
A20: =CONCATENATE(B20,"P") -> 186002465P | B20: 186002465 | C20: =VLOOKUP($B20,AcceptedPlanRange,2,0) -> 2465 ELECTROCHEMICAL DETECTOR | D20: =VLOOKUP($B20,AcceptedPlanRange,3,0) -> OEM | F20: =VLOOKUP($B20,AcceptedPlanRange,4,0) -> LC | G20: =VLOOKUP($B20,AcceptedPlanRange,5,0) -> Legacy LC | H20: =VLOOKUP($B20,AcceptedPlanRange,6,0) -> Detectors | I20: =VLOOKUP($B20,AcceptedPlanRange,7,0) -> 3509.55 | J20: =VLOOKUP($B20,AcceptedPlanRange,8,0) -> Hanchen Lu | K20: Proposed Production | Y20: 16 | Z20: 16 | AA20: 10 | AB20: 10 | AC20: 10 | AD20: 30 | AE20: 60 | AF20: 20 | AG20: 20 | AH20: 12 | AI20: 20 | AJ20: =SUBTOTAL(9,AF20:AI20) -> 0 | AK20: 10 | AL20: 10 | AM20: 10 | AN20: 10 | AO20: =SUBTOTAL(9,AK20:AN20) -> 0 | AP20: 14 | AQ20: 22 | AR20: 0 | AS20: 0 | AT20: =SUBTOTAL(9,AP20:AS20) -> 0
A21: =CONCATENATE(B21,"P") -> 186002475P | B21: 186002475 | C21: =VLOOKUP($B21,AcceptedPlanRange,2,0) -> 2475 MULTICHANNEL FLUORESCENCE DETECTOR | D21: =VLOOKUP($B21,AcceptedPlanRange,3,0) -> WPPL (SG20) | F21: =VLOOKUP($B21,AcceptedPlanRange,4,0) -> LC | G21: =VLOOKUP($B21,AcceptedPlanRange,5,0) -> Alliance | H21: =VLOOKUP($B21,AcceptedPlanRange,6,0) -> Detectors | I21: =VLOOKUP($B21,AcceptedPlanRange,7,0) -> 4403.08 | J21: =VLOOKUP($B21,AcceptedPlanRange,8,0) -> Ee Ling Lim | K21: Proposed Production | Y21: 100 | Z21: 100 | AA21: 143 | AB21: 140 | AC21: 155 | AD21: 153 | AE21: 591 | AF21: 113 | AG21: 32 | AH21: 50 | AI21: 40 | AJ21: =SUBTOTAL(9,AF21:AI21) -> 0 | AK21: 45 | AL21: 45 | AM21: 45 | AN21: 50 | AO21: =SUBTOTAL(9,AK21:AN21) -> 0 | AP21: 45 | AQ21: 45 | AR21: 0 | AS21: 0 | AT21: =SUBTOTAL(9,AP21:AS21) -> 0
A22: =CONCATENATE(B22,"P") -> 186002487P | B22: 186002487 | C22: =VLOOKUP($B22,AcceptedPlanRange,2,0) -> 2489 UV/Visible Detector | D22: =VLOOKUP($B22,AcceptedPlanRange,3,0) -> WPPL (SG20) | F22: =VLOOKUP($B22,AcceptedPlanRange,4,0) -> LC | G22: =VLOOKUP($B22,AcceptedPlanRange,5,0) -> Alliance | H22: =VLOOKUP($B22,AcceptedPlanRange,6,0) -> Detectors | I22: =VLOOKUP($B22,AcceptedPlanRange,7,0) -> 2115.62 | J22: =VLOOKUP($B22,AcceptedPlanRange,8,0) -> Ee Ling Lim | K22: Proposed Production | Y22: 732 | Z22: 732 | AA22: 770 | AB22: 700 | AC22: 650 | AD22: 732 | AE22: 2852 | AF22: 315 | AG22: 200 | AH22: 170 | AI22: 150 | AJ22: =SUBTOTAL(9,AF22:AI22) -> 0 | AK22: 160 | AL22: 150 | AM22: 150 | AN22: 170 | AO22: =SUBTOTAL(9,AK22:AN22) -> 0 | AP22: 0 | AQ22: 0 | AR22: 0 | AS22: 0 | AT22: =SUBTOTAL(9,AP22:AS22) -> 0
A23: =CONCATENATE(B23,"P") -> 186002488P | B23: 186002488 | C23: =VLOOKUP($B23,AcceptedPlanRange,2,0) -> WATERS PREP DEGASSER | D23: =VLOOKUP($B23,AcceptedPlanRange,3,0) -> MIL (US31) | F23: =VLOOKUP($B23,AcceptedPlanRange,4,0) -> LC | G23: =VLOOKUP($B23,AcceptedPlanRange,5,0) -> Legacy LC | H23: =VLOOKUP($B23,AcceptedPlanRange,6,0) -> Accessories | I23: =VLOOKUP($B23,AcceptedPlanRange,7,0) -> 2613.57 | J23: =VLOOKUP($B23,AcceptedPlanRange,8,0) -> Paul Brusco | K23: Proposed Production | Y23: 10 | Z23: 10 | AA23: 5 | AB23: 15 | AC23: 10 | AD23: 8 | AE23: 38 | AF23: 8 | AG23: 18 | AH23: 12 | AI23: 15 | AJ23: =SUBTOTAL(9,AF23:AI23) -> 53 | AK23: 5 | AL23: 8 | AM23: 5 | AN23: 12 | AO23: =SUBTOTAL(9,AK23:AN23) -> 30 | AP23: 10 | AQ23: 13 | AR23: 0 | AS23: 0 | AT23: =SUBTOTAL(9,AP23:AS23) -> 23
A24: =CONCATENATE(B24,"P") -> 186002776P | B24: 186002776 | C24: =VLOOKUP($B24,AcceptedPlanRange,2,0) -> 2777C SAMPLE MANAGER | D24: =VLOOKUP($B24,AcceptedPlanRange,3,0) -> OEM | F24: =VLOOKUP($B24,AcceptedPlanRange,4,0) -> LC | G24: =VLOOKUP($B24,AcceptedPlanRange,5,0) -> Legacy LC | H24: =VLOOKUP($B24,AcceptedPlanRange,6,0) -> Injectors | I24: =VLOOKUP($B24,AcceptedPlanRange,7,0) -> 9796.41 | J24: =VLOOKUP($B24,AcceptedPlanRange,8,0) -> Hanchen Lu | K24: Proposed Production | Y24: 10 | Z24: 10 | AA24: 10 | AB24: 5 | AC24: 15 | AD24: 20 | AE24: 50 | AF24: 8 | AG24: 22 | AH24: 20 | AI24: 20 | AJ24: =SUBTOTAL(9,AF24:AI24) -> 0 | AK24: 21 | AL24: 20 | AM24: 17 | AN24: 22 | AO24: =SUBTOTAL(9,AK24:AN24) -> 0 | AP24: 16 | AQ24: 20 | AR24: 0 | AS24: 0 | AT24: =SUBTOTAL(9,AP24:AS24) -> 0
... A26: =CONCATENATE(B26,"P") -> 186002998P | B26: 186002998 | C26: =VLOOKUP($B26,AcceptedPlanRange,2,0) -> 2998 Photodiode Array Detector | D26: =VLOOKUP($B26,AcceptedPlanRange,3,0) -> WPPL (SG20) | F26: =VLOOKUP($B26,AcceptedPlanRange,4,0) -> LC | G26: =VLOOKUP($B26,AcceptedPlanRange,5,0) -> Alliance | H26: =VLOOKUP($B26,AcceptedPlanRange,6,0) -> Detectors | I26: =VLOOKUP($B26,AcceptedPlanRange,7,0) -> 3174.35 | J26: =VLOOKUP($B26,AcceptedPlanRange,8,0) -> Ee Ling Lim | K26: Proposed Production | Y26: 360 | Z26: 360 | AA26: 384 | AB26: 438 | AC26: 520 | AD26: 510 | AE26: 1852 | AF26: 102 | AG26: 75 | AH26: 95 | AI26: 85 | AJ26: =SUBTOTAL(9,AF26:AI26) -> 0 | AK26: 135 | AL26: 125 | AM26: 100 | AN26: 120 | AO26: =SUBTOTAL(9,AK26:AN26) -> 0 | AP26: 0 | AQ26: 0 | AR26: 0 | AS26: 0 | AT26: =SUBTOTAL(9,AP26:AS26) -> 0
A27: =CONCATENATE(B27,"P") -> 186003762P | B27: 186003762 | C27: =VLOOKUP($B27,AcceptedPlanRange,2,0) -> Assy., Waters SQ Detector | D27: =VLOOKUP($B27,AcceptedPlanRange,3,0) -> WEX (EI10) | E27: 3 | F27: =VLOOKUP($B27,AcceptedPlanRange,4,0) -> MS | G27: =VLOOKUP($B27,AcceptedPlanRange,5,0) -> Quads | H27: =VLOOKUP($B27,AcceptedPlanRange,6,0) -> SQ's | I27: =VLOOKUP($B27,AcceptedPlanRange,7,0) -> 25756.39 | J27: =VLOOKUP($B27,AcceptedPlanRange,8,0) -> Wendy Noble | K27: Proposed Production | X27: 37 | Y27: 20 | Z27: 57 | AA27: 25 | AB27: 20 | AC27: 22 | AD27: 23 | AE27: 90 | AF27: 25 | AG27: 13 | AH27: 25 | AI27: 0 | AJ27: =SUBTOTAL(9,AF27:AI27) -> 0 | AK27: 0 | AL27: 0 | AM27: 0 | AN27: 0 | AO27: =SUBTOTAL(9,AK27:AN27) -> 0 | AP27: 0 | AQ27: 0 | AR27: 0 | AS27: 0 | AT27: =SUBTOTAL(9,AP27:AS27) -> 0
A28: =CONCATENATE(B28,"P") -> 186003765P | B28: 186003765 | C28: =VLOOKUP($B28,AcceptedPlanRange,2,0) -> System Fluidics Organizer | D28: =VLOOKUP($B28,AcceptedPlanRange,3,0) -> MIL (US31) | F28: =VLOOKUP($B28,AcceptedPlanRange,4,0) -> LC | G28: =VLOOKUP($B28,AcceptedPlanRange,5,0) -> Purification | H28: =VLOOKUP($B28,AcceptedPlanRange,6,0) -> Accessories | I28: =VLOOKUP($B28,AcceptedPlanRange,7,0) -> 5549.89 | J28: =VLOOKUP($B28,AcceptedPlanRange,8,0) -> Sharon Bibbo | K28: Proposed Production | Y28: 33 | Z28: 33 | AA28: 15 | AB28: 20 | AC28: 15 | AD28: 10 | AE28: 60 | AF28: 21 | AG28: 18 | AH28: 15 | AI28: 10 | AJ28: =SUBTOTAL(9,AF28:AI28) -> 64 | AK28: 10 | AL28: 8 | AM28: 8 | AN28: 10 | AO28: =SUBTOTAL(9,AK28:AN28) -> 36 | AP28: 12 | AQ28: 14 | AR28: 0 | AS28: 0 | AT28: =SUBTOTAL(9,AP28:AS28) -> 26
A29: =CONCATENATE(B29,"P") -> 186004462P | B29: 186004462 | C29: =VLOOKUP($B29,AcceptedPlanRange,2,0) -> 2707 AUTOSAMPLER | D29: =VLOOKUP($B29,AcceptedPlanRange,3,0) -> OEM | F29: =VLOOKUP($B29,AcceptedPlanRange,4,0) -> LC | G29: =VLOOKUP($B29,AcceptedPlanRange,5,0) -> Legacy LC | H29: =VLOOKUP($B29,AcceptedPlanRange,6,0) -> Injectors | I29: =VLOOKUP($B29,AcceptedPlanRange,7,0) -> 2439.4 | J29: =VLOOKUP($B29,AcceptedPlanRange,8,0) -> Hanchen Lu | K29: Proposed Production | Y29: 71 | Z29: 71 | AA29: 60 | AB29: 65 | AC29: 70 | AD29: 102 | AE29: 297 | AF29: 50 | AG29: 71 | AH29: 50 | AI29: 50 | AJ29: =SUBTOTAL(9,AF29:AI29) -> 0 | AK29: 65 | AL29: 55 | AM29: 50 | AN29: 55 | AO29: =SUBTOTAL(9,AK29:AN29) -> 0 | AP29: 55 | AQ29: 62 | AR29: 0 | AS29: 0 | AT29: =SUBTOTAL(9,AP29:AS29) -> 0
A30: =CONCATENATE(B30,"P") -> 186004463P | B30: 186004463 | C30: =VLOOKUP($B30,AcceptedPlanRange,2,0) -> 2707 AUTOSAMPLER WITH COOLER | D30: =VLOOKUP($B30,AcceptedPlanRange,3,0) -> OEM | F30: =VLOOKUP($B30,AcceptedPlanRange,4,0) -> LC | G30: =VLOOKUP($B30,AcceptedPlanRange,5,0) -> Legacy LC | H30: =VLOOKUP($B30,AcceptedPlanRange,6,0) -> Injectors | I30: =VLOOKUP($B30,AcceptedPlanRange,7,0) -> 2726.7 | J30: =VLOOKUP($B30,AcceptedPlanRange,8,0) -> Hanchen Lu | K30: Proposed Production | Y30: 0 | Z30: 0 | AA30: 12 | AB30: 2 | AC30: 8 | AD30: 20 | AE30: 42 | AF30: 15 | AG30: 18 | AH30: 8 | AI30: 8 | AJ30: =SUBTOTAL(9,AF30:AI30) -> 0 | AK30: 10 | AL30: 8 | AM30: 10 | AN30: 15 | AO30: =SUBTOTAL(9,AK30:AN30) -> 0 | AP30: 12 | AQ30: 15 | AR30: 0 | AS30: 0 | AT30: =SUBTOTAL(9,AP30:AS30) -> 0
A31: =CONCATENATE(B31,"P") -> 186004556P | B31: 186004556 | C31: =VLOOKUP($B31,AcceptedPlanRange,2,0) -> 2545 Quaternary Gradient Module | D31: =VLOOKUP($B31,AcceptedPlanRange,3,0) -> MIL (US31) | F31: =VLOOKUP($B31,AcceptedPlanRange,4,0) -> LC | G31: =VLOOKUP($B31,AcceptedPlanRange,5,0) -> Purification | H31: =VLOOKUP($B31,AcceptedPlanRange,6,0) -> Pumps | I31: =VLOOKUP($B31,AcceptedPlanRange,7,0) -> 8194.16 | J31: =VLOOKUP($B31,AcceptedPlanRange,8,0) -> Sharon Bibbo | K31: Proposed Production | Y31: 20 | Z31: 20 | AA31: 7 | AB31: 22 | AC31: 30 | AD31: 30 | AE31: 89 | AF31: 30 | AG31: 25 | AH31: 30 | AI31: 24 | AJ31: =SUBTOTAL(9,AF31:AI31) -> 109 | AK31: 24 | AL31: 29 | AM31: 24 | AN31: 26 | AO31: =SUBTOTAL(9,AK31:AN31) -> 103 | AP31: 10 | AQ31: 20 | AR31: 0 | AS31: 0 | AT31: =SUBTOTAL(9,AP31:AS31) -> 30
A32: =CONCATENATE(B32,"P") -> 186004557P | B32: 186004557 | C32: =VLOOKUP($B32,AcceptedPlanRange,2,0) -> 2535 Quaternary Gradient Module | D32: =VLOOKUP($B32,AcceptedPlanRange,3,0) -> MIL (US31) | F32: =VLOOKUP($B32,AcceptedPlanRange,4,0) -> LC | G32: =VLOOKUP($B32,AcceptedPlanRange,5,0) -> Purification | H32: =VLOOKUP($B32,AcceptedPlanRange,6,0) -> Pumps | I32: =VLOOKUP($B32,AcceptedPlanRange,7,0) -> 8806.19 | J32: =VLOOKUP($B32,AcceptedPlanRange,8,0) -> Sharon Bibbo | K32: Proposed Production | Y32: 6 | Z32: 6 | AA32: 15 | AB32: 15 | AC32: 15 | AD32: 14 | AE32: 59 | AF32: 16 | AG32: 16 | AH32: 16 | AI32: 23 | AJ32: =SUBTOTAL(9,AF32:AI32) -> 71 | AK32: 18 | AL32: 15 | AM32: 16 | AN32: 25 | AO32: =SUBTOTAL(9,AK32:AN32) -> 74 | AP32: 15 | AQ32: 20 | AR32: 0 | AS32: 0 | AT32: =SUBTOTAL(9,AP32:AS32) -> 35
A33: =CONCATENATE(B33,"P") -> 186005597P | B33: 186005597 | C33: =VLOOKUP($B33,AcceptedPlanRange,2,0) -> Xevo G2 | D33: =VLOOKUP($B33,AcceptedPlanRange,3,0) -> MAN (UK50) | E33: 0 | F33: =VLOOKUP($B33,AcceptedPlanRange,4,0) -> MS | G33: =VLOOKUP($B33,AcceptedPlanRange,5,0) -> Tof | H33: =VLOOKUP($B33,AcceptedPlanRange,6,0) -> LE Tof | I33: =VLOOKUP($B33,AcceptedPlanRange,7,0) -> 96010.2 | J33: =VLOOKUP($B33,AcceptedPlanRange,8,0) -> Stephen Connor | K33: Proposed Production | X33: 55 | Y33: 57 | Z33: 112 | AA33: 50 | AB33: 40 | AC33: 0 | AD33: 0 | AE33: 90 | AF33: 0 | AG33: 0 | AH33: 0 | AI33: 0 | AJ33: =SUBTOTAL(9,AF33:AI33) -> 0 | AK33: 0 | AL33: 0 | AM33: 0 | AN33: 0 | AO33: =SUBTOTAL(9,AK33:AN33) -> 0 | AP33: 0 | AQ33: 0 | AR33: 0 | AS33: 0 | AT33: =SUBTOTAL(9,AP33:AS33) -> 0
A34: =CONCATENATE(B34,"P") -> 186005654P | B34: 186005654 | C34: =VLOOKUP($B34,AcceptedPlanRange,2,0) -> PATROL UPLC Online Computer | D34: =VLOOKUP($B34,AcceptedPlanRange,3,0) -> MIL (US31) | F34: =VLOOKUP($B34,AcceptedPlanRange,4,0) -> Data | G34: =VLOOKUP($B34,AcceptedPlanRange,5,0) -> PATROL | H34: =VLOOKUP($B34,AcceptedPlanRange,6,0) -> Data H/W | I34: =VLOOKUP($B34,AcceptedPlanRange,7,0) -> 1287.98 | J34: =VLOOKUP($B34,AcceptedPlanRange,8,0) -> Linda Trautwein | K34: Proposed Production | Y34: 5 | Z34: 5 | AA34: 0 | AB34: 2 | AC34: 0 | AD34: 7 | AE34: 9 | AF34: 7 | AG34: 3 | AH34: 4 | AI34: 4 | AJ34: =SUBTOTAL(9,AF34:AI34) -> 0 | AK34: 6 | AL34: 4 | AM34: 3 | AN34: 4 | AO34: =SUBTOTAL(9,AK34:AN34) -> 0 | AP34: 5 | AQ34: 5 | AR34: 0 | AS34: 0 | AT34: =SUBTOTAL(9,AP34:AS34) -> 0
A35: =CONCATENATE(B35,"P") -> 186005832P | B35: 186005832 | C35: =VLOOKUP($B35,AcceptedPlanRange,2,0) -> SQ DETECTOR 2 | D35: =VLOOKUP($B35,AcceptedPlanRange,3,0) -> WEX (EI10) | E35: 15 | F35: =VLOOKUP($B35,AcceptedPlanRange,4,0) -> MS | G35: =VLOOKUP($B35,AcceptedPlanRange,5,0) -> Quads | H35: =VLOOKUP($B35,AcceptedPlanRange,6,0) -> SQ's | I35: =VLOOKUP($B35,AcceptedPlanRange,7,0) -> 29101.56 | J35: =VLOOKUP($B35,AcceptedPlanRange,8,0) -> Wendy Noble | K35: Proposed Production | X35: 0 | Y35: 38 | Z35: 38 | AA35: 25 | AB35: 32 | AC35: 50 | AD35: 26 | AE35: 133 | AF35: 35 | AG35: 53 | AH35: 43 | AI35: 55 | AJ35: =SUBTOTAL(9,AF35:AI35) -> 0 | AK35: 30 | AL35: 30 | AM35: 15 | AN35: 15 | AO35: =SUBTOTAL(9,AK35:AN35) -> 0 | AP35: 10 | AQ35: 0 | AR35: 0 | AS35: 0 | AT35: =SUBTOTAL(9,AP35:AS35) -> 0
A36: =CONCATENATE(B36,"P") -> 186006511P | B36: 186006511 | C36: =VLOOKUP($B36,AcceptedPlanRange,2,0) -> ACQUITY Qda Detector (Kestrel) | D36: =VLOOKUP($B36,AcceptedPlanRange,3,0) -> MAN (UK50)- Transfer to WEX (EI10) | F36: =VLOOKUP($B36,AcceptedPlanRange,4,0) -> MS | G36: =VLOOKUP($B36,AcceptedPlanRange,5,0) -> Quads | H36: =VLOOKUP($B36,AcceptedPlanRange,6,0) -> SQ's | I36: =VLOOKUP($B36,AcceptedPlanRange,7,0) -> 14455.27 | J36: =VLOOKUP($B36,AcceptedPlanRange,8,0) -> Stephen Connor | K36: Proposed Production | L36: 0 | M36: 0 | N36: 0 | O36: 0 | Q36: 0 | R36: 0 | S36: 0 | T36: 0 | V36: 0 | W36: 0 | X36: 0 | Y36: 0 | Z36: 0 | AA36: 0 | AB36: 0 | AC36: 0 | AD36: 0 | AE36: 0 | AF36: 0 | AG36: 0 | AH36: 0 | AI36: 200 | AJ36: =SUBTOTAL(9,AF36:AI36) -> 0 | AK36: 240 | AL36: 185 | AM36: 190 | AN36: 240 | AO36: =SUBTOTAL(9,AK36:AN36) -> 0 | AP36: 165 | AQ36: 0 | AR36: 0 | AS36: 0 | AT36: =SUBTOTAL(9,AP36:AS36) -> 0 | AX36: =AO36-#REF! -> #REF!
A37: =CONCATENATE(B37,"P") -> 186006532P | B37: 186006532 | C37: =VLOOKUP($B37,AcceptedPlanRange,2,0) -> Xevo G2-S 4k | D37: =VLOOKUP($B37,AcceptedPlanRange,3,0) -> MAN (UK50) | E37: 5 | F37: =VLOOKUP($B37,AcceptedPlanRange,4,0) -> MS | G37: =VLOOKUP($B37,AcceptedPlanRange,5,0) -> Tof | H37: =VLOOKUP($B37,AcceptedPlanRange,6,0) -> LE Tof | I37: =VLOOKUP($B37,AcceptedPlanRange,7,0) -> 94445.2 | J37: =VLOOKUP($B37,AcceptedPlanRange,8,0) -> Stephen Connor | K37: Proposed Production | X37: 0 | Y37: 0 | Z37: 0 | AA37: 0 | AB37: 15 | AC37: 45 | AD37: 40 | AE37: 100 | AF37: 65 | AG37: 65 | AH37: 45 | AI37: 50 | AJ37: =SUBTOTAL(9,AF37:AI37) -> 0 | AK37: 35 | AL37: 50 | AM37: 40 | AN37: 25 | AO37: =SUBTOTAL(9,AK37:AN37) -> 0 | AP37: 10 | AQ37: 0 | AR37: 0 | AS37: 0 | AT37: =SUBTOTAL(9,AP37:AS37) -> 0
A38: =CONCATENATE(B38,"P") -> 186006964P | B38: 186006964 | C38: =VLOOKUP($B38,AcceptedPlanRange,2,0) -> Source, iONKEY for TQ-S | D38: =VLOOKUP($B38,AcceptedPlanRange,3,0) -> MIL (US31) | F38: =VLOOKUP($B38,AcceptedPlanRange,4,0) -> TBD | G38: =VLOOKUP($B38,AcceptedPlanRange,5,0) -> TBD | H38: =VLOOKUP($B38,AcceptedPlanRange,6,0) -> TBD | I38: =VLOOKUP($B38,AcceptedPlanRange,7,0) -> 12329.59 | J38: =VLOOKUP($B38,AcceptedPlanRange,8,0) -> Vicky Allen | K38: Proposed Production | X38: 8 | Y38: 5 | Z38: 13 | AA38: 0 | AB38: 0 | AC38: 0 | AD38: 0 | AE38: 0 | AF38: 0 | AG38: 0 | AH38: 0 | AI38: 3 | AJ38: =SUBTOTAL(9,AF38:AI38) -> 0 | AK38: 12 | AL38: 14 | AM38: 14 | AN38: 20 | AO38: =SUBTOTAL(9,AK38:AN38) -> 0 | AP38: 20 | AQ38: 30 | AR38: 0 | AS38: 0 | AT38: =SUBTOTAL(9,AP38:AS38) -> 0
A39: =CONCATENATE(B39,"P") -> 186015000P | B39: 186015000 | C39: =VLOOKUP($B39,AcceptedPlanRange,2,0) -> ACQUITY UPLC I-Class BSM | D39: =VLOOKUP($B39,AcceptedPlanRange,3,0) -> MIL (US31) - Transfer to WPPL (SG20) | F39: =VLOOKUP($B39,AcceptedPlanRange,4,0) -> LC | G39: =VLOOKUP($B39,AcceptedPlanRange,5,0) -> I-Class | H39: =VLOOKUP($B39,AcceptedPlanRange,6,0) -> Pumps | I39: =VLOOKUP($B39,AcceptedPlanRange,7,0) -> 8240.89 | J39: =VLOOKUP($B39,AcceptedPlanRange,8,0) -> Sharon Bibbo | K39: Proposed Production | Y39: 250 | Z39: 200 | AA39: 149 | AB39: 98 | AC39: 149 | AD39: 250 | AE39: 646 | AF39: 210 | AG39: 175 | AH39: 255 | AI39: 195 | AJ39: =SUBTOTAL(9,AF39:AI39) -> 0 | AK39: 210 | AL39: 205 | AM39: 190 | AN39: 223 | AO39: =SUBTOTAL(9,AK39:AN39) -> 0 | AP39: 199 | AQ39: 0 | AR39: 0 | AS39: 0 | AT39: =SUBTOTAL(9,AP39:AS39) -> 0
A40: =CONCATENATE(B40,"P") -> 186015001P | B40: 186015001 | C40: =VLOOKUP($B40,AcceptedPlanRange,2,0) -> Acquity UPLC Binary Solvent Mgr | D40: =VLOOKUP($B40,AcceptedPlanRange,3,0) -> WPPL (SG20) | F40: =VLOOKUP($B40,AcceptedPlanRange,4,0) -> LC | G40: =VLOOKUP($B40,AcceptedPlanRange,5,0) -> ACQUITY Classic | H40: =VLOOKUP($B40,AcceptedPlanRange,6,0) -> Pumps | I40: =VLOOKUP($B40,AcceptedPlanRange,7,0) -> 7666.38 | J40: =VLOOKUP($B40,AcceptedPlanRange,8,0) -> Ee Ling Lim | K40: Proposed Production | Y40: 200 | Z40: 200 | AA40: 200 | AB40: 180 | AC40: 190 | AD40: 180 | AE40: 750 | AF40: 163 | AG40: 125 | AH40: 85 | AI40: 70 | AJ40: =SUBTOTAL(9,AF40:AI40) -> 0 | AK40: 80 | AL40: 95 | AM40: 90 | AN40: 80 | AO40: =SUBTOTAL(9,AK40:AN40) -> 0 | AP40: 23 | AQ40: 0 | AR40: 0 | AS40: 0 | AT40: =SUBTOTAL(9,AP40:AS40) -> 0
A41: =CONCATENATE(B41,"P") -> 186015006P | B41: 186015006 | C41: =VLOOKUP($B41,AcceptedPlanRange,2,0) -> ACQUITY UPLC Autosampler Mod. | D41: =VLOOKUP($B41,AcceptedPlanRange,3,0) -> MIL (US31) | F41: =VLOOKUP($B41,AcceptedPlanRange,4,0) -> LC | G41: =VLOOKUP($B41,AcceptedPlanRange,5,0) -> ACQUITY Classic | H41: =VLOOKUP($B41,AcceptedPlanRange,6,0) -> Injectors | I41: =VLOOKUP($B41,AcceptedPlanRange,7,0) -> 6257.02 | J41: =VLOOKUP($B41,AcceptedPlanRange,8,0) -> Vicky Allen | K41: Proposed Production | Y41: 150 | Z41: 150 | AA41: 136 | AB41: 186 | AC41: 139 | AD41: 116 | AE41: 577 | AF41: 170 | AG41: 125 | AH41: 40 | AI41: 20 | AJ41: =SUBTOTAL(9,AF41:AI41) -> 355 | AK41: 65 | AL41: 65 | AM41: 65 | AN41: 65 | AO41: =SUBTOTAL(9,AK41:AN41) -> 260 | AP41: 12 | AQ41: 0 | AR41: 0 | AS41: 0 | AT41: =SUBTOTAL(9,AP41:AS41) -> 12
...

Sheet Demand Plans

Sheet Production Plan by Family
A2: PLANT | B2: (Multiple Items)
A3: Product Center | B3: MS
A4: Product Line | B4: (All)
A5: Production Planner | B5: (All)
B7: Values
A8: Row Labels | B8: Sum of Q1-12 | C8: Sum of Q2-12 | D8: Sum of Q3-12 | E8: Sum of Q4-12 | F8: Sum of 2012 Total
A9: GC-MS | B9: 16 | C9: 14 | D9: 14 | E9: 12 | F9: 56
A10: Quads | B10: 152 | C10: 104 | D10: 144 | E10: 98 | F10: 498
A11: Tof | B11: 100 | C11: 110 | D11: 90 | E11: 80 | F11: 380

Sheet Production Plan by Plant
A2: Product Line | B2: (All)
A3: Production Planner | B3: (All)
A4: Product Family | B4: (All)
A5: Product Center | B5: MS
B7: Values
A8: Row Labels | B8: Sum of Q1-12 | C8: Sum of Q2-12 | D8: Sum of Q3-12 | E8: Sum of Q4-12 | F8: Sum of 2012 Total
A9: MAN (UK50)
A10: Current Production Plan | B10: 58 | C10: 62 | D10: 52 | E10: 46 | F10: 218
A11: Proposed Production | B11: 58 | C11: 62 | D11: 52 | E11: 46 | F11: 218
A12: ∆ Proposed from Current | B12: 0 | C12: 0 | D12: 0 | E12: 0
A13: WEX (EI10) | B13: 152 | C13: 104 | D13: 144 | E13: 98 | F13: 498

Sheet Production Plan by Planner
A2: Product Center | B2: MS
A3: Product Line | B3: (All)
A4: Product Family | B4: (All)
A5: PLANT | B5: (Multiple Items)
B7: Values
A8: Row Labels | B8: Q4-11 | C8: 2011 Total | D8: Sum of Q1-12 | E8: Sum of Q2-12 | F8: Sum of Q3-12 | G8: Sum of Q4-12 | H8: Sum of 2012 Total
A9: Stephen Connor | B9: 66 | C9: 136 | D9: 116 | E9: 124 | F9: 104 | G9: 92 | H9: 436
A10: Wendy Noble
A11: 186003762
A12: SQD
A13: Current Production Plan | B13: 30 | C13: 149 | D13: 25 | E13: 20 | F13: 22 | G13: 23 | H13: 90
A14: Proposed Production | B14: 20 | C14: 57 | D14: 25 | E14: 20 | F14: 22 | G14: 23 | H14: 90
A15: ∆ Proposed from Current | B15: 0 | C15: 0 | D15: 0 | E15: 0 | F15: 0 | G15: 0
A16: 186031000
A17: 3100 SQD
A18: Current Production Plan | B18: 22 | C18: 113 | D18: 26 | E18: 0 | F18: 0 | G18: 0 | H18: 26
A19: Proposed Production | B19: 25 | C19: 53 | D19: 26 | E19: 0 | F19: 0 | G19: 0 | H19: 26
A20: ∆ Proposed from Current | B20: 5 | C20: 5 | D20: 0 | E20: 0 | F20: 0 | G20: 0
A21: 186005832
A22: SQ DETECTOR 2 (Harrier SQD)
A23: Current Production Plan | B23: 3 | C23: 3 | D23: 25 | E23: 32 | F23: 50 | G23: 26 | H23: 133
A24: Proposed Production | B24: 38 | C24: 38 | D24: 25 | E24: 32 | F24: 50 | G24: 26 | H24: 133
A25: ∆ Proposed from Current | B25: -10 | C25: -10 | D25: 0 | E25: 0 | F25: 0 | G25: 0

Sheet INV Projection
A1: Product Center | B1: (Multiple Items)
A2: Description | B2: (All)
A3: PLANT | B3: (All)
A4: Product Family | B4: (All)
A5: Product Line | B5: (Multiple Items)
B7: Values
A8: Row Labels | B8: Q4-12 | C8: Q4-2013 | D8: Q1-14 | E8: Q2-14 | F8: Q3-14 | G8: Q4-14
A9: Planned Ending INV Value | B9: 19808967 | C9: 21882943 | D9: 27000459 | E9: 27334817 | F9: 27386987 | G9: 23018895
A10: Planned Ending Inv Value @ Accpt Plan | B10: 20045196 | C10: 21882943 | D10: 4603374.7 | E10: 1489173.5 | F10: 1022211 | G10: 689092.36

Sheet BExRepositorySheet

Sheet Accepted Plan
A1: 1 | B1: 2 | C1: 3 | D1: 4 | E1: 5 | F1: 6 | G1: 7 | H1: 8 | I1: 9 | J1: 10 | K1: 11 | L1: 12 | M1: 13 | N1: 14 | O1: 15 | P1: 16 | Q1: 17 | R1: 18 | S1: 19 | T1: 20 | U1: 21 | V1: 22 | W1: 23 | X1: 24 | Y1: 25 | Z1: 26 | AA1: 27 | AB1: 28 | AC1: 29 | AD1: 30 | AE1: 31 | AF1: 32 | AG1: 33 | AH1: 34 | AI1: 35 | AJ1: 36 | AK1: 37 | AL1: 38 | AM1: 39 | AN1: 40 | AO1: 41 | AP1: 42 | AQ1: 43 | AR1: 44 | AS1: 45 | AT1: 46 | AU1: 47 | AV1: 48 | AW1: 49 | AX1: 50 | AY1: 51 | AZ1: 52 | BA1: 53 | BB1: 54 | BC1: 55 | BD1: 56 | BE1: 57 | BF1: 58 | BG1: 59 | BH1: 60 | BI1: 61 | BJ1: 62 | BK1: 63 | BL1: 64 | BM1: 65 | BN1: 66 | BO1: 67 | BP1: 68 | BQ1: 69 | BR1: 70 | BS1: 71 | BT1: 72 | BU1: 73 | BV1: 74 | BW1: 75 | BX1: 76 | BY1: 77 | BZ1: 78 | CA1: 79 | CB1: 80 | CC1: 81 | CD1: 82 | CE1: 83 | CF1: 84 | CG1: 85 | CH1: 86 | CI1: 87 | CJ1: 88 | CK1: 89 | CL1: 90 | CM1: 91 | CN1: 92 | CO1: 93 | CP1: 94 | CQ1: 95 | CR1: 96 | CS1: 97 | CT1: 98 | CU1: 99 | CV1: 100 | CW1: 101 | CX1: 102 | CY1: 103 | CZ1: 104 | DA1: 105 | DB1: 106 | DC1: 107 | DD1: 108 | DE1: 109 | DF1: 110 | DG1: 111 | DH1: 112 | DI1: 113 | DJ1: 114 | DK1: 115 | DL1: 67
A2: 1 | B2: 2 | C2: 1 | D2: 2 | E2: 3 | F2: 4 | G2: 5 | H2: 6 | I2: 7 | J2: 8 | K2: 9 | L2: 10 | M2: 11 | N2: 12 | O2: 13 | P2: 14 | Q2: 15 | R2: 16 | S2: 17 | T2: 18 | U2: 19 | V2: 20 | W2: 21 | X2: 22 | Y2: 23 | Z2: 24 | AA2: 25 | AB2: 26 | AC2: 27 | AD2: 28 | AE2: 29 | AF2: 30 | AG2: 31 | AH2: 32 | AI2: 33 | AJ2: 34 | AK2: 35 | AL2: 36 | AM2: 37 | AN2: 38 | AO2: 39 | AP2: 40 | AQ2: 41 | AR2: 42 | AS2: 43 | AT2: 44 | AU2: 45 | AV2: 46 | AW2: 47 | AX2: 48 | AY2: 49 | AZ2: 50 | BA2: 51 | BB2: 52 | BC2: 53 | BD2: 54 | BE2: 55 | BF2: 56 | BG2: 57 | BH2: 58 | BI2: 59 | BJ2: 60 | BK2: 61 | BL2: 62 | BM2: 63 | BN2: 64 | BO2: 65 | BP2: 66 | BQ2: 67 | BR2: 68 | BS2: 69 | BT2: 70 | BU2: 71 | BV2: 72 | BW2: 73 | BX2: 74 | BY2: 75 | BZ2: 76 | CA2: 77 | CB2: 78 | CC2: 79 | CD2: 80 | CE2: 81 | CF2: 82 | CG2: 83 | CH2: 84 | CI2: 85 | CJ2: 86 | CK2: 87 | CL2: 88 | CM2: 89 | CN2: 90 | CO2: 91 | CP2: 92 | CQ2: 93 | CR2: 94 | CS2: 95 | CT2: 96 | CU2: 97 | CV2: 98 | CW2: 99 | CX2: 100 | CY2: 101 | CZ2: 102 | DA2: 103 | DB2: 104 | DC2: 105 | DD2: 106 | DE2: 107 | DF2: 108 | DG2: 109 | DH2: 110 | DI2: 111 | DJ2: 112 | DK2: 113 | DL2: 67
L3: CURRENT PLAN | AG3: PROPOSED PLAN | BB3: Delta Proposed minus Current | BW3: ACCEPTED PLAN | CR3: Delta Accepted minus Proposed
C4: As of: 6th Janauary 2014 PART NUMBER | D4: DESCRIPTION | E4: PLANT | F4: PRODUCT CENTER | G4: PRODUCT FAMILY | H4: PRODUCT LINE | I4: MANUFACTURING COST | J4: PRODUCT PLANNER | L4: ACTUAL Q1-12 | M4: ACTUAL Q2-12 | N4: ACTUAL Q3-12 | O4: ACTUAL Q4-12 | P4: Full Year 2012 | Q4: Q1-13 | R4: Q2-13 | S4: Q3-13 | T4: Q4-13 | U4: Full Year 2013 | V4: Q1-14 | W4: Q2-14 | X4: Q3-14 | Y4: Q4-14 | Z4: Full Year 2014 | AA4: Q1-15 | AB4: Q2-15 | AC4: Q3-15 | AD4: Q4-15 | AE4: Full Year 2015 | AG4: ACTUAL Q1-12 | AH4: ACTUAL Q2-12 | AI4: ACTUAL Q3-12 | AJ4: ACTUAL Q4-12 | AK4: Full Year 2012 | AL4: Q1-13 | AM4: Q2-13 | AN4: Q3-13 | AO4: Q4-13 | AP4: Full Year 2013 | AQ4: Q1-14 | AR4: Q2-14 | AS4: Q3-14 | AT4: Q4-14 | AU4: Full Year 2014 | AV4: Q1-15 | AW4: Q2-15 | AX4: Q3-15 | AY4: Q4-15 | AZ4: Full Year 2015 | BB4: Q1-12 | BC4: Q2-12 | BD4: Q3-12 | BE4: Q4-12 | BF4: Full Year 2012 | BG4: Q1-13 | BH4: Q2-13 | BI4: Q3-13 | BJ4: Q4-13 | BK4: Full Year 2013 | BL4: Q1-14 | BM4: Q2-14 | BN4: Q3-14 | BO4: Q4-14 | BP4: Full Year 2014 | BQ4: Q1-15 | BR4: Q2-15 | BS4: Q3-15 | BT4: Q4-15 | BU4: Full Year 2015 | BW4: ACTUAL Q1-12 | BX4: ACTUAL Q2-12 | BY4: ACTUAL Q3-12 | BZ4: ACTUAL Q4-12 | CA4: Full Year 2012 | CB4: Q1-13 | CC4: Q2-13 | CD4: Q3-13 | CE4: Q4-13 | CF4: Full Year 2013 | CG4: Q1-14 | CH4: Q2-14 | CI4: Q3-14 | CJ4: Q4-14 | CK4: Full Year 2014 | CL4: Q1-15 | CM4: Q2-15 | CN4: Q3-15 | CO4: Q4-15 | CP4: Full Year 2015 | CR4: Q1-12 | CS4: Q2-12 | CT4: Q3-12 | CU4: Q4-12 | CV4: Full Year 2012 | CW4: Q1-13 | CX4: Q2-13 | CY4: Q3-13 | CZ4: Q4-13 | DA4: Full Year 2013 | DB4: Q1-14 | DC4: Q2-14 | DD4: Q3-14 | DE4: Q4-14 | DF4: Full Year 2014 | DG4: Q1-15 | DH4: Q2-15 | DI4: Q3-15 | DJ4: Q4-15 | DK4: Full Year 2015 | DL4: COMMENTS
A5: =CONCATENATE(C5,"P") -> 176000613P | B5: =CONCATENATE(C5,"C") -> 176000613C | C5: 176000613 | D5: QUATTRO MICRO GC-MS/MS | E5: MAN (UK50) | F5: MS | G5: GC-MS | H5: GC-MS | I5: 71227.42 | J5: Stephen Connor | L5: 0 | M5: 0 | N5: 0 | O5: 0 | P5: =SUM(L5:O5) -> 0 | Q5: 0 | R5: 0 | S5: 0 | T5: 0 | U5: =SUM(Q5:T5) -> 0 | V5: 0 | W5: 0 | X5: 0 | Y5: 0 | Z5: =SUM(V5:Y5) -> 0 | AA5: 0 | AB5: 0 | AC5: 0 | AD5: 0 | AE5: =SUM(AA5:AD5) -> 0 | AG5: =VLOOKUP($A5,MasterData,27,FALSE) -> 0 | AH5: =VLOOKUP($A5,MasterData,28,FALSE) -> 0 | AI5: =VLOOKUP($A5,MasterData,29,FALSE) -> 0 | AJ5: =VLOOKUP($A5,MasterData,30,FALSE) -> 0 | AK5: =SUM(AG5:AJ5) -> 0 | AL5: =VLOOKUP($A5,MasterData,32,FALSE) -> 0 | AM5: =VLOOKUP($A5,MasterData,33,FALSE) -> 0 | AN5: =VLOOKUP($A5,MasterData,34,FALSE) -> 0 | AO5: =VLOOKUP($A5,MasterData,35,FALSE) -> 0 | AP5: =SUM(AL5:AO5) -> 0 | AQ5: =VLOOKUP($A5,MasterData,37,FALSE) -> 0 | AR5: =VLOOKUP($A5,MasterData,38,FALSE) -> 0 | AS5: =VLOOKUP($A5,MasterData,39,FALSE) -> 0 | AT5: =VLOOKUP($A5,MasterData,40,FALSE) -> 0 | AU5: =SUM(AQ5:AT5) -> 0 | AV5: =VLOOKUP($A5,MasterData,42,FALSE) -> 0 | AW5: =VLOOKUP($A5,MasterData,43,FALSE) -> 0 | AX5: =VLOOKUP($A5,MasterData,44,FALSE) -> 0 | AY5: =VLOOKUP($A5,MasterData,45,FALSE) -> 0 | AZ5: =SUM(AV5:AY5) -> 0 | BB5: =AG5-L5 -> 0 | BC5: =AH5-M5 -> 0 | BD5: =AI5-N5 -> 0 | BE5: =AJ5-O5 -> 0 | BF5: =AK5-P5 -> 0 | BG5: =AL5-Q5 -> 0 | BH5: =AM5-R5 -> 0 | BI5: =AN5-S5 -> 0 | ... BU5: =AZ5-AE5 -> 0 | BW5: 0 | BX5: 0 | BY5: 0 | BZ5: 0 | CA5: =SUM(BW5:BZ5) -> 0 | CB5: 0 | CC5: 0 | CD5: 0 | CE5: 0 | CF5: =SUM(CB5:CE5) -> 0 | CK5: =SUM(CG5:CJ5) -> 0 | CN5: 0 | CO5: 0 | CP5: =SUM(CL5:CO5) -> 0 | CR5: =BW5-AG5 -> 0 | CS5: =BX5-AH5 -> 0 | CT5: =BY5-AI5 -> 0 | CU5: =BZ5-AJ5 -> 0 | CV5: =CA5-AK5 -> 0 | CW5: =CB5-AL5 -> 0 | CX5: =CC5-AM5 -> 0 | CY5: =CD5-AN5 -> 0 | ... DK5: =CP5-AZ5 -> 0
A6: =CONCATENATE(C6,"P") -> 176000851P | B6: =CONCATENATE(C6,"C") -> 176000851C | C6: 176000851 | D6: AutoSpec Premier | E6: MAN (UK50) | F6: MS | G6: GC-MS | H6: GC-MS | I6: 166042.37 | J6: Stephen Connor | L6: 4 | M6: 5 | N6: 7 | O6: 6 | P6: =SUM(L6:O6) -> 22 | Q6: 7 | R6: 5 | S6: 4 | T6: 5 | U6: =SUM(Q6:T6) -> 21 | V6: 4 | W6: 4 | X6: 4 | Y6: 4 | Z6: =SUM(V6:Y6) -> 16 | AA6: 0 | AB6: 0 | AC6: 0 | AD6: 0 | AE6: =SUM(AA6:AD6) -> 0 | AG6: =VLOOKUP($A6,MasterData,27,FALSE) -> 4 | AH6: =VLOOKUP($A6,MasterData,28,FALSE) -> 5 | AI6: =VLOOKUP($A6,MasterData,29,FALSE) -> 7 | AJ6: =VLOOKUP($A6,MasterData,30,FALSE) -> 6 | AK6: =SUM(AG6:AJ6) -> 22 | AL6: =VLOOKUP($A6,MasterData,32,FALSE) -> 7 | AM6: =VLOOKUP($A6,MasterData,33,FALSE) -> 5 | AN6: =VLOOKUP($A6,MasterData,34,FALSE) -> 4 | AO6: =VLOOKUP($A6,MasterData,35,FALSE) -> 5 | AP6: =SUM(AL6:AO6) -> 21 | AQ6: =VLOOKUP($A6,MasterData,37,FALSE) -> 4 | AR6: =VLOOKUP($A6,MasterData,38,FALSE) -> 4 | AS6: =VLOOKUP($A6,MasterData,39,FALSE) -> 4 | AT6: =VLOOKUP($A6,MasterData,40,FALSE) -> 4 | AU6: =SUM(AQ6:AT6) -> 16 | AV6: =VLOOKUP($A6,MasterData,42,FALSE) -> 0 | AW6: =VLOOKUP($A6,MasterData,43,FALSE) -> 0 | AX6: =VLOOKUP($A6,MasterData,44,FALSE) -> 0 | AY6: =VLOOKUP($A6,MasterData,45,FALSE) -> 0 | AZ6: =SUM(AV6:AY6) -> 0 | BB6: =AG6-L6 -> 0 | BC6: =AH6-M6 -> 0 | BD6: =AI6-N6 -> 0 | BE6: =AJ6-O6 -> 0 | BF6: =AK6-P6 -> 0 | BG6: =AL6-Q6 -> 0 | BH6: =AM6-R6 -> 0 | BI6: =AN6-S6 -> 0 | ... BU6: =AZ6-AE6 -> 0 | BW6: 4 | BX6: 5 | BY6: 7 | BZ6: 6 | CA6: =SUM(BW6:BZ6) -> 22 | CB6: 7 | CC6: 5 | CD6: 4 | CE6: 5 | CF6: =SUM(CB6:CE6) -> 21 | CK6: =SUM(CG6:CJ6) -> 0 | CN6: 0 | CO6: 0 | CP6: =SUM(CL6:CO6) -> 0 | CR6: =BW6-AG6 -> 0 | CS6: =BX6-AH6 -> 0 | CT6: =BY6-AI6 -> 0 | CU6: =BZ6-AJ6 -> 0 | CV6: =CA6-AK6 -> 0 | CW6: =CB6-AL6 -> 0 | CX6: =CC6-AM6 -> 0 | CY6: =CD6-AN6 -> 0 | ... DK6: =CP6-AZ6 -> 0
A7: =CONCATENATE(C7,"P") -> 176000972P | B7: =CONCATENATE(C7,"C") -> 176000972C | C7: 176000972 | D7: GCT Premier Instrument | E7: MAN (UK50) | F7: MS | G7: GC-MS | H7: GC-MS | I7: 0 | J7: Stephen Connor | L7: 4 | M7: 2 | N7: 0 | O7: 0 | P7: =SUM(L7:O7) -> 6 | Q7: 0 | R7: 0 | S7: 0 | T7: 0 | U7: =SUM(Q7:T7) -> 0 | V7: 0 | W7: 0 | X7: 0 | Y7: 0 | Z7: =SUM(V7:Y7) -> 0 | AA7: 0 | AB7: 0 | AC7: 0 | AD7: 0 | AE7: =SUM(AA7:AD7) -> 0 | AG7: =VLOOKUP($A7,MasterData,27,FALSE) -> 4 | AH7: =VLOOKUP($A7,MasterData,28,FALSE) -> 2 | AI7: =VLOOKUP($A7,MasterData,29,FALSE) -> 0 | AJ7: =VLOOKUP($A7,MasterData,30,FALSE) -> 0 | AK7: =SUM(AG7:AJ7) -> 6 | AL7: =VLOOKUP($A7,MasterData,32,FALSE) -> 0 | AM7: =VLOOKUP($A7,MasterData,33,FALSE) -> 0 | AN7: =VLOOKUP($A7,MasterData,34,FALSE) -> 0 | AO7: =VLOOKUP($A7,MasterData,35,FALSE) -> 0 | AP7: =SUM(AL7:AO7) -> 0 | AQ7: =VLOOKUP($A7,MasterData,37,FALSE) -> 0 | AR7: =VLOOKUP($A7,MasterData,38,FALSE) -> 0 | AS7: =VLOOKUP($A7,MasterData,39,FALSE) -> 0 | AT7: =VLOOKUP($A7,MasterData,40,FALSE) -> 0 | AU7: =SUM(AQ7:AT7) -> 0 | AV7: =VLOOKUP($A7,MasterData,42,FALSE) -> 0 | AW7: =VLOOKUP($A7,MasterData,43,FALSE) -> 0 | AX7: =VLOOKUP($A7,MasterData,44,FALSE) -> 0 | AY7: =VLOOKUP($A7,MasterData,45,FALSE) -> 0 | AZ7: =SUM(AV7:AY7) -> 0 | BB7: =AG7-L7 -> 0 | BC7: =AH7-M7 -> 0 | BD7: =AI7-N7 -> 0 | BE7: =AJ7-O7 -> 0 | BF7: =AK7-P7 -> 0 | BG7: =AL7-Q7 -> 0 | BH7: =AM7-R7 -> 0 | BI7: =AN7-S7 -> 0 | ... BU7: =AZ7-AE7 -> 0 | BW7: 4 | BX7: 2 | BY7: 0 | BZ7: 0 | CA7: =SUM(BW7:BZ7) -> 6 | CB7: 0 | CC7: 0 | CD7: 0 | CE7: 0 | CF7: =SUM(CB7:CE7) -> 0 | CK7: =SUM(CG7:CJ7) -> 0 | CN7: 0 | CO7: 0 | CP7: =SUM(CL7:CO7) -> 0 | CR7: =BW7-AG7 -> 0 | CS7: =BX7-AH7 -> 0 | CT7: =BY7-AI7 -> 0 | CU7: =BZ7-AJ7 -> 0 | CV7: =CA7-AK7 -> 0 | CW7: =CB7-AL7 -> 0 | CX7: =CC7-AM7 -> 0 | CY7: =CD7-AN7 -> 0 | ... DK7: =CP7-AZ7 -> 0
A8: =CONCATENATE(C8,"P") -> 186000321P | B8: =CONCATENATE(C8,"C") -> 186000321C | C8: 186000321 | D8: ASSY, POST COLUMN REACTION MODULE | E8: MIL (US31) | F8: LC | G8: Legacy LC | H8: Accessories | I8: 1520.17 | J8: Sharon Bibbo | L8: 36 | M8: 49 | N8: 34 | O8: 54 | P8: =SUM(L8:O8) -> 173 | Q8: 40 | R8: 35 | S8: 35 | T8: 20 | U8: =SUM(Q8:T8) -> 130 | V8: 35 | W8: 35 | X8: 35 | Y8: 40 | Z8: =SUM(V8:Y8) -> 145 | AA8: 20 | AB8: 0 | AC8: 0 | AD8: 0 | AE8: =SUM(AA8:AD8) -> 20 | AG8: =VLOOKUP($A8,MasterData,27,FALSE) -> 36 | AH8: =VLOOKUP($A8,MasterData,28,FALSE) -> 49 | AI8: =VLOOKUP($A8,MasterData,29,FALSE) -> 34 | AJ8: =VLOOKUP($A8,MasterData,30,FALSE) -> 54 | AK8: =SUM(AG8:AJ8) -> 173 | AL8: =VLOOKUP($A8,MasterData,32,FALSE) -> 40 | AM8: =VLOOKUP($A8,MasterData,33,FALSE) -> 35 | AN8: =VLOOKUP($A8,MasterData,34,FALSE) -> 35 | AO8: =VLOOKUP($A8,MasterData,35,FALSE) -> 20 | AP8: =SUM(AL8:AO8) -> 130 | AQ8: =VLOOKUP($A8,MasterData,37,FALSE) -> 25 | AR8: =VLOOKUP($A8,MasterData,38,FALSE) -> 30 | AS8: =VLOOKUP($A8,MasterData,39,FALSE) -> 30 | AT8: =VLOOKUP($A8,MasterData,40,FALSE) -> 35 | AU8: =SUM(AQ8:AT8) -> 120 | AV8: =VLOOKUP($A8,MasterData,42,FALSE) -> 20 | AW8: =VLOOKUP($A8,MasterData,43,FALSE) -> 38 | AX8: =VLOOKUP($A8,MasterData,44,FALSE) -> 0 | AY8: =VLOOKUP($A8,MasterData,45,FALSE) -> 0 | AZ8: =SUM(AV8:AY8) -> 58 | BB8: =AG8-L8 -> 0 | BC8: =AH8-M8 -> 0 | BD8: =AI8-N8 -> 0 | BE8: =AJ8-O8 -> 0 | BF8: =AK8-P8 -> 0 | BG8: =AL8-Q8 -> 0 | BH8: =AM8-R8 -> 0 | BI8: =AN8-S8 -> 0 | ... BU8: =AZ8-AE8 -> 38 | BW8: 36 | BX8: 49 | BY8: 34 | BZ8: 54 | CA8: =SUM(BW8:BZ8) -> 173 | CB8: 40 | CC8: 35 | CD8: 35 | CE8: 20 | CF8: =SUM(CB8:CE8) -> 130 | CK8: =SUM(CG8:CJ8) -> 0 | CN8: 0 | CO8: 0 | CP8: =SUM(CL8:CO8) -> 0 | CR8: =BW8-AG8 -> 0 | CS8: =BX8-AH8 -> 0 | CT8: =BY8-AI8 -> 0 | CU8: =BZ8-AJ8 -> 0 | CV8: =CA8-AK8 -> 0 | CW8: =CB8-AL8 -> 0 | CX8: =CC8-AM8 -> 0 | CY8: =CD8-AN8 -> 0 | ... DK8: =CP8-AZ8 -> -58
A9: =CONCATENATE(C9,"P") -> 186000872P | B9: =CONCATENATE(C9,"C") -> 186000872C | C9: 186000872 | D9: KIT, 7725I MANUAL INJECTOR,1500 SERIES | E9: MIL (US31) | F9: LC | G9: Legacy LC | H9: Accessories | I9: 478.46 | J9: Paul Brusco | L9: 55 | M9: 90 | N9: 50 | O9: 120 | P9: =SUM(L9:O9) -> 315 | Q9: 40 | R9: 60 | S9: 45 | T9: 40 | U9: =SUM(Q9:T9) -> 185 | V9: 50 | W9: 60 | X9: 60 | Y9: 50 | Z9: =SUM(V9:Y9) -> 220 | AA9: 50 | AB9: 0 | AC9: 0 | AD9: 0 | AE9: =SUM(AA9:AD9) -> 50 | AG9: =VLOOKUP($A9,MasterData,27,FALSE) -> 55 | AH9: =VLOOKUP($A9,MasterData,28,FALSE) -> 90 | AI9: =VLOOKUP($A9,MasterData,29,FALSE) -> 50 | AJ9: =VLOOKUP($A9,MasterData,30,FALSE) -> 120 | AK9: =SUM(AG9:AJ9) -> 315 | AL9: =VLOOKUP($A9,MasterData,32,FALSE) -> 40 | AM9: =VLOOKUP($A9,MasterData,33,FALSE) -> 60 | AN9: =VLOOKUP($A9,MasterData,34,FALSE) -> 45 | AO9: =VLOOKUP($A9,MasterData,35,FALSE) -> 40 | AP9: =SUM(AL9:AO9) -> 185 | AQ9: =VLOOKUP($A9,MasterData,37,FALSE) -> 45 | AR9: =VLOOKUP($A9,MasterData,38,FALSE) -> 50 | AS9: =VLOOKUP($A9,MasterData,39,FALSE) -> 50 | AT9: =VLOOKUP($A9,MasterData,40,FALSE) -> 55 | AU9: =SUM(AQ9:AT9) -> 200 | AV9: =VLOOKUP($A9,MasterData,42,FALSE) -> 50 | AW9: =VLOOKUP($A9,MasterData,43,FALSE) -> 55 | AX9: =VLOOKUP($A9,MasterData,44,FALSE) -> 0 | AY9: =VLOOKUP($A9,MasterData,45,FALSE) -> 0 | AZ9: =SUM(AV9:AY9) -> 105 | BB9: =AG9-L9 -> 0 | BC9: =AH9-M9 -> 0 | BD9: =AI9-N9 -> 0 | BE9: =AJ9-O9 -> 0 | BF9: =AK9-P9 -> 0 | BG9: =AL9-Q9 -> 0 | BH9: =AM9-R9 -> 0 | BI9: =AN9-S9 -> 0 | ... BU9: =AZ9-AE9 -> 55 | BW9: 55 | BX9: 90 | BY9: 50 | BZ9: 120 | CA9: =SUM(BW9:BZ9) -> 315 | CB9: 40 | CC9: 60 | CD9: 45 | CE9: 40 | CF9: =SUM(CB9:CE9) -> 185 | CK9: =SUM(CG9:CJ9) -> 0 | CN9: 0 | CO9: 0 | CP9: =SUM(CL9:CO9) -> 0 | CR9: =BW9-AG9 -> 0 | CS9: =BX9-AH9 -> 0 | CT9: =BY9-AI9 -> 0 | CU9: =BZ9-AJ9 -> 0 | CV9: =CA9-AK9 -> 0 | CW9: =CB9-AL9 -> 0 | CX9: =CC9-AM9 -> 0 | CY9: =CD9-AN9 -> 0 | ... DK9: =CP9-AZ9 -> -105
A10: =CONCATENATE(C10,"P") -> 186001500P | B10: =CONCATENATE(C10,"C") -> 186001500C | C10: 186001500 | D10: 1500 COLUMN HEATER | E10: WPPL (SG20) | F10: LC | G10: Legacy LC | H10: Accessories | I10: 774.9 | J10: Ee Ling Lim | L10: 60 | M10: 80 | N10: 90 | O10: 80 | P10: =SUM(L10:O10) -> 310 | Q10: 30 | R10: 32 | S10: 38 | T10: 30 | U10: =SUM(Q10:T10) -> 130 | V10: 60 | W10: 60 | X10: 60 | Y10: 60 | Z10: =SUM(V10:Y10) -> 240 | AA10: 0 | AB10: 0 | AC10: 0 | AD10: 0 | AE10: =SUM(AA10:AD10) -> 0 | AG10: =VLOOKUP($A10,MasterData,27,FALSE) -> 60 | AH10: =VLOOKUP($A10,MasterData,28,FALSE) -> 80 | AI10: =VLOOKUP($A10,MasterData,29,FALSE) -> 90 | AJ10: =VLOOKUP($A10,MasterData,30,FALSE) -> 80 | AK10: =SUM(AG10:AJ10) -> 310 | AL10: =VLOOKUP($A10,MasterData,32,FALSE) -> 30 | AM10: =VLOOKUP($A10,MasterData,33,FALSE) -> 32 | AN10: =VLOOKUP($A10,MasterData,34,FALSE) -> 38 | AO10: =VLOOKUP($A10,MasterData,35,FALSE) -> 30 | AP10: =SUM(AL10:AO10) -> 130 | AQ10: =VLOOKUP($A10,MasterData,37,FALSE) -> 60 | AR10: =VLOOKUP($A10,MasterData,38,FALSE) -> 55 | AS10: =VLOOKUP($A10,MasterData,39,FALSE) -> 50 | AT10: =VLOOKUP($A10,MasterData,40,FALSE) -> 55 | AU10: =SUM(AQ10:AT10) -> 220 | AV10: =VLOOKUP($A10,MasterData,42,FALSE) -> 50 | AW10: =VLOOKUP($A10,MasterData,43,FALSE) -> 60 | AX10: =VLOOKUP($A10,MasterData,44,FALSE) -> 0 | AY10: =VLOOKUP($A10,MasterData,45,FALSE) -> 0 | AZ10: =SUM(AV10:AY10) -> 110 | BB10: =AG10-L10 -> 0 | BC10: =AH10-M10 -> 0 | BD10: =AI10-N10 -> 0 | BE10: =AJ10-O10 -> 0 | BF10: =AK10-P10 -> 0 | BG10: =AL10-Q10 -> 0 | BH10: =AM10-R10 -> 0 | BI10: =AN10-S10 -> 0 | ... BU10: =AZ10-AE10 -> 110 | BW10: 60 | BX10: 80 | BY10: 90 | BZ10: 80 | CA10: =SUM(BW10:BZ10) -> 310 | CB10: 30 | CC10: 32 | CD10: 38 | CE10: 30 | CF10: =SUM(CB10:CE10) -> 130 | CK10: =SUM(CG10:CJ10) -> 0 | CN10: 0 | CO10: 0 | CP10: =SUM(CL10:CO10) -> 0 | CR10: =BW10-AG10 -> 0 | CS10: =BX10-AH10 -> 0 | CT10: =BY10-AI10 -> 0 | CU10: =BZ10-AJ10 -> 0 | CV10: =CA10-AK10 -> 0 | CW10: =CB10-AL10 -> 0 | CX10: =CC10-AM10 -> 0 | CY10: =CD10-AN10 -> 0 | ... DK10: =CP10-AZ10 -> -110
A11: =CONCATENATE(C11,"P") -> 186001515P | B11: =CONCATENATE(C11,"C") -> 186001515C | C11: 186001515 | D11: 1515 ISOCRATIC HPLC PUMP | E11: WPPL (SG20) | F11: LC | G11: Legacy LC | H11: Pumps | I11: 2646.3 | J11: Ee Ling Lim | L11: 25 | M11: 49 | N11: 40 | O11: 55 | P11: =SUM(L11:O11) -> 169 | Q11: 30 | R11: 50 | S11: 40 | T11: 30 | U11: =SUM(Q11:T11) -> 150 | V11: 25 | W11: 25 | X11: 25 | Y11: 25 | Z11: =SUM(V11:Y11) -> 100 | AA11: 0 | AB11: 0 | AC11: 0 | AD11: 0 | AE11: =SUM(AA11:AD11) -> 0 | AG11: =VLOOKUP($A11,MasterData,27,FALSE) -> 25 | AH11: =VLOOKUP($A11,MasterData,28,FALSE) -> 49 | AI11: =VLOOKUP($A11,MasterData,29,FALSE) -> 40 | AJ11: =VLOOKUP($A11,MasterData,30,FALSE) -> 55 | AK11: =SUM(AG11:AJ11) -> 169 | AL11: =VLOOKUP($A11,MasterData,32,FALSE) -> 30 | AM11: =VLOOKUP($A11,MasterData,33,FALSE) -> 50 | AN11: =VLOOKUP($A11,MasterData,34,FALSE) -> 40 | AO11: =VLOOKUP($A11,MasterData,35,FALSE) -> 30 | AP11: =SUM(AL11:AO11) -> 150 | AQ11: =VLOOKUP($A11,MasterData,37,FALSE) -> 30 | AR11: =VLOOKUP($A11,MasterData,38,FALSE) -> 30 | AS11: =VLOOKUP($A11,MasterData,39,FALSE) -> 20 | AT11: =VLOOKUP($A11,MasterData,40,FALSE) -> 25 | AU11: =SUM(AQ11:AT11) -> 105 | AV11: =VLOOKUP($A11,MasterData,42,FALSE) -> 30 | AW11: =VLOOKUP($A11,MasterData,43,FALSE) -> 42 | AX11: =VLOOKUP($A11,MasterData,44,FALSE) -> 0 | AY11: =VLOOKUP($A11,MasterData,45,FALSE) -> 0 | AZ11: =SUM(AV11:AY11) -> 72 | BB11: =AG11-L11 -> 0 | BC11: =AH11-M11 -> 0 | BD11: =AI11-N11 -> 0 | BE11: =AJ11-O11 -> 0 | BF11: =AK11-P11 -> 0 | BG11: =AL11-Q11 -> 0 | BH11: =AM11-R11 -> 0 | BI11: =AN11-S11 -> 0 | ... BU11: =AZ11-AE11 -> 72 | BW11: 25 | BX11: 49 | BY11: 40 | BZ11: 55 | CA11: =SUM(BW11:BZ11) -> 169 | CB11: 30 | CC11: 50 | CD11: 40 | CE11: 30 | CF11: =SUM(CB11:CE11) -> 150 | CK11: =SUM(CG11:CJ11) -> 0 | CN11: 0 | CO11: 0 | CP11: =SUM(CL11:CO11) -> 0 | CR11: =BW11-AG11 -> 0 | CS11: =BX11-AH11 -> 0 | CT11: =BY11-AI11 -> 0 | CU11: =BZ11-AJ11 -> 0 | CV11: =CA11-AK11 -> 0 | CW11: =CB11-AL11 -> 0 | CX11: =CC11-AM11 -> 0 | CY11: =CD11-AN11 -> 0 | ... DK11: =CP11-AZ11 -> -72
A12: =CONCATENATE(C12,"P") -> 186001525P | B12: =CONCATENATE(C12,"C") -> 186001525C | C12: 186001525 | D12: 1525 BINARY HPLC PUMP | E12: WPPL (SG20) | F12: LC | G12: Legacy LC | H12: Pumps | I12: 3658.17 | J12: Ee Ling Lim | L12: 95 | M12: 100 | N12: 120 | O12: 80 | P12: =SUM(L12:O12) -> 395 | Q12: 60 | R12: 90 | S12: 70 | T12: 55 | U12: =SUM(Q12:T12) -> 275 | V12: 65 | W12: 75 | X12: 75 | Y12: 70 | Z12: =SUM(V12:Y12) -> 285 | AA12: 0 | AB12: 0 | AC12: 0 | AD12: 0 | AE12: =SUM(AA12:AD12) -> 0 | AG12: =VLOOKUP($A12,MasterData,27,FALSE) -> 95 | AH12: =VLOOKUP($A12,MasterData,28,FALSE) -> 100 | AI12: =VLOOKUP($A12,MasterData,29,FALSE) -> 120 | AJ12: =VLOOKUP($A12,MasterData,30,FALSE) -> 80 | AK12: =SUM(AG12:AJ12) -> 395 | AL12: =VLOOKUP($A12,MasterData,32,FALSE) -> 60 | AM12: =VLOOKUP($A12,MasterData,33,FALSE) -> 90 | AN12: =VLOOKUP($A12,MasterData,34,FALSE) -> 70 | AO12: =VLOOKUP($A12,MasterData,35,FALSE) -> 55 | AP12: =SUM(AL12:AO12) -> 275 | AQ12: =VLOOKUP($A12,MasterData,37,FALSE) -> 70 | AR12: =VLOOKUP($A12,MasterData,38,FALSE) -> 70 | AS12: =VLOOKUP($A12,MasterData,39,FALSE) -> 65 | AT12: =VLOOKUP($A12,MasterData,40,FALSE) -> 70 | AU12: =SUM(AQ12:AT12) -> 275 | AV12: =VLOOKUP($A12,MasterData,42,FALSE) -> 0 | AW12: =VLOOKUP($A12,MasterData,43,FALSE) -> 0 | AX12: =VLOOKUP($A12,MasterData,44,FALSE) -> 0 | AY12: =VLOOKUP($A12,MasterData,45,FALSE) -> 0 | AZ12: =SUM(AV12:AY12) -> 0 | BB12: =AG12-L12 -> 0 | BC12: =AH12-M12 -> 0 | BD12: =AI12-N12 -> 0 | BE12: =AJ12-O12 -> 0 | BF12: =AK12-P12 -> 0 | BG12: =AL12-Q12 -> 0 | BH12: =AM12-R12 -> 0 | BI12: =AN12-S12 -> 0 | ... BU12: =AZ12-AE12 -> 0 | BW12: 95 | BX12: 100 | BY12: 120 | BZ12: 80 | CA12: =SUM(BW12:BZ12) -> 395 | CB12: 60 | CC12: 90 | CD12: 70 | CE12: 55 | CF12: =SUM(CB12:CE12) -> 275 | CK12: =SUM(CG12:CJ12) -> 0 | CN12: 0 | CO12: 0 | CP12: =SUM(CL12:CO12) -> 0 | CR12: =BW12-AG12 -> 0 | CS12: =BX12-AH12 -> 0 | CT12: =BY12-AI12 -> 0 | CU12: =BZ12-AJ12 -> 0 | CV12: =CA12-AK12 -> 0 | CW12: =CB12-AL12 -> 0 | CX12: =CC12-AM12 -> 0 | CY12: =CD12-AN12 -> 0 | ... DK12: =CP12-AZ12 -> 0
A13: =CONCATENATE(C13,"P") -> 186001791P | B13: =CONCATENATE(C13,"C") -> 186001791C | C13: 186001791 | D13: ALLIANCE COL. HEATER COOLER | E13: WPPL (SG20) | F13: LC | G13: Alliance | H13: Column Managers | I13: 837.72 | J13: Ee Ling Lim | L13: 330 | M13: 390 | N13: 350 | O13: 430 | P13: =SUM(L13:O13) -> 1500 | Q13: 185 | R13: 20 | S13: 30 | T13: 30 | U13: =SUM(Q13:T13) -> 265 | V13: 30 | W13: 35 | X13: 35 | Y13: 35 | Z13: =SUM(V13:Y13) -> 135 | AA13: 0 | AB13: 0 | AC13: 0 | AD13: 0 | AE13: =SUM(AA13:AD13) -> 0 | AG13: =VLOOKUP($A13,MasterData,27,FALSE) -> 330 | AH13: =VLOOKUP($A13,MasterData,28,FALSE) -> 390 | AI13: =VLOOKUP($A13,MasterData,29,FALSE) -> 350 | AJ13: =VLOOKUP($A13,MasterData,30,FALSE) -> 430 | AK13: =SUM(AG13:AJ13) -> 1500 | AL13: =VLOOKUP($A13,MasterData,32,FALSE) -> 185 | AM13: =VLOOKUP($A13,MasterData,33,FALSE) -> 20 | AN13: =VLOOKUP($A13,MasterData,34,FALSE) -> 30 | AO13: =VLOOKUP($A13,MasterData,35,FALSE) -> 30 | AP13: =SUM(AL13:AO13) -> 265 | AQ13: =VLOOKUP($A13,MasterData,37,FALSE) -> 40 | AR13: =VLOOKUP($A13,MasterData,38,FALSE) -> 40 | AS13: =VLOOKUP($A13,MasterData,39,FALSE) -> 35 | AT13: =VLOOKUP($A13,MasterData,40,FALSE) -> 35 | AU13: =SUM(AQ13:AT13) -> 150 | AV13: =VLOOKUP($A13,MasterData,42,FALSE) -> 0 | AW13: =VLOOKUP($A13,MasterData,43,FALSE) -> 0 | AX13: =VLOOKUP($A13,MasterData,44,FALSE) -> 0 | AY13: =VLOOKUP($A13,MasterData,45,FALSE) -> 0 | AZ13: =SUM(AV13:AY13) -> 0 | BB13: =AG13-L13 -> 0 | BC13: =AH13-M13 -> 0 | BD13: =AI13-N13 -> 0 | BE13: =AJ13-O13 -> 0 | BF13: =AK13-P13 -> 0 | BG13: =AL13-Q13 -> 0 | BH13: =AM13-R13 -> 0 | BI13: =AN13-S13 -> 0 | ... BU13: =AZ13-AE13 -> 0 | BW13: 330 | BX13: 390 | BY13: 350 | BZ13: 430 | CA13: =SUM(BW13:BZ13) -> 1500 | CB13: 185 | CC13: 20 | CD13: 30 | CE13: 30 | CF13: =SUM(CB13:CE13) -> 265 | CK13: =SUM(CG13:CJ13) -> 0 | CN13: 0 | CO13: 0 | CP13: =SUM(CL13:CO13) -> 0 | CR13: =BW13-AG13 -> 0 | CS13: =BX13-AH13 -> 0 | CT13: =BY13-AI13 -> 0 | CU13: =BZ13-AJ13 -> 0 | CV13: =CA13-AK13 -> 0 | CW13: =CB13-AL13 -> 0 | CX13: =CC13-AM13 -> 0 | CY13: =CD13-AN13 -> 0 | ... DK13: =CP13-AZ13 -> 0
A14: =CONCATENATE(C14,"P") -> 186001825P | B14: =CONCATENATE(C14,"C") -> 186001825C | C14: 186001825 | D14: 1525µ Binary HPLC Pump w/Degasser | E14: WPPL (SG20) | F14: LC | G14: Legacy LC | H14: Pumps | I14: 6248.84 | J14: Ee Ling Lim | L14: 0 | M14: 0 | N14: 7 | O14: 5 | P14: =SUM(L14:O14) -> 12 | Q14: 12 | R14: 18 | S14: 15 | T14: 15 | U14: =SUM(Q14:T14) -> 60 | V14: 15 | W14: 15 | X14: 15 | Y14: 18 | Z14: =SUM(V14:Y14) -> 63 | AA14: 0 | AB14: 0 | AC14: 0 | AD14: 0 | AE14: =SUM(AA14:AD14) -> 0 | AG14: =VLOOKUP($A14,MasterData,27,FALSE) -> 0 | AH14: =VLOOKUP($A14,MasterData,28,FALSE) -> 0 | AI14: =VLOOKUP($A14,MasterData,29,FALSE) -> 7 | AJ14: =VLOOKUP($A14,MasterData,30,FALSE) -> 5 | AK14: =SUM(AG14:AJ14) -> 12 | AL14: =VLOOKUP($A14,MasterData,32,FALSE) -> 12 | AM14: =VLOOKUP($A14,MasterData,33,FALSE) -> 18 | AN14: =VLOOKUP($A14,MasterData,34,FALSE) -> 15 | AO14: =VLOOKUP($A14,MasterData,35,FALSE) -> 15 | AP14: =SUM(AL14:AO14) -> 60 | AQ14: =VLOOKUP($A14,MasterData,37,FALSE) -> 15 | AR14: =VLOOKUP($A14,MasterData,38,FALSE) -> 15 | AS14: =VLOOKUP($A14,MasterData,39,FALSE) -> 14 | AT14: =VLOOKUP($A14,MasterData,40,FALSE) -> 15 | AU14: =SUM(AQ14:AT14) -> 59 | AV14: =VLOOKUP($A14,MasterData,42,FALSE) -> 12 | AW14: =VLOOKUP($A14,MasterData,43,FALSE) -> 14 | AX14: =VLOOKUP($A14,MasterData,44,FALSE) -> 0 | AY14: =VLOOKUP($A14,MasterData,45,FALSE) -> 0 | AZ14: =SUM(AV14:AY14) -> 26 | BB14: =AG14-L14 -> 0 | BC14: =AH14-M14 -> 0 | BD14: =AI14-N14 -> 0 | BE14: =AJ14-O14 -> 0 | BF14: =AK14-P14 -> 0 | BG14: =AL14-Q14 -> 0 | BH14: =AM14-R14 -> 0 | BI14: =AN14-S14 -> 0 | ... BU14: =AZ14-AE14 -> 26 | BW14: 0 | BX14: 0 | BY14: 7 | BZ14: 5 | CA14: =SUM(BW14:BZ14) -> 12 | CB14: 12 | CC14: 18 | CD14: 15 | CE14: 15 | CF14: =SUM(CB14:CE14) -> 60 | CK14: =SUM(CG14:CJ14) -> 0 | CN14: 0 | CO14: 0 | CP14: =SUM(CL14:CO14) -> 0 | CR14: =BW14-AG14 -> 0 | CS14: =BX14-AH14 -> 0 | CT14: =BY14-AI14 -> 0 | CU14: =BZ14-AJ14 -> 0 | CV14: =CA14-AK14 -> 0 | CW14: =CB14-AL14 -> 0 | CX14: =CC14-AM14 -> 0 | CY14: =CD14-AN14 -> 0 | ... DK14: =CP14-AZ14 -> -26
