Workbook
Name AcceptedPlanRange: OFFSET('Accepted Plan'!$C$4,0,0,COUNTA('Accepted Plan'!$C:$C)-2,COUNTA('Accepted Plan'!$4:$4)+4)
Name MasterData: OFFSET('Master Data'!$A$4,0,0,COUNTA('Master Data'!$B:$B)-1,COUNTA('Master Data'!$4:$4))

Sheet PIVOT_LC
A1: Product Center | B1: LC
A2: Product Line | B2: (Multiple Items)
E3: Plants | F3: Production Volume | G3: Manufacturing Cost
B4: Values | E4: MIL | F4: =B6 -> 4309 | G4: =C6 -> 381117.67
A5: Row Labels | B5: Sum of 2014 Total | C5: Sum of Manufacturing Cost | E5: WPPL + Transfer | F5: =B8+B7 -> 28614 | G5: =C8+C7 -> 161024.44
A6: MIL (US31) | B6: 4309 | C6: 381117.67 | E6: Total | F6: =SUM(F4:F5) -> 32923 | G6: =SUM(G4:G5) -> 542142.11
A7: MIL (US31) - Transfer to WPPL (SG20) | B7: 1315 | C7: 17713.2 | E7: WPPL % of Total | F7: =F5/F6 -> 0.86911885 | G7: =G5/G6 -> 0.29701519
A8: WPPL (SG20) | B8: 27299 | C8: 143311.24
A9: Grand Total | B9: 32923 | C9: 542142.11
A18: Product Center | B18: MS
B20: Values
A21: Row Labels | B21: Sum of 2014 Total | C21: Sum of Manufacturing Cost
A22: MAN (UK50) | B22: 390 | C22: 1015017.4
A23: MAN (UK50)- Transfer to WEX (EI10) | B23: 1015 | C23: 51013.62
A24: MIL (US31) | B24: 6 | C24: 11156.97
A25: WEX (EI10) | B25: 768 | C25: 289834.73
A26: Grand Total | B26: 2179 | C26: 1367022.7

Sheet Master Data
A1: 1 | B1: 2 | C1: 3 | D1: 4 | E1: 5 | F1: 6 | G1: 7 | H1: 8 | I1: 9 | J1: 10 | K1: 11 | L1: 12 | M1: 13 | N1: 14 | O1: 15 | P1: 16 | Q1: 17 | R1: 18 | S1: 19 | T1: 20 | U1: 21 | V1: 22 | W1: 23 | X1: 24 | Y1: 25 | Z1: 26 | AA1: 27 | AB1: 28 | AC1: 29 | AD1: 30 | AE1: 31 | AF1: 32 | AG1: 33 | AH1: 34 | AI1: 35 | AJ1: 36 | AK1: 37 | AL1: 38 | AM1: 39 | AN1: 40 | AO1: 41 | AP1: 42 | AQ1: 43 | AR1: 44 | AS1: 45 | AT1: 46
K2: Current Plan | AA2: ='Accepted Plan'!L2 -> 10 | AB2: ='Accepted Plan'!M2 -> 11 | AC2: ='Accepted Plan'!N2 -> 12 | AD2: ='Accepted Plan'!O2 -> 13 | AE2: ='Accepted Plan'!P2 -> 14 | AF2: ='Accepted Plan'!Q2 -> 15 | AG2: ='Accepted Plan'!R2 -> 16 | AH2: ='Accepted Plan'!S2 -> 17 | ... AP2: ='Accepted Plan'!AA2 -> 25 | AQ2: 26 | AR2: 27 | AS2: 28 | AT2: 29
K3: Accepted Plan | AA3: ='Accepted Plan'!BW2 -> 73 | AB3: ='Accepted Plan'!BX2 -> 74 | AC3: ='Accepted Plan'!BY2 -> 75 | AD3: ='Accepted Plan'!BZ2 -> 76 | AE3: ='Accepted Plan'!CA2 -> 77 | AF3: ='Accepted Plan'!CB2 -> 78 | AG3: ='Accepted Plan'!CC2 -> 79 | AH3: ='Accepted Plan'!CD2 -> 80 | ... AP3: ='Accepted Plan'!CL2 -> 88 | AQ3: 89 | AR3: 90 | AS3: 91 | AT3: 92
A4: Proposed PN | B4: PN | C4: Description | D4: PLANT | E4: Target Global INV | F4: Product Center | G4: Product Family | H4: Product Line | I4: Manufacturing Cost | J4: Production Planner | K4: Plan Type | L4: Q1-09 | M4: Q2-09 | N4: Q3-09 | O4: Q4-09 | P4: 2009 Total | Q4: Q1-10 | R4: Q2-10 | S4: Q3-10 | T4: Q4-10 | U4: 2010 Total | V4: Q1-11 | W4: Q2-11 | X4: Q3-11 | Y4: Q4-11 | Z4: 2011 Total | AA4: Q1-12 | AB4: Q2-12 | AC4: Q3-12 | AD4: Q4-12 | AE4: 2012 Total | AF4: Q1 2013 | AG4: Q2 2013 | AH4: Q3 2013 | AI4: Q4 2013 | AJ4: 2013 Total | AK4: Q1 2014 | AL4: Q2 2014 | AM4: Q3 2014 | AN4: Q4 2014 | AO4: 2014 Total | AP4: Q1 2015 | AQ4: Q2 2015 | AR4: Q3 2015 | AS4: Q4 2015 | AT4: 2015 Total
A5: =CONCATENATE(B5,"P") -> 176000613P | B5: 176000613 | C5: =VLOOKUP($B5,AcceptedPlanRange,2,0) -> QUATTRO MICRO GC-MS/MS | D5: =VLOOKUP($B5,AcceptedPlanRange,3,0) -> MAN (UK50) | E5: 0 | F5: =VLOOKUP($B5,AcceptedPlanRange,4,0) -> MS | G5: =VLOOKUP($B5,AcceptedPlanRange,5,0) -> GC-MS | H5: =VLOOKUP($B5,AcceptedPlanRange,6,0) -> GC-MS | I5: =VLOOKUP($B5,AcceptedPlanRange,7,0) -> 71227.42 | J5: =VLOOKUP($B5,AcceptedPlanRange,8,0) -> Stephen Connor | K5: Proposed Production | X5: 7 | Y5: 0 | Z5: 7 | AA5: 0 | AB5: 0 | AC5: 0 | AD5: 0 | AE5: 0 | AF5: 0 | AG5: 0 | AH5: 0 | AI5: 0 | AJ5: =SUBTOTAL(9,AF5:AI5) -> 0 | AK5: 0 | AL5: 0 | AM5: 0 | AN5: 0 | AO5: =SUBTOTAL(9,AK5:AN5) -> 0 | AP5: 0 | AQ5: 0 | AR5: 0 | AS5: 0 | AT5: =SUBTOTAL(9,AP5:AS5) -> 0
A6: =CONCATENATE(B6,"P") -> 176000851P | B6: 176000851 | C6: =VLOOKUP($B6,AcceptedPlanRange,2,0) -> AutoSpec Premier | D6: =VLOOKUP($B6,AcceptedPlanRange,3,0) -> MAN (UK50) | E6: 0 | F6: =VLOOKUP($B6,AcceptedPlanRange,4,0) -> MS | G6: =VLOOKUP($B6,AcceptedPlanRange,5,0) -> GC-MS | H6: =VLOOKUP($B6,AcceptedPlanRange,6,0) -> GC-MS | I6: =VLOOKUP($B6,AcceptedPlanRange,7,0) -> 166042.37 | J6: =VLOOKUP($B6,AcceptedPlanRange,8,0) -> Stephen Connor | K6: Proposed Production | X6: 5 | Y6: 4 | Z6: 9 | AA6: 4 | AB6: 5 | AC6: 7 | AD6: 6 | AE6: 22 | AF6: 7 | AG6: 5 | AH6: 4 | AI6: 5 | AJ6: =SUBTOTAL(9,AF6:AI6) -> 0 | AK6: 4 | AL6: 4 | AM6: 4 | AN6: 4 | AO6: =SUBTOTAL(9,AK6:AN6) -> 0 | AP6: 0 | AQ6: 0 | AR6: 0 | AS6: 0 | AT6: =SUBTOTAL(9,AP6:AS6) -> 0
A7: =CONCATENATE(B7,"P") -> 176000972P | B7: 176000972 | C7: =VLOOKUP($B7,AcceptedPlanRange,2,0) -> GCT Premier Instrument | D7: =VLOOKUP($B7,AcceptedPlanRange,3,0) -> MAN (UK50) | E7: 0 | F7: =VLOOKUP($B7,AcceptedPlanRange,4,0) -> MS | G7: =VLOOKUP($B7,AcceptedPlanRange,5,0) -> GC-MS | H7: =VLOOKUP($B7,AcceptedPlanRange,6,0) -> GC-MS | I7: =VLOOKUP($B7,AcceptedPlanRange,7,0) -> 0 | J7: =VLOOKUP($B7,AcceptedPlanRange,8,0) -> Stephen Connor | K7: Proposed Production | X7: 3 | Y7: 3 | Z7: 6 | AA7: 4 | AB7: 2 | AC7: 0 | AD7: 0 | AE7: 6 | AF7: 0 | AG7: 0 | AH7: 0 | AI7: 0 | AJ7: =SUBTOTAL(9,AF7:AI7) -> 0 | AK7: 0 | AL7: 0 | AM7: 0 | AN7: 0 | AO7: =SUBTOTAL(9,AK7:AN7) -> 0 | AP7: 0 | AQ7: 0 | AR7: 0 | AS7: 0 | AT7: =SUBTOTAL(9,AP7:AS7) -> 0
A8: =CONCATENATE(B8,"P") -> 186000321P | B8: 186000321 | C8: =VLOOKUP($B8,AcceptedPlanRange,2,0) -> ASSY, POST COLUMN REACTION MODULE | D8: =VLOOKUP($B8,AcceptedPlanRange,3,0) -> MIL (US31) | F8: =VLOOKUP($B8,AcceptedPlanRange,4,0) -> LC | G8: =VLOOKUP($B8,AcceptedPlanRange,5,0) -> Legacy LC | H8: =VLOOKUP($B8,AcceptedPlanRange,6,0) -> Accessories | I8: =VLOOKUP($B8,AcceptedPlanRange,7,0) -> 1520.17 | J8: =VLOOKUP($B8,AcceptedPlanRange,8,0) -> Sharon Bibbo | K8: Proposed Production | Y8: 17 | Z8: 17 | AA8: 36 | AB8: 49 | AC8: 34 | AD8: 54 | AE8: 173 | AF8: 40 | AG8: 35 | AH8: 35 | AI8: 20 | AJ8: =SUBTOTAL(9,AF8:AI8) -> 130 | AK8: 25 | AL8: 30 | AM8: 30 | AN8: 35 | AO8: =SUBTOTAL(9,AK8:AN8) -> 120 | AP8: 20 | AQ8: 38 | AR8: 0 | AS8: 0 | AT8: =SUBTOTAL(9,AP8:AS8) -> 58
A9: =CONCATENATE(B9,"P") -> 186000872P | B9: 186000872 | C9: =VLOOKUP($B9,AcceptedPlanRange,2,0) -> KIT, 7725I MANUAL INJECTOR,1500 SERIES | D9: =VLOOKUP($B9,AcceptedPlanRange,3,0) -> MIL (US31) | F9: =VLOOKUP($B9,AcceptedPlanRange,4,0) -> LC | G9: =VLOOKUP($B9,AcceptedPlanRange,5,0) -> Legacy LC | H9: =VLOOKUP($B9,AcceptedPlanRange,6,0) -> Accessories | I9: =VLOOKUP($B9,AcceptedPlanRange,7,0) -> 478.46 | J9: =VLOOKUP($B9,AcceptedPlanRange,8,0) -> Paul Brusco | K9: Proposed Production | Y9: 65 | Z9: 65 | AA9: 55 | AB9: 90 | AC9: 50 | AD9: 120 | AE9: 315 | AF9: 40 | AG9: 60 | AH9: 45 | AI9: 40 | AJ9: =SUBTOTAL(9,AF9:AI9) -> 185 | AK9: 45 | AL9: 50 | AM9: 50 | AN9: 55 | AO9: =SUBTOTAL(9,AK9:AN9) -> 200 | AP9: 50 | AQ9: 55 | AR9: 0 | AS9: 0 | AT9: =SUBTOTAL(9,AP9:AS9) -> 105
A10: =CONCATENATE(B10,"P") -> 186001500P | B10: 186001500 | C10: =VLOOKUP($B10,AcceptedPlanRange,2,0) -> 1500 COLUMN HEATER | D10: =VLOOKUP($B10,AcceptedPlanRange,3,0) -> WPPL (SG20) | F10: =VLOOKUP($B10,AcceptedPlanRange,4,0) -> LC | G10: =VLOOKUP($B10,AcceptedPlanRange,5,0) -> Legacy LC | H10: =VLOOKUP($B10,AcceptedPlanRange,6,0) -> Accessories | I10: =VLOOKUP($B10,AcceptedPlanRange,7,0) -> 774.9 | J10: =VLOOKUP($B10,AcceptedPlanRange,8,0) -> Ee Ling Lim | K10: Proposed Production | Y10: 112 | Z10: 112 | AA10: 60 | AB10: 80 | AC10: 90 | AD10: 80 | AE10: 310 | AF10: 30 | AG10: 32 | AH10: 38 | AI10: 30 | AJ10: =SUBTOTAL(9,AF10:AI10) -> 0 | AK10: 60 | AL10: 55 | AM10: 50 | AN10: 55 | AO10: =SUBTOTAL(9,AK10:AN10) -> 0 | AP10: 50 | AQ10: 60 | AR10: 0 | AS10: 0 | AT10: =SUBTOTAL(9,AP10:AS10) -> 0
A11: =CONCATENATE(B11,"P") -> 186001515P | B11: 186001515 | C11: =VLOOKUP($B11,AcceptedPlanRange,2,0) -> 1515 ISOCRATIC HPLC PUMP | D11: =VLOOKUP($B11,AcceptedPlanRange,3,0) -> WPPL (SG20) | F11: =VLOOKUP($B11,AcceptedPlanRange,4,0) -> LC | G11: =VLOOKUP($B11,AcceptedPlanRange,5,0) -> Legacy LC | H11: =VLOOKUP($B11,AcceptedPlanRange,6,0) -> Pumps | I11: =VLOOKUP($B11,AcceptedPlanRange,7,0) -> 2646.3 | J11: =VLOOKUP($B11,AcceptedPlanRange,8,0) -> Ee Ling Lim | K11: Proposed Production | Y11: 41 | Z11: 41 | AA11: 25 | AB11: 49 | AC11: 40 | AD11: 55 | AE11: 169 | AF11: 30 | AG11: 50 | AH11: 40 | AI11: 30 | AJ11: =SUBTOTAL(9,AF11:AI11) -> 0 | AK11: 30 | AL11: 30 | AM11: 20 | AN11: 25 | AO11: =SUBTOTAL(9,AK11:AN11) -> 0 | AP11: 30 | AQ11: 42 | AR11: 0 | AS11: 0 | AT11: =SUBTOTAL(9,AP11:AS11) -> 0
A12: =CONCATENATE(B12,"P") -> 186001525P | B12: 186001525 | C12: =VLOOKUP($B12,AcceptedPlanRange,2,0) -> 1525 BINARY HPLC PUMP | D12: =VLOOKUP($B12,AcceptedPlanRange,3,0) -> WPPL (SG20) | F12: =VLOOKUP($B12,AcceptedPlanRange,4,0) -> LC | G12: =VLOOKUP($B12,AcceptedPlanRange,5,0) -> Legacy LC | H12: =VLOOKUP($B12,AcceptedPlanRange,6,0) -> Pumps | I12: =VLOOKUP($B12,AcceptedPlanRange,7,0) -> 3658.17 | J12: =VLOOKUP($B12,AcceptedPlanRange,8,0) -> Ee Ling Lim | K12: Proposed Production | Y12: 100 | Z12: 100 | AA12: 95 | AB12: 100 | AC12: 120 | AD12: 80 | AE12: 395 | AF12: 60 | AG12: 90 | AH12: 70 | AI12: 55 | AJ12: =SUBTOTAL(9,AF12:AI12) -> 0 | AK12: 70 | AL12: 70 | AM12: 65 | AN12: 70 | AO12: =SUBTOTAL(9,AK12:AN12) -> 0 | AQ12: 0 | AR12: 0 | AS12: 0 | AT12: =SUBTOTAL(9,AP12:AS12) -> 0
A13: =CONCATENATE(B13,"P") -> 186001791P | B13: 186001791 | C13: =VLOOKUP($B13,AcceptedPlanRange,2,0) -> ALLIANCE COL. HEATER COOLER | D13: =VLOOKUP($B13,AcceptedPlanRange,3,0) -> WPPL (SG20) | F13: =VLOOKUP($B13,AcceptedPlanRange,4,0) -> LC | G13: =VLOOKUP($B13,AcceptedPlanRange,5,0) -> Alliance | H13: =VLOOKUP($B13,AcceptedPlanRange,6,0) -> Column Managers | I13: =VLOOKUP($B13,AcceptedPlanRange,7,0) -> 837.72 | J13: =VLOOKUP($B13,AcceptedPlanRange,8,0) -> Ee Ling Lim | K13: Proposed Production | Y13: 265 | Z13: 265 | AA13: 330 | AB13: 390 | AC13: 350 | AD13: 430 | AE13: 1500 | AF13: 185 | AG13: 20 | AH13: 30 | AI13: 30 | AJ13: =SUBTOTAL(9,AF13:AI13) -> 0 | AK13: 40 | AL13: 40 | AM13: 35 | AN13: 35 | AO13: =SUBTOTAL(9,AK13:AN13) -> 0 | AP13: 0 | AQ13: 0 | AR13: 0 | AS13: 0 | AT13: =SUBTOTAL(9,AP13:AS13) -> 0
A14: =CONCATENATE(B14,"P") -> 186001825P | B14: 186001825 | C14: =VLOOKUP($B14,AcceptedPlanRange,2,0) -> 1525µ Binary HPLC Pump w/Degasser | D14: =VLOOKUP($B14,AcceptedPlanRange,3,0) -> WPPL (SG20) | F14: =VLOOKUP($B14,AcceptedPlanRange,4,0) -> LC | G14: =VLOOKUP($B14,AcceptedPlanRange,5,0) -> Legacy LC | H14: =VLOOKUP($B14,AcceptedPlanRange,6,0) -> Pumps | I14: =VLOOKUP($B14,AcceptedPlanRange,7,0) -> 6248.84 | J14: =VLOOKUP($B14,AcceptedPlanRange,8,0) -> Ee Ling Lim | K14: Proposed Production | Y14: 8 | Z14: 8 | AA14: 0 | AB14: 0 | AC14: 7 | AD14: 5 | AE14: 12 | AF14: 12 | AG14: 18 | AH14: 15 | AI14: 15 | AJ14: =SUBTOTAL(9,AF14:AI14) -> 0 | AK14: 15 | AL14: 15 | AM14: 14 | AN14: 15 | AO14: =SUBTOTAL(9,AK14:AN14) -> 0 | AP14: 12 | AQ14: 14 | AR14: 0 | AS14: 0 | AT14: =SUBTOTAL(9,AP14:AS14) -> 0
A15: =CONCATENATE(B15,"P") -> 186001863P | B15: 186001863 | C15: =VLOOKUP($B15,AcceptedPlanRange,2,0) -> ALLIANCE COL.HEATER | D15: =VLOOKUP($B15,AcceptedPlanRange,3,0) -> WPPL (SG20) | F15: =VLOOKUP($B15,AcceptedPlanRange,4,0) -> LC | G15: =VLOOKUP($B15,AcceptedPlanRange,5,0) -> Alliance | H15: =VLOOKUP($B15,AcceptedPlanRange,6,0) -> Column Managers | I15: =VLOOKUP($B15,AcceptedPlanRange,7,0) -> 544.73 | J15: =VLOOKUP($B15,AcceptedPlanRange,8,0) -> Ee Ling Lim | K15: Proposed Production | Y15: 420 | Z15: 420 | AA15: 440 | AB15: 530 | AC15: 420 | AD15: 560 | AE15: 1950 | AF15: 80 | AG15: 20 | AH15: 10 | AI15: 0 | AJ15: =SUBTOTAL(9,AF15:AI15) -> 0 | AK15: 0 | AL15: 10 | AM15: 10 | AN15: 0 | AO15: =SUBTOTAL(9,AK15:AN15) -> 0 | AP15: 10 | AQ15: 0 | AR15: 0 | AS15: 0 | AT15: =SUBTOTAL(9,AP15:AS15) -> 0
A16: =CONCATENATE(B16,"P") -> 186001878P | B16: 186001878 | C16: =VLOOKUP($B16,AcceptedPlanRange,2,0) -> Waters Fraction Collector III | D16: =VLOOKUP($B16,AcceptedPlanRange,3,0) -> OEM | F16: =VLOOKUP($B16,AcceptedPlanRange,4,0) -> LC | G16: =VLOOKUP($B16,AcceptedPlanRange,5,0) -> Legacy LC | H16: =VLOOKUP($B16,AcceptedPlanRange,6,0) -> Accessories | I16: =VLOOKUP($B16,AcceptedPlanRange,7,0) -> 2362.42 | J16: =VLOOKUP($B16,AcceptedPlanRange,8,0) -> Hanchen Lu | K16: Proposed Production | Y16: 90 | Z16: 90 | AA16: 50 | AB16: 90 | AC16: 75 | AD16: 50 | AE16: 265 | AF16: 60 | AG16: 75 | AH16: 60 | AI16: 60 | AJ16: =SUBTOTAL(9,AF16:AI16) -> 0 | AK16: 50 | AL16: 50 | AM16: 48 | AN16: 65 | AO16: =SUBTOTAL(9,AK16:AN16) -> 0 | AP16: 50 | AQ16: 55 | AR16: 0 | AS16: 0 | AT16: =SUBTOTAL(9,AP16:AS16) -> 0
A17: =CONCATENATE(B17,"P") -> 186002424P | B17: 186002424 | C17: =VLOOKUP($B17,AcceptedPlanRange,2,0) -> Waters 2424 ELS Detector | D17: =VLOOKUP($B17,AcceptedPlanRange,3,0) -> MIL (US31) | F17: =VLOOKUP($B17,AcceptedPlanRange,4,0) -> LC | G17: =VLOOKUP($B17,AcceptedPlanRange,5,0) -> Alliance | H17: =VLOOKUP($B17,AcceptedPlanRange,6,0) -> Detectors | I17: =VLOOKUP($B17,AcceptedPlanRange,7,0) -> 5422.15 | J17: =VLOOKUP($B17,AcceptedPlanRange,8,0) -> Paul Brusco | K17: Proposed Production | Y17: 30 | Z17: 30 | AA17: 53 | AB17: 62 | AC17: 45 | AD17: 50 | AE17: 210 | AF17: 60 | AG17: 30 | AH17: 17 | AI17: 30 | AJ17: =SUBTOTAL(9,AF17:AI17) -> 137 | AK17: 20 | AL17: 20 | AM17: 15 | AN17: 20 | AO17: =SUBTOTAL(9,AK17:AN17) -> 75 | AP17: 20 | AQ17: 20 | AR17: 0 | AS17: 0 | AT17: =SUBTOTAL(9,AP17:AS17) -> 40
A18: =CONCATENATE(B18,"P") -> 186002441P | B18: 186002441 | C18: =VLOOKUP($B18,AcceptedPlanRange,2,0) -> Temperature Control Module II | D18: =VLOOKUP($B18,AcceptedPlanRange,3,0) -> WPPL (SG20) | F18: =VLOOKUP($B18,AcceptedPlanRange,4,0) -> LC | G18: =VLOOKUP($B18,AcceptedPlanRange,5,0) -> Legacy LC | H18: =VLOOKUP($B18,AcceptedPlanRange,6,0) -> Accessories | I18: =VLOOKUP($B18,AcceptedPlanRange,7,0) -> 669.66 | J18: =VLOOKUP($B18,AcceptedPlanRange,8,0) -> Ee Ling Lim | K18: Proposed Production | Y18: 54 | Z18: 54 | AA18: 82 | AB18: 68 | AC18: 112 | AD18: 85 | AE18: 347 | AF18: 60 | AG18: 64 | AH18: 46 | AI18: 69 | AJ18: =SUBTOTAL(9,AF18:AI18) -> 0 | AK18: 50 | AL18: 50 | AM18: 45 | AN18: 60 | AO18: =SUBTOTAL(9,AK18:AN18) -> 0 | AP18: 45 | AQ18: 64 | AR18: 0 | AS18: 0 | AT18: =SUBTOTAL(9,AP18:AS18) -> 0
A19: =CONCATENATE(B19,"P") -> 186002449P | B19: 186002449 | C19: =VLOOKUP($B19,AcceptedPlanRange,2,0) -> PCM II - PUMP CONTROL MODULE | D19: =VLOOKUP($B19,AcceptedPlanRange,3,0) -> WPPL (SG20) | F19: =VLOOKUP($B19,AcceptedPlanRange,4,0) -> Data | G19: =VLOOKUP($B19,AcceptedPlanRange,5,0) -> Data H/W | H19: =VLOOKUP($B19,AcceptedPlanRange,6,0) -> Data H/W | I19: =VLOOKUP($B19,AcceptedPlanRange,7,0) -> 735.02 | J19: =VLOOKUP($B19,AcceptedPlanRange,8,0) -> Ee Ling Lim | K19: Proposed Production | Y19: 46 | Z19: 46 | AA19: 40 | AB19: 70 | AC19: 40 | AD19: 70 | AE19: 220 | AF19: 45 | AG19: 52 | AH19: 66 | AI19: 41 | AJ19: =SUBTOTAL(9,AF19:AI19) -> 0 | AK19: 50 | AL19: 40 | AM19: 35 | AN19: 50 | AO19: =SUBTOTAL(9,AK19:AN19) -> 0 | AP19: 45 | AQ19: 50 | AR19: 0 | AS19: 0 | AT19: =SUBTOTAL(9,AP19:AS19) -> 0
A20: =CONCATENATE(B20,"P") -> 186002465P | B20: 186002465 | C20: =VLOOKUP($B20,AcceptedPlanRange,2,0) -> 2465 ELECTROCHEMICAL DETECTOR | D20: =VLOOKUP($B20,AcceptedPlanRange,3,0) -> OEM | F20: =VLOOKUP($B20,AcceptedPlanRange,4,0) -> LC | G20: =VLOOKUP($B20,AcceptedPlanRange,5,0) -> Legacy LC | H20: =VLOOKUP($B20,AcceptedPlanRange,6,0) -> Detectors | I20: =VLOOKUP($B20,AcceptedPlanRange,7,0) -> 3509.55 | J20: =VLOOKUP($B20,AcceptedPlanRange,8,0) -> Hanchen Lu | K20: Proposed Production | Y20: 16 | Z20: 16 | AA20: 10 | AB20: 10 | AC20: 10 | AD20: 30 | AE20: 60 | AF20: 20 | AG20: 20 | AH20: 12 | AI20: 20 | AJ20: =SUBTOTAL(9,AF20:AI20) -> 0 | AK20: 10 | AL20: 10 | AM20: 10 | AN20: 10 | AO20: =SUBTOTAL(9,AK20:AN20) -> 0 | AP20: 14 | AQ20: 22 | AR20: 0 | AS20: 0 | AT20: =SUBTOTAL(9,AP20:AS20) -> 0
A21: =CONCATENATE(B21,"P") -> 186002475P | B21: 186002475 | C21: =VLOOKUP($B21,AcceptedPlanRange,2,0) -> 2475 MULTICHANNEL FLUORESCENCE DETECTOR | D21: =VLOOKUP($B21,AcceptedPlanRange,3,0) -> WPPL (SG20) | F21: =VLOOKUP($B21,AcceptedPlanRange,4,0) -> LC | G21: =VLOOKUP($B21,AcceptedPlanRange,5,0) -> Alliance | H21: =VLOOKUP($B21,AcceptedPlanRange,6,0) -> Detectors | I21: =VLOOKUP($B21,AcceptedPlanRange,7,0) -> 4403.08 | J21: =VLOOKUP($B21,AcceptedPlanRange,8,0) -> Ee Ling Lim | K21: Proposed Production | Y21: 100 | Z21: 100 | AA21: 143 | AB21: 140 | AC21: 155 | AD21: 153 | AE21: 591 | AF21: 113 | AG21: 32 | AH21: 50 | AI21: 40 | AJ21: =SUBTOTAL(9,AF21:AI21) -> 0 | AK21: 45 | AL21: 45 | AM21: 45 | AN21: 50 | AO21: =SUBTOTAL(9,AK21:AN21) -> 0 | AP21: 45 | AQ21: 45 | AR21: 0 | AS21: 0 | AT21: =SUBTOTAL(9,AP21:AS21) -> 0
A22: =CONCATENATE(B22,"P") -> 186002487P | B22: 186002487 | C22: =VLOOKUP($B22,AcceptedPlanRange,2,0) -> 2489 UV/Visible Detector | D22: =VLOOKUP($B22,AcceptedPlanRange,3,0) -> WPPL (SG20) | F22: =VLOOKUP($B22,AcceptedPlanRange,4,0) -> LC | G22: =VLOOKUP($B22,AcceptedPlanRange,5,0) -> Alliance | H22: =VLOOKUP($B22,AcceptedPlanRange,6,0) -> Detectors | I22: =VLOOKUP($B22,AcceptedPlanRange,7,0) -> 2115.62 | J22: =VLOOKUP($B22,AcceptedPlanRange,8,0) -> Ee Ling Lim | K22: Proposed Production | Y22: 732 | Z22: 732 | AA22: 770 | AB22: 700 | AC22: 650 | AD22: 732 | AE22: 2852 | AF22: 315 | AG22: 200 | AH22: 170 | AI22: 150 | AJ22: =SUBTOTAL(9,AF22:AI22) -> 0 | AK22: 160 | AL22: 150 | AM22: 150 | AN22: 170 | AO22: =SUBTOTAL(9,AK22:AN22) -> 0 | AP22: 0 | AQ22: 0 | AR22: 0 | AS22: 0 | AT22: =SUBTOTAL(9,AP22:AS22) -> 0
A23: =CONCATENATE(B23,"P") -> 186002488P | B23: 186002488 | C23: =VLOOKUP($B23,AcceptedPlanRange,2,0) -> WATERS PREP DEGASSER | D23: =VLOOKUP($B23,AcceptedPlanRange,3,0) -> MIL (US31) | F23: =VLOOKUP($B23,AcceptedPlanRange,4,0) -> LC | G23: =VLOOKUP($B23,AcceptedPlanRange,5,0) -> Legacy LC | H23: =VLOOKUP($B23,AcceptedPlanRange,6,0) -> Accessories | I23: =VLOOKUP($B23,AcceptedPlanRange,7,0) -> 2613.57 | J23: =VLOOKUP($B23,AcceptedPlanRange,8,0) -> Paul Brusco | K23: Proposed Production | Y23: 10 | Z23: 10 | AA23: 5 | AB23: 15 | AC23: 10 | AD23: 8 | AE23: 38 | AF23: 8 | AG23: 18 | AH23: 12 | AI23: 15 | AJ23: =SUBTOTAL(9,AF23:AI23) -> 53 | AK23: 5 | AL23: 8 | AM23: 5 | AN23: 12 | AO23: =SUBTOTAL(9,AK23:AN23) -> 30 | AP23: 10 | AQ23: 13 | AR23: 0 | AS23: 0 | AT23: =SUBTOTAL(9,AP23:AS23) -> 23
A24: =CONCATENATE(B24,"P") -> 186002776P | B24: 186002776 | C24: =VLOOKUP($B24,AcceptedPlanRange,2,0) -> 2777C SAMPLE MANAGER | D24: =VLOOKUP($B24,AcceptedPlanRange,3,0) -> OEM | F24: =VLOOKUP($B24,AcceptedPlanRange,4,0) -> LC | G24: =VLOOKUP($B24,AcceptedPlanRange,5,0) -> Legacy LC | H24: =VLOOKUP($B24,AcceptedPlanRange,6,0) -> Injectors | I24: =VLOOKUP($B24,AcceptedPlanRange,7,0) -> 9796.41 | J24: =VLOOKUP($B24,AcceptedPlanRange,8,0) -> Hanchen Lu | K24: Proposed Production | Y24: 10 | Z24: 10 | AA24: 10 | AB24: 5 | AC24: 15 | AD24: 20 | AE24: 50 | AF24: 8 | AG24: 22 | AH24: 20 | AI24: 20 | AJ24: =SUBTOTAL(9,AF24:AI24) -> 0 | AK24: 21 | AL24: 20 | AM24: 17 | AN24: 22 | AO24: =SUBTOTAL(9,AK24:AN24) -> 0 | AP24: 16 | AQ24: 20 | AR24: 0 | AS24: 0 | AT24: =SUBTOTAL(9,AP24:AS24) -> 0
... A26: =CONCATENATE(B26,"P") -> 186002998P | B26: 186002998 | C26: =VLOOKUP($B26,AcceptedPlanRange,2,0) -> 2998 Photodiode Array Detector | D26: =VLOOKUP($B26,AcceptedPlanRange,3,0) -> WPPL (SG20) | F26: =VLOOKUP($B26,AcceptedPlanRange,4,0) -> LC | G26: =VLOOKUP($B26,AcceptedPlanRange,5,0) -> Alliance | H26: =VLOOKUP($B26,AcceptedPlanRange,6,0) -> Detectors | I26: =VLOOKUP($B26,AcceptedPlanRange,7,0) -> 3174.35 | J26: =VLOOKUP($B26,AcceptedPlanRange,8,0) -> Ee Ling Lim | K26: Proposed Production | Y26: 360 | Z26: 360 | AA26: 384 | AB26: 438 | AC26: 520 | AD26: 510 | AE26: 1852 | AF26: 102 | AG26: 75 | AH26: 95 | AI26: 85 | AJ26: =SUBTOTAL(9,AF26:AI26) -> 0 | AK26: 135 | AL26: 125 | AM26: 100 | AN26: 120 | AO26: =SUBTOTAL(9,AK26:AN26) -> 0 | AP26: 0 | AQ26: 0 | AR26: 0 | AS26: 0 | AT26: =SUBTOTAL(9,AP26:AS26) -> 0
A27: =CONCATENATE(B27,"P") -> 186003762P | B27: 186003762 | C27: =VLOOKUP($B27,AcceptedPlanRange,2,0) -> Assy., Waters SQ Detector | D27: =VLOOKUP($B27,AcceptedPlanRange,3,0) -> WEX (EI10) | E27: 3 | F27: =VLOOKUP($B27,AcceptedPlanRange,4,0) -> MS | G27: =VLOOKUP($B27,AcceptedPlanRange,5,0) -> Quads | H27: =VLOOKUP($B27,AcceptedPlanRange,6,0) -> SQ's | I27: =VLOOKUP($B27,AcceptedPlanRange,7,0) -> 25756.39 | J27: =VLOOKUP($B27,AcceptedPlanRange,8,0) -> Wendy Noble | K27: Proposed Production | X27: 37 | Y27: 20 | Z27: 57 | AA27: 25 | AB27: 20 | AC27: 22 | AD27: 23 | AE27: 90 | AF27: 25 | AG27: 13 | AH27: 25 | AI27: 0 | AJ27: =SUBTOTAL(9,AF27:AI27) -> 0 | AK27: 0 | AL27: 0 | AM27: 0 | AN27: 0 | AO27: =SUBTOTAL(9,AK27:AN27) -> 0 | AP27: 0 | AQ27: 0 | AR27: 0 | AS27: 0 | AT27: =SUBTOTAL(9,AP27:AS27) -> 0
A28: =CONCATENATE(B28,"P") -> 186003765P | B28: 186003765 | C28: =VLOOKUP($B28,AcceptedPlanRange,2,0) -> System Fluidics Organizer | D28: =VLOOKUP($B28,AcceptedPlanRange,3,0) -> MIL (US31) | F28: =VLOOKUP($B28,AcceptedPlanRange,4,0) -> LC | G28: =VLOOKUP($B28,AcceptedPlanRange,5,0) -> Purification | H28: =VLOOKUP($B28,AcceptedPlanRange,6,0) -> Accessories | I28: =VLOOKUP($B28,AcceptedPlanRange,7,0) -> 5549.89 | J28: =VLOOKUP($B28,AcceptedPlanRange,8,0) -> Sharon Bibbo | K28: Proposed Production | Y28: 33 | Z28: 33 | AA28: 15 | AB28: 20 | AC28: 15 | AD28: 10 | AE28: 60 | AF28: 21 | AG28: 18 | AH28: 15 | AI28: 10 | AJ28: =SUBTOTAL(9,AF28:AI28) -> 64 | AK28: 10 | AL28: 8 | AM28: 8 | AN28: 10 | AO28: =SUBTOTAL(9,AK28:AN28) -> 36 | AP28: 12 | AQ28: 14 | AR28: 0 | AS28: 0 | AT28: =SUBTOTAL(9,AP28:AS28) -> 26
A29: =CONCATENATE(B29,"P") -> 186004462P | B29: 186004462 | C29: =VLOOKUP($B29,AcceptedPlanRange,2,0) -> 2707 AUTOSAMPLER | D29: =VLOOKUP($B29,AcceptedPlanRange,3,0) -> OEM | F29: =VLOOKUP($B29,AcceptedPlanRange,4,0) -> LC | G29: =VLOOKUP($B29,AcceptedPlanRange,5,0) -> Legacy LC | H29: =VLOOKUP($B29,AcceptedPlanRange,6,0) -> Injectors | I29: =VLOOKUP($B29,AcceptedPlanRange,7,0) -> 2439.4 | J29: =VLOOKUP($B29,AcceptedPlanRange,8,0) -> Hanchen Lu | K29: Proposed Production | Y29: 71 | Z29: 71 | AA29: 60 | AB29: 65 | AC29: 70 | AD29: 102 | AE29: 297 | AF29: 50 | AG29: 71 | AH29: 50 | AI29: 50 | AJ29: =SUBTOTAL(9,AF29:AI29) -> 0 | AK29: 65 | AL29: 55 | AM29: 50 | AN29: 55 | AO29: =SUBTOTAL(9,AK29:AN29) -> 0 | AP29: 55 | AQ29: 62 | AR29: 0 | AS29: 0 | AT29: =SUBTOTAL(9,AP29:AS29) -> 0
A30: =CONCATENATE(B30,"P") -> 186004463P | B30: 186004463 | C30: =VLOOKUP($B30,AcceptedPlanRange,2,0) -> 2707 AUTOSAMPLER WITH COOLER | D30: =VLOOKUP($B30,AcceptedPlanRange,3,0) -> OEM | F30: =VLOOKUP($B30,AcceptedPlanRange,4,0) -> LC | G30: =VLOOKUP($B30,AcceptedPlanRange,5,0) -> Legacy LC | H30: =VLOOKUP($B30,AcceptedPlanRange,6,0) -> Injectors | I30: =VLOOKUP($B30,AcceptedPlanRange,7,0) -> 2726.7 | J30: =VLOOKUP($B30,AcceptedPlanRange,8,0) -> Hanchen Lu | K30: Proposed Production | Y30: 0 | Z30: 0 | AA30: 12 | AB30: 2 | AC30: 8 | AD30: 20 | AE30: 42 | AF30: 15 | AG30: 18 | AH30: 8 | AI30: 8 | AJ30: =SUBTOTAL(9,AF30:AI30) -> 0 | AK30: 10 | AL30: 8 | AM30: 10 | AN30: 15 | AO30: =SUBTOTAL(9,AK30:AN30) -> 0 | AP30: 12 | AQ30: 15 | AR30: 0 | AS30: 0 | AT30: =SUBTOTAL(9,AP30:AS30) -> 0
A31: =CONCATENATE(B31,"P") -> 186004556P | B31: 186004556 | C31: =VLOOKUP($B31,AcceptedPlanRange,2,0) -> 2545 Quaternary Gradient Module | D31: =VLOOKUP($B31,AcceptedPlanRange,3,0) -> MIL (US31) | F31: =VLOOKUP($B31,AcceptedPlanRange,4,0) -> LC | G31: =VLOOKUP($B31,AcceptedPlanRange,5,0) -> Purification | H31: =VLOOKUP($B31,AcceptedPlanRange,6,0) -> Pumps | I31: =VLOOKUP($B31,AcceptedPlanRange,7,0) -> 8194.16 | J31: =VLOOKUP($B31,AcceptedPlanRange,8,0) -> Sharon Bibbo | K31: Proposed Production | Y31: 20 | Z31: 20 | AA31: 7 | AB31: 22 | AC31: 30 | AD31: 30 | AE31: 89 | AF31: 30 | AG31: 25 | AH31: 30 | AI31: 24 | AJ31: =SUBTOTAL(9,AF31:AI31) -> 109 | AK31: 24 | AL31: 29 | AM31: 24 | AN31: 26 | AO31: =SUBTOTAL(9,AK31:AN31) -> 103 | AP31: 10 | AQ31: 20 | AR31: 0 | AS31: 0 | AT31: =SUBTOTAL(9,AP31:AS31) -> 30
A32: =CONCATENATE(B32,"P") -> 186004557P | B32: 186004557 | C32: =VLOOKUP($B32,AcceptedPlanRange,2,0) -> 2535 Quaternary Gradient Module | D32: =VLOOKUP($B32,AcceptedPlanRange,3,0) -> MIL (US31) | F32: =VLOOKUP($B32,AcceptedPlanRange,4,0) -> LC | G32: =VLOOKUP($B32,AcceptedPlanRange,5,0) -> Purification | H32: =VLOOKUP($B32,AcceptedPlanRange,6,0) -> Pumps | I32: =VLOOKUP($B32,AcceptedPlanRange,7,0) -> 8806.19 | J32: =VLOOKUP($B32,AcceptedPlanRange,8,0) -> Sharon Bibbo | K32: Proposed Production | Y32: 6 | Z32: 6 | AA32: 15 | AB32: 15 | AC32: 15 | AD32: 14 | AE32: 59 | AF32: 16 | AG32: 16 | AH32: 16 | AI32: 23 | AJ32: =SUBTOTAL(9,AF32:AI32) -> 71 | AK32: 18 | AL32: 15 | AM32: 16 | AN32: 25 | AO32: =SUBTOTAL(9,AK32:AN32) -> 74 | AP32: 15 | AQ32: 20 | AR32: 0 | AS32: 0 | AT32: =SUBTOTAL(9,AP32:AS32) -> 35
A33: =CONCATENATE(B33,"P") -> 186005597P | B33: 186005597 | C33: =VLOOKUP($B33,AcceptedPlanRange,2,0) -> Xevo G2 | D33: =VLOOKUP($B33,AcceptedPlanRange,3,0) -> MAN (UK50) | E33: 0 | F33: =VLOOKUP($B33,AcceptedPlanRange,4,0) -> MS | G33: =VLOOKUP($B33,AcceptedPlanRange,5,0) -> Tof | H33: =VLOOKUP($B33,AcceptedPlanRange,6,0) -> LE Tof | I33: =VLOOKUP($B33,AcceptedPlanRange,7,0) -> 96010.2 | J33: =VLOOKUP($B33,AcceptedPlanRange,8,0) -> Stephen Connor | K33: Proposed Production | X33: 55 | Y33: 57 | Z33: 112 | AA33: 50 | AB33: 40 | AC33: 0 | AD33: 0 | AE33: 90 | AF33: 0 | AG33: 0 | AH33: 0 | AI33: 0 | AJ33: =SUBTOTAL(9,AF33:AI33) -> 0 | AK33: 0 | AL33: 0 | AM33: 0 | AN33: 0 | AO33: =SUBTOTAL(9,AK33:AN33) -> 0 | AP33: 0 | AQ33: 0 | AR33: 0 | AS33: 0 | AT33: =SUBTOTAL(9,AP33:AS33) -> 0
A34: =CONCATENATE(B34,"P") -> 186005654P | B34: 186005654 | C34: =VLOOKUP($B34,AcceptedPlanRange,2,0) -> PATROL UPLC Online Computer | D34: =VLOOKUP($B34,AcceptedPlanRange,3,0) -> MIL (US31) | F34: =VLOOKUP($B34,AcceptedPlanRange,4,0) -> Data | G34: =VLOOKUP($B34,AcceptedPlanRange,5,0) -> PATROL | H34: =VLOOKUP($B34,AcceptedPlanRange,6,0) -> Data H/W | I34: =VLOOKUP($B34,AcceptedPlanRange,7,0) -> 1287.98 | J34: =VLOOKUP($B34,AcceptedPlanRange,8,0) -> Linda Trautwein | K34: Proposed Production | Y34: 5 | Z34: 5 | AA34: 0 | AB34: 2 | AC34: 0 | AD34: 7 | AE34: 9 | AF34: 7 | AG34: 3 | AH34: 4 | AI34: 4 | AJ34: =SUBTOTAL(9,AF34:AI34) -> 0 | AK34: 6 | AL34: 4 | AM34: 3 | AN34: 4 | AO34: =SUBTOTAL(9,AK34:AN34) -> 0 | AP34: 5 | AQ34: 5 | AR34: 0 | AS34: 0 | AT34: =SUBTOTAL(9,AP34:AS34) -> 0
A35: =CONCATENATE(B35,"P") -> 186005832P | B35: 186005832 | C35: =VLOOKUP($B35,AcceptedPlanRange,2,0) -> SQ DETECTOR 2 | D35: =VLOOKUP($B35,AcceptedPlanRange,3,0) -> WEX (EI10) | E35: 15 | F35: =VLOOKUP($B35,AcceptedPlanRange,4,0) -> MS | G35: =VLOOKUP($B35,AcceptedPlanRange,5,0) -> Quads | H35: =VLOOKUP($B35,AcceptedPlanRange,6,0) -> SQ's | I35: =VLOOKUP($B35,AcceptedPlanRange,7,0) -> 29101.56 | J35: =VLOOKUP($B35,AcceptedPlanRange,8,0) -> Wendy Noble | K35: Proposed Production | X35: 0 | Y35: 38 | Z35: 38 | AA35: 25 | AB35: 32 | AC35: 50 | AD35: 26 | AE35: 133 | AF35: 35 | AG35: 53 | AH35: 43 | AI35: 55 | AJ35: =SUBTOTAL(9,AF35:AI35) -> 0 | AK35: 30 | AL35: 30 | AM35: 15 | AN35: 15 | AO35: =SUBTOTAL(9,AK35:AN35) -> 0 | AP35: 10 | AQ35: 0 | AR35: 0 | AS35: 0 | AT35: =SUBTOTAL(9,AP35:AS35) -> 0
A36: =CONCATENATE(B36,"P") -> 186006511P | B36: 186006511 | C36: =VLOOKUP($B36,AcceptedPlanRange,2,0) -> ACQUITY Qda Detector (Kestrel) | D36: =VLOOKUP($B36,AcceptedPlanRange,3,0) -> MAN (UK50)- Transfer to WEX (EI10) | F36: =VLOOKUP($B36,AcceptedPlanRange,4,0) -> MS | G36: =VLOOKUP($B36,AcceptedPlanRange,5,0) -> Quads | H36: =VLOOKUP($B36,AcceptedPlanRange,6,0) -> SQ's | I36: =VLOOKUP($B36,AcceptedPlanRange,7,0) -> 14455.27 | J36: =VLOOKUP($B36,AcceptedPlanRange,8,0) -> Stephen Connor | K36: Proposed Production | L36: 0 | M36: 0 | N36: 0 | O36: 0 | Q36: 0 | R36: 0 | S36: 0 | T36: 0 | V36: 0 | W36: 0 | X36: 0 | Y36: 0 | Z36: 0 | AA36: 0 | AB36: 0 | AC36: 0 | AD36: 0 | AE36: 0 | AF36: 0 | AG36: 0 | AH36: 0 | AI36: 200 | AJ36: =SUBTOTAL(9,AF36:AI36) -> 0 | AK36: 240 | AL36: 185 | AM36: 190 | AN36: 240 | AO36: =SUBTOTAL(9,AK36:AN36) -> 0 | AP36: 165 | AQ36: 0 | AR36: 0 | AS36: 0 | AT36: =SUBTOTAL(9,AP36:AS36) -> 0 | AX36: =AO36-#REF! -> #REF!
A37: =CONCATENATE(B37,"P") -> 186006532P | B37: 186006532 | C37: =VLOOKUP($B37,AcceptedPlanRange,2,0) -> Xevo G2-S 4k | D37: =VLOOKUP($B37,AcceptedPlanRange,3,0) -> MAN (UK50) | E37: 5 | F37: =VLOOKUP($B37,AcceptedPlanRange,4,0) -> MS | G37: =VLOOKUP($B37,AcceptedPlanRange,5,0) -> Tof | H37: =VLOOKUP($B37,AcceptedPlanRange,6,0) -> LE Tof | I37: =VLOOKUP($B37,AcceptedPlanRange,7,0) -> 94445.2 | J37: =VLOOKUP($B37,AcceptedPlanRange,8,0) -> Stephen Connor | K37: Proposed Production | X37: 0 | Y37: 0 | Z37: 0 | AA37: 0 | AB37: 15 | AC37: 45 | AD37: 40 | AE37: 100 | AF37: 65 | AG37: 65 | AH37: 45 | AI37: 50 | AJ37: =SUBTOTAL(9,AF37:AI37) -> 0 | AK37: 35 | AL37: 50 | AM37: 40 | AN37: 25 | AO37: =SUBTOTAL(9,AK37:AN37) -> 0 | AP37: 10 | AQ37: 0 | AR37: 0 | AS37: 0 | AT37: =SUBTOTAL(9,AP37:AS37) -> 0
A38: =CONCATENATE(B38,"P") -> 186006964P | B38: 186006964 | C38: =VLOOKUP($B38,AcceptedPlanRange,2,0) -> Source, iONKEY for TQ-S | D38: =VLOOKUP($B38,AcceptedPlanRange,3,0) -> MIL (US31) | F38: =VLOOKUP($B38,AcceptedPlanRange,4,0) -> TBD | G38: =VLOOKUP($B38,AcceptedPlanRange,5,0) -> TBD | H38: =VLOOKUP($B38,AcceptedPlanRange,6,0) -> TBD | I38: =VLOOKUP($B38,AcceptedPlanRange,7,0) -> 12329.59 | J38: =VLOOKUP($B38,AcceptedPlanRange,8,0) -> Vicky Allen | K38: Proposed Production | X38: 8 | Y38: 5 | Z38: 13 | AA38: 0 | AB38: 0 | AC38: 0 | AD38: 0 | AE38: 0 | AF38: 0 | AG38: 0 | AH38: 0 | AI38: 3 | AJ38: =SUBTOTAL(9,AF38:AI38) -> 0 | AK38: 12 | AL38: 14 | AM38: 14 | AN38: 20 | AO38: =SUBTOTAL(9,AK38:AN38) -> 0 | AP38: 20 | AQ38: 30 | AR38: 0 | AS38: 0 | AT38: =SUBTOTAL(9,AP38:AS38) -> 0
A39: =CONCATENATE(B39,"P") -> 186015000P | B39: 186015000 | C39: =VLOOKUP($B39,AcceptedPlanRange,2,0) -> ACQUITY UPLC I-Class BSM | D39: =VLOOKUP($B39,AcceptedPlanRange,3,0) -> MIL (US31) - Transfer to WPPL (SG20) | F39: =VLOOKUP($B39,AcceptedPlanRange,4,0) -> LC | G39: =VLOOKUP($B39,AcceptedPlanRange,5,0) -> I-Class | H39: =VLOOKUP($B39,AcceptedPlanRange,6,0) -> Pumps | I39: =VLOOKUP($B39,AcceptedPlanRange,7,0) -> 8240.89 | J39: =VLOOKUP($B39,AcceptedPlanRange,8,0) -> Sharon Bibbo | K39: Proposed Production | Y39: 250 | Z39: 200 | AA39: 149 | AB39: 98 | AC39: 149 | AD39: 250 | AE39: 646 | AF39: 210 | AG39: 175 | AH39: 255 | AI39: 195 | AJ39: =SUBTOTAL(9,AF39:AI39) -> 0 | AK39: 210 | AL39: 205 | AM39: 190 | AN39: 223 | AO39: =SUBTOTAL(9,AK39:AN39) -> 0 | AP39: 199 | AQ39: 0 | AR39: 0 | AS39: 0 | AT39: =SUBTOTAL(9,AP39:AS39) -> 0
A40: =CONCATENATE(B40,"P") -> 186015001P | B40: 186015001 | C40: =VLOOKUP($B40,AcceptedPlanRange,2,0) -> Acquity UPLC Binary Solvent Mgr | D40: =VLOOKUP($B40,AcceptedPlanRange,3,0) -> WPPL (SG20) | F40: =VLOOKUP($B40,AcceptedPlanRange,4,0) -> LC | G40: =VLOOKUP($B40,AcceptedPlanRange,5,0) -> ACQUITY Classic | H40: =VLOOKUP($B40,AcceptedPlanRange,6,0) -> Pumps | I40: =VLOOKUP($B40,AcceptedPlanRange,7,0) -> 7666.38 | J40: =VLOOKUP($B40,AcceptedPlanRange,8,0) -> Ee Ling Lim | K40: Proposed Production | Y40: 200 | Z40: 200 | AA40: 200 | AB40: 180 | AC40: 190 | AD40: 180 | AE40: 750 | AF40: 163 | AG40: 125 | AH40: 85 | AI40: 70 | AJ40: =SUBTOTAL(9,AF40:AI40) -> 0 | AK40: 80 | AL40: 95 | AM40: 90 | AN40: 80 | AO40: =SUBTOTAL(9,AK40:AN40) -> 0 | AP40: 23 | AQ40: 0 | AR40: 0 | AS40: 0 | AT40: =SUBTOTAL(9,AP40:AS40) -> 0
A41: =CONCATENATE(B41,"P") -> 186015006P | B41: 186015006 | C41: =VLOOKUP($B41,AcceptedPlanRange,2,0) -> ACQUITY UPLC Autosampler Mod. | D41: =VLOOKUP($B41,AcceptedPlanRange,3,0) -> MIL (US31) | F41: =VLOOKUP($B41,AcceptedPlanRange,4,0) -> LC | G41: =VLOOKUP($B41,AcceptedPlanRange,5,0) -> ACQUITY Classic | H41: =VLOOKUP($B41,AcceptedPlanRange,6,0) -> Injectors | I41: =VLOOKUP($B41,AcceptedPlanRange,7,0) -> 6257.02 | J41: =VLOOKUP($B41,AcceptedPlanRange,8,0) -> Vicky Allen | K41: Proposed Production | Y41: 150 | Z41: 150 | AA41: 136 | AB41: 186 | AC41: 139 | AD41: 116 | AE41: 577 | AF41: 170 | AG41: 125 | AH41: 40 | AI41: 20 | AJ41: =SUBTOTAL(9,AF41:AI41) -> 355 | AK41: 65 | AL41: 65 | AM41: 65 | AN41: 65 | AO41: =SUBTOTAL(9,AK41:AN41) -> 260 | AP41: 12 | AQ41: 0 | AR41: 0 | AS41: 0 | AT41: =SUBTOTAL(9,AP41:AS41) -> 12
A42: =CONCATENATE(B42,"P") -> 186015007P | B42: 186015007 | C42: =VLOOKUP($B42,AcceptedPlanRange,2,0) -> ACQUITY UPLC Column Mgr - Right Inlet | D42: =VLOOKUP($B42,AcceptedPlanRange,3,0) -> WPPL (SG20) | F42: =VLOOKUP($B42,AcceptedPlanRange,4,0) -> LC | G42: =VLOOKUP($B42,AcceptedPlanRange,5,0) -> ACQUITY Classic | H42: =VLOOKUP($B42,AcceptedPlanRange,6,0) -> Column Managers | I42: =VLOOKUP($B42,AcceptedPlanRange,7,0) -> 4357.41 | J42: =VLOOKUP($B42,AcceptedPlanRange,8,0) -> Ee Ling Lim | K42: Proposed Production | Y42: 35 | Z42: 35 | AA42: 39 | AB42: 66 | AC42: 76 | AD42: 90 | AE42: 271 | AF42: 50 | AG42: 60 | AH42: 30 | AI42: 15 | AJ42: =SUBTOTAL(9,AF42:AI42) -> 0 | AK42: 5 | AL42: 8 | AM42: 8 | AN42: 10 | AO42: =SUBTOTAL(9,AK42:AN42) -> 0 | AP42: 0 | AQ42: 0 | AR42: 0 | AS42: 0 | AT42: =SUBTOTAL(9,AP42:AS42) -> 0
A43: =CONCATENATE(B43,"P") -> 186015008P | B43: 186015008 | C43: =VLOOKUP($B43,AcceptedPlanRange,2,0) -> ACQUITY UPLC Column Htr./Cooler | D43: =VLOOKUP($B43,AcceptedPlanRange,3,0) -> WPPL (SG20) | F43: =VLOOKUP($B43,AcceptedPlanRange,4,0) -> LC | G43: =VLOOKUP($B43,AcceptedPlanRange,5,0) -> ACQUITY Classic | H43: =VLOOKUP($B43,AcceptedPlanRange,6,0) -> Column Managers | I43: =VLOOKUP($B43,AcceptedPlanRange,7,0) -> 2896.58 | J43: =VLOOKUP($B43,AcceptedPlanRange,8,0) -> Ee Ling Lim | K43: Proposed Production | Y43: 0 | Z43: 0 | AA43: 0 | AB43: 0 | AC43: 5 | AD43: 10 | AE43: 15 | AF43: 12 | AG43: 20 | AH43: 20 | AI43: 15 | AJ43: =SUBTOTAL(9,AF43:AI43) -> 0 | AK43: 12 | AL43: 15 | AM43: 10 | AN43: 15 | AO43: =SUBTOTAL(9,AK43:AN43) -> 0 | AP43: 0 | AQ43: 0 | AR43: 0 | AS43: 0 | AT43: =SUBTOTAL(9,AP43:AS43) -> 0
A44: =CONCATENATE(B44,"P") -> 186015009P | B44: 186015009 | C44: =VLOOKUP($B44,AcceptedPlanRange,2,0) -> ACQUITY UPLC Column Mgr.-Left Inlet | D44: =VLOOKUP($B44,AcceptedPlanRange,3,0) -> WPPL (SG20) | F44: =VLOOKUP($B44,AcceptedPlanRange,4,0) -> LC | G44: =VLOOKUP($B44,AcceptedPlanRange,5,0) -> ACQUITY Classic | H44: =VLOOKUP($B44,AcceptedPlanRange,6,0) -> Column Managers | I44: =VLOOKUP($B44,AcceptedPlanRange,7,0) -> 4361.27 | J44: =VLOOKUP($B44,AcceptedPlanRange,8,0) -> Ee Ling Lim | K44: Proposed Production | Y44: 3 | Z44: 3 | AA44: 10 | AB44: 23 | AC44: 25 | AD44: 30 | AE44: 88 | AF44: 0 | AG44: 0 | AH44: 15 | AI44: 0 | AJ44: =SUBTOTAL(9,AF44:AI44) -> 0 | AK44: 4 | AL44: 4 | AM44: 4 | AN44: 4 | AO44: =SUBTOTAL(9,AK44:AN44) -> 0 | AP44: 0 | AQ44: 0 | AR44: 0 | AS44: 0 | AT44: =SUBTOTAL(9,AP44:AS44) -> 0
A45: =CONCATENATE(B45,"P") -> 186015010P | B45: 186015010 | C45: =VLOOKUP($B45,AcceptedPlanRange,2,0) -> ACQUITY UPLC Column Heater HT | D45: =VLOOKUP($B45,AcceptedPlanRange,3,0) -> WPPL (SG20) | F45: =VLOOKUP($B45,AcceptedPlanRange,4,0) -> LC | G45: =VLOOKUP($B45,AcceptedPlanRange,5,0) -> ACQUITY Classic | H45: =VLOOKUP($B45,AcceptedPlanRange,6,0) -> Column Managers | I45: =VLOOKUP($B45,AcceptedPlanRange,7,0) -> 934.47 | J45: =VLOOKUP($B45,AcceptedPlanRange,8,0) -> Ee Ling Lim | K45: Proposed Production | Y45: 130 | Z45: 130 | AA45: 160 | AB45: 130 | AC45: 120 | AD45: 85 | AE45: 495 | AF45: 80 | AG45: 75 | AH45: 54 | AI45: 20 | AJ45: =SUBTOTAL(9,AF45:AI45) -> 0 | AK45: 40 | AL45: 45 | AM45: 45 | AN45: 55 | AO45: =SUBTOTAL(9,AK45:AN45) -> 0 | AP45: 33 | AQ45: 0 | AR45: 0 | AS45: 0 | AT45: =SUBTOTAL(9,AP45:AS45) -> 0
A46: =CONCATENATE(B46,"P") -> 186015011P | B46: 186015011 | C46: =VLOOKUP($B46,AcceptedPlanRange,2,0) -> ACQUITY UPLC 30cm Col Htr/Clr. | D46: =VLOOKUP($B46,AcceptedPlanRange,3,0) -> WPPL (SG20) | F46: =VLOOKUP($B46,AcceptedPlanRange,4,0) -> LC | G46: =VLOOKUP($B46,AcceptedPlanRange,5,0) -> ACQUITY Common Modules | H46: =VLOOKUP($B46,AcceptedPlanRange,6,0) -> Column Managers | I46: =VLOOKUP($B46,AcceptedPlanRange,7,0) -> 1210.21 | J46: =VLOOKUP($B46,AcceptedPlanRange,8,0) -> Ee Ling Lim | K46: Proposed Production | Y46: 150 | Z46: 150 | AA46: 161 | AB46: 185 | AC46: 170 | AD46: 200 | AE46: 716 | AF46: 125 | AG46: 185 | AH46: 196 | AI46: 213 | AJ46: =SUBTOTAL(9,AF46:AI46) -> 0 | AK46: 230 | AL46: 200 | AM46: 210 | AN46: 250 | AO46: =SUBTOTAL(9,AK46:AN46) -> 0 | AP46: 180 | AQ46: 180 | AR46: 0 | AS46: 0 | AT46: =SUBTOTAL(9,AP46:AS46) -> 0 | AX46: 30
A47: =CONCATENATE(B47,"P") -> 186015012P | B47: 186015012 | C47: =VLOOKUP($B47,AcceptedPlanRange,2,0) -> ACQUITY UPLC Online SPE Manager | D47: =VLOOKUP($B47,AcceptedPlanRange,3,0) -> MIL (US31) | F47: =VLOOKUP($B47,AcceptedPlanRange,4,0) -> LC | G47: =VLOOKUP($B47,AcceptedPlanRange,5,0) -> Clinical ACQUITY | H47: =VLOOKUP($B47,AcceptedPlanRange,6,0) -> Injectors | I47: =VLOOKUP($B47,AcceptedPlanRange,7,0) -> 22141.71 | J47: =VLOOKUP($B47,AcceptedPlanRange,8,0) -> Vicky Allen | K47: Proposed Production | Y47: 8 | Z47: 8 | AA47: 0 | AB47: 0 | AC47: 8 | AD47: 3 | AE47: 11 | AF47: 5 | AG47: 0 | AH47: 0 | AI47: 0 | AJ47: 4 | AK47: 0 | AL47: 0 | AM47: 0 | AN47: 2 | AO47: =SUBTOTAL(9,AK47:AN47) -> 2 | AP47: 0 | AQ47: 0 | AR47: 0 | AS47: 0 | AT47: =SUBTOTAL(9,AP47:AS47) -> 0
A48: =CONCATENATE(B48,"P") -> 186015014P | B48: 186015014 | C48: =VLOOKUP($B48,AcceptedPlanRange,2,0) -> ACQUITY UPLC Sample Organizer w/Comp. | D48: =VLOOKUP($B48,AcceptedPlanRange,3,0) -> WPPL (SG20) | F48: =VLOOKUP($B48,AcceptedPlanRange,4,0) -> LC | G48: =VLOOKUP($B48,AcceptedPlanRange,5,0) -> H Class | H48: =VLOOKUP($B48,AcceptedPlanRange,6,0) -> Accessories | I48: =VLOOKUP($B48,AcceptedPlanRange,7,0) -> 9057.46 | J48: =VLOOKUP($B48,AcceptedPlanRange,8,0) -> Ee Ling Lim | K48: Proposed Production | Y48: 48 | Z48: 48 | AA48: 50 | AB48: 55 | AC48: 57 | AD48: 50 | AE48: 212 | AF48: 55 | AG48: 0 | AH48: 15 | AI48: 50 | AJ48: =SUBTOTAL(9,AF48:AI48) -> 0 | AK48: 45 | AL48: 60 | AM48: 60 | AN48: 55 | AO48: =SUBTOTAL(9,AK48:AN48) -> 0 | AP48: 58 | AQ48: 63 | AR48: 0 | AS48: 0 | AT48: =SUBTOTAL(9,AP48:AS48) -> 0
A49: =CONCATENATE(B49,"P") -> 186015017P | B49: 186015017 | C49: =VLOOKUP($B49,AcceptedPlanRange,2,0) -> ACQUITY UPLC Sample Manager FTN | D49: =VLOOKUP($B49,AcceptedPlanRange,3,0) -> WPPL (SG20) | F49: =VLOOKUP($B49,AcceptedPlanRange,4,0) -> LC | G49: =VLOOKUP($B49,AcceptedPlanRange,5,0) -> H Class | H49: =VLOOKUP($B49,AcceptedPlanRange,6,0) -> Injectors | I49: =VLOOKUP($B49,AcceptedPlanRange,7,0) -> 5175.61 | J49: =VLOOKUP($B49,AcceptedPlanRange,8,0) -> Ee Ling Lim | K49: Proposed Production | Y49: 272 | Z49: 272 | AA49: 460 | AB49: 590 | AC49: 580 | AD49: 590 | AE49: 2220 | AF49: 400 | AG49: 500 | AH49: 500 | AI49: 530 | AJ49: =SUBTOTAL(9,AF49:AI49) -> 0 | AK49: 600 | AL49: 580 | AM49: 565 | AN49: 590 | AO49: =SUBTOTAL(9,AK49:AN49) -> 0 | AP49: 500 | AQ49: 544 | AR49: 0 | AS49: 0 | AT49: =SUBTOTAL(9,AP49:AS49) -> 0 | AX49: 40
A50: =CONCATENATE(B50,"P") -> 186015018P | B50: 186015018 | C50: =VLOOKUP($B50,AcceptedPlanRange,2,0) -> ACQUITY UPLC QSM | D50: =VLOOKUP($B50,AcceptedPlanRange,3,0) -> WPPL (SG20) | F50: =VLOOKUP($B50,AcceptedPlanRange,4,0) -> LC | G50: =VLOOKUP($B50,AcceptedPlanRange,5,0) -> H Class | H50: =VLOOKUP($B50,AcceptedPlanRange,6,0) -> Pumps | I50: =VLOOKUP($B50,AcceptedPlanRange,7,0) -> 4770.22 | J50: =VLOOKUP($B50,AcceptedPlanRange,8,0) -> Ee Ling Lim | K50: Proposed Production | Y50: 430 | Z50: 430 | AA50: 460 | AB50: 580 | AC50: 600 | AD50: 605 | AE50: 2245 | AF50: 430 | AG50: 500 | AH50: 500 | AI50: 555 | AJ50: =SUBTOTAL(9,AF50:AI50) -> 0 | AK50: 600 | AL50: 580 | AM50: 565 | AN50: 590 | AO50: =SUBTOTAL(9,AK50:AN50) -> 0 | AP50: 500 | AQ50: 544 | AR50: 0 | AS50: 0 | AT50: =SUBTOTAL(9,AP50:AS50) -> 0 | AX50: 40
A51: =CONCATENATE(B51,"P") -> 186015019P | B51: 186015019 | C51: =VLOOKUP($B51,AcceptedPlanRange,2,0) -> ACQUITY Isocratic Solvent Mgr | D51: =VLOOKUP($B51,AcceptedPlanRange,3,0) -> MIL (US31) | F51: =VLOOKUP($B51,AcceptedPlanRange,4,0) -> LC | G51: =VLOOKUP($B51,AcceptedPlanRange,5,0) -> QDa | H51: =VLOOKUP($B51,AcceptedPlanRange,6,0) -> Pumps | I51: =VLOOKUP($B51,AcceptedPlanRange,7,0) -> 3816.69 | J51: =VLOOKUP($B51,AcceptedPlanRange,8,0) -> Sharon Bibbo | K51: Proposed Production | Y51: 0 | Z51: 0 | AA51: 0 | AB51: 0 | AC51: 0 | AD51: 0 | AE51: 0 | AF51: 0 | AG51: 0 | AH51: 28 | AI51: 94 | AJ51: =SUBTOTAL(9,AF51:AI51) -> 122 | AK51: 130 | AL51: 40 | AM51: 40 | AN51: 40 | AO51: =SUBTOTAL(9,AK51:AN51) -> 250 | AP51: 40 | AQ51: 60 | AR51: 0 | AS51: 0 | AT51: =SUBTOTAL(9,AP51:AS51) -> 100
A52: =CONCATENATE(B52,"P") -> 186015024P | B52: 186015024 | C52: =VLOOKUP($B52,AcceptedPlanRange,2,0) -> ACQUITY UPLC PROCESS SAMPLE MANAGER | D52: =VLOOKUP($B52,AcceptedPlanRange,3,0) -> MIL (US31) | F52: =VLOOKUP($B52,AcceptedPlanRange,4,0) -> LC | G52: =VLOOKUP($B52,AcceptedPlanRange,5,0) -> PATROL | H52: =VLOOKUP($B52,AcceptedPlanRange,6,0) -> Injectors | I52: =VLOOKUP($B52,AcceptedPlanRange,7,0) -> 36090.78 | J52: =VLOOKUP($B52,AcceptedPlanRange,8,0) -> Linda Trautwein | K52: Proposed Production | Y52: 5 | Z52: 5 | AA52: 1 | AB52: 0 | AC52: 4 | AD52: 5 | AE52: 10 | AF52: 2 | AG52: 0 | AH52: 3 | AI52: 0 | AJ52: =SUBTOTAL(9,AF52:AI52) -> 5 | AK52: 0 | AL52: 0 | AM52: 0 | AN52: 0 | AO52: 0 | AP52: 0 | AQ52: 0 | AR52: 0 | AS52: 0 | AT52: =SUBTOTAL(9,AP52:AS52) -> 0
A53: =CONCATENATE(B53,"P") -> 186015064P | B53: 186015064 | C53: =VLOOKUP($B53,AcceptedPlanRange,2,0) -> ACQUITY UPLC Process Sample Mrg. w/PDP | D53: =VLOOKUP($B53,AcceptedPlanRange,3,0) -> MIL (US31) | F53: =VLOOKUP($B53,AcceptedPlanRange,4,0) -> LC | G53: =VLOOKUP($B53,AcceptedPlanRange,5,0) -> PATROL | H53: =VLOOKUP($B53,AcceptedPlanRange,6,0) -> Injectors | I53: =VLOOKUP($B53,AcceptedPlanRange,7,0) -> 36090.78 | J53: =VLOOKUP($B53,AcceptedPlanRange,8,0) -> Linda Trautwein | K53: Proposed Production | Y53: 5 | Z53: 0 | AA53: 1 | AB53: 0 | AC53: 0 | AD53: 0 | AE53: 10 | AF53: 0 | AG53: 0 | AH53: 1 | AI53: 4 | AJ53: =SUBTOTAL(9,AF53:AI53) -> 5 | AK53: 6 | AL53: 6 | AM53: 6 | AN53: 6 | AO53: =SUBTOTAL(9,AK53:AN53) -> 24 | AP53: 5 | AQ53: 5 | AR53: 0 | AS53: 0 | AT53: =SUBTOTAL(9,AP53:AS53) -> 10
A54: =CONCATENATE(B54,"P") -> 186015027P | B54: 186015027 | C54: =VLOOKUP($B54,AcceptedPlanRange,2,0) -> ACQUITY UPLC ELSD w/Nebulizer | D54: =VLOOKUP($B54,AcceptedPlanRange,3,0) -> MIL (US31) | F54: =VLOOKUP($B54,AcceptedPlanRange,4,0) -> LC | G54: =VLOOKUP($B54,AcceptedPlanRange,5,0) -> ACQUITY Common Modules | H54: =VLOOKUP($B54,AcceptedPlanRange,6,0) -> Detectors | I54: =VLOOKUP($B54,AcceptedPlanRange,7,0) -> 5492.31 | J54: =VLOOKUP($B54,AcceptedPlanRange,8,0) -> Paul Brusco | K54: Proposed Production | Y54: 28 | Z54: 28 | AA54: 46 | AB54: 55 | AC54: 45 | AD54: 40 | AE54: 186 | AF54: 26 | AG54: 61 | AH54: 45 | AI54: 44 | AJ54: =SUBTOTAL(9,AF54:AI54) -> 176 | AK54: 55 | AL54: 50 | AM54: 45 | AN54: 50 | AO54: =SUBTOTAL(9,AK54:AN54) -> 200 | AP54: 40 | AQ54: 40 | AR54: 0 | AS54: 0 | AT54: =SUBTOTAL(9,AP54:AS54) -> 80 | AX54: 10
A55: =CONCATENATE(B55,"P") -> 186015029P | B55: 186015029 | C55: =VLOOKUP($B55,AcceptedPlanRange,2,0) -> ACQUITY UPLC Fluorescence Detector | D55: =VLOOKUP($B55,AcceptedPlanRange,3,0) -> WPPL (SG20) | F55: =VLOOKUP($B55,AcceptedPlanRange,4,0) -> LC | G55: =VLOOKUP($B55,AcceptedPlanRange,5,0) -> ACQUITY Common Modules | H55: =VLOOKUP($B55,AcceptedPlanRange,6,0) -> Detectors | I55: =VLOOKUP($B55,AcceptedPlanRange,7,0) -> 4943.16 | J55: =VLOOKUP($B55,AcceptedPlanRange,8,0) -> Ee Ling Lim | K55: Proposed Production | Y55: 90 | Z55: 90 | AA55: 100 | AB55: 151 | AC55: 160 | AD55: 150 | AE55: 561 | AF55: 232 | AG55: 78 | AH55: 110 | AI55: 92 | AJ55: =SUBTOTAL(9,AF55:AI55) -> 0 | AK55: 140 | AL55: 150 | AM55: 140 | AN55: 155 | AO55: =SUBTOTAL(9,AK55:AN55) -> 0 | AP55: 130 | AQ55: 130 | AR55: 0 | AS55: 0 | AT55: =SUBTOTAL(9,AP55:AS55) -> 0 | AX55: 30
A56: =CONCATENATE(B56,"P") -> 186015031P | B56: 186015031 | C56: =VLOOKUP($B56,AcceptedPlanRange,2,0) -> ACQUITY UPLC TUV Detector TC | D56: =VLOOKUP($B56,AcceptedPlanRange,3,0) -> WPPL (SG20) | F56: =VLOOKUP($B56,AcceptedPlanRange,4,0) -> LC | G56: =VLOOKUP($B56,AcceptedPlanRange,5,0) -> ACQUITY Common Modules | H56: =VLOOKUP($B56,AcceptedPlanRange,6,0) -> Detectors | I56: =VLOOKUP($B56,AcceptedPlanRange,7,0) -> 2296.02 | J56: =VLOOKUP($B56,AcceptedPlanRange,8,0) -> Ee Ling Lim | K56: Proposed Production | Y56: 180 | Z56: 180 | AA56: 268 | AB56: 305 | AC56: 305 | AD56: 290 | AE56: 1168 | AF56: 200 | AG56: 250 | AH56: 240 | AI56: 280 | AJ56: =SUBTOTAL(9,AF56:AI56) -> 0 | AK56: 250 | AL56: 250 | AM56: 250 | AN56: 300 | AO56: =SUBTOTAL(9,AK56:AN56) -> 0 | AP56: 230 | AQ56: 240 | AR56: 0 | AS56: 0 | AT56: =SUBTOTAL(9,AP56:AS56) -> 0 | AX56: 30
A57: =CONCATENATE(B57,"P") -> 186015032P | B57: 186015032 | C57: =VLOOKUP($B57,AcceptedPlanRange,2,0) -> ACQUITY UPLC PDA Detector | D57: =VLOOKUP($B57,AcceptedPlanRange,3,0) -> WPPL (SG20) | F57: =VLOOKUP($B57,AcceptedPlanRange,4,0) -> LC | G57: =VLOOKUP($B57,AcceptedPlanRange,5,0) -> ACQUITY Common Modules | H57: =VLOOKUP($B57,AcceptedPlanRange,6,0) -> Detectors | I57: =VLOOKUP($B57,AcceptedPlanRange,7,0) -> 3390.92 | J57: =VLOOKUP($B57,AcceptedPlanRange,8,0) -> Ee Ling Lim | K57: Proposed Production | Y57: 220 | Z57: 220 | AA57: 295 | AB57: 232 | AC57: 275 | AD57: 315 | AE57: 1117 | AF57: 227 | AG57: 200 | AH57: 225 | AI57: 270 | AJ57: =SUBTOTAL(9,AF57:AI57) -> 0 | AK57: 300 | AL57: 290 | AM57: 260 | AN57: 290 | AO57: =SUBTOTAL(9,AK57:AN57) -> 0 | AP57: 240 | AQ57: 260 | AR57: 0 | AS57: 0 | AT57: =SUBTOTAL(9,AP57:AS57) -> 0 | AX57: 20
A58: =CONCATENATE(B58,"P") -> 186015033P | B58: 186015033 | C58: =VLOOKUP($B58,AcceptedPlanRange,2,0) -> ACQUITY UPLC PDA eLambda Detector | D58: =VLOOKUP($B58,AcceptedPlanRange,3,0) -> WPPL (SG20) | F58: =VLOOKUP($B58,AcceptedPlanRange,4,0) -> LC | G58: =VLOOKUP($B58,AcceptedPlanRange,5,0) -> ACQUITY Common Modules | H58: =VLOOKUP($B58,AcceptedPlanRange,6,0) -> Detectors | I58: =VLOOKUP($B58,AcceptedPlanRange,7,0) -> 3409.84 | J58: =VLOOKUP($B58,AcceptedPlanRange,8,0) -> Ee Ling Lim | K58: Proposed Production | Y58: 200 | Z58: 200 | AA58: 200 | AB58: 208 | AC58: 190 | AD58: 240 | AE58: 838 | AF58: 175 | AG58: 240 | AH58: 210 | AI58: 210 | AJ58: =SUBTOTAL(9,AF58:AI58) -> 0 | AK58: 200 | AL58: 220 | AM58: 220 | AN58: 270 | AO58: =SUBTOTAL(9,AK58:AN58) -> 0 | AP58: 200 | AQ58: 210 | AR58: 0 | AS58: 0 | AT58: =SUBTOTAL(9,AP58:AS58) -> 0 | AX58: 20
A59: =CONCATENATE(B59,"P") -> 186015034P | B59: 186015034 | C59: =VLOOKUP($B59,AcceptedPlanRange,2,0) -> ACQUITY UPC2 PDA Detector | D59: =VLOOKUP($B59,AcceptedPlanRange,3,0) -> WPPL (SG20) | F59: =VLOOKUP($B59,AcceptedPlanRange,4,0) -> Purification | G59: =VLOOKUP($B59,AcceptedPlanRange,5,0) -> UPC2 | H59: =VLOOKUP($B59,AcceptedPlanRange,6,0) -> Detectors | I59: =VLOOKUP($B59,AcceptedPlanRange,7,0) -> 3924.65 | J59: =VLOOKUP($B59,AcceptedPlanRange,8,0) -> Vicky Allen | K59: Proposed Production | Y59: 30 | Z59: 30 | AA59: 28 | AB59: 67 | AC59: 93 | AD59: 50 | AE59: 238 | AF59: 20 | AG59: 50 | AH59: 79 | AI59: 30 | AJ59: =SUBTOTAL(9,AF59:AI59) -> 0 | AK59: 15 | AL59: 35 | AM59: 40 | AN59: 45 | AO59: =SUBTOTAL(9,AK59:AN59) -> 0 | AP59: 0 | AQ59: 0 | AR59: 0 | AS59: 0 | AT59: =SUBTOTAL(9,AP59:AS59) -> 0
A60: =CONCATENATE(B60,"P") -> 186015035P | B60: 186015035 | C60: =VLOOKUP($B60,AcceptedPlanRange,2,0) -> ACQUITY UPC2 Sample Manager-Fixed Loop | D60: =VLOOKUP($B60,AcceptedPlanRange,3,0) -> MIL (US31) | F60: =VLOOKUP($B60,AcceptedPlanRange,4,0) -> Purification | G60: =VLOOKUP($B60,AcceptedPlanRange,5,0) -> UPC2 | H60: =VLOOKUP($B60,AcceptedPlanRange,6,0) -> Injectors | I60: =VLOOKUP($B60,AcceptedPlanRange,7,0) -> 6572.74 | J60: =VLOOKUP($B60,AcceptedPlanRange,8,0) -> Linda Trautwein | K60: Proposed Production | Y60: 0 | Z60: 0 | AA60: 28 | AB60: 70 | AC60: 100 | AD60: 50 | AE60: 248 | AF60: 20 | AG60: 55 | AH60: 38 | AI60: 67 | AJ60: =SUBTOTAL(9,AF60:AI60) -> 0 | AK60: 45 | AL60: 49 | AM60: 48 | AN60: 64 | AO60: =SUBTOTAL(9,AK60:AN60) -> 0 | AP60: 48 | AQ60: 0 | AR60: 0 | AS60: 0 | AT60: =SUBTOTAL(9,AP60:AS60) -> 0
A61: =CONCATENATE(B61,"P") -> 186015036P | B61: 186015036 | C61: =VLOOKUP($B61,AcceptedPlanRange,2,0) -> ACQUITY UPC2 Binary Solvent Manager | D61: =VLOOKUP($B61,AcceptedPlanRange,3,0) -> MIL (US31) | F61: =VLOOKUP($B61,AcceptedPlanRange,4,0) -> Purification | G61: =VLOOKUP($B61,AcceptedPlanRange,5,0) -> UPC2 | H61: =VLOOKUP($B61,AcceptedPlanRange,6,0) -> Pumps | I61: =VLOOKUP($B61,AcceptedPlanRange,7,0) -> 10826.96 | J61: =VLOOKUP($B61,AcceptedPlanRange,8,0) -> Sharon Bibbo | K61: Proposed Production | Y61: 30 | Z61: 30 | AA61: 28 | AB61: 69 | AC61: 100 | AD61: 50 | AE61: 247 | AF61: 20 | AG61: 55 | AH61: 65 | AI61: 50 | AJ61: =SUBTOTAL(9,AF61:AI61) -> 0 | AK61: 38 | AL61: 49 | AM61: 48 | AN61: 64 | AO61: =SUBTOTAL(9,AK61:AN61) -> 0 | AP61: 48 | AQ61: 0 | AR61: 0 | AS61: 0 | AT61: =SUBTOTAL(9,AP61:AS61) -> 0
A62: =CONCATENATE(B62,"P") -> 186015037P | B62: 186015037 | C62: =VLOOKUP($B62,AcceptedPlanRange,2,0) -> ACQUITY UPC2 Convergence Manager | D62: =VLOOKUP($B62,AcceptedPlanRange,3,0) -> MIL (US31) | F62: =VLOOKUP($B62,AcceptedPlanRange,4,0) -> Purification | G62: =VLOOKUP($B62,AcceptedPlanRange,5,0) -> UPC2 | H62: =VLOOKUP($B62,AcceptedPlanRange,6,0) -> Injectors | I62: =VLOOKUP($B62,AcceptedPlanRange,7,0) -> 6238.56 | J62: =VLOOKUP($B62,AcceptedPlanRange,8,0) -> Sharon Bibbo | K62: Proposed Production | Y62: 30 | Z62: 30 | AA62: 28 | AB62: 71 | AC62: 100 | AD62: 50 | AE62: 249 | AF62: 25 | AG62: 50 | AH62: 60 | AI62: 48 | AJ62: =SUBTOTAL(9,AF62:AI62) -> 0 | AK62: 46 | AL62: 49 | AM62: 48 | AN62: 64 | AO62: =SUBTOTAL(9,AK62:AN62) -> 0 | AP62: 48 | AQ62: 0 | AR62: 0 | AS62: 0 | AT62: =SUBTOTAL(9,AP62:AS62) -> 0
A63: =CONCATENATE(B63,"P") -> 186015038P | B63: 186015038 | C63: =VLOOKUP($B63,AcceptedPlanRange,2,0) -> ACQUITY Active Column Manager | D63: =VLOOKUP($B63,AcceptedPlanRange,3,0) -> WPPL (SG20) | F63: =VLOOKUP($B63,AcceptedPlanRange,4,0) -> Purification | G63: =VLOOKUP($B63,AcceptedPlanRange,5,0) -> UPC2 | H63: =VLOOKUP($B63,AcceptedPlanRange,6,0) -> Column Managers | I63: =VLOOKUP($B63,AcceptedPlanRange,7,0) -> 2786.11 | J63: =VLOOKUP($B63,AcceptedPlanRange,8,0) -> Sharon Bibbo | K63: Proposed Production | Z63: 0 | AA63: 14 | AB63: 66 | AC63: 77 | AD63: 48 | AE63: 205 | AF63: 22 | AG63: 75 | AH63: 60 | AI63: 50 | AJ63: =SUBTOTAL(9,AF63:AI63) -> 0 | AK63: 50 | AL63: 50 | AM63: 50 | AN63: 60 | AO63: =SUBTOTAL(9,AK63:AN63) -> 0 | AP63: 0 | AQ63: 0 | AR63: 0 | AS63: 0 | AT63: =SUBTOTAL(9,AP63:AS63) -> 0
A64: =CONCATENATE(B64,"P") -> 186015039P | B64: 186015039 | C64: =VLOOKUP($B64,AcceptedPlanRange,2,0) -> ACQUITY Auxiliary Column Manager | D64: =VLOOKUP($B64,AcceptedPlanRange,3,0) -> WPPL (SG20) | F64: =VLOOKUP($B64,AcceptedPlanRange,4,0) -> Purification | G64: =VLOOKUP($B64,AcceptedPlanRange,5,0) -> UPC2 | H64: =VLOOKUP($B64,AcceptedPlanRange,6,0) -> Column Managers | I64: =VLOOKUP($B64,AcceptedPlanRange,7,0) -> 2092.59 | J64: =VLOOKUP($B64,AcceptedPlanRange,8,0) -> Sharon Bibbo | K64: Proposed Production | Z64: 0 | AA64: 16 | AB64: 39 | AC64: 83 | AD64: 58 | AE64: 196 | AF64: 0 | AG64: 25 | AH64: 35 | AI64: 30 | AJ64: =SUBTOTAL(9,AF64:AI64) -> 0 | AK64: 35 | AL64: 40 | AM64: 35 | AN64: 45 | AO64: =SUBTOTAL(9,AK64:AN64) -> 0 | AP64: 0 | AQ64: 0 | AR64: 0 | AS64: 0 | AT64: =SUBTOTAL(9,AP64:AS64) -> 0
A65: =CONCATENATE(B65,"P") -> 186015040P | B65: 186015040 | C65: =VLOOKUP($B65,AcceptedPlanRange,2,0) -> ACQUITY UPLC H-Class BioSM-FTN | D65: =VLOOKUP($B65,AcceptedPlanRange,3,0) -> MIL (US31) | F65: =VLOOKUP($B65,AcceptedPlanRange,4,0) -> LC | G65: =VLOOKUP($B65,AcceptedPlanRange,5,0) -> H Class - bio | H65: =VLOOKUP($B65,AcceptedPlanRange,6,0) -> Injectors | I65: =VLOOKUP($B65,AcceptedPlanRange,7,0) -> 5276.24 | J65: =VLOOKUP($B65,AcceptedPlanRange,8,0) -> Paul Brusco | K65: Proposed Production | Y65: 78 | Z65: 78 | AA65: 65 | AB65: 71 | AC65: 80 | AD65: 25 | AE65: 241 | AF65: 50 | AG65: 80 | AH65: 60 | AI65: 54 | AJ65: =SUBTOTAL(9,AF65:AI65) -> 244 | AK65: 65 | AL65: 60 | AM65: 60 | AN65: 75 | AO65: =SUBTOTAL(9,AK65:AN65) -> 260 | AP65: 58 | AQ65: 0 | AR65: 0 | AS65: 0 | AT65: =SUBTOTAL(9,AP65:AS65) -> 58
A66: =CONCATENATE(B66,"P") -> 186015041P | B66: 186015041 | C66: =VLOOKUP($B66,AcceptedPlanRange,2,0) -> ACQUITY UPLC H-Class BioQSM | D66: =VLOOKUP($B66,AcceptedPlanRange,3,0) -> MIL (US31) | F66: =VLOOKUP($B66,AcceptedPlanRange,4,0) -> LC | G66: =VLOOKUP($B66,AcceptedPlanRange,5,0) -> H Class - bio | H66: =VLOOKUP($B66,AcceptedPlanRange,6,0) -> Pumps | I66: =VLOOKUP($B66,AcceptedPlanRange,7,0) -> 5857.68 | J66: =VLOOKUP($B66,AcceptedPlanRange,8,0) -> Linda Trautwein | K66: Proposed Production | Y66: 80 | Z66: 80 | AA66: 75 | AB66: 75 | AC66: 72 | AD66: 32 | AE66: 254 | AF66: 46 | AG66: 70 | AH66: 60 | AI66: 63 | AJ66: =SUBTOTAL(9,AF66:AI66) -> 239 | AK66: 65 | AL66: 60 | AM66: 60 | AN66: 75 | AO66: =SUBTOTAL(9,AK66:AN66) -> 260 | AP66: 58 | AQ66: 61 | AR66: 0 | AS66: 0 | AT66: =SUBTOTAL(9,AP66:AS66) -> 119
A67: =CONCATENATE(B67,"P") -> 186015042P | B67: 186015042 | C67: =VLOOKUP($B67,AcceptedPlanRange,2,0) -> ACQUITY UPLC CH-A | D67: =VLOOKUP($B67,AcceptedPlanRange,3,0) -> WPPL (SG20) | F67: =VLOOKUP($B67,AcceptedPlanRange,4,0) -> LC | G67: =VLOOKUP($B67,AcceptedPlanRange,5,0) -> H Class | H67: =VLOOKUP($B67,AcceptedPlanRange,6,0) -> Column Managers | I67: =VLOOKUP($B67,AcceptedPlanRange,7,0) -> 600.8 | J67: =VLOOKUP($B67,AcceptedPlanRange,8,0) -> Ee Ling Lim | K67: Proposed Production | Y67: 500 | Z67: 500 | AA67: 500 | AB67: 595 | AC67: 575 | AD67: 500 | AE67: 2170 | AF67: 442 | AG67: 525 | AH67: 480 | AI67: 480 | AJ67: =SUBTOTAL(9,AF67:AI67) -> 0 | AK67: 540 | AL67: 560 | AM67: 540 | AN67: 600 | AO67: =SUBTOTAL(9,AK67:AN67) -> 0 | AP67: 500 | AQ67: 544 | AR67: 0 | AS67: 0 | AT67: =SUBTOTAL(9,AP67:AS67) -> 0
A68: =CONCATENATE(B68,"P") -> 186015043P | B68: 186015043 | C68: =VLOOKUP($B68,AcceptedPlanRange,2,0) -> ACQUITY UPLC CM-A | D68: =VLOOKUP($B68,AcceptedPlanRange,3,0) -> WPPL (SG20) | F68: =VLOOKUP($B68,AcceptedPlanRange,4,0) -> LC | G68: =VLOOKUP($B68,AcceptedPlanRange,5,0) -> H Class | H68: =VLOOKUP($B68,AcceptedPlanRange,6,0) -> Column Managers | I68: =VLOOKUP($B68,AcceptedPlanRange,7,0) -> 2549.13 | J68: =VLOOKUP($B68,AcceptedPlanRange,8,0) -> Ee Ling Lim | K68: Proposed Production | Y68: 50 | Z68: 50 | AA68: 310 | AB68: 320 | AC68: 340 | AD68: 340 | AE68: 1310 | AF68: 265 | AG68: 310 | AH68: 305 | AI68: 367 | AJ68: =SUBTOTAL(9,AF68:AI68) -> 0 | AK68: 270 | AL68: 320 | AM68: 300 | AN68: 360 | AO68: =SUBTOTAL(9,AK68:AN68) -> 0 | AP68: 280 | AQ68: 310 | AR68: 0 | AS68: 0 | AT68: =SUBTOTAL(9,AP68:AS68) -> 0
A69: =CONCATENATE(B69,"P") -> 186015045P | B69: 186015045 | C69: =VLOOKUP($B69,AcceptedPlanRange,2,0) -> ACQUITY UPLC CH-30A | D69: =VLOOKUP($B69,AcceptedPlanRange,3,0) -> WPPL (SG20) | F69: =VLOOKUP($B69,AcceptedPlanRange,4,0) -> LC | G69: =VLOOKUP($B69,AcceptedPlanRange,5,0) -> H Class | H69: =VLOOKUP($B69,AcceptedPlanRange,6,0) -> Column Managers | I69: =VLOOKUP($B69,AcceptedPlanRange,7,0) -> 929.97 | J69: =VLOOKUP($B69,AcceptedPlanRange,8,0) -> Ee Ling Lim | K69: Proposed Production | Y69: 36 | Z69: 36 | AA69: 50 | AB69: 100 | AC69: 100 | AD69: 50 | AE69: 300 | AF69: 90 | AG69: 85 | AH69: 75 | AI69: 54 | AJ69: =SUBTOTAL(9,AF69:AI69) -> 0 | AK69: 55 | AL69: 60 | AM69: 50 | AN69: 65 | AO69: =SUBTOTAL(9,AK69:AN69) -> 0 | AP69: 0 | AQ69: 0 | AR69: 0 | AS69: 0 | AT69: =SUBTOTAL(9,AP69:AS69) -> 0
A70: =CONCATENATE(B70,"P") -> 186015046P | B70: 186015046 | C70: =VLOOKUP($B70,AcceptedPlanRange,2,0) -> ACQUITY UPLC I-Class Sample Manager-FTN | D70: =VLOOKUP($B70,AcceptedPlanRange,3,0) -> WPPL (SG20) | F70: =VLOOKUP($B70,AcceptedPlanRange,4,0) -> LC | G70: =VLOOKUP($B70,AcceptedPlanRange,5,0) -> I-Class | H70: =VLOOKUP($B70,AcceptedPlanRange,6,0) -> Injectors | I70: =VLOOKUP($B70,AcceptedPlanRange,7,0) -> 5272.75 | J70: =VLOOKUP($B70,AcceptedPlanRange,8,0) -> Ee Ling Lim | K70: Proposed Production | Y70: 200 | Z70: 200 | AA70: 110 | AB70: 100 | AC70: 150 | AD70: 185 | AE70: 545 | AF70: 155 | AG70: 117 | AH70: 200 | AI70: 180 | AJ70: =SUBTOTAL(9,AF70:AI70) -> 0 | AK70: 150 | AL70: 160 | AM70: 150 | AN70: 190 | AO70: =SUBTOTAL(9,AK70:AN70) -> 0 | AQ70: 0 | AR70: 0 | AS70: 0 | AT70: =SUBTOTAL(9,AP70:AS70) -> 0
A71: =CONCATENATE(B71,"P") -> 186015049P | B71: 186015049 | C71: =VLOOKUP($B71,AcceptedPlanRange,2,0) -> ACQUITY UPLC H-Class CM-AUX | D71: =VLOOKUP($B71,AcceptedPlanRange,3,0) -> WPPL (SG20) | F71: =VLOOKUP($B71,AcceptedPlanRange,4,0) -> LC | G71: =VLOOKUP($B71,AcceptedPlanRange,5,0) -> H Class | H71: =VLOOKUP($B71,AcceptedPlanRange,6,0) -> Column Managers | I71: =VLOOKUP($B71,AcceptedPlanRange,7,0) -> 1866.67 | J71: =VLOOKUP($B71,AcceptedPlanRange,8,0) -> Ee Ling Lim | K71: Proposed Production | Y71: 48 | Z71: 48 | AA71: 120 | AB71: 165 | AC71: 160 | AD71: 100 | AE71: 545 | AF71: 50 | AG71: 20 | AH71: 40 | AI71: 81 | AJ71: =SUBTOTAL(9,AF71:AI71) -> 0 | AK71: 70 | AL71: 90 | AM71: 95 | AN71: 110 | AO71: =SUBTOTAL(9,AK71:AN71) -> 0 | AP71: 90 | AQ71: 98 | AR71: 0 | AS71: 0 | AT71: =SUBTOTAL(9,AP71:AS71) -> 0
A72: =CONCATENATE(B72,"P") -> 186015050P | B72: 186015050 | C72: =VLOOKUP($B72,AcceptedPlanRange,2,0) -> ACQUITY APC Isocratic Solvent Manager | D72: =VLOOKUP($B72,AcceptedPlanRange,3,0) -> MIL (US31) | F72: =VLOOKUP($B72,AcceptedPlanRange,4,0) -> LC | G72: =VLOOKUP($B72,AcceptedPlanRange,5,0) -> APC | H72: =VLOOKUP($B72,AcceptedPlanRange,6,0) -> Pumps | I72: =VLOOKUP($B72,AcceptedPlanRange,7,0) -> 5381.67 | J72: =VLOOKUP($B72,AcceptedPlanRange,8,0) -> Sharon Bibbo | K72: Proposed Production | Y72: 0 | AD72: 0 | AE72: 0 | AF72: 0 | AG72: 10 | AH72: 43 | AI72: 35 | AJ72: =SUBTOTAL(9,AF72:AI72) -> 88 | AK72: 25 | AL72: 25 | AM72: 25 | AN72: 25 | AO72: =SUBTOTAL(9,AK72:AN72) -> 100 | AP72: 22 | AQ72: 20 | AR72: 0 | AS72: 0 | AT72: =SUBTOTAL(9,AP72:AS72) -> 42
A73: =CONCATENATE(B73,"P") -> 186015051P | B73: 186015051 | C73: =VLOOKUP($B73,AcceptedPlanRange,2,0) -> ACQUITY APC Sample Manager w/FTN | D73: =VLOOKUP($B73,AcceptedPlanRange,3,0) -> MIL (US31) | F73: =VLOOKUP($B73,AcceptedPlanRange,4,0) -> LC | G73: =VLOOKUP($B73,AcceptedPlanRange,5,0) -> APC | H73: =VLOOKUP($B73,AcceptedPlanRange,6,0) -> Injectors | I73: =VLOOKUP($B73,AcceptedPlanRange,7,0) -> 6970 | J73: =VLOOKUP($B73,AcceptedPlanRange,8,0) -> Linda Trautwein | K73: Proposed Production | Y73: 0 | AD73: 0 | AE73: 0 | AF73: 0 | AG73: 10 | AH73: 42 | AI73: 35 | AJ73: =SUBTOTAL(9,AF73:AI73) -> 87 | AK73: 26 | AL73: 25 | AM73: 25 | AN73: 25 | AO73: =SUBTOTAL(9,AK73:AN73) -> 101 | AP73: 22 | AQ73: 20 | AR73: 0 | AS73: 0 | AT73: =SUBTOTAL(9,AP73:AS73) -> 42
A74: =CONCATENATE(B74,"P") -> 186015053P | B74: 186015053 | C74: =VLOOKUP($B74,AcceptedPlanRange,2,0) -> ACQUITY PDA Detector w/TaperSlit | D74: =VLOOKUP($B74,AcceptedPlanRange,3,0) -> MIL (US31) - Transfer to WPPL (SG20) | F74: =VLOOKUP($B74,AcceptedPlanRange,4,0) -> LC | G74: =VLOOKUP($B74,AcceptedPlanRange,5,0) -> APC | H74: =VLOOKUP($B74,AcceptedPlanRange,6,0) -> Detectors | I74: =VLOOKUP($B74,AcceptedPlanRange,7,0) -> 4702.15 | J74: =VLOOKUP($B74,AcceptedPlanRange,8,0) -> Vicky Allen | K74: Proposed Production | Y74: 0 | AD74: 0 | AE74: 0 | AF74: 0 | AG74: 0 | AH74: 9 | AI74: 22 | AJ74: =SUBTOTAL(9,AF74:AI74) -> 0 | AK74: 35 | AL74: 30 | AM74: 30 | AN74: 22 | AO74: =SUBTOTAL(9,AK74:AN74) -> 0 | AP74: 22 | AQ74: 28 | AR74: 0 | AS74: 0 | AT74: =SUBTOTAL(9,AP74:AS74) -> 0
A75: =CONCATENATE(B75,"P") -> 186015054P | B75: 186015054 | C75: =VLOOKUP($B75,AcceptedPlanRange,2,0) -> ACQUITY Single Zone Column Manager | D75: =VLOOKUP($B75,AcceptedPlanRange,3,0) -> MIL (US31) | F75: =VLOOKUP($B75,AcceptedPlanRange,4,0) -> LC | G75: =VLOOKUP($B75,AcceptedPlanRange,5,0) -> APC | H75: =VLOOKUP($B75,AcceptedPlanRange,6,0) -> Column Managers | I75: =VLOOKUP($B75,AcceptedPlanRange,7,0) -> 8380.91 | J75: =VLOOKUP($B75,AcceptedPlanRange,8,0) -> Linda Trautwein | K75: Proposed Production | Y75: 0 | AD75: 0 | AE75: 0 | AF75: 0 | AG75: 16 | AH75: 39 | AI75: 35 | AJ75: =SUBTOTAL(9,AF75:AI75) -> 90 | AK75: 25 | AL75: 25 | AM75: 25 | AN75: 25 | AO75: =SUBTOTAL(9,AK75:AN75) -> 100 | AP75: 22 | AQ75: 20 | AR75: 0 | AS75: 0 | AT75: =SUBTOTAL(9,AP75:AS75) -> 42
A76: =CONCATENATE(B76,"P") -> 186015055P | B76: 186015055 | C76: =VLOOKUP($B76,AcceptedPlanRange,2,0) -> ACQ 30-cm Single Zone Column Manager | D76: =VLOOKUP($B76,AcceptedPlanRange,3,0) -> MIL (US31) | F76: =VLOOKUP($B76,AcceptedPlanRange,4,0) -> LC | G76: =VLOOKUP($B76,AcceptedPlanRange,5,0) -> APC | H76: =VLOOKUP($B76,AcceptedPlanRange,6,0) -> Column Managers | I76: =VLOOKUP($B76,AcceptedPlanRange,7,0) -> 2000 | J76: =VLOOKUP($B76,AcceptedPlanRange,8,0) -> Sharon Bibbo | K76: Proposed Production | Y76: 0 | AD76: 0 | AE76: 0 | AF76: 0 | AG76: 0 | AH76: 0 | AI76: 0 | AJ76: =SUBTOTAL(9,AF76:AI76) -> 0 | AK76: 15 | AL76: 35 | AM76: 30 | AN76: 30 | AO76: =SUBTOTAL(9,AK76:AN76) -> 110 | AQ76: 0 | AR76: 0 | AS76: 0 | AT76: =SUBTOTAL(9,AP76:AS76) -> 0
A77: =CONCATENATE(B77,"P") -> 186015056P | B77: 186015056 | C77: =VLOOKUP($B77,AcceptedPlanRange,2,0) -> ACQUITY APC Quaternary Solvent Manager | D77: =VLOOKUP($B77,AcceptedPlanRange,3,0) -> MIL (US31) | F77: =VLOOKUP($B77,AcceptedPlanRange,4,0) -> LC | G77: =VLOOKUP($B77,AcceptedPlanRange,5,0) -> APC | H77: =VLOOKUP($B77,AcceptedPlanRange,6,0) -> Pumps | I77: =VLOOKUP($B77,AcceptedPlanRange,7,0) -> 4770.22 | J77: =VLOOKUP($B77,AcceptedPlanRange,8,0) -> Sharon Bibbo | K77: Proposed Production | Y77: 0 | AD77: 0 | AE77: 0 | AF77: 0 | AG77: 0 | AH77: 0 | AI77: 0 | AJ77: =SUBTOTAL(9,AF77:AI77) -> 0 | AO77: =SUBTOTAL(9,AK77:AN77) -> 0 | AQ77: 0 | AR77: 0 | AS77: 0 | AT77: =SUBTOTAL(9,AP77:AS77) -> 0
A78: =CONCATENATE(B78,"P") -> 186015060P | B78: 186015060 | C78: =VLOOKUP($B78,AcceptedPlanRange,2,0) -> ACQUITY UPLC I-Class Sample Manager-FL | D78: =VLOOKUP($B78,AcceptedPlanRange,3,0) -> MIL (US31) | F78: =VLOOKUP($B78,AcceptedPlanRange,4,0) -> LC | G78: =VLOOKUP($B78,AcceptedPlanRange,5,0) -> I-Class | H78: =VLOOKUP($B78,AcceptedPlanRange,6,0) -> Injectors | I78: =VLOOKUP($B78,AcceptedPlanRange,7,0) -> 6506.32 | J78: =VLOOKUP($B78,AcceptedPlanRange,8,0) -> Linda Trautwein | K78: Proposed Production | Y78: 35 | Z78: 35 | AA78: 10 | AB78: 25 | AC78: 30 | AD78: 40 | AE78: 105 | AF78: 25 | AG78: 41 | AH78: 62 | AI78: 20 | AJ78: =SUBTOTAL(9,AF78:AI78) -> 148 | AK78: 40 | AL78: 40 | AM78: 35 | AN78: 45 | AO78: =SUBTOTAL(9,AK78:AN78) -> 160 | AP78: 40 | AQ78: 40 | AR78: 0 | AS78: 0 | AT78: =SUBTOTAL(9,AP78:AS78) -> 80
A79: =CONCATENATE(B79,"P") -> 186015070P | B79: 186015070 | C79: =VLOOKUP($B79,AcceptedPlanRange,2,0) -> ACQUITY UPLC RI Detector | D79: =VLOOKUP($B79,AcceptedPlanRange,3,0) -> MIL (US31) | F79: =VLOOKUP($B79,AcceptedPlanRange,4,0) -> LC | G79: =VLOOKUP($B79,AcceptedPlanRange,5,0) -> ACQUITY Common Modules | H79: =VLOOKUP($B79,AcceptedPlanRange,6,0) -> Detectors | I79: =VLOOKUP($B79,AcceptedPlanRange,7,0) -> 5012.5 | J79: =VLOOKUP($B79,AcceptedPlanRange,8,0) -> Vicky Allen | K79: Proposed Production | Y79: 0 | Z79: 0 | AA79: 0 | AB79: 0 | AC79: 0 | AD79: 0 | AE79: 0 | AF79: 35 | AG79: 0 | AH79: 82 | AI79: 90 | AJ79: =SUBTOTAL(9,AF79:AI79) -> 207 | AK79: 80 | AL79: 70 | AM79: 50 | AN79: 80 | AO79: =SUBTOTAL(9,AK79:AN79) -> 280 | AP79: 51 | AQ79: 55 | AR79: 0 | AS79: 0 | AT79: =SUBTOTAL(9,AP79:AS79) -> 106 | AX79: 20
A80: =CONCATENATE(B80,"P") -> 186016002P | B80: 186016002 | C80: =VLOOKUP($B80,AcceptedPlanRange,2,0) -> nanoACQUITY UPLC Binary Sol. Mgr, HP | D80: =VLOOKUP($B80,AcceptedPlanRange,3,0) -> MIL (US31) | F80: =VLOOKUP($B80,AcceptedPlanRange,4,0) -> LC | G80: =VLOOKUP($B80,AcceptedPlanRange,5,0) -> nanoACQUITY | H80: =VLOOKUP($B80,AcceptedPlanRange,6,0) -> Pumps | I80: =VLOOKUP($B80,AcceptedPlanRange,7,0) -> 10031.11 | J80: =VLOOKUP($B80,AcceptedPlanRange,8,0) -> Linda Trautwein | K80: Proposed Production | Y80: 42 | Z80: 42 | AA80: 30 | AB80: 40 | AC80: 40 | AD80: 42 | AE80: 152 | AF80: 52 | AG80: 55 | AH80: 41 | AI80: 63 | AJ80: =SUBTOTAL(9,AF80:AI80) -> 211 | AK80: 25 | AL80: 15 | AM80: 4 | AN80: 0 | AO80: =SUBTOTAL(9,AK80:AN80) -> 44 | AP80: 0 | AQ80: 0 | AR80: 0 | AS80: 0 | AT80: =SUBTOTAL(9,AP80:AS80) -> 0
A81: =CONCATENATE(B81,"P") -> 186016003P | B81: 186016003 | C81: =VLOOKUP($B81,AcceptedPlanRange,2,0) -> Micro Binary Solvent Manager | D81: =VLOOKUP($B81,AcceptedPlanRange,3,0) -> MIL (US31) | F81: =VLOOKUP($B81,AcceptedPlanRange,4,0) -> LC | G81: =VLOOKUP($B81,AcceptedPlanRange,5,0) -> M-Class | H81: =VLOOKUP($B81,AcceptedPlanRange,6,0) -> Pumps | I81: =VLOOKUP($B81,AcceptedPlanRange,7,0) -> 15341.38 | J81: =VLOOKUP($B81,AcceptedPlanRange,8,0) -> Linda Trautwein | K81: Proposed Production | Z81: 0 | AA81: 0 | AB81: 0 | AC81: 0 | AD81: 0 | AE81: 0 | AF81: 0 | AG81: 0 | AH81: 7 | AI81: 15 | AJ81: =SUBTOTAL(9,AF81:AI81) -> 22 | AK81: 40 | AL81: 30 | AM81: 27 | AN81: 42 | AO81: =SUBTOTAL(9,AK81:AN81) -> 139 | AP81: 50 | AQ81: 57 | AR81: 0 | AS81: 0 | AT81: =SUBTOTAL(9,AP81:AS81) -> 107
A82: =CONCATENATE(B82,"P") -> 186016007P | B82: 186016007 | C82: =VLOOKUP($B82,AcceptedPlanRange,2,0) -> nanoACQUITY Sample Mgr. w/Heat.Trap.Mod. | D82: =VLOOKUP($B82,AcceptedPlanRange,3,0) -> MIL (US31) | F82: =VLOOKUP($B82,AcceptedPlanRange,4,0) -> LC | G82: =VLOOKUP($B82,AcceptedPlanRange,5,0) -> nanoACQUITY | H82: =VLOOKUP($B82,AcceptedPlanRange,6,0) -> Injectors | I82: =VLOOKUP($B82,AcceptedPlanRange,7,0) -> 8820.23 | J82: =VLOOKUP($B82,AcceptedPlanRange,8,0) -> Linda Trautwein | K82: Proposed Production | Y82: 30 | Z82: 30 | AA82: 25 | AB82: 32 | AC82: 25 | AD82: 50 | AE82: 132 | AF82: 25 | AG82: 40 | AH82: 15 | AI82: 25 | AJ82: =SUBTOTAL(9,AF82:AI82) -> 105 | AK82: 10 | AL82: 10 | AM82: 5 | AN82: 0 | AO82: =SUBTOTAL(9,AK82:AN82) -> 25 | AP82: 0 | AQ82: 0 | AR82: 0 | AS82: 0 | AT82: =SUBTOTAL(9,AP82:AS82) -> 0
A83: =CONCATENATE(B83,"P") -> 186016009P | B83: 186016009 | C83: =VLOOKUP($B83,AcceptedPlanRange,2,0) -> Trizaic Source – XEVO MS | D83: =VLOOKUP($B83,AcceptedPlanRange,3,0) -> MIL (US31) | E83: 5 | F83: =VLOOKUP($B83,AcceptedPlanRange,4,0) -> MS | G83: =VLOOKUP($B83,AcceptedPlanRange,5,0) -> Trizaic | H83: =VLOOKUP($B83,AcceptedPlanRange,6,0) -> Accessories | I83: =VLOOKUP($B83,AcceptedPlanRange,7,0) -> 11156.97 | J83: =VLOOKUP($B83,AcceptedPlanRange,8,0) -> Vicky Allen | K83: Proposed Production | X83: 10 | Y83: 9 | Z83: 19 | AA83: 10 | AB83: 7 | AC83: 5 | AD83: 5 | AE83: 23 | AF83: 5 | AG83: 8 | AH83: 4 | AI83: 3 | AJ83: 17 | AK83: 2 | AL83: 2 | AM83: 2 | AN83: 0 | AO83: =SUBTOTAL(9,AK83:AN83) -> 0 | AP83: 0 | AQ83: 0 | AR83: 0 | AS83: 0 | AT83: =SUBTOTAL(9,AP83:AS83) -> 0
A84: =CONCATENATE(B84,"P") -> 186016011P | B84: 186016011 | C84: =VLOOKUP($B84,AcceptedPlanRange,2,0) -> nanoACQUITY UPLC HDX Manager | D84: =VLOOKUP($B84,AcceptedPlanRange,3,0) -> MIL (US31) | F84: =VLOOKUP($B84,AcceptedPlanRange,4,0) -> LC | G84: =VLOOKUP($B84,AcceptedPlanRange,5,0) -> HDX | H84: =VLOOKUP($B84,AcceptedPlanRange,6,0) -> Injectors | I84: =VLOOKUP($B84,AcceptedPlanRange,7,0) -> 11216.72 | J84: =VLOOKUP($B84,AcceptedPlanRange,8,0) -> Vicky Allen | K84: Proposed Production | Y84: 5 | Z84: 5 | AA84: 5 | AB84: 5 | AC84: 10 | AD84: 6 | AE84: 26 | AF84: 6 | AG84: 4 | AH84: 5 | AI84: 15 | AJ84: =SUBTOTAL(9,AF84:AI84) -> 30 | AK84: 14 | AL84: 11 | AM84: 10 | AN84: 12 | AO84: =SUBTOTAL(9,AK84:AN84) -> 47 | AP84: 0 | AQ84: 0 | AR84: 0 | AS84: 0 | AT84: =SUBTOTAL(9,AP84:AS84) -> 0
A85: =CONCATENATE(B85,"P") -> 186016012P | B85: 186016012 | C85: =VLOOKUP($B85,AcceptedPlanRange,2,0) -> Micro Sample Manager - Fixed Loop | D85: =VLOOKUP($B85,AcceptedPlanRange,3,0) -> MIL (US31) | F85: =VLOOKUP($B85,AcceptedPlanRange,4,0) -> LC | G85: =VLOOKUP($B85,AcceptedPlanRange,5,0) -> M-Class | H85: =VLOOKUP($B85,AcceptedPlanRange,6,0) -> Injectors | I85: =VLOOKUP($B85,AcceptedPlanRange,7,0) -> 6664.15 | J85: =VLOOKUP($B85,AcceptedPlanRange,8,0) -> Linda Trautwein | K85: Proposed Production | Z85: 0 | AA85: 0 | AB85: 0 | AC85: 0 | AD85: 0 | AE85: 0 | AF85: 0 | AG85: 0 | AH85: 14 | AI85: 9 | AJ85: =SUBTOTAL(9,AF85:AI85) -> 23 | AK85: 31 | AL85: 29 | AM85: 19 | AN85: 30 | AO85: =SUBTOTAL(9,AK85:AN85) -> 109 | AP85: 28 | AQ85: 38 | AR85: 0 | AS85: 0 | AT85: =SUBTOTAL(9,AP85:AS85) -> 66
A86: =CONCATENATE(B86,"P") -> 186016016P | B86: 186016016 | C86: =VLOOKUP($B86,AcceptedPlanRange,2,0) -> Trap Valve Manager | D86: =VLOOKUP($B86,AcceptedPlanRange,3,0) -> MIL (US31) | F86: =VLOOKUP($B86,AcceptedPlanRange,4,0) -> LC | G86: =VLOOKUP($B86,AcceptedPlanRange,5,0) -> M-Class | H86: =VLOOKUP($B86,AcceptedPlanRange,6,0) -> Column Managers | I86: =VLOOKUP($B86,AcceptedPlanRange,7,0) -> 4687.3 | J86: =VLOOKUP($B86,AcceptedPlanRange,8,0) -> Linda Trautwein | K86: Proposed Production | Z86: 0 | AA86: 0 | AB86: 0 | AC86: 0 | AD86: 0 | AE86: 0 | AF86: 0 | AG86: 0 | AH86: 0 | AI86: 19 | AJ86: =SUBTOTAL(9,AF86:AI86) -> 19 | AK86: 37 | AL86: 22 | AM86: 20 | AN86: 30 | AO86: =SUBTOTAL(9,AK86:AN86) -> 109 | AP86: 28 | AQ86: 30 | AR86: 0 | AS86: 0 | AT86: =SUBTOTAL(9,AP86:AS86) -> 58
A87: =CONCATENATE(B87,"P") -> 186016021P | B87: 186016021 | C87: =VLOOKUP($B87,AcceptedPlanRange,2,0) -> nanoACQUITY UPLC Aux. Solvent Mgr., HP | D87: =VLOOKUP($B87,AcceptedPlanRange,3,0) -> MIL (US31) | F87: =VLOOKUP($B87,AcceptedPlanRange,4,0) -> LC | G87: =VLOOKUP($B87,AcceptedPlanRange,5,0) -> nanoACQUITY | H87: =VLOOKUP($B87,AcceptedPlanRange,6,0) -> Pumps | I87: =VLOOKUP($B87,AcceptedPlanRange,7,0) -> 8853.21 | J87: =VLOOKUP($B87,AcceptedPlanRange,8,0) -> Linda Trautwein | K87: Proposed Production | Y87: 15 | Z87: 15 | AA87: 10 | AB87: 10 | AC87: 17 | AD87: 25 | AE87: 62 | AF87: 23 | AG87: 30 | AH87: 18 | AI87: 26 | AJ87: =SUBTOTAL(9,AF87:AI87) -> 97 | AK87: 8 | AL87: 7 | AM87: 5 | AN87: 0 | AO87: =SUBTOTAL(9,AK87:AN87) -> 20 | AP87: 0 | AQ87: 0 | AR87: 0 | AS87: 0 | AT87: =SUBTOTAL(9,AP87:AS87) -> 0
A88: =CONCATENATE(B88,"P") -> 186016022P | B88: 186016022 | C88: =VLOOKUP($B88,AcceptedPlanRange,2,0) -> Auxiliary Solvent Manager | D88: =VLOOKUP($B88,AcceptedPlanRange,3,0) -> MIL (US31) | F88: =VLOOKUP($B88,AcceptedPlanRange,4,0) -> LC | G88: =VLOOKUP($B88,AcceptedPlanRange,5,0) -> M-Class | H88: =VLOOKUP($B88,AcceptedPlanRange,6,0) -> Pumps | I88: =VLOOKUP($B88,AcceptedPlanRange,7,0) -> 14146.77 | J88: =VLOOKUP($B88,AcceptedPlanRange,8,0) -> Linda Trautwein | K88: Proposed Production | Z88: 0 | AA88: 0 | AB88: 0 | AC88: 0 | AD88: 0 | AE88: 0 | AF88: 0 | AG88: 0 | AH88: 5 | AI88: 6 | AJ88: =SUBTOTAL(9,AF88:AI88) -> 11 | AK88: 24 | AL88: 20 | AM88: 12 | AN88: 20 | AO88: =SUBTOTAL(9,AK88:AN88) -> 76 | AP88: 18 | AQ88: 25 | AR88: 0 | AS88: 0 | AT88: =SUBTOTAL(9,AP88:AS88) -> 43
A89: =CONCATENATE(B89,"P") -> 186025450P | B89: 186025450 | C89: =VLOOKUP($B89,AcceptedPlanRange,2,0) -> 2545 Binary Gradient Module | D89: =VLOOKUP($B89,AcceptedPlanRange,3,0) -> MIL (US31) | F89: =VLOOKUP($B89,AcceptedPlanRange,4,0) -> LC | G89: =VLOOKUP($B89,AcceptedPlanRange,5,0) -> Purification | H89: =VLOOKUP($B89,AcceptedPlanRange,6,0) -> Pumps | I89: =VLOOKUP($B89,AcceptedPlanRange,7,0) -> 11274.66 | J89: =VLOOKUP($B89,AcceptedPlanRange,8,0) -> Sharon Bibbo | K89: Proposed Production | Y89: 35 | Z89: 35 | AA89: 21 | AB89: 25 | AC89: 39 | AD89: 15 | AE89: 100 | AF89: 35 | AG89: 30 | AH89: 30 | AI89: 30 | AJ89: =SUBTOTAL(9,AF89:AI89) -> 125 | AK89: 22 | AL89: 20 | AM89: 20 | AN89: 28 | AO89: =SUBTOTAL(9,AK89:AN89) -> 90 | AP89: 25 | AQ89: 25 | AR89: 0 | AS89: 0 | AT89: =SUBTOTAL(9,AP89:AS89) -> 50
A90: =CONCATENATE(B90,"P") -> 186031000P | B90: 186031000 | C90: =VLOOKUP($B90,AcceptedPlanRange,2,0) -> Assy., Waters 3100 Mass Detector | D90: =VLOOKUP($B90,AcceptedPlanRange,3,0) -> WEX (EI10) | E90: 0 | F90: =VLOOKUP($B90,AcceptedPlanRange,4,0) -> MS | G90: =VLOOKUP($B90,AcceptedPlanRange,5,0) -> Quads | H90: =VLOOKUP($B90,AcceptedPlanRange,6,0) -> SQ's | I90: =VLOOKUP($B90,AcceptedPlanRange,7,0) -> 25702.83 | J90: =VLOOKUP($B90,AcceptedPlanRange,8,0) -> Wendy Noble | K90: Proposed Production | X90: 28 | Y90: 25 | Z90: 53 | AA90: 26 | AB90: 0 | AC90: 0 | AD90: 0 | AE90: 26 | AF90: 0 | AG90: 0 | AH90: 0 | AI90: 0 | AJ90: =SUBTOTAL(9,AF90:AI90) -> 0 | AK90: 0 | AL90: 0 | AM90: 0 | AN90: 0 | AO90: =SUBTOTAL(9,AK90:AN90) -> 0 | AP90: 0 | AQ90: 0 | AR90: 0 | AS90: 0 | AT90: =SUBTOTAL(9,AP90:AS90) -> 0
A91: =CONCATENATE(B91,"P") -> 186179100P | B91: 186179100 | C91: =VLOOKUP($B91,AcceptedPlanRange,2,0) -> Alliance Column Heater Cooler (Blue) | D91: =VLOOKUP($B91,AcceptedPlanRange,3,0) -> WPPL (SG20) | F91: =VLOOKUP($B91,AcceptedPlanRange,4,0) -> LC | G91: =VLOOKUP($B91,AcceptedPlanRange,5,0) -> Alliance | H91: =VLOOKUP($B91,AcceptedPlanRange,6,0) -> Column Managers | I91: =VLOOKUP($B91,AcceptedPlanRange,7,0) -> 925.03 | J91: =VLOOKUP($B91,AcceptedPlanRange,8,0) -> Ee Ling Lim | K91: Proposed Production | Z91: 0 | AA91: 0 | AB91: 0 | AC91: 0 | AD91: 0 | AE91: 0 | AF91: 245 | AG91: 375 | AH91: 330 | AI91: 440 | AJ91: =SUBTOTAL(9,AF91:AI91) -> 0 | AK91: 390 | AL91: 380 | AM91: 370 | AN91: 450 | AO91: =SUBTOTAL(9,AK91:AN91) -> 0 | AP91: 0 | AQ91: 0 | AR91: 0 | AS91: 0 | AT91: =SUBTOTAL(9,AP91:AS91) -> 0 | AX91: 20
A92: =CONCATENATE(B92,"P") -> 186186301P | B92: 186186301 | C92: =VLOOKUP($B92,AcceptedPlanRange,2,0) -> Alliance Column Heater (Blue) | D92: =VLOOKUP($B92,AcceptedPlanRange,3,0) -> WPPL (SG20) | F92: =VLOOKUP($B92,AcceptedPlanRange,4,0) -> LC | G92: =VLOOKUP($B92,AcceptedPlanRange,5,0) -> Alliance | H92: =VLOOKUP($B92,AcceptedPlanRange,6,0) -> Column Managers | I92: =VLOOKUP($B92,AcceptedPlanRange,7,0) -> 595.27 | J92: =VLOOKUP($B92,AcceptedPlanRange,8,0) -> Ee Ling Lim | K92: Proposed Production | Z92: 0 | AA92: 0 | AB92: 0 | AC92: 0 | AD92: 0 | AE92: 0 | AF92: 325 | AG92: 485 | AH92: 435 | AI92: 490 | AJ92: =SUBTOTAL(9,AF92:AI92) -> 0 | AK92: 460 | AL92: 460 | AM92: 450 | AN92: 460 | AO92: =SUBTOTAL(9,AK92:AN92) -> 0 | AP92: 0 | AQ92: 0 | AR92: 0 | AS92: 0 | AT92: =SUBTOTAL(9,AP92:AS92) -> 0 | AX92: 30
A93: =CONCATENATE(B93,"P") -> 186241400P | B93: 186241400 | C93: =VLOOKUP($B93,AcceptedPlanRange,2,0) -> REFRACTOMETER 2414 | D93: =VLOOKUP($B93,AcceptedPlanRange,3,0) -> MIL (US31) | F93: =VLOOKUP($B93,AcceptedPlanRange,4,0) -> LC | G93: =VLOOKUP($B93,AcceptedPlanRange,5,0) -> Alliance | H93: =VLOOKUP($B93,AcceptedPlanRange,6,0) -> Detectors | I93: =VLOOKUP($B93,AcceptedPlanRange,7,0) -> 2965.88 | J93: =VLOOKUP($B93,AcceptedPlanRange,8,0) -> Paul Brusco | K93: Proposed Production | Y93: 205 | Z93: 205 | AA93: 238 | AB93: 240 | AC93: 226 | AD93: 205 | AE93: 909 | AF93: 148 | AG93: 120 | AH93: 90 | AI93: 77 | AJ93: =SUBTOTAL(9,AF93:AI93) -> 435 | AK93: 75 | AL93: 70 | AM93: 70 | AN93: 80 | AO93: =SUBTOTAL(9,AK93:AN93) -> 295 | AP93: 80 | AQ93: 90 | AR93: 0 | AS93: 0 | AT93: =SUBTOTAL(9,AP93:AS93) -> 170
A94: =CONCATENATE(B94,"P") -> 186241401P | B94: 186241401 | C94: =VLOOKUP($B94,AcceptedPlanRange,2,0) -> 2414 Refractometer Detector (blue) | D94: =VLOOKUP($B94,AcceptedPlanRange,3,0) -> MIL (US31) | F94: =VLOOKUP($B94,AcceptedPlanRange,4,0) -> LC | G94: =VLOOKUP($B94,AcceptedPlanRange,5,0) -> Alliance | H94: =VLOOKUP($B94,AcceptedPlanRange,6,0) -> Detectors | I94: =VLOOKUP($B94,AcceptedPlanRange,7,0) -> 3263.77 | J94: =VLOOKUP($B94,AcceptedPlanRange,8,0) -> Vicky Allen | K94: Proposed Production | Z94: 0 | AA94: 0 | AB94: 0 | AC94: 0 | AD94: 0 | AE94: 0 | AF94: 90 | AG94: 80 | AH94: 55 | AI94: 70 | AJ94: =SUBTOTAL(9,AF94:AI94) -> 295 | AK94: 95 | AL94: 85 | AM94: 80 | AN94: 90 | AO94: =SUBTOTAL(9,AK94:AN94) -> 350 | AP94: 76 | AQ94: 82 | AR94: 0 | AS94: 0 | AT94: =SUBTOTAL(9,AP94:AS94) -> 158 | AX94: 15
A95: =CONCATENATE(B95,"P") -> 186242400P | B95: 186242400 | C95: =VLOOKUP($B95,AcceptedPlanRange,2,0) -> 2424 Evaporative LS Detector (blue) | D95: =VLOOKUP($B95,AcceptedPlanRange,3,0) -> MIL (US31) | F95: =VLOOKUP($B95,AcceptedPlanRange,4,0) -> LC | G95: =VLOOKUP($B95,AcceptedPlanRange,5,0) -> Alliance | H95: =VLOOKUP($B95,AcceptedPlanRange,6,0) -> Detectors | I95: =VLOOKUP($B95,AcceptedPlanRange,7,0) -> 5415.6 | J95: =VLOOKUP($B95,AcceptedPlanRange,8,0) -> Vicky Allen | K95: Proposed Production | Z95: 0 | AA95: 0 | AB95: 0 | AC95: 0 | AD95: 0 | AE95: 0 | AF95: 35 | AG95: 31 | AH95: 24 | AI95: 40 | AJ95: =SUBTOTAL(9,AF95:AI95) -> 130 | AK95: 30 | AL95: 30 | AM95: 25 | AN95: 30 | AO95: =SUBTOTAL(9,AK95:AN95) -> 115 | AP95: 25 | AQ95: 30 | AR95: 0 | AS95: 0 | AT95: =SUBTOTAL(9,AP95:AS95) -> 55 | AX95: 10
A96: =CONCATENATE(B96,"P") -> 186247500P | B96: 186247500 | C96: =VLOOKUP($B96,AcceptedPlanRange,2,0) -> 2475 Fluorescence Detector (blue) | D96: =VLOOKUP($B96,AcceptedPlanRange,3,0) -> MIL (US31) - Transfer to WPPL (SG20) | F96: =VLOOKUP($B96,AcceptedPlanRange,4,0) -> LC | G96: =VLOOKUP($B96,AcceptedPlanRange,5,0) -> Alliance | H96: =VLOOKUP($B96,AcceptedPlanRange,6,0) -> Detectors | I96: =VLOOKUP($B96,AcceptedPlanRange,7,0) -> 4770.16 | J96: =VLOOKUP($B96,AcceptedPlanRange,8,0) -> Vicky Allen | K96: Proposed Production | Z96: 0 | AA96: 0 | AB96: 0 | AC96: 0 | AD96: 0 | AE96: 0 | AF96: 85 | AG96: 80 | AH96: 85 | AI96: 120 | AJ96: =SUBTOTAL(9,AF96:AI96) -> 0 | AK96: 100 | AL96: 90 | AM96: 90 | AN96: 90 | AO96: =SUBTOTAL(9,AK96:AN96) -> 0 | AP96: 60 | AQ96: 60 | AR96: 0 | AS96: 0 | AT96: =SUBTOTAL(9,AP96:AS96) -> 0 | AX96: 15
A97: =CONCATENATE(B97,"P") -> 186248900P | B97: 186248900 | C97: =VLOOKUP($B97,AcceptedPlanRange,2,0) -> 2489 UV/Visible Detector (blue) | D97: =VLOOKUP($B97,AcceptedPlanRange,3,0) -> WPPL (SG20) | F97: =VLOOKUP($B97,AcceptedPlanRange,4,0) -> LC | G97: =VLOOKUP($B97,AcceptedPlanRange,5,0) -> Alliance | H97: =VLOOKUP($B97,AcceptedPlanRange,6,0) -> Detectors | I97: =VLOOKUP($B97,AcceptedPlanRange,7,0) -> 2277.37 | J97: =VLOOKUP($B97,AcceptedPlanRange,8,0) -> Ee Ling Lim | K97: Proposed Production | Z97: 0 | AA97: 0 | AB97: 0 | AC97: 0 | AD97: 45 | AE97: 45 | AF97: 470 | AG97: 490 | AH97: 465 | AI97: 600 | AJ97: =SUBTOTAL(9,AF97:AI97) -> 0 | AK97: 550 | AL97: 550 | AM97: 525 | AN97: 545 | AO97: =SUBTOTAL(9,AK97:AN97) -> 0 | AP97: 480 | AQ97: 515 | AR97: 0 | AS97: 0 | AT97: =SUBTOTAL(9,AP97:AS97) -> 0
A98: =CONCATENATE(B98,"P") -> 186255500P | B98: 186255500 | C98: =VLOOKUP($B98,AcceptedPlanRange,2,0) -> 2555 Quaternary Gradient Module | D98: =VLOOKUP($B98,AcceptedPlanRange,3,0) -> MIL (US31) | F98: =VLOOKUP($B98,AcceptedPlanRange,4,0) -> LC | G98: =VLOOKUP($B98,AcceptedPlanRange,5,0) -> Purification | H98: =VLOOKUP($B98,AcceptedPlanRange,6,0) -> Pumps | I98: =VLOOKUP($B98,AcceptedPlanRange,7,0) -> 9237.61 | J98: =VLOOKUP($B98,AcceptedPlanRange,8,0) -> Sharon Bibbo | K98: Proposed Production | Y98: 2 | Z98: 2 | AA98: 2 | AB98: 2 | AC98: 2 | AD98: 2 | AE98: 8 | AF98: 3 | AG98: 3 | AH98: 3 | AI98: 2 | AJ98: =SUBTOTAL(9,AF98:AI98) -> 11 | AK98: 2 | AL98: 2 | AM98: 2 | AN98: 2 | AO98: =SUBTOTAL(9,AK98:AN98) -> 8 | AP98: 2 | AQ98: 2 | AR98: 0 | AS98: 0 | AT98: =SUBTOTAL(9,AP98:AS98) -> 4
A99: =CONCATENATE(B99,"P") -> 186269501P | B99: 186269501 | C99: =VLOOKUP($B99,AcceptedPlanRange,2,0) -> e2695 Separations Module w/o H/C | D99: =VLOOKUP($B99,AcceptedPlanRange,3,0) -> WPPL (SG20) | F99: =VLOOKUP($B99,AcceptedPlanRange,4,0) -> LC | G99: =VLOOKUP($B99,AcceptedPlanRange,5,0) -> Alliance | H99: =VLOOKUP($B99,AcceptedPlanRange,6,0) -> Alliances | I99: =VLOOKUP($B99,AcceptedPlanRange,7,0) -> 5936.58 | J99: =VLOOKUP($B99,AcceptedPlanRange,8,0) -> Ee Ling Lim | K99: Proposed Production | Y99: 200 | Z99: 200 | AA99: 320 | AB99: 330 | AC99: 300 | AD99: 320 | AE99: 1270 | AF99: 62 | AG99: 0 | AH99: 0 | AI99: 0 | AJ99: =SUBTOTAL(9,AF99:AI99) -> 0 | AK99: 0 | AL99: 0 | AM99: 0 | AN99: 0 | AO99: =SUBTOTAL(9,AK99:AN99) -> 0 | AP99: 0 | AQ99: 0 | AR99: 0 | AS99: 0 | AT99: =SUBTOTAL(9,AP99:AS99) -> 0
A100: =CONCATENATE(B100,"P") -> 186269502P | B100: 186269502 | C100: =VLOOKUP($B100,AcceptedPlanRange,2,0) -> e2695 Separations Module w/Heater Cooler | D100: =VLOOKUP($B100,AcceptedPlanRange,3,0) -> WPPL (SG20) | F100: =VLOOKUP($B100,AcceptedPlanRange,4,0) -> LC | G100: =VLOOKUP($B100,AcceptedPlanRange,5,0) -> Alliance | H100: =VLOOKUP($B100,AcceptedPlanRange,6,0) -> Alliances | I100: =VLOOKUP($B100,AcceptedPlanRange,7,0) -> 6217.03 | J100: =VLOOKUP($B100,AcceptedPlanRange,8,0) -> Ee Ling Lim | K100: Proposed Production | Y100: 485 | Z100: 485 | AA100: 530 | AB100: 509 | AC100: 550 | AD100: 610 | AE100: 2199 | AF100: 88 | AG100: 0 | AH100: 0 | AI100: 0 | AJ100: =SUBTOTAL(9,AF100:AI100) -> 0 | AK100: 0 | AL100: 0 | AM100: 0 | AN100: 0 | AO100: =SUBTOTAL(9,AK100:AN100) -> 0 | AP100: 0 | AQ100: 0 | AR100: 0 | AS100: 0 | AT100: =SUBTOTAL(9,AP100:AS100) -> 0
A101: =CONCATENATE(B101,"P") -> 186269503P | B101: 186269503 | C101: =VLOOKUP($B101,AcceptedPlanRange,2,0) -> e2695D w/ Heater Cooler 6-Samples | D101: =VLOOKUP($B101,AcceptedPlanRange,3,0) -> WPPL (SG20) | F101: =VLOOKUP($B101,AcceptedPlanRange,4,0) -> LC | G101: =VLOOKUP($B101,AcceptedPlanRange,5,0) -> Alliance | H101: =VLOOKUP($B101,AcceptedPlanRange,6,0) -> Alliances | I101: =VLOOKUP($B101,AcceptedPlanRange,7,0) -> 7505.94 | J101: =VLOOKUP($B101,AcceptedPlanRange,8,0) -> Ee Ling Lim | K101: Proposed Production | Y101: 0 | Z101: 0 | AA101: 0 | AB101: 0 | AC101: 0 | AD101: 0 | AE101: 0 | AF101: 0 | AG101: 0 | AH101: 0 | AI101: 0 | AJ101: =SUBTOTAL(9,AF101:AI101) -> 0 | AK101: 0 | AL101: 0 | AM101: 0 | AN101: 0 | AO101: =SUBTOTAL(9,AK101:AN101) -> 0 | AP101: 0 | AQ101: 0 | AR101: 0 | AS101: 0 | AT101: =SUBTOTAL(9,AP101:AS101) -> 0
...

Sheet Demand Plans

Sheet Production Plan by Family
A2: PLANT | B2: (Multiple Items)
A3: Product Center | B3: MS
A4: Product Line | B4: (All)
A5: Production Planner | B5: (All)
B7: Values
A8: Row Labels | B8: Sum of Q1-12 | C8: Sum of Q2-12 | D8: Sum of Q3-12 | E8: Sum of Q4-12 | F8: Sum of 2012 Total
A9: GC-MS | B9: 16 | C9: 14 | D9: 14 | E9: 12 | F9: 56
A10: Quads | B10: 152 | C10: 104 | D10: 144 | E10: 98 | F10: 498
A11: Tof | B11: 100 | C11: 110 | D11: 90 | E11: 80 | F11: 380

Sheet Production Plan by Plant
A2: Product Line | B2: (All)
A3: Production Planner | B3: (All)
A4: Product Family | B4: (All)
A5: Product Center | B5: MS
B7: Values
A8: Row Labels | B8: Sum of Q1-12 | C8: Sum of Q2-12 | D8: Sum of Q3-12 | E8: Sum of Q4-12 | F8: Sum of 2012 Total
A9: MAN (UK50)
A10: Current Production Plan | B10: 58 | C10: 62 | D10: 52 | E10: 46 | F10: 218
A11: Proposed Production | B11: 58 | C11: 62 | D11: 52 | E11: 46 | F11: 218
A12: ∆ Proposed from Current | B12: 0 | C12: 0 | D12: 0 | E12: 0
A13: WEX (EI10) | B13: 152 | C13: 104 | D13: 144 | E13: 98 | F13: 498

Sheet Production Plan by Planner
A2: Product Center | B2: MS
A3: Product Line | B3: (All)
A4: Product Family | B4: (All)
A5: PLANT | B5: (Multiple Items)
B7: Values
A8: Row Labels | B8: Q4-11 | C8: 2011 Total | D8: Sum of Q1-12 | E8: Sum of Q2-12 | F8: Sum of Q3-12 | G8: Sum of Q4-12 | H8: Sum of 2012 Total
A9: Stephen Connor | B9: 66 | C9: 136 | D9: 116 | E9: 124 | F9: 104 | G9: 92 | H9: 436
A10: Wendy Noble
A11: 186003762
A12: SQD
A13: Current Production Plan | B13: 30 | C13: 149 | D13: 25 | E13: 20 | F13: 22 | G13: 23 | H13: 90
A14: Proposed Production | B14: 20 | C14: 57 | D14: 25 | E14: 20 | F14: 22 | G14: 23 | H14: 90
A15: ∆ Proposed from Current | B15: 0 | C15: 0 | D15: 0 | E15: 0 | F15: 0 | G15: 0
A16: 186031000
A17: 3100 SQD
A18: Current Production Plan | B18: 22 | C18: 113 | D18: 26 | E18: 0 | F18: 0 | G18: 0 | H18: 26
A19: Proposed Production | B19: 25 | C19: 53 | D19: 26 | E19: 0 | F19: 0 | G19: 0 | H19: 26
A20: ∆ Proposed from Current | B20: 5 | C20: 5 | D20: 0 | E20: 0 | F20: 0 | G20: 0
A21: 186005832
A22: SQ DETECTOR 2 (Harrier SQD)
A23: Current Production Plan | B23: 3 | C23: 3 | D23: 25 | E23: 32 | F23: 50 | G23: 26 | H23: 133
A24: Proposed Production | B24: 38 | C24: 38 | D24: 25 | E24: 32 | F24: 50 | G24: 26 | H24: 133
A25: ∆ Proposed from Current | B25: -10 | C25: -10 | D25: 0 | E25: 0 | F25: 0 | G25: 0

Sheet INV Projection
A1: Product Center | B1: (Multiple Items)
A2: Description | B2: (All)
A3: PLANT | B3: (All)
A4: Product Family | B4: (All)
A5: Product Line | B5: (Multiple Items)
B7: Values
A8: Row Labels | B8: Q4-12 | C8: Q4-2013 | D8: Q1-14 | E8: Q2-14 | F8: Q3-14 | G8: Q4-14
A9: Planned Ending INV Value | B9: 19808967 | C9: 21882943 | D9: 27000459 | E9: 27334817 | F9: 27386987 | G9: 23018895
A10: Planned Ending Inv Value @ Accpt Plan | B10: 20045196 | C10: 21882943 | D10: 4603374.7 | E10: 1489173.5 | F10: 1022211 | G10: 689092.36

Sheet BExRepositorySheet

Sheet Accepted Plan
A1: 1 | B1: 2 | C1: 3 | D1: 4 | E1: 5 | F1: 6 | G1: 7 | H1: 8 | I1: 9 | J1: 10 | K1: 11 | L1: 12 | M1: 13 | N1: 14 | O1: 15 | P1: 16 | Q1: 17 | R1: 18 | S1: 19 | T1: 20 | U1: 21 | V1: 22 | W1: 23 | X1: 24 | Y1: 25 | Z1: 26 | AA1: 27 | AB1: 28 | AC1: 29 | AD1: 30 | AE1: 31 | AF1: 32 | AG1: 33 | AH1: 34 | AI1: 35 | AJ1: 36 | AK1: 37 | AL1: 38 | AM1: 39 | AN1: 40 | AO1: 41 | AP1: 42 | AQ1: 43 | AR1: 44 | AS1: 45 | AT1: 46 | AU1: 47 | AV1: 48 | AW1: 49 | AX1: 50 | AY1: 51 | AZ1: 52 | BA1: 53 | BB1: 54 | BC1: 55 | BD1: 56 | BE1: 57 | BF1: 58 | BG1: 59 | BH1: 60 | BI1: 61 | BJ1: 62 | BK1: 63 | BL1: 64 | BM1: 65 | BN1: 66 | BO1: 67 | BP1: 68 | BQ1: 69 | BR1: 70 | BS1: 71 | BT1: 72 | BU1: 73 | BV1: 74 | BW1: 75 | BX1: 76 | BY1: 77 | BZ1: 78 | CA1: 79 | CB1: 80 | CC1: 81 | CD1: 82 | CE1: 83 | CF1: 84 | CG1: 85 | CH1: 86 | CI1: 87 | CJ1: 88 | CK1: 89 | CL1: 90 | CM1: 91 | CN1: 92 | CO1: 93 | CP1: 94 | CQ1: 95 | CR1: 96 | CS1: 97 | CT1: 98 | CU1: 99 | CV1: 100 | CW1: 101 | CX1: 102 | CY1: 103 | CZ1: 104 | DA1: 105 | DB1: 106 | DC1: 107 | DD1: 108 | DE1: 109 | DF1: 110 | DG1: 111 | DH1: 112 | DI1: 113 | DJ1: 114 | DK1: 115 | DL1: 67
A2: 1 | B2: 2 | C2: 1 | D2: 2 | E2: 3 | F2: 4 | G2: 5 | H2: 6 | I2: 7 | J2: 8 | K2: 9 | L2: 10 | M2: 11 | N2: 12 | O2: 13 | P2: 14 | Q2: 15 | R2: 16 | S2: 17 | T2: 18 | U2: 19 | V2: 20 | W2: 21 | X2: 22 | Y2: 23 | Z2: 24 | AA2: 25 | AB2: 26 | AC2: 27 | AD2: 28 | AE2: 29 | AF2: 30 | AG2: 31 | AH2: 32 | AI2: 33 | AJ2: 34 | AK2: 35 | AL2: 36 | AM2: 37 | AN2: 38 | AO2: 39 | AP2: 40 | AQ2: 41 | AR2: 42 | AS2: 43 | AT2: 44 | AU2: 45 | AV2: 46 | AW2: 47 | AX2: 48 | AY2: 49 | AZ2: 50 | BA2: 51 | BB2: 52 | BC2: 53 | BD2: 54 | BE2: 55 | BF2: 56 | BG2: 57 | BH2: 58 | BI2: 59 | BJ2: 60 | BK2: 61 | BL2: 62 | BM2: 63 | BN2: 64 | BO2: 65 | BP2: 66 | BQ2: 67 | BR2: 68 | BS2: 69 | BT2: 70 | BU2: 71 | BV2: 72 | BW2: 73 | BX2: 74 | BY2: 75 | BZ2: 76 | CA2: 77 | CB2: 78 | CC2: 79 | CD2: 80 | CE2: 81 | CF2: 82 | CG2: 83 | CH2: 84 | CI2: 85 | CJ2: 86 | CK2: 87 | CL2: 88 | CM2: 89 | CN2: 90 | CO2: 91 | CP2: 92 | CQ2: 93 | CR2: 94 | CS2: 95 | CT2: 96 | CU2: 97 | CV2: 98 | CW2: 99 | CX2: 100 | CY2: 101 | CZ2: 102 | DA2: 103 | DB2: 104 | DC2: 105 | DD2: 106 | DE2: 107 | DF2: 108 | DG2: 109 | DH2: 110 | DI2: 111 | DJ2: 112 | DK2: 113 | DL2: 67
L3: CURRENT PLAN | AG3: PROPOSED PLAN | BB3: Delta Proposed minus Current | BW3: ACCEPTED PLAN | CR3: Delta Accepted minus Proposed
C4: As of: 6th Janauary 2014 PART NUMBER | D4: DESCRIPTION | E4: PLANT | F4: PRODUCT CENTER | G4: PRODUCT FAMILY | H4: PRODUCT LINE | I4: MANUFACTURING COST | J4: PRODUCT PLANNER | L4: ACTUAL Q1-12 | M4: ACTUAL Q2-12 | N4: ACTUAL Q3-12 | O4: ACTUAL Q4-12 | P4: Full Year 2012 | Q4: Q1-13 | R4: Q2-13 | S4: Q3-13 | T4: Q4-13 | U4: Full Year 2013 | V4: Q1-14 | W4: Q2-14 | X4: Q3-14 | Y4: Q4-14 | Z4: Full Year 2014 | AA4: Q1-15 | AB4: Q2-15 | AC4: Q3-15 | AD4: Q4-15 | AE4: Full Year 2015 | AG4: ACTUAL Q1-12 | AH4: ACTUAL Q2-12 | AI4: ACTUAL Q3-12 | AJ4: ACTUAL Q4-12 | AK4: Full Year 2012 | AL4: Q1-13 | AM4: Q2-13 | AN4: Q3-13 | AO4: Q4-13 | AP4: Full Year 2013 | AQ4: Q1-14 | AR4: Q2-14 | AS4: Q3-14 | AT4: Q4-14 | AU4: Full Year 2014 | AV4: Q1-15 | AW4: Q2-15 | AX4: Q3-15 | AY4: Q4-15 | AZ4: Full Year 2015 | BB4: Q1-12 | BC4: Q2-12 | BD4: Q3-12 | BE4: Q4-12 | BF4: Full Year 2012 | BG4: Q1-13 | BH4: Q2-13 | BI4: Q3-13 | BJ4: Q4-13 | BK4: Full Year 2013 | BL4: Q1-14 | BM4: Q2-14 | BN4: Q3-14 | BO4: Q4-14 | BP4: Full Year 2014 | BQ4: Q1-15 | BR4: Q2-15 | BS4: Q3-15 | BT4: Q4-15 | BU4: Full Year 2015 | BW4: ACTUAL Q1-12 | BX4: ACTUAL Q2-12 | BY4: ACTUAL Q3-12 | BZ4: ACTUAL Q4-12 | CA4: Full Year 2012 | CB4: Q1-13 | CC4: Q2-13 | CD4: Q3-13 | CE4: Q4-13 | CF4: Full Year 2013 | CG4: Q1-14 | CH4: Q2-14 | CI4: Q3-14 | CJ4: Q4-14 | CK4: Full Year 2014 | CL4: Q1-15 | CM4: Q2-15 | CN4: Q3-15 | CO4: Q4-15 | CP4: Full Year 2015 | CR4: Q1-12 | CS4: Q2-12 | CT4: Q3-12 | CU4: Q4-12 | CV4: Full Year 2012 | CW4: Q1-13 | CX4: Q2-13 | CY4: Q3-13 | CZ4: Q4-13 | DA4: Full Year 2013 | DB4: Q1-14 | DC4: Q2-14 | DD4: Q3-14 | DE4: Q4-14 | DF4: Full Year 2014 | DG4: Q1-15 | DH4: Q2-15 | DI4: Q3-15 | DJ4: Q4-15 | DK4: Full Year 2015 | DL4: COMMENTS
A5: =CONCATENATE(C5,"P") -> 176000613P | B5: =CONCATENATE(C5,"C") -> 176000613C | C5: 176000613 | D5: QUATTRO MICRO GC-MS/MS | E5: MAN (UK50) | F5: MS | G5: GC-MS | H5: GC-MS | I5: 71227.42 | J5: Stephen Connor | L5: 0 | M5: 0 | N5: 0 | O5: 0 | P5: =SUM(L5:O5) -> 0 | Q5: 0 | R5: 0 | S5: 0 | T5: 0 | U5: =SUM(Q5:T5) -> 0 | V5: 0 | W5: 0 | X5: 0 | Y5: 0 | Z5: =SUM(V5:Y5) -> 0 | AA5: 0 | AB5: 0 | AC5: 0 | AD5: 0 | AE5: =SUM(AA5:AD5) -> 0 | AG5: =VLOOKUP($A5,MasterData,27,FALSE) -> 0 | AH5: =VLOOKUP($A5,MasterData,28,FALSE) -> 0 | AI5: =VLOOKUP($A5,MasterData,29,FALSE) -> 0 | AJ5: =VLOOKUP($A5,MasterData,30,FALSE) -> 0 | AK5: =SUM(AG5:AJ5) -> 0 | AL5: =VLOOKUP($A5,MasterData,32,FALSE) -> 0 | AM5: =VLOOKUP($A5,MasterData,33,FALSE) -> 0 | AN5: =VLOOKUP($A5,MasterData,34,FALSE) -> 0 | AO5: =VLOOKUP($A5,MasterData,35,FALSE) -> 0 | AP5: =SUM(AL5:AO5) -> 0 | AQ5: =VLOOKUP($A5,MasterData,37,FALSE) -> 0 | AR5: =VLOOKUP($A5,MasterData,38,FALSE) -> 0 | AS5: =VLOOKUP($A5,MasterData,39,FALSE) -> 0 | AT5: =VLOOKUP($A5,MasterData,40,FALSE) -> 0 | AU5: =SUM(AQ5:AT5) -> 0 | AV5: =VLOOKUP($A5,MasterData,42,FALSE) -> 0 | AW5: =VLOOKUP($A5,MasterData,43,FALSE) -> 0 | AX5: =VLOOKUP($A5,MasterData,44,FALSE) -> 0 | AY5: =VLOOKUP($A5,MasterData,45,FALSE) -> 0 | AZ5: =SUM(AV5:AY5) -> 0 | BB5: =AG5-L5 -> 0 | BC5: =AH5-M5 -> 0 | BD5: =AI5-N5 -> 0 | BE5: =AJ5-O5 -> 0 | BF5: =AK5-P5 -> 0 | BG5: =AL5-Q5 -> 0 | BH5: =AM5-R5 -> 0 | BI5: =AN5-S5 -> 0 | ... BU5: =AZ5-AE5 -> 0 | BW5: 0 | BX5: 0 | BY5: 0 | BZ5: 0 | CA5: =SUM(BW5:BZ5) -> 0 | CB5: 0 | CC5: 0 | CD5: 0 | CE5: 0 | CF5: =SUM(CB5:CE5) -> 0 | CK5: =SUM(CG5:CJ5) -> 0 | CN5: 0 | CO5: 0 | CP5: =SUM(CL5:CO5) -> 0 | CR5: =BW5-AG5 -> 0 | CS5: =BX5-AH5 -> 0 | CT5: =BY5-AI5 -> 0 | CU5: =BZ5-AJ5 -> 0 | CV5: =CA5-AK5 -> 0 | CW5: =CB5-AL5 -> 0 | CX5: =CC5-AM5 -> 0 | CY5: =CD5-AN5 -> 0 | ... DK5: =CP5-AZ5 -> 0
A6: =CONCATENATE(C6,"P") -> 176000851P | B6: =CONCATENATE(C6,"C") -> 176000851C | C6: 176000851 | D6: AutoSpec Premier | E6: MAN (UK50) | F6: MS | G6: GC-MS | H6: GC-MS | I6: 166042.37 | J6: Stephen Connor | L6: 4 | M6: 5 | N6: 7 | O6: 6 | P6: =SUM(L6:O6) -> 22 | Q6: 7 | R6: 5 | S6: 4 | T6: 5 | U6: =SUM(Q6:T6) -> 21 | V6: 4 | W6: 4 | X6: 4 | Y6: 4 | Z6: =SUM(V6:Y6) -> 16 | AA6: 0 | AB6: 0 | AC6: 0 | AD6: 0 | AE6: =SUM(AA6:AD6) -> 0 | AG6: =VLOOKUP($A6,MasterData,27,FALSE) -> 4 | AH6: =VLOOKUP($A6,MasterData,28,FALSE) -> 5 | AI6: =VLOOKUP($A6,MasterData,29,FALSE) -> 7 | AJ6: =VLOOKUP($A6,MasterData,30,FALSE) -> 6 | AK6: =SUM(AG6:AJ6) -> 22 | AL6: =VLOOKUP($A6,MasterData,32,FALSE) -> 7 | AM6: =VLOOKUP($A6,MasterData,33,FALSE) -> 5 | AN6: =VLOOKUP($A6,MasterData,34,FALSE) -> 4 | AO6: =VLOOKUP($A6,MasterData,35,FALSE) -> 5 | AP6: =SUM(AL6:AO6) -> 21 | AQ6: =VLOOKUP($A6,MasterData,37,FALSE) -> 4 | AR6: =VLOOKUP($A6,MasterData,38,FALSE) -> 4 | AS6: =VLOOKUP($A6,MasterData,39,FALSE) -> 4 | AT6: =VLOOKUP($A6,MasterData,40,FALSE) -> 4 | AU6: =SUM(AQ6:AT6) -> 16 | AV6: =VLOOKUP($A6,MasterData,42,FALSE) -> 0 | AW6: =VLOOKUP($A6,MasterData,43,FALSE) -> 0 | AX6: =VLOOKUP($A6,MasterData,44,FALSE) -> 0 | AY6: =VLOOKUP($A6,MasterData,45,FALSE) -> 0 | AZ6: =SUM(AV6:AY6) -> 0 | BB6: =AG6-L6 -> 0 | BC6: =AH6-M6 -> 0 | BD6: =AI6-N6 -> 0 | BE6: =AJ6-O6 -> 0 | BF6: =AK6-P6 -> 0 | BG6: =AL6-Q6 -> 0 | BH6: =AM6-R6 -> 0 | BI6: =AN6-S6 -> 0 | ... BU6: =AZ6-AE6 -> 0 | BW6: 4 | BX6: 5 | BY6: 7 | BZ6: 6 | CA6: =SUM(BW6:BZ6) -> 22 | CB6: 7 | CC6: 5 | CD6: 4 | CE6: 5 | CF6: =SUM(CB6:CE6) -> 21 | CK6: =SUM(CG6:CJ6) -> 0 | CN6: 0 | CO6: 0 | CP6: =SUM(CL6:CO6) -> 0 | CR6: =BW6-AG6 -> 0 | CS6: =BX6-AH6 -> 0 | CT6: =BY6-AI6 -> 0 | CU6: =BZ6-AJ6 -> 0 | CV6: =CA6-AK6 -> 0 | CW6: =CB6-AL6 -> 0 | CX6: =CC6-AM6 -> 0 | CY6: =CD6-AN6 -> 0 | ... DK6: =CP6-AZ6 -> 0
A7: =CONCATENATE(C7,"P") -> 176000972P | B7: =CONCATENATE(C7,"C") -> 176000972C | C7: 176000972 | D7: GCT Premier Instrument | E7: MAN (UK50) | F7: MS | G7: GC-MS | H7: GC-MS | I7: 0 | J7: Stephen Connor | L7: 4 | M7: 2 | N7: 0 | O7: 0 | P7: =SUM(L7:O7) -> 6 | Q7: 0 | R7: 0 | S7: 0 | T7: 0 | U7: =SUM(Q7:T7) -> 0 | V7: 0 | W7: 0 | X7: 0 | Y7: 0 | Z7: =SUM(V7:Y7) -> 0 | AA7: 0 | AB7: 0 | AC7: 0 | AD7: 0 | AE7: =SUM(AA7:AD7) -> 0 | AG7: =VLOOKUP($A7,MasterData,27,FALSE) -> 4 | AH7: =VLOOKUP($A7,MasterData,28,FALSE) -> 2 | AI7: =VLOOKUP($A7,MasterData,29,FALSE) -> 0 | AJ7: =VLOOKUP($A7,MasterData,30,FALSE) -> 0 | AK7: =SUM(AG7:AJ7) -> 6 | AL7: =VLOOKUP($A7,MasterData,32,FALSE) -> 0 | AM7: =VLOOKUP($A7,MasterData,33,FALSE) -> 0 | AN7: =VLOOKUP($A7,MasterData,34,FALSE) -> 0 | AO7: =VLOOKUP($A7,MasterData,35,FALSE) -> 0 | AP7: =SUM(AL7:AO7) -> 0 | AQ7: =VLOOKUP($A7,MasterData,37,FALSE) -> 0 | AR7: =VLOOKUP($A7,MasterData,38,FALSE) -> 0 | AS7: =VLOOKUP($A7,MasterData,39,FALSE) -> 0 | AT7: =VLOOKUP($A7,MasterData,40,FALSE) -> 0 | AU7: =SUM(AQ7:AT7) -> 0 | AV7: =VLOOKUP($A7,MasterData,42,FALSE) -> 0 | AW7: =VLOOKUP($A7,MasterData,43,FALSE) -> 0 | AX7: =VLOOKUP($A7,MasterData,44,FALSE) -> 0 | AY7: =VLOOKUP($A7,MasterData,45,FALSE) -> 0 | AZ7: =SUM(AV7:AY7) -> 0 | BB7: =AG7-L7 -> 0 | BC7: =AH7-M7 -> 0 | BD7: =AI7-N7 -> 0 | BE7: =AJ7-O7 -> 0 | BF7: =AK7-P7 -> 0 | BG7: =AL7-Q7 -> 0 | BH7: =AM7-R7 -> 0 | BI7: =AN7-S7 -> 0 | ... BU7: =AZ7-AE7 -> 0 | BW7: 4 | BX7: 2 | BY7: 0 | BZ7: 0 | CA7: =SUM(BW7:BZ7) -> 6 | CB7: 0 | CC7: 0 | CD7: 0 | CE7: 0 | CF7: =SUM(CB7:CE7) -> 0 | CK7: =SUM(CG7:CJ7) -> 0 | CN7: 0 | CO7: 0 | CP7: =SUM(CL7:CO7) -> 0 | CR7: =BW7-AG7 -> 0 | CS7: =BX7-AH7 -> 0 | CT7: =BY7-AI7 -> 0 | CU7: =BZ7-AJ7 -> 0 | CV7: =CA7-AK7 -> 0 | CW7: =CB7-AL7 -> 0 | CX7: =CC7-AM7 -> 0 | CY7: =CD7-AN7 -> 0 | ... DK7: =CP7-AZ7 -> 0
A8: =CONCATENATE(C8,"P") -> 186000321P | B8: =CONCATENATE(C8,"C") -> 186000321C | C8: 186000321 | D8: ASSY, POST COLUMN REACTION MODULE | E8: MIL (US31) | F8: LC | G8: Legacy LC | H8: Accessories | I8: 1520.17 | J8: Sharon Bibbo | L8: 36 | M8: 49 | N8: 34 | O8: 54 | P8: =SUM(L8:O8) -> 173 | Q8: 40 | R8: 35 | S8: 35 | T8: 20 | U8: =SUM(Q8:T8) -> 130 | V8: 35 | W8: 35 | X8: 35 | Y8: 40 | Z8: =SUM(V8:Y8) -> 145 | AA8: 20 | AB8: 0 | AC8: 0 | AD8: 0 | AE8: =SUM(AA8:AD8) -> 20 | AG8: =VLOOKUP($A8,MasterData,27,FALSE) -> 36 | AH8: =VLOOKUP($A8,MasterData,28,FALSE) -> 49 | AI8: =VLOOKUP($A8,MasterData,29,FALSE) -> 34 | AJ8: =VLOOKUP($A8,MasterData,30,FALSE) -> 54 | AK8: =SUM(AG8:AJ8) -> 173 | AL8: =VLOOKUP($A8,MasterData,32,FALSE) -> 40 | AM8: =VLOOKUP($A8,MasterData,33,FALSE) -> 35 | AN8: =VLOOKUP($A8,MasterData,34,FALSE) -> 35 | AO8: =VLOOKUP($A8,MasterData,35,FALSE) -> 20 | AP8: =SUM(AL8:AO8) -> 130 | AQ8: =VLOOKUP($A8,MasterData,37,FALSE) -> 25 | AR8: =VLOOKUP($A8,MasterData,38,FALSE) -> 30 | AS8: =VLOOKUP($A8,MasterData,39,FALSE) -> 30 | AT8: =VLOOKUP($A8,MasterData,40,FALSE) -> 35 | AU8: =SUM(AQ8:AT8) -> 120 | AV8: =VLOOKUP($A8,MasterData,42,FALSE) -> 20 | AW8: =VLOOKUP($A8,MasterData,43,FALSE) -> 38 | AX8: =VLOOKUP($A8,MasterData,44,FALSE) -> 0 | AY8: =VLOOKUP($A8,MasterData,45,FALSE) -> 0 | AZ8: =SUM(AV8:AY8) -> 58 | BB8: =AG8-L8 -> 0 | BC8: =AH8-M8 -> 0 | BD8: =AI8-N8 -> 0 | BE8: =AJ8-O8 -> 0 | BF8: =AK8-P8 -> 0 | BG8: =AL8-Q8 -> 0 | BH8: =AM8-R8 -> 0 | BI8: =AN8-S8 -> 0 | ... BU8: =AZ8-AE8 -> 38 | BW8: 36 | BX8: 49 | BY8: 34 | BZ8: 54 | CA8: =SUM(BW8:BZ8) -> 173 | CB8: 40 | CC8: 35 | CD8: 35 | CE8: 20 | CF8: =SUM(CB8:CE8) -> 130 | CK8: =SUM(CG8:CJ8) -> 0 | CN8: 0 | CO8: 0 | CP8: =SUM(CL8:CO8) -> 0 | CR8: =BW8-AG8 -> 0 | CS8: =BX8-AH8 -> 0 | CT8: =BY8-AI8 -> 0 | CU8: =BZ8-AJ8 -> 0 | CV8: =CA8-AK8 -> 0 | CW8: =CB8-AL8 -> 0 | CX8: =CC8-AM8 -> 0 | CY8: =CD8-AN8 -> 0 | ... DK8: =CP8-AZ8 -> -58
A9: =CONCATENATE(C9,"P") -> 186000872P | B9: =CONCATENATE(C9,"C") -> 186000872C | C9: 186000872 | D9: KIT, 7725I MANUAL INJECTOR,1500 SERIES | E9: MIL (US31) | F9: LC | G9: Legacy LC | H9: Accessories | I9: 478.46 | J9: Paul Brusco | L9: 55 | M9: 90 | N9: 50 | O9: 120 | P9: =SUM(L9:O9) -> 315 | Q9: 40 | R9: 60 | S9: 45 | T9: 40 | U9: =SUM(Q9:T9) -> 185 | V9: 50 | W9: 60 | X9: 60 | Y9: 50 | Z9: =SUM(V9:Y9) -> 220 | AA9: 50 | AB9: 0 | AC9: 0 | AD9: 0 | AE9: =SUM(AA9:AD9) -> 50 | AG9: =VLOOKUP($A9,MasterData,27,FALSE) -> 55 | AH9: =VLOOKUP($A9,MasterData,28,FALSE) -> 90 | AI9: =VLOOKUP($A9,MasterData,29,FALSE) -> 50 | AJ9: =VLOOKUP($A9,MasterData,30,FALSE) -> 120 | AK9: =SUM(AG9:AJ9) -> 315 | AL9: =VLOOKUP($A9,MasterData,32,FALSE) -> 40 | AM9: =VLOOKUP($A9,MasterData,33,FALSE) -> 60 | AN9: =VLOOKUP($A9,MasterData,34,FALSE) -> 45 | AO9: =VLOOKUP($A9,MasterData,35,FALSE) -> 40 | AP9: =SUM(AL9:AO9) -> 185 | AQ9: =VLOOKUP($A9,MasterData,37,FALSE) -> 45 | AR9: =VLOOKUP($A9,MasterData,38,FALSE) -> 50 | AS9: =VLOOKUP($A9,MasterData,39,FALSE) -> 50 | AT9: =VLOOKUP($A9,MasterData,40,FALSE) -> 55 | AU9: =SUM(AQ9:AT9) -> 200 | AV9: =VLOOKUP($A9,MasterData,42,FALSE) -> 50 | AW9: =VLOOKUP($A9,MasterData,43,FALSE) -> 55 | AX9: =VLOOKUP($A9,MasterData,44,FALSE) -> 0 | AY9: =VLOOKUP($A9,MasterData,45,FALSE) -> 0 | AZ9: =SUM(AV9:AY9) -> 105 | BB9: =AG9-L9 -> 0 | BC9: =AH9-M9 -> 0 | BD9: =AI9-N9 -> 0 | BE9: =AJ9-O9 -> 0 | BF9: =AK9-P9 -> 0 | BG9: =AL9-Q9 -> 0 | BH9: =AM9-R9 -> 0 | BI9: =AN9-S9 -> 0 | ... BU9: =AZ9-AE9 -> 55 | BW9: 55 | BX9: 90 | BY9: 50 | BZ9: 120 | CA9: =SUM(BW9:BZ9) -> 315 | CB9: 40 | CC9: 60 | CD9: 45 | CE9: 40 | CF9: =SUM(CB9:CE9) -> 185 | CK9: =SUM(CG9:CJ9) -> 0 | CN9: 0 | CO9: 0 | CP9: =SUM(CL9:CO9) -> 0 | CR9: =BW9-AG9 -> 0 | CS9: =BX9-AH9 -> 0 | CT9: =BY9-AI9 -> 0 | CU9: =BZ9-AJ9 -> 0 | CV9: =CA9-AK9 -> 0 | CW9: =CB9-AL9 -> 0 | CX9: =CC9-AM9 -> 0 | CY9: =CD9-AN9 -> 0 | ... DK9: =CP9-AZ9 -> -105
A10: =CONCATENATE(C10,"P") -> 186001500P | B10: =CONCATENATE(C10,"C") -> 186001500C | C10: 186001500 | D10: 1500 COLUMN HEATER | E10: WPPL (SG20) | F10: LC | G10: Legacy LC | H10: Accessories | I10: 774.9 | J10: Ee Ling Lim | L10: 60 | M10: 80 | N10: 90 | O10: 80 | P10: =SUM(L10:O10) -> 310 | Q10: 30 | R10: 32 | S10: 38 | T10: 30 | U10: =SUM(Q10:T10) -> 130 | V10: 60 | W10: 60 | X10: 60 | Y10: 60 | Z10: =SUM(V10:Y10) -> 240 | AA10: 0 | AB10: 0 | AC10: 0 | AD10: 0 | AE10: =SUM(AA10:AD10) -> 0 | AG10: =VLOOKUP($A10,MasterData,27,FALSE) -> 60 | AH10: =VLOOKUP($A10,MasterData,28,FALSE) -> 80 | AI10: =VLOOKUP($A10,MasterData,29,FALSE) -> 90 | AJ10: =VLOOKUP($A10,MasterData,30,FALSE) -> 80 | AK10: =SUM(AG10:AJ10) -> 310 | AL10: =VLOOKUP($A10,MasterData,32,FALSE) -> 30 | AM10: =VLOOKUP($A10,MasterData,33,FALSE) -> 32 | AN10: =VLOOKUP($A10,MasterData,34,FALSE) -> 38 | AO10: =VLOOKUP($A10,MasterData,35,FALSE) -> 30 | AP10: =SUM(AL10:AO10) -> 130 | AQ10: =VLOOKUP($A10,MasterData,37,FALSE) -> 60 | AR10: =VLOOKUP($A10,MasterData,38,FALSE) -> 55 | AS10: =VLOOKUP($A10,MasterData,39,FALSE) -> 50 | AT10: =VLOOKUP($A10,MasterData,40,FALSE) -> 55 | AU10: =SUM(AQ10:AT10) -> 220 | AV10: =VLOOKUP($A10,MasterData,42,FALSE) -> 50 | AW10: =VLOOKUP($A10,MasterData,43,FALSE) -> 60 | AX10: =VLOOKUP($A10,MasterData,44,FALSE) -> 0 | AY10: =VLOOKUP($A10,MasterData,45,FALSE) -> 0 | AZ10: =SUM(AV10:AY10) -> 110 | BB10: =AG10-L10 -> 0 | BC10: =AH10-M10 -> 0 | BD10: =AI10-N10 -> 0 | BE10: =AJ10-O10 -> 0 | BF10: =AK10-P10 -> 0 | BG10: =AL10-Q10 -> 0 | BH10: =AM10-R10 -> 0 | BI10: =AN10-S10 -> 0 | ... BU10: =AZ10-AE10 -> 110 | BW10: 60 | BX10: 80 | BY10: 90 | BZ10: 80 | CA10: =SUM(BW10:BZ10) -> 310 | CB10: 30 | CC10: 32 | CD10: 38 | CE10: 30 | CF10: =SUM(CB10:CE10) -> 130 | CK10: =SUM(CG10:CJ10) -> 0 | CN10: 0 | CO10: 0 | CP10: =SUM(CL10:CO10) -> 0 | CR10: =BW10-AG10 -> 0 | CS10: =BX10-AH10 -> 0 | CT10: =BY10-AI10 -> 0 | CU10: =BZ10-AJ10 -> 0 | CV10: =CA10-AK10 -> 0 | CW10: =CB10-AL10 -> 0 | CX10: =CC10-AM10 -> 0 | CY10: =CD10-AN10 -> 0 | ... DK10: =CP10-AZ10 -> -110
A11: =CONCATENATE(C11,"P") -> 186001515P | B11: =CONCATENATE(C11,"C") -> 186001515C | C11: 186001515 | D11: 1515 ISOCRATIC HPLC PUMP | E11: WPPL (SG20) | F11: LC | G11: Legacy LC | H11: Pumps | I11: 2646.3 | J11: Ee Ling Lim | L11: 25 | M11: 49 | N11: 40 | O11: 55 | P11: =SUM(L11:O11) -> 169 | Q11: 30 | R11: 50 | S11: 40 | T11: 30 | U11: =SUM(Q11:T11) -> 150 | V11: 25 | W11: 25 | X11: 25 | Y11: 25 | Z11: =SUM(V11:Y11) -> 100 | AA11: 0 | AB11: 0 | AC11: 0 | AD11: 0 | AE11: =SUM(AA11:AD11) -> 0 | AG11: =VLOOKUP($A11,MasterData,27,FALSE) -> 25 | AH11: =VLOOKUP($A11,MasterData,28,FALSE) -> 49 | AI11: =VLOOKUP($A11,MasterData,29,FALSE) -> 40 | AJ11: =VLOOKUP($A11,MasterData,30,FALSE) -> 55 | AK11: =SUM(AG11:AJ11) -> 169 | AL11: =VLOOKUP($A11,MasterData,32,FALSE) -> 30 | AM11: =VLOOKUP($A11,MasterData,33,FALSE) -> 50 | AN11: =VLOOKUP($A11,MasterData,34,FALSE) -> 40 | AO11: =VLOOKUP($A11,MasterData,35,FALSE) -> 30 | AP11: =SUM(AL11:AO11) -> 150 | AQ11: =VLOOKUP($A11,MasterData,37,FALSE) -> 30 | AR11: =VLOOKUP($A11,MasterData,38,FALSE) -> 30 | AS11: =VLOOKUP($A11,MasterData,39,FALSE) -> 20 | AT11: =VLOOKUP($A11,MasterData,40,FALSE) -> 25 | AU11: =SUM(AQ11:AT11) -> 105 | AV11: =VLOOKUP($A11,MasterData,42,FALSE) -> 30 | AW11: =VLOOKUP($A11,MasterData,43,FALSE) -> 42 | AX11: =VLOOKUP($A11,MasterData,44,FALSE) -> 0 | AY11: =VLOOKUP($A11,MasterData,45,FALSE) -> 0 | AZ11: =SUM(AV11:AY11) -> 72 | BB11: =AG11-L11 -> 0 | BC11: =AH11-M11 -> 0 | BD11: =AI11-N11 -> 0 | BE11: =AJ11-O11 -> 0 | BF11: =AK11-P11 -> 0 | BG11: =AL11-Q11 -> 0 | BH11: =AM11-R11 -> 0 | BI11: =AN11-S11 -> 0 | ... BU11: =AZ11-AE11 -> 72 | BW11: 25 | BX11: 49 | BY11: 40 | BZ11: 55 | CA11: =SUM(BW11:BZ11) -> 169 | CB11: 30 | CC11: 50 | CD11: 40 | CE11: 30 | CF11: =SUM(CB11:CE11) -> 150 | CK11: =SUM(CG11:CJ11) -> 0 | CN11: 0 | CO11: 0 | CP11: =SUM(CL11:CO11) -> 0 | CR11: =BW11-AG11 -> 0 | CS11: =BX11-AH11 -> 0 | CT11: =BY11-AI11 -> 0 | CU11: =BZ11-AJ11 -> 0 | CV11: =CA11-AK11 -> 0 | CW11: =CB11-AL11 -> 0 | CX11: =CC11-AM11 -> 0 | CY11: =CD11-AN11 -> 0 | ... DK11: =CP11-AZ11 -> -72
A12: =CONCATENATE(C12,"P") -> 186001525P | B12: =CONCATENATE(C12,"C") -> 186001525C | C12: 186001525 | D12: 1525 BINARY HPLC PUMP | E12: WPPL (SG20) | F12: LC | G12: Legacy LC | H12: Pumps | I12: 3658.17 | J12: Ee Ling Lim | L12: 95 | M12: 100 | N12: 120 | O12: 80 | P12: =SUM(L12:O12) -> 395 | Q12: 60 | R12: 90 | S12: 70 | T12: 55 | U12: =SUM(Q12:T12) -> 275 | V12: 65 | W12: 75 | X12: 75 | Y12: 70 | Z12: =SUM(V12:Y12) -> 285 | AA12: 0 | AB12: 0 | AC12: 0 | AD12: 0 | AE12: =SUM(AA12:AD12) -> 0 | AG12: =VLOOKUP($A12,MasterData,27,FALSE) -> 95 | AH12: =VLOOKUP($A12,MasterData,28,FALSE) -> 100 | AI12: =VLOOKUP($A12,MasterData,29,FALSE) -> 120 | AJ12: =VLOOKUP($A12,MasterData,30,FALSE) -> 80 | AK12: =SUM(AG12:AJ12) -> 395 | AL12: =VLOOKUP($A12,MasterData,32,FALSE) -> 60 | AM12: =VLOOKUP($A12,MasterData,33,FALSE) -> 90 | AN12: =VLOOKUP($A12,MasterData,34,FALSE) -> 70 | AO12: =VLOOKUP($A12,MasterData,35,FALSE) -> 55 | AP12: =SUM(AL12:AO12) -> 275 | AQ12: =VLOOKUP($A12,MasterData,37,FALSE) -> 70 | AR12: =VLOOKUP($A12,MasterData,38,FALSE) -> 70 | AS12: =VLOOKUP($A12,MasterData,39,FALSE) -> 65 | AT12: =VLOOKUP($A12,MasterData,40,FALSE) -> 70 | AU12: =SUM(AQ12:AT12) -> 275 | AV12: =VLOOKUP($A12,MasterData,42,FALSE) -> 0 | AW12: =VLOOKUP($A12,MasterData,43,FALSE) -> 0 | AX12: =VLOOKUP($A12,MasterData,44,FALSE) -> 0 | AY12: =VLOOKUP($A12,MasterData,45,FALSE) -> 0 | AZ12: =SUM(AV12:AY12) -> 0 | BB12: =AG12-L12 -> 0 | BC12: =AH12-M12 -> 0 | BD12: =AI12-N12 -> 0 | BE12: =AJ12-O12 -> 0 | BF12: =AK12-P12 -> 0 | BG12: =AL12-Q12 -> 0 | BH12: =AM12-R12 -> 0 | BI12: =AN12-S12 -> 0 | ... BU12: =AZ12-AE12 -> 0 | BW12: 95 | BX12: 100 | BY12: 120 | BZ12: 80 | CA12: =SUM(BW12:BZ12) -> 395 | CB12: 60 | CC12: 90 | CD12: 70 | CE12: 55 | CF12: =SUM(CB12:CE12) -> 275 | CK12: =SUM(CG12:CJ12) -> 0 | CN12: 0 | CO12: 0 | CP12: =SUM(CL12:CO12) -> 0 | CR12: =BW12-AG12 -> 0 | CS12: =BX12-AH12 -> 0 | CT12: =BY12-AI12 -> 0 | CU12: =BZ12-AJ12 -> 0 | CV12: =CA12-AK12 -> 0 | CW12: =CB12-AL12 -> 0 | CX12: =CC12-AM12 -> 0 | CY12: =CD12-AN12 -> 0 | ... DK12: =CP12-AZ12 -> 0
A13: =CONCATENATE(C13,"P") -> 186001791P | B13: =CONCATENATE(C13,"C") -> 186001791C | C13: 186001791 | D13: ALLIANCE COL. HEATER COOLER | E13: WPPL (SG20) | F13: LC | G13: Alliance | H13: Column Managers | I13: 837.72 | J13: Ee Ling Lim | L13: 330 | M13: 390 | N13: 350 | O13: 430 | P13: =SUM(L13:O13) -> 1500 | Q13: 185 | R13: 20 | S13: 30 | T13: 30 | U13: =SUM(Q13:T13) -> 265 | V13: 30 | W13: 35 | X13: 35 | Y13: 35 | Z13: =SUM(V13:Y13) -> 135 | AA13: 0 | AB13: 0 | AC13: 0 | AD13: 0 | AE13: =SUM(AA13:AD13) -> 0 | AG13: =VLOOKUP($A13,MasterData,27,FALSE) -> 330 | AH13: =VLOOKUP($A13,MasterData,28,FALSE) -> 390 | AI13: =VLOOKUP($A13,MasterData,29,FALSE) -> 350 | AJ13: =VLOOKUP($A13,MasterData,30,FALSE) -> 430 | AK13: =SUM(AG13:AJ13) -> 1500 | AL13: =VLOOKUP($A13,MasterData,32,FALSE) -> 185 | AM13: =VLOOKUP($A13,MasterData,33,FALSE) -> 20 | AN13: =VLOOKUP($A13,MasterData,34,FALSE) -> 30 | AO13: =VLOOKUP($A13,MasterData,35,FALSE) -> 30 | AP13: =SUM(AL13:AO13) -> 265 | AQ13: =VLOOKUP($A13,MasterData,37,FALSE) -> 40 | AR13: =VLOOKUP($A13,MasterData,38,FALSE) -> 40 | AS13: =VLOOKUP($A13,MasterData,39,FALSE) -> 35 | AT13: =VLOOKUP($A13,MasterData,40,FALSE) -> 35 | AU13: =SUM(AQ13:AT13) -> 150 | AV13: =VLOOKUP($A13,MasterData,42,FALSE) -> 0 | AW13: =VLOOKUP($A13,MasterData,43,FALSE) -> 0 | AX13: =VLOOKUP($A13,MasterData,44,FALSE) -> 0 | AY13: =VLOOKUP($A13,MasterData,45,FALSE) -> 0 | AZ13: =SUM(AV13:AY13) -> 0 | BB13: =AG13-L13 -> 0 | BC13: =AH13-M13 -> 0 | BD13: =AI13-N13 -> 0 | BE13: =AJ13-O13 -> 0 | BF13: =AK13-P13 -> 0 | BG13: =AL13-Q13 -> 0 | BH13: =AM13-R13 -> 0 | BI13: =AN13-S13 -> 0 | ... BU13: =AZ13-AE13 -> 0 | BW13: 330 | BX13: 390 | BY13: 350 | BZ13: 430 | CA13: =SUM(BW13:BZ13) -> 1500 | CB13: 185 | CC13: 20 | CD13: 30 | CE13: 30 | CF13: =SUM(CB13:CE13) -> 265 | CK13: =SUM(CG13:CJ13) -> 0 | CN13: 0 | CO13: 0 | CP13: =SUM(CL13:CO13) -> 0 | CR13: =BW13-AG13 -> 0 | CS13: =BX13-AH13 -> 0 | CT13: =BY13-AI13 -> 0 | CU13: =BZ13-AJ13 -> 0 | CV13: =CA13-AK13 -> 0 | CW13: =CB13-AL13 -> 0 | CX13: =CC13-AM13 -> 0 | CY13: =CD13-AN13 -> 0 | ... DK13: =CP13-AZ13 -> 0
A14: =CONCATENATE(C14,"P") -> 186001825P | B14: =CONCATENATE(C14,"C") -> 186001825C | C14: 186001825 | D14: 1525µ Binary HPLC Pump w/Degasser | E14: WPPL (SG20) | F14: LC | G14: Legacy LC | H14: Pumps | I14: 6248.84 | J14: Ee Ling Lim | L14: 0 | M14: 0 | N14: 7 | O14: 5 | P14: =SUM(L14:O14) -> 12 | Q14: 12 | R14: 18 | S14: 15 | T14: 15 | U14: =SUM(Q14:T14) -> 60 | V14: 15 | W14: 15 | X14: 15 | Y14: 18 | Z14: =SUM(V14:Y14) -> 63 | AA14: 0 | AB14: 0 | AC14: 0 | AD14: 0 | AE14: =SUM(AA14:AD14) -> 0 | AG14: =VLOOKUP($A14,MasterData,27,FALSE) -> 0 | AH14: =VLOOKUP($A14,MasterData,28,FALSE) -> 0 | AI14: =VLOOKUP($A14,MasterData,29,FALSE) -> 7 | AJ14: =VLOOKUP($A14,MasterData,30,FALSE) -> 5 | AK14: =SUM(AG14:AJ14) -> 12 | AL14: =VLOOKUP($A14,MasterData,32,FALSE) -> 12 | AM14: =VLOOKUP($A14,MasterData,33,FALSE) -> 18 | AN14: =VLOOKUP($A14,MasterData,34,FALSE) -> 15 | AO14: =VLOOKUP($A14,MasterData,35,FALSE) -> 15 | AP14: =SUM(AL14:AO14) -> 60 | AQ14: =VLOOKUP($A14,MasterData,37,FALSE) -> 15 | AR14: =VLOOKUP($A14,MasterData,38,FALSE) -> 15 | AS14: =VLOOKUP($A14,MasterData,39,FALSE) -> 14 | AT14: =VLOOKUP($A14,MasterData,40,FALSE) -> 15 | AU14: =SUM(AQ14:AT14) -> 59 | AV14: =VLOOKUP($A14,MasterData,42,FALSE) -> 12 | AW14: =VLOOKUP($A14,MasterData,43,FALSE) -> 14 | AX14: =VLOOKUP($A14,MasterData,44,FALSE) -> 0 | AY14: =VLOOKUP($A14,MasterData,45,FALSE) -> 0 | AZ14: =SUM(AV14:AY14) -> 26 | BB14: =AG14-L14 -> 0 | BC14: =AH14-M14 -> 0 | BD14: =AI14-N14 -> 0 | BE14: =AJ14-O14 -> 0 | BF14: =AK14-P14 -> 0 | BG14: =AL14-Q14 -> 0 | BH14: =AM14-R14 -> 0 | BI14: =AN14-S14 -> 0 | ... BU14: =AZ14-AE14 -> 26 | BW14: 0 | BX14: 0 | BY14: 7 | BZ14: 5 | CA14: =SUM(BW14:BZ14) -> 12 | CB14: 12 | CC14: 18 | CD14: 15 | CE14: 15 | CF14: =SUM(CB14:CE14) -> 60 | CK14: =SUM(CG14:CJ14) -> 0 | CN14: 0 | CO14: 0 | CP14: =SUM(CL14:CO14) -> 0 | CR14: =BW14-AG14 -> 0 | CS14: =BX14-AH14 -> 0 | CT14: =BY14-AI14 -> 0 | CU14: =BZ14-AJ14 -> 0 | CV14: =CA14-AK14 -> 0 | CW14: =CB14-AL14 -> 0 | CX14: =CC14-AM14 -> 0 | CY14: =CD14-AN14 -> 0 | ... DK14: =CP14-AZ14 -> -26
A15: =CONCATENATE(C15,"P") -> 186001825IVDP | B15: =CONCATENATE(C15,"C") -> 186001825IVDC | C15: 186001825IVD | D15: 1525µ Binary HPLC Pump w/Degasser, IVD | E15: MIL (US31) | F15: LC | G15: Legacy LC | H15: Pumps | I15: 6877.88 | J15: Sharon Bibbo | L15: 0 | M15: 0 | N15: 0 | O15: 0 | P15: =SUM(L15:O15) -> 0 | Q15: 12 | R15: 12 | S15: 6 | T15: 14 | U15: =SUM(Q15:T15) -> 44 | V15: 10 | W15: 10 | X15: 10 | Y15: 10 | Z15: =SUM(V15:Y15) -> 40 | AA15: 0 | AB15: 0 | AC15: 0 | AD15: 0 | AE15: =SUM(AA15:AD15) -> 0 | AG15: =VLOOKUP($A15,MasterData,27,FALSE) -> 0 | AH15: =VLOOKUP($A15,MasterData,28,FALSE) -> 0 | AI15: =VLOOKUP($A15,MasterData,29,FALSE) -> 0 | AJ15: =VLOOKUP($A15,MasterData,30,FALSE) -> 0 | AK15: =SUM(AG15:AJ15) -> 0 | AL15: =VLOOKUP($A15,MasterData,32,FALSE) -> 12 | AM15: =VLOOKUP($A15,MasterData,33,FALSE) -> 12 | AN15: =VLOOKUP($A15,MasterData,34,FALSE) -> 6 | AO15: =VLOOKUP($A15,MasterData,35,FALSE) -> 14 | AP15: =SUM(AL15:AO15) -> 44 | AQ15: =VLOOKUP($A15,MasterData,37,FALSE) -> 10 | AR15: =VLOOKUP($A15,MasterData,38,FALSE) -> 10 | AS15: =VLOOKUP($A15,MasterData,39,FALSE) -> 10 | AT15: =VLOOKUP($A15,MasterData,40,FALSE) -> 12 | AU15: =SUM(AQ15:AT15) -> 42 | AV15: =VLOOKUP($A15,MasterData,42,FALSE) -> 8 | AW15: =VLOOKUP($A15,MasterData,43,FALSE) -> 10 | AX15: =VLOOKUP($A15,MasterData,44,FALSE) -> 0 | AY15: =VLOOKUP($A15,MasterData,45,FALSE) -> 0 | AZ15: =SUM(AV15:AY15) -> 18 | BB15: =AG15-L15 -> 0 | BC15: =AH15-M15 -> 0 | BD15: =AI15-N15 -> 0 | BE15: =AJ15-O15 -> 0 | BF15: =AK15-P15 -> 0 | BG15: =AL15-Q15 -> 0 | BH15: =AM15-R15 -> 0 | BI15: =AN15-S15 -> 0 | ... BU15: =AZ15-AE15 -> 18 | BW15: 0 | BX15: 0 | BY15: 0 | BZ15: 0 | CA15: =SUM(BW15:BZ15) -> 0 | CB15: 12 | CC15: 12 | CD15: 6 | CE15: 14 | CF15: =SUM(CB15:CE15) -> 44 | CK15: =SUM(CG15:CJ15) -> 0 | CN15: 0 | CO15: 0 | CP15: =SUM(CL15:CO15) -> 0 | CR15: =BW15-AG15 -> 0 | CS15: =BX15-AH15 -> 0 | CT15: =BY15-AI15 -> 0 | CU15: =BZ15-AJ15 -> 0 | CV15: =CA15-AK15 -> 0 | CW15: =CB15-AL15 -> 0 | CX15: =CC15-AM15 -> 0 | CY15: =CD15-AN15 -> 0 | ... DK15: =CP15-AZ15 -> -18
A16: =CONCATENATE(C16,"P") -> 186001863P | B16: =CONCATENATE(C16,"C") -> 186001863C | C16: 186001863 | D16: ALLIANCE COL.HEATER | E16: WPPL (SG20) | F16: LC | G16: Alliance | H16: Column Managers | I16: 544.73 | J16: Ee Ling Lim | L16: 440 | M16: 530 | N16: 420 | O16: 560 | P16: =SUM(L16:O16) -> 1950 | Q16: 80 | R16: 20 | S16: 10 | T16: 0 | U16: =SUM(Q16:T16) -> 110 | V16: 0 | W16: 10 | X16: 10 | Y16: 0 | Z16: =SUM(V16:Y16) -> 20 | AA16: 10 | AB16: 0 | AC16: 0 | AD16: 0 | AE16: =SUM(AA16:AD16) -> 10 | AG16: =VLOOKUP($A16,MasterData,27,FALSE) -> 440 | AH16: =VLOOKUP($A16,MasterData,28,FALSE) -> 530 | AI16: =VLOOKUP($A16,MasterData,29,FALSE) -> 420 | AJ16: =VLOOKUP($A16,MasterData,30,FALSE) -> 560 | AK16: =SUM(AG16:AJ16) -> 1950 | AL16: =VLOOKUP($A16,MasterData,32,FALSE) -> 80 | AM16: =VLOOKUP($A16,MasterData,33,FALSE) -> 20 | AN16: =VLOOKUP($A16,MasterData,34,FALSE) -> 10 | AO16: =VLOOKUP($A16,MasterData,35,FALSE) -> 0 | AP16: =SUM(AL16:AO16) -> 110 | AQ16: =VLOOKUP($A16,MasterData,37,FALSE) -> 0 | AR16: =VLOOKUP($A16,MasterData,38,FALSE) -> 10 | AS16: =VLOOKUP($A16,MasterData,39,FALSE) -> 10 | AT16: =VLOOKUP($A16,MasterData,40,FALSE) -> 0 | AU16: =SUM(AQ16:AT16) -> 20 | AV16: =VLOOKUP($A16,MasterData,42,FALSE) -> 10 | AW16: =VLOOKUP($A16,MasterData,43,FALSE) -> 0 | AX16: =VLOOKUP($A16,MasterData,44,FALSE) -> 0 | AY16: =VLOOKUP($A16,MasterData,45,FALSE) -> 0 | AZ16: =SUM(AV16:AY16) -> 10 | BB16: =AG16-L16 -> 0 | BC16: =AH16-M16 -> 0 | BD16: =AI16-N16 -> 0 | BE16: =AJ16-O16 -> 0 | BF16: =AK16-P16 -> 0 | BG16: =AL16-Q16 -> 0 | BH16: =AM16-R16 -> 0 | BI16: =AN16-S16 -> 0 | ... BU16: =AZ16-AE16 -> 0 | BW16: 440 | BX16: 530 | BY16: 420 | BZ16: 560 | CA16: =SUM(BW16:BZ16) -> 1950 | CB16: 80 | CC16: 20 | CD16: 10 | CE16: 0 | CF16: =SUM(CB16:CE16) -> 110 | CK16: =SUM(CG16:CJ16) -> 0 | CN16: 0 | CO16: 0 | CP16: =SUM(CL16:CO16) -> 0 | CR16: =BW16-AG16 -> 0 | CS16: =BX16-AH16 -> 0 | CT16: =BY16-AI16 -> 0 | CU16: =BZ16-AJ16 -> 0 | CV16: =CA16-AK16 -> 0 | CW16: =CB16-AL16 -> 0 | CX16: =CC16-AM16 -> 0 | CY16: =CD16-AN16 -> 0 | ... DK16: =CP16-AZ16 -> -10
A17: =CONCATENATE(C17,"P") -> 186001878P | B17: =CONCATENATE(C17,"C") -> 186001878C | C17: 186001878 | D17: Waters Fraction Collector III | E17: OEM | F17: LC | G17: Legacy LC | H17: Accessories | I17: 2362.42 | J17: Hanchen Lu | L17: 50 | M17: 90 | N17: 75 | O17: 50 | P17: =SUM(L17:O17) -> 265 | Q17: 60 | R17: 75 | S17: 60 | T17: 60 | U17: =SUM(Q17:T17) -> 255 | V17: 45 | W17: 50 | X17: 55 | Y17: 55 | Z17: =SUM(V17:Y17) -> 205 | AA17: 45 | AB17: 0 | AC17: 0 | AD17: 0 | AE17: =SUM(AA17:AD17) -> 45 | AG17: =VLOOKUP($A17,MasterData,27,FALSE) -> 50 | AH17: =VLOOKUP($A17,MasterData,28,FALSE) -> 90 | AI17: =VLOOKUP($A17,MasterData,29,FALSE) -> 75 | AJ17: =VLOOKUP($A17,MasterData,30,FALSE) -> 50 | AK17: =SUM(AG17:AJ17) -> 265 | AL17: =VLOOKUP($A17,MasterData,32,FALSE) -> 60 | AM17: =VLOOKUP($A17,MasterData,33,FALSE) -> 75 | AN17: =VLOOKUP($A17,MasterData,34,FALSE) -> 60 | AO17: =VLOOKUP($A17,MasterData,35,FALSE) -> 60 | AP17: =SUM(AL17:AO17) -> 255 | AQ17: =VLOOKUP($A17,MasterData,37,FALSE) -> 50 | AR17: =VLOOKUP($A17,MasterData,38,FALSE) -> 50 | AS17: =VLOOKUP($A17,MasterData,39,FALSE) -> 48 | AT17: =VLOOKUP($A17,MasterData,40,FALSE) -> 65 | AU17: =SUM(AQ17:AT17) -> 213 | AV17: =VLOOKUP($A17,MasterData,42,FALSE) -> 50 | AW17: =VLOOKUP($A17,MasterData,43,FALSE) -> 55 | AX17: =VLOOKUP($A17,MasterData,44,FALSE) -> 0 | AY17: =VLOOKUP($A17,MasterData,45,FALSE) -> 0 | AZ17: =SUM(AV17:AY17) -> 105 | BB17: =AG17-L17 -> 0 | BC17: =AH17-M17 -> 0 | BD17: =AI17-N17 -> 0 | BE17: =AJ17-O17 -> 0 | BF17: =AK17-P17 -> 0 | BG17: =AL17-Q17 -> 0 | BH17: =AM17-R17 -> 0 | BI17: =AN17-S17 -> 0 | ... BU17: =AZ17-AE17 -> 60 | BW17: 50 | BX17: 90 | BY17: 75 | BZ17: 50 | CA17: =SUM(BW17:BZ17) -> 265 | CB17: 60 | CC17: 75 | CD17: 60 | CE17: 60 | CF17: =SUM(CB17:CE17) -> 255 | CK17: =SUM(CG17:CJ17) -> 0 | CN17: 0 | CO17: 0 | CP17: =SUM(CL17:CO17) -> 0 | CR17: =BW17-AG17 -> 0 | CS17: =BX17-AH17 -> 0 | CT17: =BY17-AI17 -> 0 | CU17: =BZ17-AJ17 -> 0 | CV17: =CA17-AK17 -> 0 | CW17: =CB17-AL17 -> 0 | CX17: =CC17-AM17 -> 0 | CY17: =CD17-AN17 -> 0 | ... DK17: =CP17-AZ17 -> -105
A18: =CONCATENATE(C18,"P") -> 186002424P | B18: =CONCATENATE(C18,"C") -> 186002424C | C18: 186002424 | D18: Waters 2424 ELS Detector | E18: MIL (US31) | F18: LC | G18: Alliance | H18: Detectors | I18: 5422.15 | J18: Paul Brusco | L18: 53 | M18: 62 | N18: 45 | O18: 50 | P18: =SUM(L18:O18) -> 210 | Q18: 60 | R18: 30 | S18: 17 | T18: 30 | U18: =SUM(Q18:T18) -> 137 | V18: 15 | W18: 22 | X18: 22 | Y18: 25 | Z18: =SUM(V18:Y18) -> 84 | AA18: 20 | AB18: 0 | AC18: 0 | AD18: 0 | AE18: =SUM(AA18:AD18) -> 20 | AG18: =VLOOKUP($A18,MasterData,27,FALSE) -> 53 | AH18: =VLOOKUP($A18,MasterData,28,FALSE) -> 62 | AI18: =VLOOKUP($A18,MasterData,29,FALSE) -> 45 | AJ18: =VLOOKUP($A18,MasterData,30,FALSE) -> 50 | AK18: =SUM(AG18:AJ18) -> 210 | AL18: =VLOOKUP($A18,MasterData,32,FALSE) -> 60 | AM18: =VLOOKUP($A18,MasterData,33,FALSE) -> 30 | AN18: =VLOOKUP($A18,MasterData,34,FALSE) -> 17 | AO18: =VLOOKUP($A18,MasterData,35,FALSE) -> 30 | AP18: =SUM(AL18:AO18) -> 137 | AQ18: =VLOOKUP($A18,MasterData,37,FALSE) -> 20 | AR18: =VLOOKUP($A18,MasterData,38,FALSE) -> 20 | AS18: =VLOOKUP($A18,MasterData,39,FALSE) -> 15 | AT18: =VLOOKUP($A18,MasterData,40,FALSE) -> 20 | AU18: =SUM(AQ18:AT18) -> 75 | AV18: =VLOOKUP($A18,MasterData,42,FALSE) -> 20 | AW18: =VLOOKUP($A18,MasterData,43,FALSE) -> 20 | AX18: =VLOOKUP($A18,MasterData,44,FALSE) -> 0 | AY18: =VLOOKUP($A18,MasterData,45,FALSE) -> 0 | AZ18: =SUM(AV18:AY18) -> 40 | BB18: =AG18-L18 -> 0 | BC18: =AH18-M18 -> 0 | BD18: =AI18-N18 -> 0 | BE18: =AJ18-O18 -> 0 | BF18: =AK18-P18 -> 0 | BG18: =AL18-Q18 -> 0 | BH18: =AM18-R18 -> 0 | BI18: =AN18-S18 -> 0 | ... BU18: =AZ18-AE18 -> 20 | BW18: 53 | BX18: 62 | BY18: 45 | BZ18: 50 | CA18: =SUM(BW18:BZ18) -> 210 | CB18: 60 | CC18: 30 | CD18: 17 | CE18: 30 | CF18: =SUM(CB18:CE18) -> 137 | CK18: =SUM(CG18:CJ18) -> 0 | CN18: 0 | CO18: 0 | CP18: =SUM(CL18:CO18) -> 0 | CR18: =BW18-AG18 -> 0 | CS18: =BX18-AH18 -> 0 | CT18: =BY18-AI18 -> 0 | CU18: =BZ18-AJ18 -> 0 | CV18: =CA18-AK18 -> 0 | CW18: =CB18-AL18 -> 0 | CX18: =CC18-AM18 -> 0 | CY18: =CD18-AN18 -> 0 | ... DK18: =CP18-AZ18 -> -40
A19: =CONCATENATE(C19,"P") -> 186002441P | B19: =CONCATENATE(C19,"C") -> 186002441C | C19: 186002441 | D19: Temperature Control Module II | E19: WPPL (SG20) | F19: LC | G19: Legacy LC | H19: Accessories | I19: 669.66 | J19: Ee Ling Lim | L19: 82 | M19: 68 | N19: 112 | O19: 85 | P19: =SUM(L19:O19) -> 347 | Q19: 60 | R19: 64 | S19: 46 | T19: 69 | U19: =SUM(Q19:T19) -> 239 | V19: 50 | W19: 60 | X19: 55 | Y19: 50 | Z19: =SUM(V19:Y19) -> 215 | AA19: 0 | AB19: 0 | AC19: 0 | AD19: 0 | AE19: =SUM(AA19:AD19) -> 0 | AG19: =VLOOKUP($A19,MasterData,27,FALSE) -> 82 | AH19: =VLOOKUP($A19,MasterData,28,FALSE) -> 68 | AI19: =VLOOKUP($A19,MasterData,29,FALSE) -> 112 | AJ19: =VLOOKUP($A19,MasterData,30,FALSE) -> 85 | AK19: =SUM(AG19:AJ19) -> 347 | AL19: =VLOOKUP($A19,MasterData,32,FALSE) -> 60 | AM19: =VLOOKUP($A19,MasterData,33,FALSE) -> 64 | AN19: =VLOOKUP($A19,MasterData,34,FALSE) -> 46 | AO19: =VLOOKUP($A19,MasterData,35,FALSE) -> 69 | AP19: =SUM(AL19:AO19) -> 239 | AQ19: =VLOOKUP($A19,MasterData,37,FALSE) -> 50 | AR19: =VLOOKUP($A19,MasterData,38,FALSE) -> 50 | AS19: =VLOOKUP($A19,MasterData,39,FALSE) -> 45 | AT19: =VLOOKUP($A19,MasterData,40,FALSE) -> 60 | AU19: =SUM(AQ19:AT19) -> 205 | AV19: =VLOOKUP($A19,MasterData,42,FALSE) -> 45 | AW19: =VLOOKUP($A19,MasterData,43,FALSE) -> 64 | AX19: =VLOOKUP($A19,MasterData,44,FALSE) -> 0 | AY19: =VLOOKUP($A19,MasterData,45,FALSE) -> 0 | AZ19: =SUM(AV19:AY19) -> 109 | BB19: =AG19-L19 -> 0 | BC19: =AH19-M19 -> 0 | BD19: =AI19-N19 -> 0 | BE19: =AJ19-O19 -> 0 | BF19: =AK19-P19 -> 0 | BG19: =AL19-Q19 -> 0 | BH19: =AM19-R19 -> 0 | BI19: =AN19-S19 -> 0 | ... BU19: =AZ19-AE19 -> 109 | BW19: 82 | BX19: 68 | BY19: 112 | BZ19: 85 | CA19: =SUM(BW19:BZ19) -> 347 | CB19: 60 | CC19: 64 | CD19: 46 | CE19: 69 | CF19: =SUM(CB19:CE19) -> 239 | CK19: =SUM(CG19:CJ19) -> 0 | CN19: 0 | CO19: 0 | CP19: =SUM(CL19:CO19) -> 0 | CQ19: 50 | CR19: =BW19-AG19 -> 0 | CS19: =BX19-AH19 -> 0 | CT19: =BY19-AI19 -> 0 | CU19: =BZ19-AJ19 -> 0 | CV19: =CA19-AK19 -> 0 | CW19: =CB19-AL19 -> 0 | CX19: =CC19-AM19 -> 0 | CY19: =CD19-AN19 -> 0 | ... DK19: =CP19-AZ19 -> -109
A20: =CONCATENATE(C20,"P") -> 186002449P | B20: =CONCATENATE(C20,"C") -> 186002449C | C20: 186002449 | D20: PCM II - PUMP CONTROL MODULE | E20: WPPL (SG20) | F20: Data | G20: Data H/W | H20: Data H/W | I20: 735.02 | J20: Ee Ling Lim | L20: 40 | M20: 70 | N20: 40 | O20: 70 | P20: =SUM(L20:O20) -> 220 | Q20: 45 | R20: 52 | S20: 66 | T20: 41 | U20: =SUM(Q20:T20) -> 204 | V20: 40 | W20: 55 | X20: 50 | Y20: 40 | Z20: =SUM(V20:Y20) -> 185 | AA20: 0 | AB20: 0 | AC20: 0 | AD20: 0 | AE20: =SUM(AA20:AD20) -> 0 | AG20: =VLOOKUP($A20,MasterData,27,FALSE) -> 40 | AH20: =VLOOKUP($A20,MasterData,28,FALSE) -> 70 | AI20: =VLOOKUP($A20,MasterData,29,FALSE) -> 40 | AJ20: =VLOOKUP($A20,MasterData,30,FALSE) -> 70 | AK20: =SUM(AG20:AJ20) -> 220 | AL20: =VLOOKUP($A20,MasterData,32,FALSE) -> 45 | AM20: =VLOOKUP($A20,MasterData,33,FALSE) -> 52 | AN20: =VLOOKUP($A20,MasterData,34,FALSE) -> 66 | AO20: =VLOOKUP($A20,MasterData,35,FALSE) -> 41 | AP20: =SUM(AL20:AO20) -> 204 | AQ20: =VLOOKUP($A20,MasterData,37,FALSE) -> 50 | AR20: =VLOOKUP($A20,MasterData,38,FALSE) -> 40 | AS20: =VLOOKUP($A20,MasterData,39,FALSE) -> 35 | AT20: =VLOOKUP($A20,MasterData,40,FALSE) -> 50 | AU20: =SUM(AQ20:AT20) -> 175 | AV20: =VLOOKUP($A20,MasterData,42,FALSE) -> 45 | AW20: =VLOOKUP($A20,MasterData,43,FALSE) -> 50 | AX20: =VLOOKUP($A20,MasterData,44,FALSE) -> 0 | AY20: =VLOOKUP($A20,MasterData,45,FALSE) -> 0 | AZ20: =SUM(AV20:AY20) -> 95 | BB20: =AG20-L20 -> 0 | BC20: =AH20-M20 -> 0 | BD20: =AI20-N20 -> 0 | BE20: =AJ20-O20 -> 0 | BF20: =AK20-P20 -> 0 | BG20: =AL20-Q20 -> 0 | BH20: =AM20-R20 -> 0 | BI20: =AN20-S20 -> 0 | ... BU20: =AZ20-AE20 -> 95 | BW20: 40 | BX20: 70 | BY20: 40 | BZ20: 70 | CA20: =SUM(BW20:BZ20) -> 220 | CB20: 45 | CC20: 52 | CD20: 66 | CE20: 41 | CF20: =SUM(CB20:CE20) -> 204 | CK20: =SUM(CG20:CJ20) -> 0 | CN20: 0 | CO20: 0 | CP20: =SUM(CL20:CO20) -> 0 | CR20: =BW20-AG20 -> 0 | CS20: =BX20-AH20 -> 0 | CT20: =BY20-AI20 -> 0 | CU20: =BZ20-AJ20 -> 0 | CV20: =CA20-AK20 -> 0 | CW20: =CB20-AL20 -> 0 | CX20: =CC20-AM20 -> 0 | CY20: =CD20-AN20 -> 0 | ... DK20: =CP20-AZ20 -> -95
A21: =CONCATENATE(C21,"P") -> 186002465P | B21: =CONCATENATE(C21,"C") -> 186002465C | C21: 186002465 | D21: 2465 ELECTROCHEMICAL DETECTOR | E21: OEM | F21: LC | G21: Legacy LC | H21: Detectors | I21: 3509.55 | J21: Hanchen Lu | L21: 10 | M21: 10 | N21: 10 | O21: 30 | P21: =SUM(L21:O21) -> 60 | Q21: 20 | R21: 20 | S21: 12 | T21: 20 | U21: =SUM(Q21:T21) -> 72 | V21: 10 | W21: 15 | X21: 15 | Y21: 15 | Z21: =SUM(V21:Y21) -> 55 | AA21: 15 | AB21: 0 | AC21: 0 | AD21: 0 | AE21: =SUM(AA21:AD21) -> 15 | AG21: =VLOOKUP($A21,MasterData,27,FALSE) -> 10 | AH21: =VLOOKUP($A21,MasterData,28,FALSE) -> 10 | AI21: =VLOOKUP($A21,MasterData,29,FALSE) -> 10 | AJ21: =VLOOKUP($A21,MasterData,30,FALSE) -> 30 | AK21: =SUM(AG21:AJ21) -> 60 | AL21: =VLOOKUP($A21,MasterData,32,FALSE) -> 20 | AM21: =VLOOKUP($A21,MasterData,33,FALSE) -> 20 | AN21: =VLOOKUP($A21,MasterData,34,FALSE) -> 12 | AO21: =VLOOKUP($A21,MasterData,35,FALSE) -> 20 | AP21: =SUM(AL21:AO21) -> 72 | AQ21: =VLOOKUP($A21,MasterData,37,FALSE) -> 10 | AR21: =VLOOKUP($A21,MasterData,38,FALSE) -> 10 | AS21: =VLOOKUP($A21,MasterData,39,FALSE) -> 10 | AT21: =VLOOKUP($A21,MasterData,40,FALSE) -> 10 | AU21: =SUM(AQ21:AT21) -> 40 | AV21: =VLOOKUP($A21,MasterData,42,FALSE) -> 14 | AW21: =VLOOKUP($A21,MasterData,43,FALSE) -> 22 | AX21: =VLOOKUP($A21,MasterData,44,FALSE) -> 0 | AY21: =VLOOKUP($A21,MasterData,45,FALSE) -> 0 | AZ21: =SUM(AV21:AY21) -> 36 | BB21: =AG21-L21 -> 0 | BC21: =AH21-M21 -> 0 | BD21: =AI21-N21 -> 0 | BE21: =AJ21-O21 -> 0 | BF21: =AK21-P21 -> 0 | BG21: =AL21-Q21 -> 0 | BH21: =AM21-R21 -> 0 | BI21: =AN21-S21 -> 0 | ... BU21: =AZ21-AE21 -> 21 | BW21: 10 | BX21: 10 | BY21: 10 | BZ21: 30 | CA21: =SUM(BW21:BZ21) -> 60 | CB21: 20 | CC21: 20 | CD21: 12 | CE21: 20 | CF21: =SUM(CB21:CE21) -> 72 | CK21: =SUM(CG21:CJ21) -> 0 | CN21: 0 | CO21: 0 | CP21: =SUM(CL21:CO21) -> 0 | CR21: =BW21-AG21 -> 0 | CS21: =BX21-AH21 -> 0 | CT21: =BY21-AI21 -> 0 | CU21: =BZ21-AJ21 -> 0 | CV21: =CA21-AK21 -> 0 | CW21: =CB21-AL21 -> 0 | CX21: =CC21-AM21 -> 0 | CY21: =CD21-AN21 -> 0 | ... DK21: =CP21-AZ21 -> -36
A22: =CONCATENATE(C22,"P") -> 186002475P | B22: =CONCATENATE(C22,"C") -> 186002475C | C22: 186002475 | D22: 2475 MULTICHANNEL FLUORESCENCE DETECTOR | E22: WPPL (SG20) | F22: LC | G22: Alliance | H22: Detectors | I22: 4403.08 | J22: Ee Ling Lim | L22: 143 | M22: 140 | N22: 155 | O22: 153 | P22: =SUM(L22:O22) -> 591 | Q22: 113 | R22: 32 | S22: 50 | T22: 40 | U22: =SUM(Q22:T22) -> 235 | V22: 45 | W22: 50 | X22: 50 | Y22: 65 | Z22: =SUM(V22:Y22) -> 210 | AA22: 0 | AB22: 0 | AC22: 0 | AD22: 0 | AE22: =SUM(AA22:AD22) -> 0 | AG22: =VLOOKUP($A22,MasterData,27,FALSE) -> 143 | AH22: =VLOOKUP($A22,MasterData,28,FALSE) -> 140 | AI22: =VLOOKUP($A22,MasterData,29,FALSE) -> 155 | AJ22: =VLOOKUP($A22,MasterData,30,FALSE) -> 153 | AK22: =SUM(AG22:AJ22) -> 591 | AL22: =VLOOKUP($A22,MasterData,32,FALSE) -> 113 | AM22: =VLOOKUP($A22,MasterData,33,FALSE) -> 32 | AN22: =VLOOKUP($A22,MasterData,34,FALSE) -> 50 | AO22: =VLOOKUP($A22,MasterData,35,FALSE) -> 40 | AP22: =SUM(AL22:AO22) -> 235 | AQ22: =VLOOKUP($A22,MasterData,37,FALSE) -> 45 | AR22: =VLOOKUP($A22,MasterData,38,FALSE) -> 45 | AS22: =VLOOKUP($A22,MasterData,39,FALSE) -> 45 | AT22: =VLOOKUP($A22,MasterData,40,FALSE) -> 50 | AU22: =SUM(AQ22:AT22) -> 185 | AV22: =VLOOKUP($A22,MasterData,42,FALSE) -> 45 | AW22: =VLOOKUP($A22,MasterData,43,FALSE) -> 45 | AX22: =VLOOKUP($A22,MasterData,44,FALSE) -> 0 | AY22: =VLOOKUP($A22,MasterData,45,FALSE) -> 0 | AZ22: =SUM(AV22:AY22) -> 90 | BB22: =AG22-L22 -> 0 | BC22: =AH22-M22 -> 0 | BD22: =AI22-N22 -> 0 | BE22: =AJ22-O22 -> 0 | BF22: =AK22-P22 -> 0 | BG22: =AL22-Q22 -> 0 | BH22: =AM22-R22 -> 0 | BI22: =AN22-S22 -> 0 | ... BU22: =AZ22-AE22 -> 90 | BW22: 143 | BX22: 140 | BY22: 155 | BZ22: 153 | CA22: =SUM(BW22:BZ22) -> 591 | CB22: 113 | CC22: 32 | CD22: 50 | CE22: 40 | CF22: =SUM(CB22:CE22) -> 235 | CK22: =SUM(CG22:CJ22) -> 0 | CN22: 0 | CO22: 0 | CP22: =SUM(CL22:CO22) -> 0 | CR22: =BW22-AG22 -> 0 | CS22: =BX22-AH22 -> 0 | CT22: =BY22-AI22 -> 0 | CU22: =BZ22-AJ22 -> 0 | CV22: =CA22-AK22 -> 0 | CW22: =CB22-AL22 -> 0 | CX22: =CC22-AM22 -> 0 | CY22: =CD22-AN22 -> 0 | ... DK22: =CP22-AZ22 -> -90
A23: =CONCATENATE(C23,"P") -> 186002487P | B23: =CONCATENATE(C23,"C") -> 186002487C | C23: 186002487 | D23: 2489 UV/Visible Detector | E23: WPPL (SG20) | F23: LC | G23: Alliance | H23: Detectors | I23: 2115.62 | J23: Ee Ling Lim | L23: 770 | M23: 700 | N23: 650 | O23: 732 | P23: =SUM(L23:O23) -> 2852 | Q23: 315 | R23: 200 | S23: 170 | T23: 150 | U23: =SUM(Q23:T23) -> 835 | V23: 130 | W23: 160 | X23: 155 | Y23: 180 | Z23: =SUM(V23:Y23) -> 625 | AA23: 0 | AB23: 0 | AC23: 0 | AD23: 0 | AE23: =SUM(AA23:AD23) -> 0 | AG23: =VLOOKUP($A23,MasterData,27,FALSE) -> 770 | AH23: =VLOOKUP($A23,MasterData,28,FALSE) -> 700 | AI23: =VLOOKUP($A23,MasterData,29,FALSE) -> 650 | AJ23: =VLOOKUP($A23,MasterData,30,FALSE) -> 732 | AK23: =SUM(AG23:AJ23) -> 2852 | AL23: =VLOOKUP($A23,MasterData,32,FALSE) -> 315 | AM23: =VLOOKUP($A23,MasterData,33,FALSE) -> 200 | AN23: =VLOOKUP($A23,MasterData,34,FALSE) -> 170 | AO23: =VLOOKUP($A23,MasterData,35,FALSE) -> 150 | AP23: =SUM(AL23:AO23) -> 835 | AQ23: =VLOOKUP($A23,MasterData,37,FALSE) -> 160 | AR23: =VLOOKUP($A23,MasterData,38,FALSE) -> 150 | AS23: =VLOOKUP($A23,MasterData,39,FALSE) -> 150 | AT23: =VLOOKUP($A23,MasterData,40,FALSE) -> 170 | AU23: =SUM(AQ23:AT23) -> 630 | AV23: =VLOOKUP($A23,MasterData,42,FALSE) -> 0 | AW23: =VLOOKUP($A23,MasterData,43,FALSE) -> 0 | AX23: =VLOOKUP($A23,MasterData,44,FALSE) -> 0 | AY23: =VLOOKUP($A23,MasterData,45,FALSE) -> 0 | AZ23: =SUM(AV23:AY23) -> 0 | BB23: =AG23-L23 -> 0 | BC23: =AH23-M23 -> 0 | BD23: =AI23-N23 -> 0 | BE23: =AJ23-O23 -> 0 | BF23: =AK23-P23 -> 0 | BG23: =AL23-Q23 -> 0 | BH23: =AM23-R23 -> 0 | BI23: =AN23-S23 -> 0 | ... BU23: =AZ23-AE23 -> 0 | BW23: 770 | BX23: 700 | BY23: 650 | BZ23: 732 | CA23: =SUM(BW23:BZ23) -> 2852 | CB23: 315 | CC23: 200 | CD23: 170 | CE23: 150 | CF23: =SUM(CB23:CE23) -> 835 | CK23: =SUM(CG23:CJ23) -> 0 | CN23: 0 | CO23: 0 | CP23: =SUM(CL23:CO23) -> 0 | CR23: =BW23-AG23 -> 0 | CS23: =BX23-AH23 -> 0 | CT23: =BY23-AI23 -> 0 | CU23: =BZ23-AJ23 -> 0 | CV23: =CA23-AK23 -> 0 | CW23: =CB23-AL23 -> 0 | CX23: =CC23-AM23 -> 0 | CY23: =CD23-AN23 -> 0 | ... DK23: =CP23-AZ23 -> 0
A24: =CONCATENATE(C24,"P") -> 186002488P | B24: =CONCATENATE(C24,"C") -> 186002488C | C24: 186002488 | D24: WATERS PREP DEGASSER | E24: MIL (US31) | F24: LC | G24: Legacy LC | H24: Accessories | I24: 2613.57 | J24: Paul Brusco | L24: 5 | M24: 15 | N24: 10 | O24: 8 | P24: =SUM(L24:O24) -> 38 | Q24: 8 | R24: 18 | S24: 12 | T24: 15 | U24: =SUM(Q24:T24) -> 53 | V24: 8 | W24: 8 | X24: 8 | Y24: 8 | Z24: =SUM(V24:Y24) -> 32 | AA24: 12 | AB24: 0 | AC24: 0 | AD24: 0 | AE24: =SUM(AA24:AD24) -> 12 | AG24: =VLOOKUP($A24,MasterData,27,FALSE) -> 5 | AH24: =VLOOKUP($A24,MasterData,28,FALSE) -> 15 | AI24: =VLOOKUP($A24,MasterData,29,FALSE) -> 10 | AJ24: =VLOOKUP($A24,MasterData,30,FALSE) -> 8 | AK24: =SUM(AG24:AJ24) -> 38 | AL24: =VLOOKUP($A24,MasterData,32,FALSE) -> 8 | AM24: =VLOOKUP($A24,MasterData,33,FALSE) -> 18 | AN24: =VLOOKUP($A24,MasterData,34,FALSE) -> 12 | AO24: =VLOOKUP($A24,MasterData,35,FALSE) -> 15 | AP24: =SUM(AL24:AO24) -> 53 | AQ24: =VLOOKUP($A24,MasterData,37,FALSE) -> 5 | AR24: =VLOOKUP($A24,MasterData,38,FALSE) -> 8 | AS24: =VLOOKUP($A24,MasterData,39,FALSE) -> 5 | AT24: =VLOOKUP($A24,MasterData,40,FALSE) -> 12 | AU24: =SUM(AQ24:AT24) -> 30 | AV24: =VLOOKUP($A24,MasterData,42,FALSE) -> 10 | AW24: =VLOOKUP($A24,MasterData,43,FALSE) -> 13 | AX24: =VLOOKUP($A24,MasterData,44,FALSE) -> 0 | AY24: =VLOOKUP($A24,MasterData,45,FALSE) -> 0 | AZ24: =SUM(AV24:AY24) -> 23 | BB24: =AG24-L24 -> 0 | BC24: =AH24-M24 -> 0 | BD24: =AI24-N24 -> 0 | BE24: =AJ24-O24 -> 0 | BF24: =AK24-P24 -> 0 | BG24: =AL24-Q24 -> 0 | BH24: =AM24-R24 -> 0 | BI24: =AN24-S24 -> 0 | ... BU24: =AZ24-AE24 -> 11 | BW24: 5 | BX24: 15 | BY24: 10 | BZ24: 8 | CA24: =SUM(BW24:BZ24) -> 38 | CB24: 8 | CC24: 18 | CD24: 12 | CE24: 15 | CF24: =SUM(CB24:CE24) -> 53 | CK24: =SUM(CG24:CJ24) -> 0 | CN24: 0 | CO24: 0 | CP24: =SUM(CL24:CO24) -> 0 | CR24: =BW24-AG24 -> 0 | CS24: =BX24-AH24 -> 0 | CT24: =BY24-AI24 -> 0 | CU24: =BZ24-AJ24 -> 0 | CV24: =CA24-AK24 -> 0 | CW24: =CB24-AL24 -> 0 | CX24: =CC24-AM24 -> 0 | CY24: =CD24-AN24 -> 0 | ... DK24: =CP24-AZ24 -> -23
A25: =CONCATENATE(C25,"P") -> 186002776P | B25: =CONCATENATE(C25,"C") -> 186002776C | C25: 186002776 | D25: 2777C SAMPLE MANAGER | E25: OEM | F25: LC | G25: Legacy LC | H25: Injectors | I25: 9796.41 | J25: Hanchen Lu | L25: 10 | M25: 5 | N25: 15 | O25: 20 | P25: =SUM(L25:O25) -> 50 | Q25: 8 | R25: 22 | S25: 20 | T25: 20 | U25: =SUM(Q25:T25) -> 70 | V25: 10 | W25: 15 | X25: 15 | Y25: 21 | Z25: =SUM(V25:Y25) -> 61 | AA25: 16 | AB25: 0 | AC25: 0 | AD25: 0 | AE25: =SUM(AA25:AD25) -> 16 | AG25: =VLOOKUP($A25,MasterData,27,FALSE) -> 10 | AH25: =VLOOKUP($A25,MasterData,28,FALSE) -> 5 | AI25: =VLOOKUP($A25,MasterData,29,FALSE) -> 15 | AJ25: =VLOOKUP($A25,MasterData,30,FALSE) -> 20 | AK25: =SUM(AG25:AJ25) -> 50 | AL25: =VLOOKUP($A25,MasterData,32,FALSE) -> 8 | AM25: =VLOOKUP($A25,MasterData,33,FALSE) -> 22 | AN25: =VLOOKUP($A25,MasterData,34,FALSE) -> 20 | AO25: =VLOOKUP($A25,MasterData,35,FALSE) -> 20 | AP25: =SUM(AL25:AO25) -> 70 | AQ25: =VLOOKUP($A25,MasterData,37,FALSE) -> 21 | AR25: =VLOOKUP($A25,MasterData,38,FALSE) -> 20 | AS25: =VLOOKUP($A25,MasterData,39,FALSE) -> 17 | AT25: =VLOOKUP($A25,MasterData,40,FALSE) -> 22 | AU25: =SUM(AQ25:AT25) -> 80 | AV25: =VLOOKUP($A25,MasterData,42,FALSE) -> 16 | AW25: =VLOOKUP($A25,MasterData,43,FALSE) -> 20 | AX25: =VLOOKUP($A25,MasterData,44,FALSE) -> 0 | AY25: =VLOOKUP($A25,MasterData,45,FALSE) -> 0 | AZ25: =SUM(AV25:AY25) -> 36 | BB25: =AG25-L25 -> 0 | BC25: =AH25-M25 -> 0 | BD25: =AI25-N25 -> 0 | BE25: =AJ25-O25 -> 0 | BF25: =AK25-P25 -> 0 | BG25: =AL25-Q25 -> 0 | BH25: =AM25-R25 -> 0 | BI25: =AN25-S25 -> 0 | ... BU25: =AZ25-AE25 -> 20 | BW25: 10 | BX25: 5 | BY25: 15 | BZ25: 20 | CA25: =SUM(BW25:BZ25) -> 50 | CB25: 8 | CC25: 22 | CD25: 20 | CE25: 20 | CF25: =SUM(CB25:CE25) -> 70 | CK25: =SUM(CG25:CJ25) -> 0 | CN25: 0 | CO25: 0 | CP25: =SUM(CL25:CO25) -> 0 | CR25: =BW25-AG25 -> 0 | CS25: =BX25-AH25 -> 0 | CT25: =BY25-AI25 -> 0 | CU25: =BZ25-AJ25 -> 0 | CV25: =CA25-AK25 -> 0 | CW25: =CB25-AL25 -> 0 | CX25: =CC25-AM25 -> 0 | CY25: =CD25-AN25 -> 0 | ... DK25: =CP25-AZ25 -> -36
A26: =CONCATENATE(C26,"P") -> 186002776IVDP | B26: =CONCATENATE(C26,"C") -> 186002776IVDC | C26: 186002776IVD | D26: 2777c Sample Manager, IVD | E26: MIL (US31) | F26: LC | G26: Legacy LC | H26: Injectors | I26: 10727.85 | J26: Sharon Bibbo | L26: 0 | M26: 0 | N26: 0 | O26: 0 | P26: =SUM(L26:O26) -> 0 | Q26: 11 | R26: 12 | S26: 6 | T26: 13 | U26: =SUM(Q26:T26) -> 42 | V26: 8 | W26: 9 | X26: 8 | Y26: 10 | Z26: =SUM(V26:Y26) -> 35 | AA26: 8 | AB26: 0 | AC26: 0 | AD26: 0 | AE26: =SUM(AA26:AD26) -> 8 | AG26: =VLOOKUP($A26,MasterData,27,FALSE) -> 0 | AH26: =VLOOKUP($A26,MasterData,28,FALSE) -> 0 | AI26: =VLOOKUP($A26,MasterData,29,FALSE) -> 0 | AJ26: =VLOOKUP($A26,MasterData,30,FALSE) -> 0 | AK26: =SUM(AG26:AJ26) -> 0 | AL26: =VLOOKUP($A26,MasterData,32,FALSE) -> 11 | AM26: =VLOOKUP($A26,MasterData,33,FALSE) -> 12 | AN26: =VLOOKUP($A26,MasterData,34,FALSE) -> 6 | AO26: =VLOOKUP($A26,MasterData,35,FALSE) -> 13 | AP26: =SUM(AL26:AO26) -> 42 | AQ26: =VLOOKUP($A26,MasterData,37,FALSE) -> 11 | AR26: =VLOOKUP($A26,MasterData,38,FALSE) -> 10 | AS26: =VLOOKUP($A26,MasterData,39,FALSE) -> 10 | AT26: =VLOOKUP($A26,MasterData,40,FALSE) -> 12 | AU26: =SUM(AQ26:AT26) -> 43 | AV26: =VLOOKUP($A26,MasterData,42,FALSE) -> 8 | AW26: =VLOOKUP($A26,MasterData,43,FALSE) -> 10 | AX26: =VLOOKUP($A26,MasterData,44,FALSE) -> 0 | AY26: =VLOOKUP($A26,MasterData,45,FALSE) -> 0 | AZ26: =SUM(AV26:AY26) -> 18 | BB26: =AG26-L26 -> 0 | BC26: =AH26-M26 -> 0 | BD26: =AI26-N26 -> 0 | BE26: =AJ26-O26 -> 0 | BF26: =AK26-P26 -> 0 | BG26: =AL26-Q26 -> 0 | BH26: =AM26-R26 -> 0 | BI26: =AN26-S26 -> 0 | ... BU26: =AZ26-AE26 -> 10 | BW26: 0 | BX26: 0 | BY26: 0 | BZ26: 0 | CA26: =SUM(BW26:BZ26) -> 0 | CB26: 11 | CC26: 12 | CD26: 6 | CE26: 13 | CF26: =SUM(CB26:CE26) -> 42 | CK26: =SUM(CG26:CJ26) -> 0 | CN26: 0 | CO26: 0 | CP26: =SUM(CL26:CO26) -> 0 | CR26: =BW26-AG26 -> 0 | CS26: =BX26-AH26 -> 0 | CT26: =BY26-AI26 -> 0 | CU26: =BZ26-AJ26 -> 0 | CV26: =CA26-AK26 -> 0 | CW26: =CB26-AL26 -> 0 | CX26: =CC26-AM26 -> 0 | CY26: =CD26-AN26 -> 0 | ... DK26: =CP26-AZ26 -> -18
A27: =CONCATENATE(C27,"P") -> 186002777P | B27: =CONCATENATE(C27,"C") -> 186002777C | C27: 186002777 | D27: 2777 Sample Manager | E27: OEM | F27: LC | G27: Legacy LC | H27: Injectors | I27: 10296.96 | J27: Hanchen Lu | L27: 5 | M27: 5 | N27: 2 | O27: 3 | P27: =SUM(L27:O27) -> 15 | Q27: 2 | R27: 5 | S27: 4 | T27: 3 | U27: =SUM(Q27:T27) -> 14 | V27: 0 | W27: 3 | X27: 3 | Y27: 3 | Z27: =SUM(V27:Y27) -> 9 | AA27: 3 | AB27: 0 | AC27: 0 | AD27: 0 | AE27: =SUM(AA27:AD27) -> 3 | AG27: =VLOOKUP($A27,MasterData,27,FALSE) -> 5 | AH27: =VLOOKUP($A27,MasterData,28,FALSE) -> 5 | AI27: =VLOOKUP($A27,MasterData,29,FALSE) -> 2 | AJ27: =VLOOKUP($A27,MasterData,30,FALSE) -> 3 | AK27: =SUM(AG27:AJ27) -> 15 | AL27: =VLOOKUP($A27,MasterData,32,FALSE) -> 2 | AM27: =VLOOKUP($A27,MasterData,33,FALSE) -> 5 | AN27: =VLOOKUP($A27,MasterData,34,FALSE) -> 4 | AO27: =VLOOKUP($A27,MasterData,35,FALSE) -> 3 | AP27: =SUM(AL27:AO27) -> 14 | AQ27: =VLOOKUP($A27,MasterData,37,FALSE) -> 0 | AR27: =VLOOKUP($A27,MasterData,38,FALSE) -> 3 | AS27: =VLOOKUP($A27,MasterData,39,FALSE) -> 3 | AT27: =VLOOKUP($A27,MasterData,40,FALSE) -> 3 | AU27: =SUM(AQ27:AT27) -> 9 | AV27: =VLOOKUP($A27,MasterData,42,FALSE) -> 3 | AW27: =VLOOKUP($A27,MasterData,43,FALSE) -> 4 | AX27: =VLOOKUP($A27,MasterData,44,FALSE) -> 0 | AY27: =VLOOKUP($A27,MasterData,45,FALSE) -> 0 | AZ27: =SUM(AV27:AY27) -> 7 | BB27: =AG27-L27 -> 0 | BC27: =AH27-M27 -> 0 | BD27: =AI27-N27 -> 0 | BE27: =AJ27-O27 -> 0 | BF27: =AK27-P27 -> 0 | BG27: =AL27-Q27 -> 0 | BH27: =AM27-R27 -> 0 | BI27: =AN27-S27 -> 0 | ... BU27: =AZ27-AE27 -> 4 | BW27: 5 | BX27: 5 | BY27: 2 | BZ27: 3 | CA27: =SUM(BW27:BZ27) -> 15 | CB27: 2 | CC27: 5 | CD27: 4 | CE27: 3 | CF27: =SUM(CB27:CE27) -> 14 | CK27: =SUM(CG27:CJ27) -> 0 | CN27: 0 | CO27: 0 | CP27: =SUM(CL27:CO27) -> 0 | CR27: =BW27-AG27 -> 0 | CS27: =BX27-AH27 -> 0 | CT27: =BY27-AI27 -> 0 | CU27: =BZ27-AJ27 -> 0 | CV27: =CA27-AK27 -> 0 | CW27: =CB27-AL27 -> 0 | CX27: =CC27-AM27 -> 0 | CY27: =CD27-AN27 -> 0 | ... DK27: =CP27-AZ27 -> -7
A28: =CONCATENATE(C28,"P") -> 186002998P | B28: =CONCATENATE(C28,"C") -> 186002998C | C28: 186002998 | D28: 2998 Photodiode Array Detector | E28: WPPL (SG20) | F28: LC | G28: Alliance | H28: Detectors | I28: 3174.35 | J28: Ee Ling Lim | L28: 384 | M28: 438 | N28: 520 | O28: 510 | P28: =SUM(L28:O28) -> 1852 | Q28: 102 | R28: 75 | S28: 95 | T28: 85 | U28: =SUM(Q28:T28) -> 357 | V28: 90 | W28: 100 | X28: 95 | Y28: 115 | Z28: =SUM(V28:Y28) -> 400 | AA28: 0 | AB28: 0 | AC28: 0 | AD28: 0 | AE28: =SUM(AA28:AD28) -> 0 | AG28: =VLOOKUP($A28,MasterData,27,FALSE) -> 384 | AH28: =VLOOKUP($A28,MasterData,28,FALSE) -> 438 | AI28: =VLOOKUP($A28,MasterData,29,FALSE) -> 520 | AJ28: =VLOOKUP($A28,MasterData,30,FALSE) -> 510 | AK28: =SUM(AG28:AJ28) -> 1852 | AL28: =VLOOKUP($A28,MasterData,32,FALSE) -> 102 | AM28: =VLOOKUP($A28,MasterData,33,FALSE) -> 75 | AN28: =VLOOKUP($A28,MasterData,34,FALSE) -> 95 | AO28: =VLOOKUP($A28,MasterData,35,FALSE) -> 85 | AP28: =SUM(AL28:AO28) -> 357 | AQ28: =VLOOKUP($A28,MasterData,37,FALSE) -> 135 | AR28: =VLOOKUP($A28,MasterData,38,FALSE) -> 125 | AS28: =VLOOKUP($A28,MasterData,39,FALSE) -> 100 | AT28: =VLOOKUP($A28,MasterData,40,FALSE) -> 120 | AU28: =SUM(AQ28:AT28) -> 480 | AV28: =VLOOKUP($A28,MasterData,42,FALSE) -> 0 | AW28: =VLOOKUP($A28,MasterData,43,FALSE) -> 0 | AX28: =VLOOKUP($A28,MasterData,44,FALSE) -> 0 | AY28: =VLOOKUP($A28,MasterData,45,FALSE) -> 0 | AZ28: =SUM(AV28:AY28) -> 0 | BB28: =AG28-L28 -> 0 | BC28: =AH28-M28 -> 0 | BD28: =AI28-N28 -> 0 | BE28: =AJ28-O28 -> 0 | BF28: =AK28-P28 -> 0 | BG28: =AL28-Q28 -> 0 | BH28: =AM28-R28 -> 0 | BI28: =AN28-S28 -> 0 | ... BU28: =AZ28-AE28 -> 0 | BW28: 384 | BX28: 438 | BY28: 520 | BZ28: 510 | CA28: =SUM(BW28:BZ28) -> 1852 | CB28: 102 | CC28: 75 | CD28: 95 | CE28: 85 | CF28: =SUM(CB28:CE28) -> 357 | CK28: =SUM(CG28:CJ28) -> 0 | CN28: 0 | CO28: 0 | CP28: =SUM(CL28:CO28) -> 0 | CR28: =BW28-AG28 -> 0 | CS28: =BX28-AH28 -> 0 | CT28: =BY28-AI28 -> 0 | CU28: =BZ28-AJ28 -> 0 | CV28: =CA28-AK28 -> 0 | CW28: =CB28-AL28 -> 0 | CX28: =CC28-AM28 -> 0 | CY28: =CD28-AN28 -> 0 | ... DK28: =CP28-AZ28 -> 0
A29: =CONCATENATE(C29,"P") -> 186003762P | B29: =CONCATENATE(C29,"C") -> 186003762C | C29: 186003762 | D29: Assy., Waters SQ Detector | E29: WEX (EI10) | F29: MS | G29: Quads | H29: SQ's | I29: 25756.39 | J29: Wendy Noble | L29: 25 | M29: 20 | N29: 22 | O29: 23 | P29: =SUM(L29:O29) -> 90 | Q29: 25 | R29: 13 | S29: 25 | T29: 0 | U29: =SUM(Q29:T29) -> 63 | V29: 0 | W29: 0 | X29: 0 | Y29: 0 | Z29: =SUM(V29:Y29) -> 0 | AA29: 0 | AB29: 0 | AC29: 0 | AD29: 0 | AE29: =SUM(AA29:AD29) -> 0 | AG29: =VLOOKUP($A29,MasterData,27,FALSE) -> 25 | AH29: =VLOOKUP($A29,MasterData,28,FALSE) -> 20 | AI29: =VLOOKUP($A29,MasterData,29,FALSE) -> 22 | AJ29: =VLOOKUP($A29,MasterData,30,FALSE) -> 23 | AK29: =SUM(AG29:AJ29) -> 90 | AL29: =VLOOKUP($A29,MasterData,32,FALSE) -> 25 | AM29: =VLOOKUP($A29,MasterData,33,FALSE) -> 13 | AN29: =VLOOKUP($A29,MasterData,34,FALSE) -> 25 | AO29: =VLOOKUP($A29,MasterData,35,FALSE) -> 0 | AP29: =SUM(AL29:AO29) -> 63 | AQ29: =VLOOKUP($A29,MasterData,37,FALSE) -> 0 | AR29: =VLOOKUP($A29,MasterData,38,FALSE) -> 0 | AS29: =VLOOKUP($A29,MasterData,39,FALSE) -> 0 | AT29: =VLOOKUP($A29,MasterData,40,FALSE) -> 0 | AU29: =SUM(AQ29:AT29) -> 0 | AV29: =VLOOKUP($A29,MasterData,42,FALSE) -> 0 | AW29: =VLOOKUP($A29,MasterData,43,FALSE) -> 0 | AX29: =VLOOKUP($A29,MasterData,44,FALSE) -> 0 | AY29: =VLOOKUP($A29,MasterData,45,FALSE) -> 0 | AZ29: =SUM(AV29:AY29) -> 0 | BB29: =AG29-L29 -> 0 | BC29: =AH29-M29 -> 0 | BD29: =AI29-N29 -> 0 | BE29: =AJ29-O29 -> 0 | BF29: =AK29-P29 -> 0 | BG29: =AL29-Q29 -> 0 | BH29: =AM29-R29 -> 0 | BI29: =AN29-S29 -> 0 | ... BU29: =AZ29-AE29 -> 0 | BW29: 25 | BX29: 20 | BY29: 22 | BZ29: 23 | CA29: =SUM(BW29:BZ29) -> 90 | CB29: 25 | CC29: 13 | CD29: 25 | CE29: 0 | CF29: =SUM(CB29:CE29) -> 63 | CK29: =SUM(CG29:CJ29) -> 0 | CN29: 0 | CO29: 0 | CP29: =SUM(CL29:CO29) -> 0 | CR29: =BW29-AG29 -> 0 | CS29: =BX29-AH29 -> 0 | CT29: =BY29-AI29 -> 0 | CU29: =BZ29-AJ29 -> 0 | CV29: =CA29-AK29 -> 0 | CW29: =CB29-AL29 -> 0 | CX29: =CC29-AM29 -> 0 | CY29: =CD29-AN29 -> 0 | ... DK29: =CP29-AZ29 -> 0
A30: =CONCATENATE(C30,"P") -> 186003765P | B30: =CONCATENATE(C30,"C") -> 186003765C | C30: 186003765 | D30: System Fluidics Organizer | E30: MIL (US31) | F30: LC | G30: Purification | H30: Accessories | I30: 5549.89 | J30: Sharon Bibbo | L30: 15 | M30: 20 | N30: 15 | O30: 10 | P30: =SUM(L30:O30) -> 60 | Q30: 21 | R30: 18 | S30: 15 | T30: 10 | U30: =SUM(Q30:T30) -> 64 | V30: 10 | W30: 10 | X30: 10 | Y30: 10 | Z30: =SUM(V30:Y30) -> 40 | AA30: 10 | AB30: 0 | AC30: 0 | AD30: 0 | AE30: =SUM(AA30:AD30) -> 10 | AG30: =VLOOKUP($A30,MasterData,27,FALSE) -> 15 | AH30: =VLOOKUP($A30,MasterData,28,FALSE) -> 20 | AI30: =VLOOKUP($A30,MasterData,29,FALSE) -> 15 | AJ30: =VLOOKUP($A30,MasterData,30,FALSE) -> 10 | AK30: =SUM(AG30:AJ30) -> 60 | AL30: =VLOOKUP($A30,MasterData,32,FALSE) -> 21 | AM30: =VLOOKUP($A30,MasterData,33,FALSE) -> 18 | AN30: =VLOOKUP($A30,MasterData,34,FALSE) -> 15 | AO30: =VLOOKUP($A30,MasterData,35,FALSE) -> 10 | AP30: =SUM(AL30:AO30) -> 64 | AQ30: =VLOOKUP($A30,MasterData,37,FALSE) -> 10 | AR30: =VLOOKUP($A30,MasterData,38,FALSE) -> 8 | AS30: =VLOOKUP($A30,MasterData,39,FALSE) -> 8 | AT30: =VLOOKUP($A30,MasterData,40,FALSE) -> 10 | AU30: =SUM(AQ30:AT30) -> 36 | AV30: =VLOOKUP($A30,MasterData,42,FALSE) -> 12 | AW30: =VLOOKUP($A30,MasterData,43,FALSE) -> 14 | AX30: =VLOOKUP($A30,MasterData,44,FALSE) -> 0 | AY30: =VLOOKUP($A30,MasterData,45,FALSE) -> 0 | AZ30: =SUM(AV30:AY30) -> 26 | BB30: =AG30-L30 -> 0 | BC30: =AH30-M30 -> 0 | BD30: =AI30-N30 -> 0 | BE30: =AJ30-O30 -> 0 | BF30: =AK30-P30 -> 0 | BG30: =AL30-Q30 -> 0 | BH30: =AM30-R30 -> 0 | BI30: =AN30-S30 -> 0 | ... BU30: =AZ30-AE30 -> 16 | BW30: 15 | BX30: 20 | BY30: 15 | BZ30: 10 | CA30: =SUM(BW30:BZ30) -> 60 | CB30: 21 | CC30: 18 | CD30: 15 | CE30: 10 | CF30: =SUM(CB30:CE30) -> 64 | CK30: =SUM(CG30:CJ30) -> 0 | CN30: 0 | CO30: 0 | CP30: =SUM(CL30:CO30) -> 0 | CR30: =BW30-AG30 -> 0 | CS30: =BX30-AH30 -> 0 | CT30: =BY30-AI30 -> 0 | CU30: =BZ30-AJ30 -> 0 | CV30: =CA30-AK30 -> 0 | CW30: =CB30-AL30 -> 0 | CX30: =CC30-AM30 -> 0 | CY30: =CD30-AN30 -> 0 | ... DK30: =CP30-AZ30 -> -26
A31: =CONCATENATE(C31,"P") -> 186004462P | B31: =CONCATENATE(C31,"C") -> 186004462C | C31: 186004462 | D31: 2707 AUTOSAMPLER | E31: OEM | F31: LC | G31: Legacy LC | H31: Injectors | I31: 2439.4 | J31: Hanchen Lu | L31: 60 | M31: 65 | N31: 70 | O31: 102 | P31: =SUM(L31:O31) -> 297 | Q31: 50 | R31: 71 | S31: 50 | T31: 50 | U31: =SUM(Q31:T31) -> 221 | V31: 45 | W31: 50 | X31: 50 | Y31: 55 | Z31: =SUM(V31:Y31) -> 200 | AA31: 55 | AB31: 0 | AC31: 0 | AD31: 0 | AE31: =SUM(AA31:AD31) -> 55 | AG31: =VLOOKUP($A31,MasterData,27,FALSE) -> 60 | AH31: =VLOOKUP($A31,MasterData,28,FALSE) -> 65 | AI31: =VLOOKUP($A31,MasterData,29,FALSE) -> 70 | AJ31: =VLOOKUP($A31,MasterData,30,FALSE) -> 102 | AK31: =SUM(AG31:AJ31) -> 297 | AL31: =VLOOKUP($A31,MasterData,32,FALSE) -> 50 | AM31: =VLOOKUP($A31,MasterData,33,FALSE) -> 71 | AN31: =VLOOKUP($A31,MasterData,34,FALSE) -> 50 | AO31: =VLOOKUP($A31,MasterData,35,FALSE) -> 50 | AP31: =SUM(AL31:AO31) -> 221 | AQ31: =VLOOKUP($A31,MasterData,37,FALSE) -> 65 | AR31: =VLOOKUP($A31,MasterData,38,FALSE) -> 55 | AS31: =VLOOKUP($A31,MasterData,39,FALSE) -> 50 | AT31: =VLOOKUP($A31,MasterData,40,FALSE) -> 55 | AU31: =SUM(AQ31:AT31) -> 225 | AV31: =VLOOKUP($A31,MasterData,42,FALSE) -> 55 | AW31: =VLOOKUP($A31,MasterData,43,FALSE) -> 62 | AX31: =VLOOKUP($A31,MasterData,44,FALSE) -> 0 | AY31: =VLOOKUP($A31,MasterData,45,FALSE) -> 0 | AZ31: =SUM(AV31:AY31) -> 117 | BB31: =AG31-L31 -> 0 | BC31: =AH31-M31 -> 0 | BD31: =AI31-N31 -> 0 | BE31: =AJ31-O31 -> 0 | BF31: =AK31-P31 -> 0 | BG31: =AL31-Q31 -> 0 | BH31: =AM31-R31 -> 0 | BI31: =AN31-S31 -> 0 | ... BU31: =AZ31-AE31 -> 62 | BW31: 60 | BX31: 65 | BY31: 70 | BZ31: 102 | CA31: =SUM(BW31:BZ31) -> 297 | CB31: 50 | CC31: 71 | CD31: 50 | CE31: 50 | CF31: =SUM(CB31:CE31) -> 221 | CK31: =SUM(CG31:CJ31) -> 0 | CN31: 0 | CO31: 0 | CP31: =SUM(CL31:CO31) -> 0 | CR31: =BW31-AG31 -> 0 | CS31: =BX31-AH31 -> 0 | CT31: =BY31-AI31 -> 0 | CU31: =BZ31-AJ31 -> 0 | CV31: =CA31-AK31 -> 0 | CW31: =CB31-AL31 -> 0 | CX31: =CC31-AM31 -> 0 | CY31: =CD31-AN31 -> 0 | ... DK31: =CP31-AZ31 -> -117
A32: =CONCATENATE(C32,"P") -> 186004463P | B32: =CONCATENATE(C32,"C") -> 186004463C | C32: 186004463 | D32: 2707 AUTOSAMPLER WITH COOLER | E32: OEM | F32: LC | G32: Legacy LC | H32: Injectors | I32: 2726.7 | J32: Hanchen Lu | L32: 12 | M32: 2 | N32: 8 | O32: 20 | P32: =SUM(L32:O32) -> 42 | Q32: 15 | R32: 18 | S32: 8 | T32: 8 | U32: =SUM(Q32:T32) -> 49 | V32: 10 | W32: 8 | X32: 8 | Y32: 10 | Z32: =SUM(V32:Y32) -> 36 | AA32: 8 | AB32: 0 | AC32: 0 | AD32: 0 | AE32: =SUM(AA32:AD32) -> 8 | AG32: =VLOOKUP($A32,MasterData,27,FALSE) -> 12 | AH32: =VLOOKUP($A32,MasterData,28,FALSE) -> 2 | AI32: =VLOOKUP($A32,MasterData,29,FALSE) -> 8 | AJ32: =VLOOKUP($A32,MasterData,30,FALSE) -> 20 | AK32: =SUM(AG32:AJ32) -> 42 | AL32: =VLOOKUP($A32,MasterData,32,FALSE) -> 15 | AM32: =VLOOKUP($A32,MasterData,33,FALSE) -> 18 | AN32: =VLOOKUP($A32,MasterData,34,FALSE) -> 8 | AO32: =VLOOKUP($A32,MasterData,35,FALSE) -> 8 | AP32: =SUM(AL32:AO32) -> 49 | AQ32: =VLOOKUP($A32,MasterData,37,FALSE) -> 10 | AR32: =VLOOKUP($A32,MasterData,38,FALSE) -> 8 | AS32: =VLOOKUP($A32,MasterData,39,FALSE) -> 10 | AT32: =VLOOKUP($A32,MasterData,40,FALSE) -> 15 | AU32: =SUM(AQ32:AT32) -> 43 | AV32: =VLOOKUP($A32,MasterData,42,FALSE) -> 12 | AW32: =VLOOKUP($A32,MasterData,43,FALSE) -> 15 | AX32: =VLOOKUP($A32,MasterData,44,FALSE) -> 0 | AY32: =VLOOKUP($A32,MasterData,45,FALSE) -> 0 | AZ32: =SUM(AV32:AY32) -> 27 | BB32: =AG32-L32 -> 0 | BC32: =AH32-M32 -> 0 | BD32: =AI32-N32 -> 0 | BE32: =AJ32-O32 -> 0 | BF32: =AK32-P32 -> 0 | BG32: =AL32-Q32 -> 0 | BH32: =AM32-R32 -> 0 | BI32: =AN32-S32 -> 0 | ... BU32: =AZ32-AE32 -> 19 | BW32: 12 | BX32: 2 | BY32: 8 | BZ32: 20 | CA32: =SUM(BW32:BZ32) -> 42 | CB32: 15 | CC32: 18 | CD32: 8 | CE32: 8 | CF32: =SUM(CB32:CE32) -> 49 | CK32: =SUM(CG32:CJ32) -> 0 | CN32: 0 | CO32: 0 | CP32: =SUM(CL32:CO32) -> 0 | CR32: =BW32-AG32 -> 0 | CS32: =BX32-AH32 -> 0 | CT32: =BY32-AI32 -> 0 | CU32: =BZ32-AJ32 -> 0 | CV32: =CA32-AK32 -> 0 | CW32: =CB32-AL32 -> 0 | CX32: =CC32-AM32 -> 0 | CY32: =CD32-AN32 -> 0 | ... DK32: =CP32-AZ32 -> -27
A33: =CONCATENATE(C33,"P") -> 186004556P | B33: =CONCATENATE(C33,"C") -> 186004556C | C33: 186004556 | D33: 2545 Quaternary Gradient Module | E33: MIL (US31) | F33: LC | G33: Purification | H33: Pumps | I33: 8194.16 | J33: Sharon Bibbo | L33: 7 | M33: 22 | N33: 30 | O33: 30 | P33: =SUM(L33:O33) -> 89 | Q33: 30 | R33: 25 | S33: 30 | T33: 24 | U33: =SUM(Q33:T33) -> 109 | V33: 30 | W33: 30 | X33: 30 | Y33: 30 | Z33: =SUM(V33:Y33) -> 120 | AA33: 30 | AB33: 0 | AC33: 0 | AD33: 0 | AE33: =SUM(AA33:AD33) -> 30 | AG33: =VLOOKUP($A33,MasterData,27,FALSE) -> 7 | AH33: =VLOOKUP($A33,MasterData,28,FALSE) -> 22 | AI33: =VLOOKUP($A33,MasterData,29,FALSE) -> 30 | AJ33: =VLOOKUP($A33,MasterData,30,FALSE) -> 30 | AK33: =SUM(AG33:AJ33) -> 89 | AL33: =VLOOKUP($A33,MasterData,32,FALSE) -> 30 | AM33: =VLOOKUP($A33,MasterData,33,FALSE) -> 25 | AN33: =VLOOKUP($A33,MasterData,34,FALSE) -> 30 | AO33: =VLOOKUP($A33,MasterData,35,FALSE) -> 24 | AP33: =SUM(AL33:AO33) -> 109 | AQ33: =VLOOKUP($A33,MasterData,37,FALSE) -> 24 | AR33: =VLOOKUP($A33,MasterData,38,FALSE) -> 29 | AS33: =VLOOKUP($A33,MasterData,39,FALSE) -> 24 | AT33: =VLOOKUP($A33,MasterData,40,FALSE) -> 26 | AU33: =SUM(AQ33:AT33) -> 103 | AV33: =VLOOKUP($A33,MasterData,42,FALSE) -> 10 | AW33: =VLOOKUP($A33,MasterData,43,FALSE) -> 20 | AX33: =VLOOKUP($A33,MasterData,44,FALSE) -> 0 | AY33: =VLOOKUP($A33,MasterData,45,FALSE) -> 0 | AZ33: =SUM(AV33:AY33) -> 30 | BB33: =AG33-L33 -> 0 | BC33: =AH33-M33 -> 0 | BD33: =AI33-N33 -> 0 | BE33: =AJ33-O33 -> 0 | BF33: =AK33-P33 -> 0 | BG33: =AL33-Q33 -> 0 | BH33: =AM33-R33 -> 0 | BI33: =AN33-S33 -> 0 | ... BU33: =AZ33-AE33 -> 0 | BW33: 7 | BX33: 22 | BY33: 30 | BZ33: 30 | CA33: =SUM(BW33:BZ33) -> 89 | CB33: 30 | CC33: 25 | CD33: 30 | CE33: 24 | CF33: =SUM(CB33:CE33) -> 109 | CK33: =SUM(CG33:CJ33) -> 0 | CN33: 0 | CO33: 0 | CP33: =SUM(CL33:CO33) -> 0 | CR33: =BW33-AG33 -> 0 | CS33: =BX33-AH33 -> 0 | CT33: =BY33-AI33 -> 0 | CU33: =BZ33-AJ33 -> 0 | CV33: =CA33-AK33 -> 0 | CW33: =CB33-AL33 -> 0 | CX33: =CC33-AM33 -> 0 | CY33: =CD33-AN33 -> 0 | ... DK33: =CP33-AZ33 -> -30
A34: =CONCATENATE(C34,"P") -> 186004557P | B34: =CONCATENATE(C34,"C") -> 186004557C | C34: 186004557 | D34: 2535 Quaternary Gradient Module | E34: MIL (US31) | F34: LC | G34: Purification | H34: Pumps | I34: 8806.19 | J34: Sharon Bibbo | L34: 15 | M34: 15 | N34: 15 | O34: 14 | P34: =SUM(L34:O34) -> 59 | Q34: 16 | R34: 16 | S34: 16 | T34: 23 | U34: =SUM(Q34:T34) -> 71 | V34: 18 | W34: 15 | X34: 16 | Y34: 25 | Z34: =SUM(V34:Y34) -> 74 | AA34: 15 | AB34: 0 | AC34: 0 | AD34: 0 | AE34: =SUM(AA34:AD34) -> 15 | AG34: =VLOOKUP($A34,MasterData,27,FALSE) -> 15 | AH34: =VLOOKUP($A34,MasterData,28,FALSE) -> 15 | AI34: =VLOOKUP($A34,MasterData,29,FALSE) -> 15 | AJ34: =VLOOKUP($A34,MasterData,30,FALSE) -> 14 | AK34: =SUM(AG34:AJ34) -> 59 | AL34: =VLOOKUP($A34,MasterData,32,FALSE) -> 16 | AM34: =VLOOKUP($A34,MasterData,33,FALSE) -> 16 | AN34: =VLOOKUP($A34,MasterData,34,FALSE) -> 16 | AO34: =VLOOKUP($A34,MasterData,35,FALSE) -> 23 | AP34: =SUM(AL34:AO34) -> 71 | AQ34: =VLOOKUP($A34,MasterData,37,FALSE) -> 18 | AR34: =VLOOKUP($A34,MasterData,38,FALSE) -> 15 | AS34: =VLOOKUP($A34,MasterData,39,FALSE) -> 16 | AT34: =VLOOKUP($A34,MasterData,40,FALSE) -> 25 | AU34: =SUM(AQ34:AT34) -> 74 | AV34: =VLOOKUP($A34,MasterData,42,FALSE) -> 15 | AW34: =VLOOKUP($A34,MasterData,43,FALSE) -> 20 | AX34: =VLOOKUP($A34,MasterData,44,FALSE) -> 0 | AY34: =VLOOKUP($A34,MasterData,45,FALSE) -> 0 | AZ34: =SUM(AV34:AY34) -> 35 | BB34: =AG34-L34 -> 0 | BC34: =AH34-M34 -> 0 | BD34: =AI34-N34 -> 0 | BE34: =AJ34-O34 -> 0 | BF34: =AK34-P34 -> 0 | BG34: =AL34-Q34 -> 0 | BH34: =AM34-R34 -> 0 | BI34: =AN34-S34 -> 0 | ... BU34: =AZ34-AE34 -> 20 | BW34: 15 | BX34: 15 | BY34: 15 | BZ34: 14 | CA34: =SUM(BW34:BZ34) -> 59 | CB34: 16 | CC34: 16 | CD34: 16 | CE34: 23 | CF34: =SUM(CB34:CE34) -> 71 | CK34: =SUM(CG34:CJ34) -> 0 | CN34: 0 | CO34: 0 | CP34: =SUM(CL34:CO34) -> 0 | CR34: =BW34-AG34 -> 0 | CS34: =BX34-AH34 -> 0 | CT34: =BY34-AI34 -> 0 | CU34: =BZ34-AJ34 -> 0 | CV34: =CA34-AK34 -> 0 | CW34: =CB34-AL34 -> 0 | CX34: =CC34-AM34 -> 0 | CY34: =CD34-AN34 -> 0 | ... DK34: =CP34-AZ34 -> -35
A35: =CONCATENATE(C35,"P") -> 186005597P | B35: =CONCATENATE(C35,"C") -> 186005597C | C35: 186005597 | D35: Xevo G2 | E35: MAN (UK50) | F35: MS | G35: Tof | H35: LE Tof | I35: 96010.2 | J35: Stephen Connor | L35: 50 | M35: 40 | N35: 0 | O35: 0 | P35: =SUM(L35:O35) -> 90 | Q35: 0 | R35: 0 | S35: 0 | T35: 0 | U35: =SUM(Q35:T35) -> 0 | V35: 0 | W35: 0 | X35: 0 | Y35: 0 | Z35: =SUM(V35:Y35) -> 0 | AA35: 0 | AB35: 0 | AC35: 0 | AD35: 0 | AE35: =SUM(AA35:AD35) -> 0 | AG35: =VLOOKUP($A35,MasterData,27,FALSE) -> 50 | AH35: =VLOOKUP($A35,MasterData,28,FALSE) -> 40 | AI35: =VLOOKUP($A35,MasterData,29,FALSE) -> 0 | AJ35: =VLOOKUP($A35,MasterData,30,FALSE) -> 0 | AK35: =SUM(AG35:AJ35) -> 90 | AL35: =VLOOKUP($A35,MasterData,32,FALSE) -> 0 | AM35: =VLOOKUP($A35,MasterData,33,FALSE) -> 0 | AN35: =VLOOKUP($A35,MasterData,34,FALSE) -> 0 | AO35: =VLOOKUP($A35,MasterData,35,FALSE) -> 0 | AP35: =SUM(AL35:AO35) -> 0 | AQ35: =VLOOKUP($A35,MasterData,37,FALSE) -> 0 | AR35: =VLOOKUP($A35,MasterData,38,FALSE) -> 0 | AS35: =VLOOKUP($A35,MasterData,39,FALSE) -> 0 | AT35: =VLOOKUP($A35,MasterData,40,FALSE) -> 0 | AU35: =SUM(AQ35:AT35) -> 0 | AV35: =VLOOKUP($A35,MasterData,42,FALSE) -> 0 | AW35: =VLOOKUP($A35,MasterData,43,FALSE) -> 0 | AX35: =VLOOKUP($A35,MasterData,44,FALSE) -> 0 | AY35: =VLOOKUP($A35,MasterData,45,FALSE) -> 0 | AZ35: =SUM(AV35:AY35) -> 0 | BB35: =AG35-L35 -> 0 | BC35: =AH35-M35 -> 0 | BD35: =AI35-N35 -> 0 | BE35: =AJ35-O35 -> 0 | BF35: =AK35-P35 -> 0 | BG35: =AL35-Q35 -> 0 | BH35: =AM35-R35 -> 0 | BI35: =AN35-S35 -> 0 | ... BU35: =AZ35-AE35 -> 0 | BW35: 50 | BX35: 40 | BY35: 0 | BZ35: 0 | CA35: =SUM(BW35:BZ35) -> 90 | CB35: 0 | CC35: 0 | CD35: 0 | CE35: 0 | CF35: =SUM(CB35:CE35) -> 0 | CK35: =SUM(CG35:CJ35) -> 0 | CN35: 0 | CO35: 0 | CP35: =SUM(CL35:CO35) -> 0 | CR35: =BW35-AG35 -> 0 | CS35: =BX35-AH35 -> 0 | CT35: =BY35-AI35 -> 0 | CU35: =BZ35-AJ35 -> 0 | CV35: =CA35-AK35 -> 0 | CW35: =CB35-AL35 -> 0 | CX35: =CC35-AM35 -> 0 | CY35: =CD35-AN35 -> 0 | ... DK35: =CP35-AZ35 -> 0
A36: =CONCATENATE(C36,"P") -> 186005654P | B36: =CONCATENATE(C36,"C") -> 186005654C | C36: 186005654 | D36: PATROL UPLC Online Computer | E36: MIL (US31) | F36: Data | G36: PATROL | H36: Data H/W | I36: 1287.98 | J36: Linda Trautwein | L36: 0 | M36: 2 | N36: 0 | O36: 7 | P36: =SUM(L36:O36) -> 9 | Q36: 7 | R36: 3 | S36: 4 | T36: 4 | U36: =SUM(Q36:T36) -> 18 | V36: 6 | W36: 6 | X36: 6 | Y36: 6 | Z36: =SUM(V36:Y36) -> 24 | AA36: 0 | AB36: 0 | AC36: 0 | AD36: 0 | AE36: =SUM(AA36:AD36) -> 0 | AG36: =VLOOKUP($A36,MasterData,27,FALSE) -> 0 | AH36: =VLOOKUP($A36,MasterData,28,FALSE) -> 2 | AI36: =VLOOKUP($A36,MasterData,29,FALSE) -> 0 | AJ36: =VLOOKUP($A36,MasterData,30,FALSE) -> 7 | AK36: =SUM(AG36:AJ36) -> 9 | AL36: =VLOOKUP($A36,MasterData,32,FALSE) -> 7 | AM36: =VLOOKUP($A36,MasterData,33,FALSE) -> 3 | AN36: =VLOOKUP($A36,MasterData,34,FALSE) -> 4 | AO36: =VLOOKUP($A36,MasterData,35,FALSE) -> 4 | AP36: =SUM(AL36:AO36) -> 18 | AQ36: =VLOOKUP($A36,MasterData,37,FALSE) -> 6 | AR36: =VLOOKUP($A36,MasterData,38,FALSE) -> 4 | AS36: =VLOOKUP($A36,MasterData,39,FALSE) -> 3 | AT36: =VLOOKUP($A36,MasterData,40,FALSE) -> 4 | AU36: =SUM(AQ36:AT36) -> 17 | AV36: =VLOOKUP($A36,MasterData,42,FALSE) -> 5 | AW36: =VLOOKUP($A36,MasterData,43,FALSE) -> 5 | AX36: =VLOOKUP($A36,MasterData,44,FALSE) -> 0 | AY36: =VLOOKUP($A36,MasterData,45,FALSE) -> 0 | AZ36: =SUM(AV36:AY36) -> 10 | BB36: =AG36-L36 -> 0 | BC36: =AH36-M36 -> 0 | BD36: =AI36-N36 -> 0 | BE36: =AJ36-O36 -> 0 | BF36: =AK36-P36 -> 0 | BG36: =AL36-Q36 -> 0 | BH36: =AM36-R36 -> 0 | BI36: =AN36-S36 -> 0 | ... BU36: =AZ36-AE36 -> 10 | BW36: 0 | BX36: 2 | BY36: 0 | BZ36: 7 | CA36: =SUM(BW36:BZ36) -> 9 | CB36: 7 | CC36: 3 | CD36: 4 | CE36: 4 | CF36: =SUM(CB36:CE36) -> 18 | CK36: =SUM(CG36:CJ36) -> 0 | CN36: 0 | CO36: 0 | CP36: =SUM(CL36:CO36) -> 0 | CR36: =BW36-AG36 -> 0 | CS36: =BX36-AH36 -> 0 | CT36: =BY36-AI36 -> 0 | CU36: =BZ36-AJ36 -> 0 | CV36: =CA36-AK36 -> 0 | CW36: =CB36-AL36 -> 0 | CX36: =CC36-AM36 -> 0 | CY36: =CD36-AN36 -> 0 | ... DK36: =CP36-AZ36 -> -10
A37: =CONCATENATE(C37,"P") -> 186015001P | B37: =CONCATENATE(C37,"C") -> 186015001C | C37: 186015001 | D37: Acquity UPLC Binary Solvent Mgr | E37: WPPL (SG20) | F37: LC | G37: ACQUITY Classic | H37: Pumps | I37: 7666.38 | J37: Ee Ling Lim | L37: 200 | M37: 180 | N37: 190 | O37: 180 | P37: =SUM(L37:O37) -> 750 | Q37: 163 | R37: 125 | S37: 85 | T37: 70 | U37: =SUM(Q37:T37) -> 443 | V37: 80 | W37: 95 | X37: 90 | Y37: 80 | Z37: =SUM(V37:Y37) -> 345 | AA37: 0 | AB37: 0 | AC37: 0 | AD37: 0 | AE37: =SUM(AA37:AD37) -> 0 | AG37: =VLOOKUP($A37,MasterData,27,FALSE) -> 200 | AH37: =VLOOKUP($A37,MasterData,28,FALSE) -> 180 | AI37: =VLOOKUP($A37,MasterData,29,FALSE) -> 190 | AJ37: =VLOOKUP($A37,MasterData,30,FALSE) -> 180 | AK37: =SUM(AG37:AJ37) -> 750 | AL37: =VLOOKUP($A37,MasterData,32,FALSE) -> 163 | AM37: =VLOOKUP($A37,MasterData,33,FALSE) -> 125 | AN37: =VLOOKUP($A37,MasterData,34,FALSE) -> 85 | AO37: =VLOOKUP($A37,MasterData,35,FALSE) -> 70 | AP37: =SUM(AL37:AO37) -> 443 | AQ37: =VLOOKUP($A37,MasterData,37,FALSE) -> 80 | AR37: =VLOOKUP($A37,MasterData,38,FALSE) -> 95 | AS37: =VLOOKUP($A37,MasterData,39,FALSE) -> 90 | AT37: =VLOOKUP($A37,MasterData,40,FALSE) -> 80 | AU37: =SUM(AQ37:AT37) -> 345 | AV37: =VLOOKUP($A37,MasterData,42,FALSE) -> 23 | AW37: =VLOOKUP($A37,MasterData,43,FALSE) -> 0 | AX37: =VLOOKUP($A37,MasterData,44,FALSE) -> 0 | AY37: =VLOOKUP($A37,MasterData,45,FALSE) -> 0 | AZ37: =SUM(AV37:AY37) -> 23 | BB37: =AG37-L37 -> 0 | BC37: =AH37-M37 -> 0 | BD37: =AI37-N37 -> 0 | BE37: =AJ37-O37 -> 0 | BF37: =AK37-P37 -> 0 | BG37: =AL37-Q37 -> 0 | BH37: =AM37-R37 -> 0 | BI37: =AN37-S37 -> 0 | ... BU37: =AZ37-AE37 -> 23 | BW37: 200 | BX37: 180 | BY37: 190 | BZ37: 180 | CA37: =SUM(BW37:BZ37) -> 750 | CB37: 163 | CC37: 125 | CD37: 85 | CE37: 70 | CF37: =SUM(CB37:CE37) -> 443 | CK37: =SUM(CG37:CJ37) -> 0 | CN37: 0 | CO37: 0 | CP37: =SUM(CL37:CO37) -> 0 | CR37: =BW37-AG37 -> 0 | CS37: =BX37-AH37 -> 0 | CT37: =BY37-AI37 -> 0 | CU37: =BZ37-AJ37 -> 0 | CV37: =CA37-AK37 -> 0 | CW37: =CB37-AL37 -> 0 | CX37: =CC37-AM37 -> 0 | CY37: =CD37-AN37 -> 0 | ... DK37: =CP37-AZ37 -> -23
A38: =CONCATENATE(C38,"P") -> 186015001IVDP | B38: =CONCATENATE(C38,"C") -> 186015001IVDC | C38: 186015001IVD | D38: ACQUITY UPLC Binary Solvent Mgr., IVD | E38: MIL (US31) | F38: LC | G38: ACQUITY Classic | H38: Pumps | I38: 8443.44 | J38: Sharon Bibbo | L38: 0 | M38: 0 | N38: 0 | O38: 0 | P38: =SUM(L38:O38) -> 0 | Q38: 24 | R38: 18 | S38: 8 | T38: 20 | U38: =SUM(Q38:T38) -> 70 | V38: 16 | W38: 10 | X38: 10 | Y38: 14 | Z38: =SUM(V38:Y38) -> 50 | AA38: 7 | AB38: 0 | AC38: 0 | AD38: 0 | AE38: =SUM(AA38:AD38) -> 7 | AG38: =VLOOKUP($A38,MasterData,27,FALSE) -> 0 | AH38: =VLOOKUP($A38,MasterData,28,FALSE) -> 0 | AI38: =VLOOKUP($A38,MasterData,29,FALSE) -> 0 | AJ38: =VLOOKUP($A38,MasterData,30,FALSE) -> 0 | AK38: =SUM(AG38:AJ38) -> 0 | AL38: =VLOOKUP($A38,MasterData,32,FALSE) -> 24 | AM38: =VLOOKUP($A38,MasterData,33,FALSE) -> 18 | AN38: =VLOOKUP($A38,MasterData,34,FALSE) -> 8 | AO38: =VLOOKUP($A38,MasterData,35,FALSE) -> 20 | AP38: =SUM(AL38:AO38) -> 70 | AQ38: =VLOOKUP($A38,MasterData,37,FALSE) -> 16 | AR38: =VLOOKUP($A38,MasterData,38,FALSE) -> 10 | AS38: =VLOOKUP($A38,MasterData,39,FALSE) -> 10 | AT38: =VLOOKUP($A38,MasterData,40,FALSE) -> 14 | AU38: =SUM(AQ38:AT38) -> 50 | AV38: =VLOOKUP($A38,MasterData,42,FALSE) -> 7 | AW38: =VLOOKUP($A38,MasterData,43,FALSE) -> 0 | AX38: =VLOOKUP($A38,MasterData,44,FALSE) -> 0 | AY38: =VLOOKUP($A38,MasterData,45,FALSE) -> 0 | AZ38: =SUM(AV38:AY38) -> 7 | BB38: =AG38-L38 -> 0 | BC38: =AH38-M38 -> 0 | BD38: =AI38-N38 -> 0 | BE38: =AJ38-O38 -> 0 | BF38: =AK38-P38 -> 0 | BG38: =AL38-Q38 -> 0 | BH38: =AM38-R38 -> 0 | BI38: =AN38-S38 -> 0 | ... BU38: =AZ38-AE38 -> 0 | BW38: 0 | BX38: 0 | BY38: 0 | BZ38: 0 | CA38: =SUM(BW38:BZ38) -> 0 | CB38: 24 | CC38: 18 | CD38: 8 | CE38: 20 | CF38: =SUM(CB38:CE38) -> 70 | CK38: =SUM(CG38:CJ38) -> 0 | CN38: 0 | CO38: 0 | CP38: =SUM(CL38:CO38) -> 0 | CR38: =BW38-AG38 -> 0 | CS38: =BX38-AH38 -> 0 | CT38: =BY38-AI38 -> 0 | CU38: =BZ38-AJ38 -> 0 | CV38: =CA38-AK38 -> 0 | CW38: =CB38-AL38 -> 0 | CX38: =CC38-AM38 -> 0 | CY38: =CD38-AN38 -> 0 | ... DK38: =CP38-AZ38 -> -7
A39: =CONCATENATE(C39,"P") -> 186015006P | B39: =CONCATENATE(C39,"C") -> 186015006C | C39: 186015006 | D39: ACQUITY UPLC Autosampler Mod. | E39: MIL (US31) | F39: LC | G39: ACQUITY Classic | H39: Injectors | I39: 6257.02 | J39: Vicky Allen | L39: 136 | M39: 186 | N39: 139 | O39: 116 | P39: =SUM(L39:O39) -> 577 | Q39: 170 | R39: 125 | S39: 40 | T39: 20 | U39: =SUM(Q39:T39) -> 355 | V39: 65 | W39: 75 | X39: 70 | Y39: 60 | Z39: =SUM(V39:Y39) -> 270 | AA39: 0 | AB39: 0 | AC39: 0 | AD39: 0 | AE39: =SUM(AA39:AD39) -> 0 | AG39: =VLOOKUP($A39,MasterData,27,FALSE) -> 136 | AH39: =VLOOKUP($A39,MasterData,28,FALSE) -> 186 | AI39: =VLOOKUP($A39,MasterData,29,FALSE) -> 139 | AJ39: =VLOOKUP($A39,MasterData,30,FALSE) -> 116 | AK39: =SUM(AG39:AJ39) -> 577 | AL39: =VLOOKUP($A39,MasterData,32,FALSE) -> 170 | AM39: =VLOOKUP($A39,MasterData,33,FALSE) -> 125 | AN39: =VLOOKUP($A39,MasterData,34,FALSE) -> 40 | AO39: =VLOOKUP($A39,MasterData,35,FALSE) -> 20 | AP39: =SUM(AL39:AO39) -> 355 | AQ39: =VLOOKUP($A39,MasterData,37,FALSE) -> 65 | AR39: =VLOOKUP($A39,MasterData,38,FALSE) -> 65 | AS39: =VLOOKUP($A39,MasterData,39,FALSE) -> 65 | AT39: =VLOOKUP($A39,MasterData,40,FALSE) -> 65 | AU39: =SUM(AQ39:AT39) -> 260 | AV39: =VLOOKUP($A39,MasterData,42,FALSE) -> 12 | AW39: =VLOOKUP($A39,MasterData,43,FALSE) -> 0 | AX39: =VLOOKUP($A39,MasterData,44,FALSE) -> 0 | AY39: =VLOOKUP($A39,MasterData,45,FALSE) -> 0 | AZ39: =SUM(AV39:AY39) -> 12 | BB39: =AG39-L39 -> 0 | BC39: =AH39-M39 -> 0 | BD39: =AI39-N39 -> 0 | BE39: =AJ39-O39 -> 0 | BF39: =AK39-P39 -> 0 | BG39: =AL39-Q39 -> 0 | BH39: =AM39-R39 -> 0 | BI39: =AN39-S39 -> 0 | ... BU39: =AZ39-AE39 -> 12 | BW39: 136 | BX39: 186 | BY39: 139 | BZ39: 116 | CA39: =SUM(BW39:BZ39) -> 577 | CB39: 170 | CC39: 125 | CD39: 40 | CE39: 20 | CF39: =SUM(CB39:CE39) -> 355 | CK39: =SUM(CG39:CJ39) -> 0 | CN39: 0 | CO39: 0 | CP39: =SUM(CL39:CO39) -> 0 | CR39: =BW39-AG39 -> 0 | CS39: =BX39-AH39 -> 0 | CT39: =BY39-AI39 -> 0 | CU39: =BZ39-AJ39 -> 0 | CV39: =CA39-AK39 -> 0 | CW39: =CB39-AL39 -> 0 | CX39: =CC39-AM39 -> 0 | CY39: =CD39-AN39 -> 0 | ... DK39: =CP39-AZ39 -> -12
A40: =CONCATENATE(C40,"P") -> 186015006IVDP | B40: =CONCATENATE(C40,"C") -> 186015006IVDC | C40: 186015006IVD | D40: ACQUITY UPLC Autosampler Mod., IVD | E40: MIL (US31) | F40: LC | G40: ACQUITY Classic | H40: Injectors | I40: 6772.37 | J40: Vicky Allen | L40: 0 | M40: 0 | N40: 0 | O40: 0 | P40: =SUM(L40:O40) -> 0 | Q40: 0 | R40: 25 | S40: 8 | T40: 6 | U40: =SUM(Q40:T40) -> 39 | V40: 16 | W40: 10 | X40: 10 | Y40: 14 | Z40: =SUM(V40:Y40) -> 50 | AA40: 7 | AB40: 0 | AC40: 0 | AD40: 0 | AE40: =SUM(AA40:AD40) -> 7 | AG40: =VLOOKUP($A40,MasterData,27,FALSE) -> 0 | AH40: =VLOOKUP($A40,MasterData,28,FALSE) -> 0 | AI40: =VLOOKUP($A40,MasterData,29,FALSE) -> 0 | AJ40: =VLOOKUP($A40,MasterData,30,FALSE) -> 0 | AK40: =SUM(AG40:AJ40) -> 0 | AL40: =VLOOKUP($A40,MasterData,32,FALSE) -> 0 | AM40: =VLOOKUP($A40,MasterData,33,FALSE) -> 25 | AN40: =VLOOKUP($A40,MasterData,34,FALSE) -> 8 | AO40: =VLOOKUP($A40,MasterData,35,FALSE) -> 6 | AP40: =SUM(AL40:AO40) -> 39 | AQ40: =VLOOKUP($A40,MasterData,37,FALSE) -> 22 | AR40: =VLOOKUP($A40,MasterData,38,FALSE) -> 10 | AS40: =VLOOKUP($A40,MasterData,39,FALSE) -> 10 | AT40: =VLOOKUP($A40,MasterData,40,FALSE) -> 14 | AU40: =SUM(AQ40:AT40) -> 56 | AV40: =VLOOKUP($A40,MasterData,42,FALSE) -> 7 | AW40: =VLOOKUP($A40,MasterData,43,FALSE) -> 0 | AX40: =VLOOKUP($A40,MasterData,44,FALSE) -> 0 | AY40: =VLOOKUP($A40,MasterData,45,FALSE) -> 0 | AZ40: =SUM(AV40:AY40) -> 7 | BB40: =AG40-L40 -> 0 | BC40: =AH40-M40 -> 0 | BD40: =AI40-N40 -> 0 | BE40: =AJ40-O40 -> 0 | BF40: =AK40-P40 -> 0 | BG40: =AL40-Q40 -> 0 | BH40: =AM40-R40 -> 0 | BI40: =AN40-S40 -> 0 | ... BU40: =AZ40-AE40 -> 0 | BW40: 0 | BX40: 0 | BY40: 0 | BZ40: 0 | CA40: =SUM(BW40:BZ40) -> 0 | CB40: 0 | CC40: 25 | CD40: 8 | CE40: 6 | CF40: =SUM(CB40:CE40) -> 39 | CK40: =SUM(CG40:CJ40) -> 0 | CN40: 0 | CO40: 0 | CP40: =SUM(CL40:CO40) -> 0 | CR40: =BW40-AG40 -> 0 | CS40: =BX40-AH40 -> 0 | CT40: =BY40-AI40 -> 0 | CU40: =BZ40-AJ40 -> 0 | CV40: =CA40-AK40 -> 0 | CW40: =CB40-AL40 -> 0 | CX40: =CC40-AM40 -> 0 | CY40: =CD40-AN40 -> 0 | ... DK40: =CP40-AZ40 -> -7
A41: =CONCATENATE(C41,"P") -> 186015007P | B41: =CONCATENATE(C41,"C") -> 186015007C | C41: 186015007 | D41: ACQUITY UPLC Column Mgr - Right Inlet | E41: WPPL (SG20) | F41: LC | G41: ACQUITY Classic | H41: Column Managers | I41: 4357.41 | J41: Ee Ling Lim | L41: 39 | M41: 66 | N41: 76 | O41: 90 | P41: =SUM(L41:O41) -> 271 | Q41: 50 | R41: 60 | S41: 30 | T41: 15 | U41: =SUM(Q41:T41) -> 155 | V41: 5 | W41: 10 | X41: 15 | Y41: 15 | Z41: =SUM(V41:Y41) -> 45 | AA41: 0 | AB41: 0 | AC41: 0 | AD41: 0 | AE41: =SUM(AA41:AD41) -> 0 | AG41: =VLOOKUP($A41,MasterData,27,FALSE) -> 39 | AH41: =VLOOKUP($A41,MasterData,28,FALSE) -> 66 | AI41: =VLOOKUP($A41,MasterData,29,FALSE) -> 76 | AJ41: =VLOOKUP($A41,MasterData,30,FALSE) -> 90 | AK41: =SUM(AG41:AJ41) -> 271 | AL41: =VLOOKUP($A41,MasterData,32,FALSE) -> 50 | AM41: =VLOOKUP($A41,MasterData,33,FALSE) -> 60 | AN41: =VLOOKUP($A41,MasterData,34,FALSE) -> 30 | AO41: =VLOOKUP($A41,MasterData,35,FALSE) -> 15 | AP41: =SUM(AL41:AO41) -> 155 | AQ41: =VLOOKUP($A41,MasterData,37,FALSE) -> 5 | AR41: =VLOOKUP($A41,MasterData,38,FALSE) -> 8 | AS41: =VLOOKUP($A41,MasterData,39,FALSE) -> 8 | AT41: =VLOOKUP($A41,MasterData,40,FALSE) -> 10 | AU41: =SUM(AQ41:AT41) -> 31 | AV41: =VLOOKUP($A41,MasterData,42,FALSE) -> 0 | AW41: =VLOOKUP($A41,MasterData,43,FALSE) -> 0 | AX41: =VLOOKUP($A41,MasterData,44,FALSE) -> 0 | AY41: =VLOOKUP($A41,MasterData,45,FALSE) -> 0 | AZ41: =SUM(AV41:AY41) -> 0 | BB41: =AG41-L41 -> 0 | BC41: =AH41-M41 -> 0 | BD41: =AI41-N41 -> 0 | BE41: =AJ41-O41 -> 0 | BF41: =AK41-P41 -> 0 | BG41: =AL41-Q41 -> 0 | BH41: =AM41-R41 -> 0 | BI41: =AN41-S41 -> 0 | ... BU41: =AZ41-AE41 -> 0 | BW41: 39 | BX41: 66 | BY41: 76 | BZ41: 90 | CA41: =SUM(BW41:BZ41) -> 271 | CB41: 50 | CC41: 60 | CD41: 30 | CE41: 15 | CF41: =SUM(CB41:CE41) -> 155 | CK41: =SUM(CG41:CJ41) -> 0 | CN41: 0 | CO41: 0 | CP41: =SUM(CL41:CO41) -> 0 | CR41: =BW41-AG41 -> 0 | CS41: =BX41-AH41 -> 0 | CT41: =BY41-AI41 -> 0 | CU41: =BZ41-AJ41 -> 0 | CV41: =CA41-AK41 -> 0 | CW41: =CB41-AL41 -> 0 | CX41: =CC41-AM41 -> 0 | CY41: =CD41-AN41 -> 0 | ... DK41: =CP41-AZ41 -> 0
A42: =CONCATENATE(C42,"P") -> 186015007IVDP | B42: =CONCATENATE(C42,"C") -> 186015007IVDC | C42: 186015007IVD | D42: ACQUITY UPLC Column Mgr - Rt. Inlet, IVD | E42: MIL (US31) | F42: LC | G42: ACQUITY Classic | H42: Column Managers | I42: 4857.95 | J42: Sharon Bibbo | L42: 0 | M42: 0 | N42: 0 | O42: 0 | P42: =SUM(L42:O42) -> 0 | Q42: 8 | R42: 10 | S42: 5 | T42: 0 | U42: =SUM(Q42:T42) -> 23 | V42: 4 | W42: 6 | X42: 6 | Y42: 8 | Z42: =SUM(V42:Y42) -> 24 | AA42: 4 | AB42: 0 | AC42: 0 | AD42: 0 | AE42: =SUM(AA42:AD42) -> 4 | AG42: =VLOOKUP($A42,MasterData,27,FALSE) -> 0 | AH42: =VLOOKUP($A42,MasterData,28,FALSE) -> 0 | AI42: =VLOOKUP($A42,MasterData,29,FALSE) -> 0 | AJ42: =VLOOKUP($A42,MasterData,30,FALSE) -> 0 | AK42: =SUM(AG42:AJ42) -> 0 | AL42: =VLOOKUP($A42,MasterData,32,FALSE) -> 8 | AM42: =VLOOKUP($A42,MasterData,33,FALSE) -> 10 | AN42: =VLOOKUP($A42,MasterData,34,FALSE) -> 5 | AO42: =VLOOKUP($A42,MasterData,35,FALSE) -> 0 | AP42: =SUM(AL42:AO42) -> 23 | AQ42: =VLOOKUP($A42,MasterData,37,FALSE) -> 4 | AR42: =VLOOKUP($A42,MasterData,38,FALSE) -> 4 | AS42: =VLOOKUP($A42,MasterData,39,FALSE) -> 4 | AT42: =VLOOKUP($A42,MasterData,40,FALSE) -> 4 | AU42: =SUM(AQ42:AT42) -> 16 | AV42: =VLOOKUP($A42,MasterData,42,FALSE) -> 4 | AW42: =VLOOKUP($A42,MasterData,43,FALSE) -> 0 | AX42: =VLOOKUP($A42,MasterData,44,FALSE) -> 0 | AY42: =VLOOKUP($A42,MasterData,45,FALSE) -> 0 | AZ42: =SUM(AV42:AY42) -> 4 | BB42: =AG42-L42 -> 0 | BC42: =AH42-M42 -> 0 | BD42: =AI42-N42 -> 0 | BE42: =AJ42-O42 -> 0 | BF42: =AK42-P42 -> 0 | BG42: =AL42-Q42 -> 0 | BH42: =AM42-R42 -> 0 | BI42: =AN42-S42 -> 0 | ... BU42: =AZ42-AE42 -> 0 | BW42: 0 | BX42: 0 | BY42: 0 | BZ42: 0 | CA42: =SUM(BW42:BZ42) -> 0 | CB42: 8 | CC42: 10 | CD42: 5 | CE42: 0 | CF42: =SUM(CB42:CE42) -> 23 | CK42: =SUM(CG42:CJ42) -> 0 | CN42: 0 | CO42: 0 | CP42: =SUM(CL42:CO42) -> 0 | CR42: =BW42-AG42 -> 0 | CS42: =BX42-AH42 -> 0 | CT42: =BY42-AI42 -> 0 | CU42: =BZ42-AJ42 -> 0 | CV42: =CA42-AK42 -> 0 | CW42: =CB42-AL42 -> 0 | CX42: =CC42-AM42 -> 0 | CY42: =CD42-AN42 -> 0 | ... DK42: =CP42-AZ42 -> -4
A43: =CONCATENATE(C43,"P") -> 186015008P | B43: =CONCATENATE(C43,"C") -> 186015008C | C43: 186015008 | D43: ACQUITY UPLC Column Htr./Cooler | E43: WPPL (SG20) | F43: LC | G43: ACQUITY Classic | H43: Column Managers | I43: 2896.58 | J43: Ee Ling Lim | L43: 0 | M43: 0 | N43: 5 | O43: 10 | P43: =SUM(L43:O43) -> 15 | Q43: 12 | R43: 20 | S43: 20 | T43: 15 | U43: =SUM(Q43:T43) -> 67 | V43: 10 | W43: 12 | X43: 10 | Y43: 10 | Z43: =SUM(V43:Y43) -> 42 | AA43: 0 | AB43: 0 | AC43: 0 | AD43: 0 | AE43: =SUM(AA43:AD43) -> 0 | AG43: =VLOOKUP($A43,MasterData,27,FALSE) -> 0 | AH43: =VLOOKUP($A43,MasterData,28,FALSE) -> 0 | AI43: =VLOOKUP($A43,MasterData,29,FALSE) -> 5 | AJ43: =VLOOKUP($A43,MasterData,30,FALSE) -> 10 | AK43: =SUM(AG43:AJ43) -> 15 | AL43: =VLOOKUP($A43,MasterData,32,FALSE) -> 12 | AM43: =VLOOKUP($A43,MasterData,33,FALSE) -> 20 | AN43: =VLOOKUP($A43,MasterData,34,FALSE) -> 20 | AO43: =VLOOKUP($A43,MasterData,35,FALSE) -> 15 | AP43: =SUM(AL43:AO43) -> 67 | AQ43: =VLOOKUP($A43,MasterData,37,FALSE) -> 12 | AR43: =VLOOKUP($A43,MasterData,38,FALSE) -> 15 | AS43: =VLOOKUP($A43,MasterData,39,FALSE) -> 10 | AT43: =VLOOKUP($A43,MasterData,40,FALSE) -> 15 | AU43: =SUM(AQ43:AT43) -> 52 | AV43: =VLOOKUP($A43,MasterData,42,FALSE) -> 0 | AW43: =VLOOKUP($A43,MasterData,43,FALSE) -> 0 | AX43: =VLOOKUP($A43,MasterData,44,FALSE) -> 0 | AY43: =VLOOKUP($A43,MasterData,45,FALSE) -> 0 | AZ43: =SUM(AV43:AY43) -> 0 | BB43: =AG43-L43 -> 0 | BC43: =AH43-M43 -> 0 | BD43: =AI43-N43 -> 0 | BE43: =AJ43-O43 -> 0 | BF43: =AK43-P43 -> 0 | BG43: =AL43-Q43 -> 0 | BH43: =AM43-R43 -> 0 | BI43: =AN43-S43 -> 0 | ... BU43: =AZ43-AE43 -> 0 | BW43: 0 | BX43: 0 | BY43: 5 | BZ43: 10 | CA43: =SUM(BW43:BZ43) -> 15 | CB43: 12 | CC43: 20 | CD43: 20 | CE43: 15 | CF43: =SUM(CB43:CE43) -> 67 | CK43: =SUM(CG43:CJ43) -> 0 | CN43: 0 | CO43: 0 | CP43: =SUM(CL43:CO43) -> 0 | CR43: =BW43-AG43 -> 0 | CS43: =BX43-AH43 -> 0 | CT43: =BY43-AI43 -> 0 | CU43: =BZ43-AJ43 -> 0 | CV43: =CA43-AK43 -> 0 | CW43: =CB43-AL43 -> 0 | CX43: =CC43-AM43 -> 0 | CY43: =CD43-AN43 -> 0 | ... DK43: =CP43-AZ43 -> 0
A44: =CONCATENATE(C44,"P") -> 186015009P | B44: =CONCATENATE(C44,"C") -> 186015009C | C44: 186015009 | D44: ACQUITY UPLC Column Mgr.-Left Inlet | E44: WPPL (SG20) | F44: LC | G44: ACQUITY Classic | H44: Column Managers | I44: 4361.27 | J44: Ee Ling Lim | L44: 10 | M44: 23 | N44: 25 | O44: 30 | P44: =SUM(L44:O44) -> 88 | Q44: 0 | R44: 0 | S44: 15 | T44: 0 | U44: =SUM(Q44:T44) -> 15 | V44: 0 | W44: 0 | X44: 0 | Y44: 5 | Z44: =SUM(V44:Y44) -> 5 | AA44: 0 | AB44: 0 | AC44: 0 | AD44: 0 | AE44: =SUM(AA44:AD44) -> 0 | AG44: =VLOOKUP($A44,MasterData,27,FALSE) -> 10 | AH44: =VLOOKUP($A44,MasterData,28,FALSE) -> 23 | AI44: =VLOOKUP($A44,MasterData,29,FALSE) -> 25 | AJ44: =VLOOKUP($A44,MasterData,30,FALSE) -> 30 | AK44: =SUM(AG44:AJ44) -> 88 | AL44: =VLOOKUP($A44,MasterData,32,FALSE) -> 0 | AM44: =VLOOKUP($A44,MasterData,33,FALSE) -> 0 | AN44: =VLOOKUP($A44,MasterData,34,FALSE) -> 15 | AO44: =VLOOKUP($A44,MasterData,35,FALSE) -> 0 | AP44: =SUM(AL44:AO44) -> 15 | AQ44: =VLOOKUP($A44,MasterData,37,FALSE) -> 4 | AR44: =VLOOKUP($A44,MasterData,38,FALSE) -> 4 | AS44: =VLOOKUP($A44,MasterData,39,FALSE) -> 4 | AT44: =VLOOKUP($A44,MasterData,40,FALSE) -> 4 | AU44: =SUM(AQ44:AT44) -> 16 | AV44: =VLOOKUP($A44,MasterData,42,FALSE) -> 0 | AW44: =VLOOKUP($A44,MasterData,43,FALSE) -> 0 | AX44: =VLOOKUP($A44,MasterData,44,FALSE) -> 0 | AY44: =VLOOKUP($A44,MasterData,45,FALSE) -> 0 | AZ44: =SUM(AV44:AY44) -> 0 | BB44: =AG44-L44 -> 0 | BC44: =AH44-M44 -> 0 | BD44: =AI44-N44 -> 0 | BE44: =AJ44-O44 -> 0 | BF44: =AK44-P44 -> 0 | BG44: =AL44-Q44 -> 0 | BH44: =AM44-R44 -> 0 | BI44: =AN44-S44 -> 0 | ... BU44: =AZ44-AE44 -> 0 | BW44: 10 | BX44: 23 | BY44: 25 | BZ44: 30 | CA44: =SUM(BW44:BZ44) -> 88 | CB44: 0 | CC44: 0 | CD44: 15 | CE44: 0 | CF44: =SUM(CB44:CE44) -> 15 | CK44: =SUM(CG44:CJ44) -> 0 | CN44: 0 | CO44: 0 | CP44: =SUM(CL44:CO44) -> 0 | CR44: =BW44-AG44 -> 0 | CS44: =BX44-AH44 -> 0 | CT44: =BY44-AI44 -> 0 | CU44: =BZ44-AJ44 -> 0 | CV44: =CA44-AK44 -> 0 | CW44: =CB44-AL44 -> 0 | CX44: =CC44-AM44 -> 0 | CY44: =CD44-AN44 -> 0 | ... DK44: =CP44-AZ44 -> 0
A45: =CONCATENATE(C45,"P") -> 186015010P | B45: =CONCATENATE(C45,"C") -> 186015010C | C45: 186015010 | D45: ACQUITY UPLC Column Heater HT | E45: WPPL (SG20) | F45: LC | G45: ACQUITY Classic | H45: Column Managers | I45: 934.47 | J45: Ee Ling Lim | L45: 160 | M45: 130 | N45: 120 | O45: 85 | P45: =SUM(L45:O45) -> 495 | Q45: 80 | R45: 75 | S45: 54 | T45: 20 | U45: =SUM(Q45:T45) -> 229 | V45: 40 | W45: 40 | X45: 40 | Y45: 40 | Z45: =SUM(V45:Y45) -> 160 | AA45: 0 | AB45: 0 | AC45: 0 | AD45: 0 | AE45: =SUM(AA45:AD45) -> 0 | AG45: =VLOOKUP($A45,MasterData,27,FALSE) -> 160 | AH45: =VLOOKUP($A45,MasterData,28,FALSE) -> 130 | AI45: =VLOOKUP($A45,MasterData,29,FALSE) -> 120 | AJ45: =VLOOKUP($A45,MasterData,30,FALSE) -> 85 | AK45: =SUM(AG45:AJ45) -> 495 | AL45: =VLOOKUP($A45,MasterData,32,FALSE) -> 80 | AM45: =VLOOKUP($A45,MasterData,33,FALSE) -> 75 | AN45: =VLOOKUP($A45,MasterData,34,FALSE) -> 54 | AO45: =VLOOKUP($A45,MasterData,35,FALSE) -> 20 | AP45: =SUM(AL45:AO45) -> 229 | AQ45: =VLOOKUP($A45,MasterData,37,FALSE) -> 40 | AR45: =VLOOKUP($A45,MasterData,38,FALSE) -> 45 | AS45: =VLOOKUP($A45,MasterData,39,FALSE) -> 45 | AT45: =VLOOKUP($A45,MasterData,40,FALSE) -> 55 | AU45: =SUM(AQ45:AT45) -> 185 | AV45: =VLOOKUP($A45,MasterData,42,FALSE) -> 33 | AW45: =VLOOKUP($A45,MasterData,43,FALSE) -> 0 | AX45: =VLOOKUP($A45,MasterData,44,FALSE) -> 0 | AY45: =VLOOKUP($A45,MasterData,45,FALSE) -> 0 | AZ45: =SUM(AV45:AY45) -> 33 | BB45: =AG45-L45 -> 0 | BC45: =AH45-M45 -> 0 | BD45: =AI45-N45 -> 0 | BE45: =AJ45-O45 -> 0 | BF45: =AK45-P45 -> 0 | BG45: =AL45-Q45 -> 0 | BH45: =AM45-R45 -> 0 | BI45: =AN45-S45 -> 0 | ... BU45: =AZ45-AE45 -> 33 | BW45: 160 | BX45: 130 | BY45: 120 | BZ45: 85 | CA45: =SUM(BW45:BZ45) -> 495 | CB45: 80 | CC45: 75 | CD45: 54 | CE45: 20 | CF45: =SUM(CB45:CE45) -> 229 | CK45: =SUM(CG45:CJ45) -> 0 | CN45: 0 | CO45: 0 | CP45: =SUM(CL45:CO45) -> 0 | CR45: =BW45-AG45 -> 0 | CS45: =BX45-AH45 -> 0 | CT45: =BY45-AI45 -> 0 | CU45: =BZ45-AJ45 -> 0 | CV45: =CA45-AK45 -> 0 | CW45: =CB45-AL45 -> 0 | CX45: =CC45-AM45 -> 0 | CY45: =CD45-AN45 -> 0 | ... DK45: =CP45-AZ45 -> -33
A46: =CONCATENATE(C46,"P") -> 186015010IVDP | B46: =CONCATENATE(C46,"C") -> 186015010IVDC | C46: 186015010IVD | D46: ACQUITY UPLC Column Heater HT, IVD | E46: MIL (US31) | F46: LC | G46: ACQUITY Classic | H46: Column Managers | I46: 1053 | J46: Sharon Bibbo | L46: 0 | M46: 0 | N46: 0 | O46: 0 | P46: =SUM(L46:O46) -> 0 | Q46: 0 | R46: 6 | S46: 0 | T46: 10 | U46: =SUM(Q46:T46) -> 16 | V46: 0 | W46: 2 | X46: 2 | Y46: 2 | Z46: =SUM(V46:Y46) -> 6 | AA46: 2 | AB46: 0 | AC46: 0 | AD46: 0 | AE46: =SUM(AA46:AD46) -> 2 | AG46: =VLOOKUP($A46,MasterData,27,FALSE) -> 0 | AH46: =VLOOKUP($A46,MasterData,28,FALSE) -> 0 | AI46: =VLOOKUP($A46,MasterData,29,FALSE) -> 0 | AJ46: =VLOOKUP($A46,MasterData,30,FALSE) -> 0 | AK46: =SUM(AG46:AJ46) -> 0 | AL46: =VLOOKUP($A46,MasterData,32,FALSE) -> 0 | AM46: =VLOOKUP($A46,MasterData,33,FALSE) -> 6 | AN46: =VLOOKUP($A46,MasterData,34,FALSE) -> 0 | AO46: =VLOOKUP($A46,MasterData,35,FALSE) -> 10 | AP46: =SUM(AL46:AO46) -> 16 | AQ46: =VLOOKUP($A46,MasterData,37,FALSE) -> 5 | AR46: =VLOOKUP($A46,MasterData,38,FALSE) -> 5 | AS46: =VLOOKUP($A46,MasterData,39,FALSE) -> 5 | AT46: =VLOOKUP($A46,MasterData,40,FALSE) -> 4 | AU46: =SUM(AQ46:AT46) -> 19 | AV46: =VLOOKUP($A46,MasterData,42,FALSE) -> 2 | AW46: =VLOOKUP($A46,MasterData,43,FALSE) -> 0 | AX46: =VLOOKUP($A46,MasterData,44,FALSE) -> 0 | AY46: =VLOOKUP($A46,MasterData,45,FALSE) -> 0 | AZ46: =SUM(AV46:AY46) -> 2 | BB46: =AG46-L46 -> 0 | BC46: =AH46-M46 -> 0 | BD46: =AI46-N46 -> 0 | BE46: =AJ46-O46 -> 0 | BF46: =AK46-P46 -> 0 | BG46: =AL46-Q46 -> 0 | BH46: =AM46-R46 -> 0 | BI46: =AN46-S46 -> 0 | ... BU46: =AZ46-AE46 -> 0 | BW46: 0 | BX46: 0 | BY46: 0 | BZ46: 0 | CA46: =SUM(BW46:BZ46) -> 0 | CB46: 0 | CC46: 6 | CD46: 0 | CE46: 10 | CF46: =SUM(CB46:CE46) -> 16 | CK46: =SUM(CG46:CJ46) -> 0 | CN46: 0 | CO46: 0 | CP46: =SUM(CL46:CO46) -> 0 | CR46: =BW46-AG46 -> 0 | CS46: =BX46-AH46 -> 0 | CT46: =BY46-AI46 -> 0 | CU46: =BZ46-AJ46 -> 0 | CV46: =CA46-AK46 -> 0 | CW46: =CB46-AL46 -> 0 | CX46: =CC46-AM46 -> 0 | CY46: =CD46-AN46 -> 0 | ... DK46: =CP46-AZ46 -> -2
A47: =CONCATENATE(C47,"P") -> 186015011P | B47: =CONCATENATE(C47,"C") -> 186015011C | C47: 186015011 | D47: ACQUITY UPLC 30cm Col Htr/Clr. | E47: WPPL (SG20) | F47: LC | G47: ACQUITY Common Modules | H47: Column Managers | I47: 1210.21 | J47: Ee Ling Lim | L47: 161 | M47: 185 | N47: 170 | O47: 200 | P47: =SUM(L47:O47) -> 716 | Q47: 125 | R47: 185 | S47: 196 | T47: 213 | U47: =SUM(Q47:T47) -> 719 | V47: 162 | W47: 200 | X47: 200 | Y47: 230 | Z47: =SUM(V47:Y47) -> 792 | AA47: 0 | AB47: 0 | AC47: 0 | AD47: 0 | AE47: =SUM(AA47:AD47) -> 0 | AG47: =VLOOKUP($A47,MasterData,27,FALSE) -> 161 | AH47: =VLOOKUP($A47,MasterData,28,FALSE) -> 185 | AI47: =VLOOKUP($A47,MasterData,29,FALSE) -> 170 | AJ47: =VLOOKUP($A47,MasterData,30,FALSE) -> 200 | AK47: =SUM(AG47:AJ47) -> 716 | AL47: =VLOOKUP($A47,MasterData,32,FALSE) -> 125 | AM47: =VLOOKUP($A47,MasterData,33,FALSE) -> 185 | AN47: =VLOOKUP($A47,MasterData,34,FALSE) -> 196 | AO47: =VLOOKUP($A47,MasterData,35,FALSE) -> 213 | AP47: =SUM(AL47:AO47) -> 719 | AQ47: =VLOOKUP($A47,MasterData,37,FALSE) -> 230 | AR47: =VLOOKUP($A47,MasterData,38,FALSE) -> 200 | AS47: =VLOOKUP($A47,MasterData,39,FALSE) -> 210 | AT47: =VLOOKUP($A47,MasterData,40,FALSE) -> 250 | AU47: =SUM(AQ47:AT47) -> 890 | AV47: =VLOOKUP($A47,MasterData,42,FALSE) -> 180 | AW47: =VLOOKUP($A47,MasterData,43,FALSE) -> 180 | AX47: =VLOOKUP($A47,MasterData,44,FALSE) -> 0 | AY47: =VLOOKUP($A47,MasterData,45,FALSE) -> 0 | AZ47: =SUM(AV47:AY47) -> 360 | BB47: =AG47-L47 -> 0 | BC47: =AH47-M47 -> 0 | BD47: =AI47-N47 -> 0 | BE47: =AJ47-O47 -> 0 | BF47: =AK47-P47 -> 0 | BG47: =AL47-Q47 -> 0 | BH47: =AM47-R47 -> 0 | BI47: =AN47-S47 -> 0 | ... BU47: =AZ47-AE47 -> 360 | BW47: 161 | BX47: 185 | BY47: 170 | BZ47: 200 | CA47: =SUM(BW47:BZ47) -> 716 | CB47: 125 | CC47: 185 | CD47: 196 | CE47: 213 | CF47: =SUM(CB47:CE47) -> 719 | CK47: =SUM(CG47:CJ47) -> 0 | CN47: 0 | CO47: 0 | CP47: =SUM(CL47:CO47) -> 0 | CR47: =BW47-AG47 -> 0 | CS47: =BX47-AH47 -> 0 | CT47: =BY47-AI47 -> 0 | CU47: =BZ47-AJ47 -> 0 | CV47: =CA47-AK47 -> 0 | CW47: =CB47-AL47 -> 0 | CX47: =CC47-AM47 -> 0 | CY47: =CD47-AN47 -> 0 | ... DK47: =CP47-AZ47 -> -360
A48: =CONCATENATE(C48,"P") -> 186015012P | B48: =CONCATENATE(C48,"C") -> 186015012C | C48: 186015012 | D48: ACQUITY UPLC Online SPE Manager | E48: MIL (US31) | F48: LC | G48: Clinical ACQUITY | H48: Injectors | I48: 22141.71 | J48: Vicky Allen | L48: 0 | M48: 0 | N48: 8 | O48: 3 | P48: =SUM(L48:O48) -> 11 | Q48: 5 | R48: 0 | S48: 0 | T48: 0 | U48: =SUM(Q48:T48) -> 5 | V48: 0 | W48: 0 | X48: 0 | Y48: 0 | Z48: =SUM(V48:Y48) -> 0 | AA48: 0 | AB48: 0 | AC48: 0 | AD48: 0 | AE48: =SUM(AA48:AD48) -> 0 | AG48: =VLOOKUP($A48,MasterData,27,FALSE) -> 0 | AH48: =VLOOKUP($A48,MasterData,28,FALSE) -> 0 | AI48: =VLOOKUP($A48,MasterData,29,FALSE) -> 8 | AJ48: =VLOOKUP($A48,MasterData,30,FALSE) -> 3 | AK48: =SUM(AG48:AJ48) -> 11 | AL48: =VLOOKUP($A48,MasterData,32,FALSE) -> 5 | AM48: =VLOOKUP($A48,MasterData,33,FALSE) -> 0 | AN48: =VLOOKUP($A48,MasterData,34,FALSE) -> 0 | AO48: =VLOOKUP($A48,MasterData,35,FALSE) -> 0 | AP48: =SUM(AL48:AO48) -> 5 | AQ48: =VLOOKUP($A48,MasterData,37,FALSE) -> 0 | AR48: =VLOOKUP($A48,MasterData,38,FALSE) -> 0 | AS48: =VLOOKUP($A48,MasterData,39,FALSE) -> 0 | AT48: =VLOOKUP($A48,MasterData,40,FALSE) -> 2 | AU48: =SUM(AQ48:AT48) -> 2 | AV48: =VLOOKUP($A48,MasterData,42,FALSE) -> 0 | AW48: =VLOOKUP($A48,MasterData,43,FALSE) -> 0 | AX48: =VLOOKUP($A48,MasterData,44,FALSE) -> 0 | AY48: =VLOOKUP($A48,MasterData,45,FALSE) -> 0 | AZ48: =SUM(AV48:AY48) -> 0 | BB48: =AG48-L48 -> 0 | BC48: =AH48-M48 -> 0 | BD48: =AI48-N48 -> 0 | BE48: =AJ48-O48 -> 0 | BF48: =AK48-P48 -> 0 | BG48: =AL48-Q48 -> 0 | BH48: =AM48-R48 -> 0 | BI48: =AN48-S48 -> 0 | ... BU48: =AZ48-AE48 -> 0 | BW48: 0 | BX48: 0 | BY48: 8 | BZ48: 3 | CA48: =SUM(BW48:BZ48) -> 11 | CB48: 5 | CC48: 0 | CD48: 0 | CE48: 0 | CF48: =SUM(CB48:CE48) -> 5 | CK48: =SUM(CG48:CJ48) -> 0 | CN48: 0 | CO48: 0 | CP48: =SUM(CL48:CO48) -> 0 | CR48: =BW48-AG48 -> 0 | CS48: =BX48-AH48 -> 0 | CT48: =BY48-AI48 -> 0 | CU48: =BZ48-AJ48 -> 0 | CV48: =CA48-AK48 -> 0 | CW48: =CB48-AL48 -> 0 | CX48: =CC48-AM48 -> 0 | CY48: =CD48-AN48 -> 0 | ... DK48: =CP48-AZ48 -> 0
A49: =CONCATENATE(C49,"P") -> 186015012IVDP | B49: =CONCATENATE(C49,"C") -> 186015012IVDC | C49: 186015012IVD | D49: ACQUITY UPLC Online SPE Manager, IVD | E49: MIL (US31) | F49: LC | G49: Clinical ACQUITY | H49: Injectors | I49: 24185 | J49: Vicky Allen | L49: 0 | M49: 0 | N49: 0 | O49: 0 | P49: =SUM(L49:O49) -> 0 | Q49: 0 | R49: 0 | S49: 0 | T49: 5 | U49: =SUM(Q49:T49) -> 5 | V49: 2 | W49: 2 | X49: 2 | Y49: 2 | Z49: =SUM(V49:Y49) -> 8 | AA49: 2 | AB49: 0 | AC49: 0 | AD49: 0 | AE49: =SUM(AA49:AD49) -> 2 | AG49: =VLOOKUP($A49,MasterData,27,FALSE) -> 0 | AH49: =VLOOKUP($A49,MasterData,28,FALSE) -> 0 | AI49: =VLOOKUP($A49,MasterData,29,FALSE) -> 0 | AJ49: =VLOOKUP($A49,MasterData,30,FALSE) -> 0 | AK49: =SUM(AG49:AJ49) -> 0 | AL49: =VLOOKUP($A49,MasterData,32,FALSE) -> 0 | AM49: =VLOOKUP($A49,MasterData,33,FALSE) -> 0 | AN49: =VLOOKUP($A49,MasterData,34,FALSE) -> 0 | AO49: =VLOOKUP($A49,MasterData,35,FALSE) -> 5 | AP49: =SUM(AL49:AO49) -> 5 | AQ49: =VLOOKUP($A49,MasterData,37,FALSE) -> 2 | AR49: =VLOOKUP($A49,MasterData,38,FALSE) -> 2 | AS49: =VLOOKUP($A49,MasterData,39,FALSE) -> 2 | AT49: =VLOOKUP($A49,MasterData,40,FALSE) -> 2 | AU49: =SUM(AQ49:AT49) -> 8 | AV49: =VLOOKUP($A49,MasterData,42,FALSE) -> 2 | AW49: =VLOOKUP($A49,MasterData,43,FALSE) -> 2 | AX49: =VLOOKUP($A49,MasterData,44,FALSE) -> 0 | AY49: =VLOOKUP($A49,MasterData,45,FALSE) -> 0 | AZ49: =SUM(AV49:AY49) -> 4 | BB49: =AG49-L49 -> 0 | BC49: =AH49-M49 -> 0 | BD49: =AI49-N49 -> 0 | BE49: =AJ49-O49 -> 0 | BF49: =AK49-P49 -> 0 | BG49: =AL49-Q49 -> 0 | BH49: =AM49-R49 -> 0 | BI49: =AN49-S49 -> 0 | ... BU49: =AZ49-AE49 -> 2 | BW49: 0 | BX49: 0 | BY49: 0 | BZ49: 0 | CA49: =SUM(BW49:BZ49) -> 0 | CB49: 0 | CC49: 0 | CD49: 0 | CE49: 5 | CF49: =SUM(CB49:CE49) -> 5 | CK49: =SUM(CG49:CJ49) -> 0 | CN49: 0 | CO49: 0 | CP49: =SUM(CL49:CO49) -> 0 | CR49: =BW49-AG49 -> 0 | CS49: =BX49-AH49 -> 0 | CT49: =BY49-AI49 -> 0 | CU49: =BZ49-AJ49 -> 0 | CV49: =CA49-AK49 -> 0 | CW49: =CB49-AL49 -> 0 | CX49: =CC49-AM49 -> 0 | CY49: =CD49-AN49 -> 0 | ... DK49: =CP49-AZ49 -> -4
A50: =CONCATENATE(C50,"P") -> 186015014P | B50: =CONCATENATE(C50,"C") -> 186015014C | C50: 186015014 | D50: ACQUITY UPLC Sample Organizer w/Comp. | E50: WPPL (SG20) | F50: LC | G50: H Class | H50: Accessories | I50: 9057.46 | J50: Ee Ling Lim | L50: 50 | M50: 55 | N50: 57 | O50: 50 | P50: =SUM(L50:O50) -> 212 | Q50: 55 | R50: 0 | S50: 15 | T50: 50 | U50: =SUM(Q50:T50) -> 120 | V50: 30 | W50: 50 | X50: 60 | Y50: 75 | Z50: =SUM(V50:Y50) -> 215 | AA50: 0 | AB50: 0 | AC50: 0 | AD50: 0 | AE50: =SUM(AA50:AD50) -> 0 | AG50: =VLOOKUP($A50,MasterData,27,FALSE) -> 50 | AH50: =VLOOKUP($A50,MasterData,28,FALSE) -> 55 | AI50: =VLOOKUP($A50,MasterData,29,FALSE) -> 57 | AJ50: =VLOOKUP($A50,MasterData,30,FALSE) -> 50 | AK50: =SUM(AG50:AJ50) -> 212 | AL50: =VLOOKUP($A50,MasterData,32,FALSE) -> 55 | AM50: =VLOOKUP($A50,MasterData,33,FALSE) -> 0 | AN50: =VLOOKUP($A50,MasterData,34,FALSE) -> 15 | AO50: =VLOOKUP($A50,MasterData,35,FALSE) -> 50 | AP50: =SUM(AL50:AO50) -> 120 | AQ50: =VLOOKUP($A50,MasterData,37,FALSE) -> 45 | AR50: =VLOOKUP($A50,MasterData,38,FALSE) -> 60 | AS50: =VLOOKUP($A50,MasterData,39,FALSE) -> 60 | AT50: =VLOOKUP($A50,MasterData,40,FALSE) -> 55 | AU50: =SUM(AQ50:AT50) -> 220 | AV50: =VLOOKUP($A50,MasterData,42,FALSE) -> 58 | AW50: =VLOOKUP($A50,MasterData,43,FALSE) -> 63 | AX50: =VLOOKUP($A50,MasterData,44,FALSE) -> 0 | AY50: =VLOOKUP($A50,MasterData,45,FALSE) -> 0 | AZ50: =SUM(AV50:AY50) -> 121 | BB50: =AG50-L50 -> 0 | BC50: =AH50-M50 -> 0 | BD50: =AI50-N50 -> 0 | BE50: =AJ50-O50 -> 0 | BF50: =AK50-P50 -> 0 | BG50: =AL50-Q50 -> 0 | BH50: =AM50-R50 -> 0 | BI50: =AN50-S50 -> 0 | ... BU50: =AZ50-AE50 -> 121 | BW50: 50 | BX50: 55 | BY50: 57 | BZ50: 50 | CA50: =SUM(BW50:BZ50) -> 212 | CB50: 55 | CC50: 0 | CD50: 15 | CE50: 50 | CF50: =SUM(CB50:CE50) -> 120 | CK50: =SUM(CG50:CJ50) -> 0 | CN50: 0 | CO50: 0 | CP50: =SUM(CL50:CO50) -> 0 | CR50: =BW50-AG50 -> 0 | CS50: =BX50-AH50 -> 0 | CT50: =BY50-AI50 -> 0 | CU50: =BZ50-AJ50 -> 0 | CV50: =CA50-AK50 -> 0 | CW50: =CB50-AL50 -> 0 | CX50: =CC50-AM50 -> 0 | CY50: =CD50-AN50 -> 0 | ... DK50: =CP50-AZ50 -> -121
A51: =CONCATENATE(C51,"P") -> 186015017P | B51: =CONCATENATE(C51,"C") -> 186015017C | C51: 186015017 | D51: ACQUITY UPLC Sample Manager FTN | E51: WPPL (SG20) | F51: LC | G51: H Class | H51: Injectors | I51: 5175.61 | J51: Ee Ling Lim | L51: 460 | M51: 590 | N51: 580 | O51: 590 | P51: =SUM(L51:O51) -> 2220 | Q51: 400 | R51: 500 | S51: 500 | T51: 530 | U51: =SUM(Q51:T51) -> 1930 | V51: 480 | W51: 560 | X51: 580 | Y51: 610 | Z51: =SUM(V51:Y51) -> 2230 | AA51: 0 | AB51: 0 | AC51: 0 | AD51: 0 | AE51: =SUM(AA51:AD51) -> 0 | AG51: =VLOOKUP($A51,MasterData,27,FALSE) -> 460 | AH51: =VLOOKUP($A51,MasterData,28,FALSE) -> 590 | AI51: =VLOOKUP($A51,MasterData,29,FALSE) -> 580 | AJ51: =VLOOKUP($A51,MasterData,30,FALSE) -> 590 | AK51: =SUM(AG51:AJ51) -> 2220 | AL51: =VLOOKUP($A51,MasterData,32,FALSE) -> 400 | AM51: =VLOOKUP($A51,MasterData,33,FALSE) -> 500 | AN51: =VLOOKUP($A51,MasterData,34,FALSE) -> 500 | AO51: =VLOOKUP($A51,MasterData,35,FALSE) -> 530 | AP51: =SUM(AL51:AO51) -> 1930 | AQ51: =VLOOKUP($A51,MasterData,37,FALSE) -> 600 | AR51: =VLOOKUP($A51,MasterData,38,FALSE) -> 580 | AS51: =VLOOKUP($A51,MasterData,39,FALSE) -> 565 | AT51: =VLOOKUP($A51,MasterData,40,FALSE) -> 590 | AU51: =SUM(AQ51:AT51) -> 2335 | AV51: =VLOOKUP($A51,MasterData,42,FALSE) -> 500 | AW51: =VLOOKUP($A51,MasterData,43,FALSE) -> 544 | AX51: =VLOOKUP($A51,MasterData,44,FALSE) -> 0 | AY51: =VLOOKUP($A51,MasterData,45,FALSE) -> 0 | AZ51: =SUM(AV51:AY51) -> 1044 | BB51: =AG51-L51 -> 0 | BC51: =AH51-M51 -> 0 | BD51: =AI51-N51 -> 0 | BE51: =AJ51-O51 -> 0 | BF51: =AK51-P51 -> 0 | BG51: =AL51-Q51 -> 0 | BH51: =AM51-R51 -> 0 | BI51: =AN51-S51 -> 0 | ... BU51: =AZ51-AE51 -> 1044 | BW51: 460 | BX51: 590 | BY51: 580 | BZ51: 590 | CA51: =SUM(BW51:BZ51) -> 2220 | CB51: 400 | CC51: 500 | CD51: 500 | CE51: 530 | CF51: =SUM(CB51:CE51) -> 1930 | CK51: =SUM(CG51:CJ51) -> 0 | CN51: 0 | CO51: 0 | CP51: =SUM(CL51:CO51) -> 0 | CR51: =BW51-AG51 -> 0 | CS51: =BX51-AH51 -> 0 | CT51: =BY51-AI51 -> 0 | CU51: =BZ51-AJ51 -> 0 | CV51: =CA51-AK51 -> 0 | CW51: =CB51-AL51 -> 0 | CX51: =CC51-AM51 -> 0 | CY51: =CD51-AN51 -> 0 | ... DK51: =CP51-AZ51 -> -1044
A52: =CONCATENATE(C52,"P") -> 186015018P | B52: =CONCATENATE(C52,"C") -> 186015018C | C52: 186015018 | D52: ACQUITY UPLC QSM | E52: WPPL (SG20) | F52: LC | G52: H Class | H52: Pumps | I52: 4770.22 | J52: Ee Ling Lim | L52: 460 | M52: 580 | N52: 600 | O52: 605 | P52: =SUM(L52:O52) -> 2245 | Q52: 430 | R52: 500 | S52: 500 | T52: 555 | U52: =SUM(Q52:T52) -> 1985 | V52: 480 | W52: 560 | X52: 580 | Y52: 610 | Z52: =SUM(V52:Y52) -> 2230 | AA52: 0 | AB52: 0 | AC52: 0 | AD52: 0 | AE52: =SUM(AA52:AD52) -> 0 | AG52: =VLOOKUP($A52,MasterData,27,FALSE) -> 460 | AH52: =VLOOKUP($A52,MasterData,28,FALSE) -> 580 | AI52: =VLOOKUP($A52,MasterData,29,FALSE) -> 600 | AJ52: =VLOOKUP($A52,MasterData,30,FALSE) -> 605 | AK52: =SUM(AG52:AJ52) -> 2245 | AL52: =VLOOKUP($A52,MasterData,32,FALSE) -> 430 | AM52: =VLOOKUP($A52,MasterData,33,FALSE) -> 500 | AN52: =VLOOKUP($A52,MasterData,34,FALSE) -> 500 | AO52: =VLOOKUP($A52,MasterData,35,FALSE) -> 555 | AP52: =SUM(AL52:AO52) -> 1985 | AQ52: =VLOOKUP($A52,MasterData,37,FALSE) -> 600 | AR52: =VLOOKUP($A52,MasterData,38,FALSE) -> 580 | AS52: =VLOOKUP($A52,MasterData,39,FALSE) -> 565 | AT52: =VLOOKUP($A52,MasterData,40,FALSE) -> 590 | AU52: =SUM(AQ52:AT52) -> 2335 | AV52: =VLOOKUP($A52,MasterData,42,FALSE) -> 500 | AW52: =VLOOKUP($A52,MasterData,43,FALSE) -> 544 | AX52: =VLOOKUP($A52,MasterData,44,FALSE) -> 0 | AY52: =VLOOKUP($A52,MasterData,45,FALSE) -> 0 | AZ52: =SUM(AV52:AY52) -> 1044 | BB52: =AG52-L52 -> 0 | BC52: =AH52-M52 -> 0 | BD52: =AI52-N52 -> 0 | BE52: =AJ52-O52 -> 0 | BF52: =AK52-P52 -> 0 | BG52: =AL52-Q52 -> 0 | BH52: =AM52-R52 -> 0 | BI52: =AN52-S52 -> 0 | ... BU52: =AZ52-AE52 -> 1044 | BW52: 460 | BX52: 580 | BY52: 600 | BZ52: 605 | CA52: =SUM(BW52:BZ52) -> 2245 | CB52: 430 | CC52: 500 | CD52: 500 | CE52: 555 | CF52: =SUM(CB52:CE52) -> 1985 | CK52: =SUM(CG52:CJ52) -> 0 | CN52: 0 | CO52: 0 | CP52: =SUM(CL52:CO52) -> 0 | CR52: =BW52-AG52 -> 0 | CS52: =BX52-AH52 -> 0 | CT52: =BY52-AI52 -> 0 | CU52: =BZ52-AJ52 -> 0 | CV52: =CA52-AK52 -> 0 | CW52: =CB52-AL52 -> 0 | CX52: =CC52-AM52 -> 0 | CY52: =CD52-AN52 -> 0 | ... DK52: =CP52-AZ52 -> -1044
A53: =CONCATENATE(C53,"P") -> 186015019P | B53: =CONCATENATE(C53,"C") -> 186015019C | C53: 186015019 | D53: ACQUITY Isocratic Solvent Mgr | E53: MIL (US31) | F53: LC | G53: QDa | H53: Pumps | I53: 3816.69 | J53: Sharon Bibbo | L53: 0 | M53: 0 | N53: 0 | O53: 0 | P53: =SUM(L53:O53) -> 0 | Q53: 0 | R53: 0 | S53: 28 | T53: 94 | U53: =SUM(Q53:T53) -> 122 | V53: 130 | W53: 50 | X53: 40 | Y53: 60 | Z53: =SUM(V53:Y53) -> 280 | AA53: 40 | AB53: 0 | AC53: 0 | AD53: 0 | AE53: =SUM(AA53:AD53) -> 40 | AG53: =VLOOKUP($A53,MasterData,27,FALSE) -> 0 | AH53: =VLOOKUP($A53,MasterData,28,FALSE) -> 0 | AI53: =VLOOKUP($A53,MasterData,29,FALSE) -> 0 | AJ53: =VLOOKUP($A53,MasterData,30,FALSE) -> 0 | AK53: =SUM(AG53:AJ53) -> 0 | AL53: =VLOOKUP($A53,MasterData,32,FALSE) -> 0 | AM53: =VLOOKUP($A53,MasterData,33,FALSE) -> 0 | AN53: =VLOOKUP($A53,MasterData,34,FALSE) -> 28 | AO53: =VLOOKUP($A53,MasterData,35,FALSE) -> 94 | AP53: =SUM(AL53:AO53) -> 122 | AQ53: =VLOOKUP($A53,MasterData,37,FALSE) -> 130 | AR53: =VLOOKUP($A53,MasterData,38,FALSE) -> 40 | AS53: =VLOOKUP($A53,MasterData,39,FALSE) -> 40 | AT53: =VLOOKUP($A53,MasterData,40,FALSE) -> 40 | AU53: =SUM(AQ53:AT53) -> 250 | AV53: =VLOOKUP($A53,MasterData,42,FALSE) -> 40 | AW53: =VLOOKUP($A53,MasterData,43,FALSE) -> 60 | AX53: =VLOOKUP($A53,MasterData,44,FALSE) -> 0 | AY53: =VLOOKUP($A53,MasterData,45,FALSE) -> 0 | AZ53: =SUM(AV53:AY53) -> 100 | BB53: =AG53-L53 -> 0 | BC53: =AH53-M53 -> 0 | BD53: =AI53-N53 -> 0 | BE53: =AJ53-O53 -> 0 | BF53: =AK53-P53 -> 0 | BG53: =AL53-Q53 -> 0 | BH53: =AM53-R53 -> 0 | BI53: =AN53-S53 -> 0 | ... BU53: =AZ53-AE53 -> 60 | BW53: 0 | BX53: 0 | BY53: 0 | BZ53: 0 | CA53: =SUM(BW53:BZ53) -> 0 | CB53: 0 | CC53: 0 | CD53: 28 | CE53: 94 | CF53: =SUM(CB53:CE53) -> 122 | CK53: =SUM(CG53:CJ53) -> 0 | CN53: 0 | CO53: 0 | CP53: =SUM(CL53:CO53) -> 0 | CR53: =BW53-AG53 -> 0 | CS53: =BX53-AH53 -> 0 | CT53: =BY53-AI53 -> 0 | CU53: =BZ53-AJ53 -> 0 | CV53: =CA53-AK53 -> 0 | CW53: =CB53-AL53 -> 0 | CX53: =CC53-AM53 -> 0 | CY53: =CD53-AN53 -> 0 | ... DK53: =CP53-AZ53 -> -100
A54: =CONCATENATE(C54,"P") -> 186015024P | B54: =CONCATENATE(C54,"C") -> 186015024C | C54: 186015024 | D54: ACQUITY UPLC PROCESS SAMPLE MANAGER | E54: MIL (US31) | F54: LC | G54: PATROL | H54: Injectors | I54: 36090.78 | J54: Linda Trautwein | L54: 1 | M54: 0 | N54: 4 | O54: 5 | P54: =SUM(L54:O54) -> 10 | Q54: 2 | R54: 0 | S54: 3 | T54: 0 | U54: =SUM(Q54:T54) -> 5 | V54: 0 | W54: 0 | X54: 0 | Y54: 0 | Z54: =SUM(V54:Y54) -> 0 | AA54: 0 | AB54: 0 | AC54: 0 | AD54: 0 | AE54: =SUM(AA54:AD54) -> 0 | AG54: =VLOOKUP($A54,MasterData,27,FALSE) -> 1 | AH54: =VLOOKUP($A54,MasterData,28,FALSE) -> 0 | AI54: =VLOOKUP($A54,MasterData,29,FALSE) -> 4 | AJ54: =VLOOKUP($A54,MasterData,30,FALSE) -> 5 | AK54: =SUM(AG54:AJ54) -> 10 | AL54: =VLOOKUP($A54,MasterData,32,FALSE) -> 2 | AM54: =VLOOKUP($A54,MasterData,33,FALSE) -> 0 | AN54: =VLOOKUP($A54,MasterData,34,FALSE) -> 3 | AO54: =VLOOKUP($A54,MasterData,35,FALSE) -> 0 | AP54: =SUM(AL54:AO54) -> 5 | AQ54: =VLOOKUP($A54,MasterData,37,FALSE) -> 0 | AR54: =VLOOKUP($A54,MasterData,38,FALSE) -> 0 | AS54: =VLOOKUP($A54,MasterData,39,FALSE) -> 0 | AT54: =VLOOKUP($A54,MasterData,40,FALSE) -> 0 | AU54: =SUM(AQ54:AT54) -> 0 | AV54: =VLOOKUP($A54,MasterData,42,FALSE) -> 0 | AW54: =VLOOKUP($A54,MasterData,43,FALSE) -> 0 | AX54: =VLOOKUP($A54,MasterData,44,FALSE) -> 0 | AY54: =VLOOKUP($A54,MasterData,45,FALSE) -> 0 | AZ54: =SUM(AV54:AY54) -> 0 | BB54: =AG54-L54 -> 0 | BC54: =AH54-M54 -> 0 | BD54: =AI54-N54 -> 0 | BE54: =AJ54-O54 -> 0 | BF54: =AK54-P54 -> 0 | BG54: =AL54-Q54 -> 0 | BH54: =AM54-R54 -> 0 | BI54: =AN54-S54 -> 0 | ... BU54: =AZ54-AE54 -> 0 | BW54: 1 | BX54: 0 | BY54: 4 | BZ54: 5 | CA54: =SUM(BW54:BZ54) -> 10 | CB54: 2 | CC54: 0 | CD54: 3 | CE54: 0 | CF54: =SUM(CB54:CE54) -> 5 | CK54: =SUM(CG54:CJ54) -> 0 | CN54: 0 | CO54: 0 | CP54: =SUM(CL54:CO54) -> 0 | CR54: =BW54-AG54 -> 0 | CS54: =BX54-AH54 -> 0 | CT54: =BY54-AI54 -> 0 | CU54: =BZ54-AJ54 -> 0 | CV54: =CA54-AK54 -> 0 | CW54: =CB54-AL54 -> 0 | CX54: =CC54-AM54 -> 0 | CY54: =CD54-AN54 -> 0 | ... DK54: =CP54-AZ54 -> 0
A55: =CONCATENATE(C55,"P") -> 186015064P | B55: =CONCATENATE(C55,"C") -> 186015064C | C55: 186015064 | D55: ACQUITY UPLC Process Sample Mrg. w/PDP | E55: MIL (US31) | F55: LC | G55: PATROL | H55: Injectors | I55: 36090.78 | J55: Linda Trautwein | L55: 0 | M55: 0 | N55: 0 | O55: 0 | P55: =SUM(L55:O55) -> 0 | Q55: 0 | R55: 0 | S55: 1 | T55: 4 | U55: =SUM(Q55:T55) -> 5 | V55: 6 | W55: 6 | X55: 6 | Y55: 6 | Z55: =SUM(V55:Y55) -> 24 | AA55: 0 | AB55: 0 | AC55: 0 | AD55: 0 | AE55: =SUM(AA55:AD55) -> 0 | AG55: =VLOOKUP($A55,MasterData,27,FALSE) -> 1 | AH55: =VLOOKUP($A55,MasterData,28,FALSE) -> 0 | AI55: =VLOOKUP($A55,MasterData,29,FALSE) -> 0 | AJ55: =VLOOKUP($A55,MasterData,30,FALSE) -> 0 | AK55: =SUM(AG55:AJ55) -> 1 | AL55: =VLOOKUP($A55,MasterData,32,FALSE) -> 0 | AM55: =VLOOKUP($A55,MasterData,33,FALSE) -> 0 | AN55: =VLOOKUP($A55,MasterData,34,FALSE) -> 1 | AO55: =VLOOKUP($A55,MasterData,35,FALSE) -> 4 | AP55: =SUM(AL55:AO55) -> 5 | AQ55: =VLOOKUP($A55,MasterData,37,FALSE) -> 6 | AR55: =VLOOKUP($A55,MasterData,38,FALSE) -> 6 | AS55: =VLOOKUP($A55,MasterData,39,FALSE) -> 6 | AT55: =VLOOKUP($A55,MasterData,40,FALSE) -> 6 | AU55: =SUM(AQ55:AT55) -> 24 | AV55: =VLOOKUP($A55,MasterData,42,FALSE) -> 5 | AW55: =VLOOKUP($A55,MasterData,43,FALSE) -> 5 | AX55: =VLOOKUP($A55,MasterData,44,FALSE) -> 0 | AY55: =VLOOKUP($A55,MasterData,45,FALSE) -> 0 | AZ55: =SUM(AV55:AY55) -> 10 | BB55: =AG55-L55 -> 1 | BC55: =AH55-M55 -> 0 | BD55: =AI55-N55 -> 0 | BE55: =AJ55-O55 -> 0 | BF55: =AK55-P55 -> 1 | BG55: =AL55-Q55 -> 0 | BH55: =AM55-R55 -> 0 | BI55: =AN55-S55 -> 0 | ... BU55: =AZ55-AE55 -> 10 | BW55: 0 | BX55: 0 | BY55: 0 | BZ55: 0 | CA55: =SUM(BW55:BZ55) -> 0 | CB55: 0 | CC55: 0 | CD55: 1 | CE55: 4 | CF55: =SUM(CB55:CE55) -> 5 | CK55: =SUM(CG55:CJ55) -> 0 | CN55: 0 | CO55: 0 | CP55: =SUM(CL55:CO55) -> 0 | CR55: =BW55-AG55 -> -1 | CS55: =BX55-AH55 -> 0 | CT55: =BY55-AI55 -> 0 | CU55: =BZ55-AJ55 -> 0 | CV55: =CA55-AK55 -> -1 | CW55: =CB55-AL55 -> 0 | CX55: =CC55-AM55 -> 0 | CY55: =CD55-AN55 -> 0 | ... DK55: =CP55-AZ55 -> -10
A56: =CONCATENATE(C56,"P") -> 186015027P | B56: =CONCATENATE(C56,"C") -> 186015027C | C56: 186015027 | D56: ACQUITY UPLC ELSD w/Nebulizer | E56: MIL (US31) | F56: LC | G56: ACQUITY Common Modules | H56: Detectors | I56: 5492.31 | J56: Paul Brusco | L56: 46 | M56: 55 | N56: 45 | O56: 40 | P56: =SUM(L56:O56) -> 186 | Q56: 26 | R56: 61 | S56: 45 | T56: 44 | U56: =SUM(Q56:T56) -> 176 | V56: 45 | W56: 50 | X56: 45 | Y56: 55 | Z56: =SUM(V56:Y56) -> 195 | AA56: 40 | AB56: 0 | AC56: 0 | AD56: 0 | AE56: =SUM(AA56:AD56) -> 40 | AG56: =VLOOKUP($A56,MasterData,27,FALSE) -> 46 | AH56: =VLOOKUP($A56,MasterData,28,FALSE) -> 55 | AI56: =VLOOKUP($A56,MasterData,29,FALSE) -> 45 | AJ56: =VLOOKUP($A56,MasterData,30,FALSE) -> 40 | AK56: =SUM(AG56:AJ56) -> 186 | AL56: =VLOOKUP($A56,MasterData,32,FALSE) -> 26 | AM56: =VLOOKUP($A56,MasterData,33,FALSE) -> 61 | AN56: =VLOOKUP($A56,MasterData,34,FALSE) -> 45 | AO56: =VLOOKUP($A56,MasterData,35,FALSE) -> 44 | AP56: =SUM(AL56:AO56) -> 176 | AQ56: =VLOOKUP($A56,MasterData,37,FALSE) -> 55 | AR56: =VLOOKUP($A56,MasterData,38,FALSE) -> 50 | AS56: =VLOOKUP($A56,MasterData,39,FALSE) -> 45 | AT56: =VLOOKUP($A56,MasterData,40,FALSE) -> 50 | AU56: =SUM(AQ56:AT56) -> 200 | AV56: =VLOOKUP($A56,MasterData,42,FALSE) -> 40 | AW56: =VLOOKUP($A56,MasterData,43,FALSE) -> 40 | AX56: =VLOOKUP($A56,MasterData,44,FALSE) -> 0 | AY56: =VLOOKUP($A56,MasterData,45,FALSE) -> 0 | AZ56: =SUM(AV56:AY56) -> 80 | BB56: =AG56-L56 -> 0 | BC56: =AH56-M56 -> 0 | BD56: =AI56-N56 -> 0 | BE56: =AJ56-O56 -> 0 | BF56: =AK56-P56 -> 0 | BG56: =AL56-Q56 -> 0 | BH56: =AM56-R56 -> 0 | BI56: =AN56-S56 -> 0 | ... BU56: =AZ56-AE56 -> 40 | BW56: 46 | BX56: 55 | BY56: 45 | BZ56: 40 | CA56: =SUM(BW56:BZ56) -> 186 | CB56: 26 | CC56: 61 | CD56: 45 | CE56: 44 | CF56: =SUM(CB56:CE56) -> 176 | CK56: =SUM(CG56:CJ56) -> 0 | CN56: 0 | CO56: 0 | CP56: =SUM(CL56:CO56) -> 0 | CR56: =BW56-AG56 -> 0 | CS56: =BX56-AH56 -> 0 | CT56: =BY56-AI56 -> 0 | CU56: =BZ56-AJ56 -> 0 | CV56: =CA56-AK56 -> 0 | CW56: =CB56-AL56 -> 0 | CX56: =CC56-AM56 -> 0 | CY56: =CD56-AN56 -> 0 | ... DK56: =CP56-AZ56 -> -80
A57: =CONCATENATE(C57,"P") -> 186015029P | B57: =CONCATENATE(C57,"C") -> 186015029C | C57: 186015029 | D57: ACQUITY UPLC Fluorescence Detector | E57: WPPL (SG20) | F57: LC | G57: ACQUITY Common Modules | H57: Detectors | I57: 4943.16 | J57: Ee Ling Lim | L57: 100 | M57: 151 | N57: 160 | O57: 150 | P57: =SUM(L57:O57) -> 561 | Q57: 232 | R57: 78 | S57: 110 | T57: 92 | U57: =SUM(Q57:T57) -> 512 | V57: 108 | W57: 160 | X57: 160 | Y57: 150 | Z57: =SUM(V57:Y57) -> 578 | AA57: 0 | AB57: 0 | AC57: 0 | AD57: 0 | AE57: =SUM(AA57:AD57) -> 0 | AG57: =VLOOKUP($A57,MasterData,27,FALSE) -> 100 | AH57: =VLOOKUP($A57,MasterData,28,FALSE) -> 151 | AI57: =VLOOKUP($A57,MasterData,29,FALSE) -> 160 | AJ57: =VLOOKUP($A57,MasterData,30,FALSE) -> 150 | AK57: =SUM(AG57:AJ57) -> 561 | AL57: =VLOOKUP($A57,MasterData,32,FALSE) -> 232 | AM57: =VLOOKUP($A57,MasterData,33,FALSE) -> 78 | AN57: =VLOOKUP($A57,MasterData,34,FALSE) -> 110 | AO57: =VLOOKUP($A57,MasterData,35,FALSE) -> 92 | AP57: =SUM(AL57:AO57) -> 512 | AQ57: =VLOOKUP($A57,MasterData,37,FALSE) -> 140 | AR57: =VLOOKUP($A57,MasterData,38,FALSE) -> 150 | AS57: =VLOOKUP($A57,MasterData,39,FALSE) -> 140 | AT57: =VLOOKUP($A57,MasterData,40,FALSE) -> 155 | AU57: =SUM(AQ57:AT57) -> 585 | AV57: =VLOOKUP($A57,MasterData,42,FALSE) -> 130 | AW57: =VLOOKUP($A57,MasterData,43,FALSE) -> 130 | AX57: =VLOOKUP($A57,MasterData,44,FALSE) -> 0 | AY57: =VLOOKUP($A57,MasterData,45,FALSE) -> 0 | AZ57: =SUM(AV57:AY57) -> 260 | BB57: =AG57-L57 -> 0 | BC57: =AH57-M57 -> 0 | BD57: =AI57-N57 -> 0 | BE57: =AJ57-O57 -> 0 | BF57: =AK57-P57 -> 0 | BG57: =AL57-Q57 -> 0 | BH57: =AM57-R57 -> 0 | BI57: =AN57-S57 -> 0 | ... BU57: =AZ57-AE57 -> 260 | BW57: 100 | BX57: 151 | BY57: 160 | BZ57: 150 | CA57: =SUM(BW57:BZ57) -> 561 | CB57: 232 | CC57: 78 | CD57: 110 | CE57: 92 | CF57: =SUM(CB57:CE57) -> 512 | CK57: =SUM(CG57:CJ57) -> 0 | CN57: 0 | CO57: 0 | CP57: =SUM(CL57:CO57) -> 0 | CR57: =BW57-AG57 -> 0 | CS57: =BX57-AH57 -> 0 | CT57: =BY57-AI57 -> 0 | CU57: =BZ57-AJ57 -> 0 | CV57: =CA57-AK57 -> 0 | CW57: =CB57-AL57 -> 0 | CX57: =CC57-AM57 -> 0 | CY57: =CD57-AN57 -> 0 | ... DK57: =CP57-AZ57 -> -260
A58: =CONCATENATE(C58,"P") -> 186015031P | B58: =CONCATENATE(C58,"C") -> 186015031C | C58: 186015031 | D58: ACQUITY UPLC TUV Detector TC | E58: WPPL (SG20) | F58: LC | G58: ACQUITY Common Modules | H58: Detectors | I58: 2296.02 | J58: Ee Ling Lim | L58: 268 | M58: 305 | N58: 305 | O58: 290 | P58: =SUM(L58:O58) -> 1168 | Q58: 200 | R58: 250 | S58: 240 | T58: 280 | U58: =SUM(Q58:T58) -> 970 | V58: 236 | W58: 275 | X58: 275 | Y58: 290 | Z58: =SUM(V58:Y58) -> 1076 | AA58: 0 | AB58: 0 | AC58: 0 | AD58: 0 | AE58: =SUM(AA58:AD58) -> 0 | AG58: =VLOOKUP($A58,MasterData,27,FALSE) -> 268 | AH58: =VLOOKUP($A58,MasterData,28,FALSE) -> 305 | AI58: =VLOOKUP($A58,MasterData,29,FALSE) -> 305 | AJ58: =VLOOKUP($A58,MasterData,30,FALSE) -> 290 | AK58: =SUM(AG58:AJ58) -> 1168 | AL58: =VLOOKUP($A58,MasterData,32,FALSE) -> 200 | AM58: =VLOOKUP($A58,MasterData,33,FALSE) -> 250 | AN58: =VLOOKUP($A58,MasterData,34,FALSE) -> 240 | AO58: =VLOOKUP($A58,MasterData,35,FALSE) -> 280 | AP58: =SUM(AL58:AO58) -> 970 | AQ58: =VLOOKUP($A58,MasterData,37,FALSE) -> 250 | AR58: =VLOOKUP($A58,MasterData,38,FALSE) -> 250 | AS58: =VLOOKUP($A58,MasterData,39,FALSE) -> 250 | AT58: =VLOOKUP($A58,MasterData,40,FALSE) -> 300 | AU58: =SUM(AQ58:AT58) -> 1050 | AV58: =VLOOKUP($A58,MasterData,42,FALSE) -> 230 | AW58: =VLOOKUP($A58,MasterData,43,FALSE) -> 240 | AX58: =VLOOKUP($A58,MasterData,44,FALSE) -> 0 | AY58: =VLOOKUP($A58,MasterData,45,FALSE) -> 0 | AZ58: =SUM(AV58:AY58) -> 470 | BB58: =AG58-L58 -> 0 | BC58: =AH58-M58 -> 0 | BD58: =AI58-N58 -> 0 | BE58: =AJ58-O58 -> 0 | BF58: =AK58-P58 -> 0 | BG58: =AL58-Q58 -> 0 | BH58: =AM58-R58 -> 0 | BI58: =AN58-S58 -> 0 | ... BU58: =AZ58-AE58 -> 470 | BW58: 268 | BX58: 305 | BY58: 305 | BZ58: 290 | CA58: =SUM(BW58:BZ58) -> 1168 | CB58: 200 | CC58: 250 | CD58: 240 | CE58: 280 | CF58: =SUM(CB58:CE58) -> 970 | CK58: =SUM(CG58:CJ58) -> 0 | CN58: 0 | CO58: 0 | CP58: =SUM(CL58:CO58) -> 0 | CR58: =BW58-AG58 -> 0 | CS58: =BX58-AH58 -> 0 | CT58: =BY58-AI58 -> 0 | CU58: =BZ58-AJ58 -> 0 | CV58: =CA58-AK58 -> 0 | CW58: =CB58-AL58 -> 0 | CX58: =CC58-AM58 -> 0 | CY58: =CD58-AN58 -> 0 | ... DK58: =CP58-AZ58 -> -470
