Workbook
Name GDT_List: 'DataVal Lists'!$B$3:$B$11
Name GDT_Ref: Reference!$G$5:$I$13

Sheet Old seal pack
B2: Title: | C2: Seal Pack Tester: Stream Width
B3: Description: | C3: Tolerance analysis of the 'stream width' of the old seal pack (289001994) as measured in the production Alliance seal pack tester
B4: Document Number: | C4: 721015406
B5: Author: | C5: Josh Burnett | M5: Impact Limit: | N5: 0.3
B6: Date: | C6: 43144 | M6: Sigma Tolerance: | N6: 3
A8: Notes:
A9: 1 | B9: All Dimensions assumed to be inches. Geometric conversion factors can be entered as a part of the 'Geometric Multiplier' | N9: ± Tolerance
A10: 2 | B10: The spreadsheets assumes a bilterateral tolerance unless a value is entered in the '(-) Tol' column | M10: =CONCATENATE("RSS (",N6,"σ):") -> RSS (3σ): | N10: =$N$6*SQRT(SUM(R28:R197)) -> 0.0048989795 | O10: =IF(COUNTIF(S28:S197,">="&N5)=0,"Valid","Not Valid") -> Not Valid | P10: =IF(O10="Valid","",CONCATENATE("Some dimensions in '",S27,"' exceed specified limit")) -> Some dimensions in 'Overall Variance % Impact' exceed specified limit
A11: 3 | B11: Statistical Distribution Factor: Enter 3.0, 4.5, 6.0 σ to account for the supplier process capability. Typically assumed to be 3σ. | M11: =CONCATENATE("Combination (",N6,"σ RSS <",N5*100,"%):") -> Combination (3σ RSS <30%): | N11: =N6*SQRT(SUMIFS(R28:R197,T28:T197,""))+SUMPRODUCT(L28:L197,N28:N197,O28:O197,--(T28:T197<>"")) -> 0.0048989795 | O11: =IF(COUNTIF(U28:U197,">="&N5)<>0,"Not Valid",IF(COUNTIF(U28:U197,">0")<4,"Not Valid","Valid")) -> Not Valid | P11: =IF(O11="Valid","",IF(COUNTIF(U28:U197,">"&N5)>0,"Selected dimensions must be below impact limit",IF(COUNTIFS(U28:U197,"<"&$N$5,U28:U197,">0")<=4,"Not enough dimensions to justify an RSS","Should be valid?"))) -> Selected dimensions must be below impact limit
A12: 4 | B12: Geometric Multiplier: Use this factor to account for rotational and projected-tilt tolerance effects | M12: Worst Case: | N12: =SUMPRODUCT(L28:L197,N28:N197,O28:O197) -> 0.01 | O12: Valid
A13: 5 | B13: A valid RSS study should have individual tolerances typically less than 35% variance and have 4 or more components
B17: Analysis Comments | I17: Results | N17: Recommendations
B18: The current limits for the tester are 62-104 steps, which are quite different than the results of this analysis. This analyis does not include the effects of the internal pressure generated during the test, and the resulting compression outwards of the two seals, increasing the 'stream width' measurement. Typical (actual) values for the 'stream width' measurement on the production seal pack tester are 98-100 steps, which is very close to the upper limit. | K18: Best Statistically Valid Tolerance: | L18: =INDEX(N10:N12,MATCH("Valid",O10:O12,0)) -> 0.01 | N18: See Recommendations on 'New seal pack' tab.
K20: Expected Value: | L20: =SUMPRODUCT(K28:K197,O28:O197) -> 0.112
K21: Upper Limit: | L21: =L20+L18 -> 0.122
K22: Lower Limit: | L22: =L20-L18 -> 0.102
K23: Upper Limit (steps): | L23: =L21/0.00125 -> 97.6
K24: Lower Limit (steps): | L24: =L22/0.00125 -> 81.6
A27: Activate/ Deactivate | B27: Item No. | C27: Item Description | D27: Drawing | E27: Rev. | F27: Pg. / Zone | G27: Dir (+/-) | H27: Nominal | I27: (+) Tol | J27: (-) Tol | K27: New Nominal | L27: Bilateral Tolerance | M27: Tolerance Symbol | N27: GD&T Multiplier | O27: Geometric Multiplier | P27: Statistical Distribution Factor ±σ | Q27: Deviation (σ) | R27: Variance (σ²) | S27: Overall Variance % Impact | T27: Use Worst Case? | U27: RSS Variance % Impact | V27: Running Total
A28: =IF(C28<>0,1,"") -> 1 | B28: =IFERROR(IF(C28<>"",MAX($B$27:$B27)+1,""),1) -> 1 | C28: High-pressure seal, height at ID | D28: WAT033276 | E28: 7 | F28: 2/A4 | G28: - | H28: 0.11 | I28: 0.003 | J28: =IF(I28="","",-I28) -> -0.003 | K28: =IF(H28="","",IF(J28="",H28,H28+(I28+J28)/2)*IF(G28="-",-1,1)) -> -0.11 | L28: =IF(I28="","",IF(J28<>"",(I28-J28)/2,I28)) -> 0.003 | M28: ± : Size or Position | N28: =IFERROR(VLOOKUP(LEFT(M28,SEARCH(" :",M28)-1),GDT_Ref,3,FALSE),"") -> 1 | O28: 1 | P28: 3 | Q28: =IF(L28="","",IFERROR(IF(A28=0,0,L28*N28*O28/P28),"")) -> 0.001 | R28: =IF(Q28<>"",Q28^2,"") -> 1e-06 | S28: =IFERROR(R28/SUM($R$28:$R$102),"") -> 0.375 | U28: =IFERROR(IF(T28="",R28,0)/SUMIFS($R$28:$R$197,$T$28:$T$197,""),"") -> 0.375 | V28: =IF(H28<>"",IF(G28="-",-1,1)*H28*O28+IF(ISNUMBER(V27),V27,0),"") -> -0.11
A29: =IF(C29<>0,1,"") -> 1 | B29: =IFERROR(IF(C29<>"",MAX($B$27:$B28)+1,""),1) -> 2 | C29: Top seal pack housing, boss height | D29: 405003890 | E29: F | F29: D5 | G29: - | H29: 0.07 | I29: 0.001 | J29: =IF(I29="","",-I29) -> -0.001 | K29: =IF(H29="","",IF(J29="",H29,H29+(I29+J29)/2)*IF(G29="-",-1,1)) -> -0.07 | L29: =IF(I29="","",IF(J29<>"",(I29-J29)/2,I29)) -> 0.001 | M29: ± : Size or Position | N29: =IFERROR(VLOOKUP(LEFT(M29,SEARCH(" :",M29)-1),GDT_Ref,3,FALSE),"") -> 1 | O29: 1 | P29: 3 | Q29: =IF(L29="","",IFERROR(IF(A29=0,0,L29*N29*O29/P29),"")) -> 0.00033333333 | R29: =IF(Q29<>"",Q29^2,"") -> 1.1111111e-07 | S29: =IFERROR(R29/SUM($R$28:$R$102),"") -> 0.041666667 | U29: =IFERROR(IF(T29="",R29,0)/SUMIFS($R$28:$R$197,$T$28:$T$197,""),"") -> 0.041666667 | V29: =IF(H29<>"",IF(G29="-",-1,1)*H29*O29+IF(ISNUMBER(V28),V28,0),"") -> -0.18
A30: =IF(C30<>0,1,"") -> 1 | B30: =IFERROR(IF(C30<>"",MAX($B$27:$B29)+1,""),1) -> 3 | C30: Middle seal pack housing, body thickness | D30: 405003942 | E30: E | F30: D5 | G30: + | H30: 0.472 | I30: 0.002 | J30: =IF(I30="","",-I30) -> -0.002 | K30: =IF(H30="","",IF(J30="",H30,H30+(I30+J30)/2)*IF(G30="-",-1,1)) -> 0.472 | L30: =IF(I30="","",IF(J30<>"",(I30-J30)/2,I30)) -> 0.002 | M30: ± : Size or Position | N30: =IFERROR(VLOOKUP(LEFT(M30,SEARCH(" :",M30)-1),GDT_Ref,3,FALSE),"") -> 1 | O30: 1 | P30: 3 | Q30: =IF(L30="","",IFERROR(IF(A30=0,0,L30*N30*O30/P30),"")) -> 0.00066666667 | R30: =IF(Q30<>"",Q30^2,"") -> 4.4444444e-07 | S30: =IFERROR(R30/SUM($R$28:$R$102),"") -> 0.16666667 | U30: =IFERROR(IF(T30="",R30,0)/SUMIFS($R$28:$R$197,$T$28:$T$197,""),"") -> 0.16666667 | V30: =IF(H30<>"",IF(G30="-",-1,1)*H30*O30+IF(ISNUMBER(V29),V29,0),"") -> 0.292
A31: =IF(C31<>0,1,"") -> 1 | B31: =IFERROR(IF(C31<>"",MAX($B$27:$B30)+1,""),1) -> 4 | C31: Bottom seal pack housing, boss height | D31: 405003939 | E31: E | F31: D5 | G31: - | H31: 0.07 | I31: 0.001 | J31: =IF(I31="","",-I31) -> -0.001 | K31: =IF(H31="","",IF(J31="",H31,H31+(I31+J31)/2)*IF(G31="-",-1,1)) -> -0.07 | L31: =IF(I31="","",IF(J31<>"",(I31-J31)/2,I31)) -> 0.001 | M31: ± : Size or Position | N31: =IFERROR(VLOOKUP(LEFT(M31,SEARCH(" :",M31)-1),GDT_Ref,3,FALSE),"") -> 1 | O31: 1 | P31: 3 | Q31: =IF(L31="","",IFERROR(IF(A31=0,0,L31*N31*O31/P31),"")) -> 0.00033333333 | R31: =IF(Q31<>"",Q31^2,"") -> 1.1111111e-07 | S31: =IFERROR(R31/SUM($R$28:$R$102),"") -> 0.041666667 | U31: =IFERROR(IF(T31="",R31,0)/SUMIFS($R$28:$R$197,$T$28:$T$197,""),"") -> 0.041666667 | V31: =IF(H31<>"",IF(G31="-",-1,1)*H31*O31+IF(ISNUMBER(V30),V30,0),"") -> 0.222
A32: =IF(C32<>0,1,"") -> 1 | B32: =IFERROR(IF(C32<>"",MAX($B$27:$B31)+1,""),1) -> 5 | C32: High-pressure seal, height at ID | D32: WAT033276 | E32: 7 | F32: 2/A4 | G32: - | H32: 0.11 | I32: 0.003 | J32: =IF(I32="","",-I32) -> -0.003 | K32: =IF(H32="","",IF(J32="",H32,H32+(I32+J32)/2)*IF(G32="-",-1,1)) -> -0.11 | L32: =IF(I32="","",IF(J32<>"",(I32-J32)/2,I32)) -> 0.003 | M32: ± : Size or Position | N32: =IFERROR(VLOOKUP(LEFT(M32,SEARCH(" :",M32)-1),GDT_Ref,3,FALSE),"") -> 1 | O32: 1 | P32: 3 | Q32: =IF(L32="","",IFERROR(IF(A32=0,0,L32*N32*O32/P32),"")) -> 0.001 | R32: =IF(Q32<>"",Q32^2,"") -> 1e-06 | S32: =IFERROR(R32/SUM($R$28:$R$102),"") -> 0.375 | U32: =IFERROR(IF(T32="",R32,0)/SUMIFS($R$28:$R$197,$T$28:$T$197,""),"") -> 0.375 | V32: =IF(H32<>"",IF(G32="-",-1,1)*H32*O32+IF(ISNUMBER(V31),V31,0),"") -> 0.112
A33: =IF(C33<>0,1,"") -> 1 | B33: =IFERROR(IF(C33<>"",MAX($B$27:$B32)+1,""),1) -> 6 | C33: Needle, side port diameter | D33: 405001338 | E33: B | F33: D6 | G33: - | H33: 0.015 | I33: 0.002 | J33: =IF(I33="","",-I33) -> -0.002 | K33: =IF(H33="","",IF(J33="",H33,H33+(I33+J33)/2)*IF(G33="-",-1,1)) -> -0.015 | L33: =IF(I33="","",IF(J33<>"",(I33-J33)/2,I33)) -> 0.002 | M33: ± : Size or Position | N33: =IFERROR(VLOOKUP(LEFT(M33,SEARCH(" :",M33)-1),GDT_Ref,3,FALSE),"") -> 1 | O33: 0 | P33: 3 | Q33: =IF(L33="","",IFERROR(IF(A33=0,0,L33*N33*O33/P33),"")) -> 0 | R33: =IF(Q33<>"",Q33^2,"") -> 0 | S33: =IFERROR(R33/SUM($R$28:$R$102),"") -> 0 | U33: =IFERROR(IF(T33="",R33,0)/SUMIFS($R$28:$R$197,$T$28:$T$197,""),"") -> 0 | V33: =IF(H33<>"",IF(G33="-",-1,1)*H33*O33+IF(ISNUMBER(V32),V32,0),"") -> 0.112
A34: =IF(C34<>0,1,"") | B34: =IFERROR(IF(C34<>"",MAX($B$27:$B33)+1,""),1) | J34: =IF(I34="","",-I34) | K34: =IF(H34="","",IF(J34="",H34,H34+(I34+J34)/2)*IF(G34="-",-1,1)) | L34: =IF(I34="","",IF(J34<>"",(I34-J34)/2,I34)) | N34: =IFERROR(VLOOKUP(LEFT(M34,SEARCH(" :",M34)-1),GDT_Ref,3,FALSE),"") | Q34: =IF(L34="","",IFERROR(IF(A34=0,0,L34*N34*O34/P34),"")) | R34: =IF(Q34<>"",Q34^2,"") | S34: =IFERROR(R34/SUM($R$28:$R$102),"") | U34: =IFERROR(IF(T34="",R34,0)/SUMIFS($R$28:$R$197,$T$28:$T$197,""),"") | V34: =IF(H34<>"",IF(G34="-",-1,1)*H34*O34+IF(ISNUMBER(V33),V33,0),"")
A35: =IF(C35<>0,1,"") | B35: =IFERROR(IF(C35<>"",MAX($B$27:$B34)+1,""),1) | J35: =IF(I35="","",-I35) | K35: =IF(H35="","",IF(J35="",H35,H35+(I35+J35)/2)*IF(G35="-",-1,1)) | L35: =IF(I35="","",IF(J35<>"",(I35-J35)/2,I35)) | N35: =IFERROR(VLOOKUP(LEFT(M35,SEARCH(" :",M35)-1),GDT_Ref,3,FALSE),"") | Q35: =IF(L35="","",IFERROR(IF(A35=0,0,L35*N35*O35/P35),"")) | R35: =IF(Q35<>"",Q35^2,"") | S35: =IFERROR(R35/SUM($R$28:$R$102),"") | U35: =IFERROR(IF(T35="",R35,0)/SUMIFS($R$28:$R$197,$T$28:$T$197,""),"") | V35: =IF(H35<>"",IF(G35="-",-1,1)*H35*O35+IF(ISNUMBER(V34),V34,0),"")
A36: =IF(C36<>0,1,"") | B36: =IFERROR(IF(C36<>"",MAX($B$27:$B35)+1,""),1) | J36: =IF(I36="","",-I36) | K36: =IF(H36="","",IF(J36="",H36,H36+(I36+J36)/2)*IF(G36="-",-1,1)) | L36: =IF(I36="","",IF(J36<>"",(I36-J36)/2,I36)) | N36: =IFERROR(VLOOKUP(LEFT(M36,SEARCH(" :",M36)-1),GDT_Ref,3,FALSE),"") | Q36: =IF(L36="","",IFERROR(IF(A36=0,0,L36*N36*O36/P36),"")) | R36: =IF(Q36<>"",Q36^2,"") | S36: =IFERROR(R36/SUM($R$28:$R$102),"") | U36: =IFERROR(IF(T36="",R36,0)/SUMIFS($R$28:$R$197,$T$28:$T$197,""),"") | V36: =IF(H36<>"",IF(G36="-",-1,1)*H36*O36+IF(ISNUMBER(V35),V35,0),"")
A37: =IF(C37<>0,1,"") | B37: =IFERROR(IF(C37<>"",MAX($B$27:$B36)+1,""),1) | J37: =IF(I37="","",-I37) | K37: =IF(H37="","",IF(J37="",H37,H37+(I37+J37)/2)*IF(G37="-",-1,1)) | L37: =IF(I37="","",IF(J37<>"",(I37-J37)/2,I37)) | N37: =IFERROR(VLOOKUP(LEFT(M37,SEARCH(" :",M37)-1),GDT_Ref,3,FALSE),"") | Q37: =IF(L37="","",IFERROR(IF(A37=0,0,L37*N37*O37/P37),"")) | R37: =IF(Q37<>"",Q37^2,"") | S37: =IFERROR(R37/SUM($R$28:$R$102),"") | U37: =IFERROR(IF(T37="",R37,0)/SUMIFS($R$28:$R$197,$T$28:$T$197,""),"") | V37: =IF(H37<>"",IF(G37="-",-1,1)*H37*O37+IF(ISNUMBER(V36),V36,0),"")
A38: =IF(C38<>0,1,"") | B38: =IFERROR(IF(C38<>"",MAX($B$27:$B37)+1,""),1) | J38: =IF(I38="","",-I38) | K38: =IF(H38="","",IF(J38="",H38,H38+(I38+J38)/2)*IF(G38="-",-1,1)) | L38: =IF(I38="","",IF(J38<>"",(I38-J38)/2,I38)) | N38: =IFERROR(VLOOKUP(LEFT(M38,SEARCH(" :",M38)-1),GDT_Ref,3,FALSE),"") | Q38: =IF(L38="","",IFERROR(IF(A38=0,0,L38*N38*O38/P38),"")) | R38: =IF(Q38<>"",Q38^2,"") | S38: =IFERROR(R38/SUM($R$28:$R$102),"") | U38: =IFERROR(IF(T38="",R38,0)/SUMIFS($R$28:$R$197,$T$28:$T$197,""),"") | V38: =IF(H38<>"",IF(G38="-",-1,1)*H38*O38+IF(ISNUMBER(V37),V37,0),"")
A39: =IF(C39<>0,1,"") | B39: =IFERROR(IF(C39<>"",MAX($B$27:$B38)+1,""),1) | J39: =IF(I39="","",-I39) | K39: =IF(H39="","",IF(J39="",H39,H39+(I39+J39)/2)*IF(G39="-",-1,1)) | L39: =IF(I39="","",IF(J39<>"",(I39-J39)/2,I39)) | N39: =IFERROR(VLOOKUP(LEFT(M39,SEARCH(" :",M39)-1),GDT_Ref,3,FALSE),"") | Q39: =IF(L39="","",IFERROR(IF(A39=0,0,L39*N39*O39/P39),"")) | R39: =IF(Q39<>"",Q39^2,"") | S39: =IFERROR(R39/SUM($R$28:$R$102),"") | U39: =IFERROR(IF(T39="",R39,0)/SUMIFS($R$28:$R$197,$T$28:$T$197,""),"") | V39: =IF(H39<>"",IF(G39="-",-1,1)*H39*O39+IF(ISNUMBER(V38),V38,0),"")
A40: =IF(C40<>0,1,"") | B40: =IFERROR(IF(C40<>"",MAX($B$27:$B39)+1,""),1) | J40: =IF(I40="","",-I40) | K40: =IF(H40="","",IF(J40="",H40,H40+(I40+J40)/2)*IF(G40="-",-1,1)) | L40: =IF(I40="","",IF(J40<>"",(I40-J40)/2,I40)) | N40: =IFERROR(VLOOKUP(LEFT(M40,SEARCH(" :",M40)-1),GDT_Ref,3,FALSE),"") | Q40: =IF(L40="","",IFERROR(IF(A40=0,0,L40*N40*O40/P40),"")) | R40: =IF(Q40<>"",Q40^2,"") | S40: =IFERROR(R40/SUM($R$28:$R$102),"") | U40: =IFERROR(IF(T40="",R40,0)/SUMIFS($R$28:$R$197,$T$28:$T$197,""),"") | V40: =IF(H40<>"",IF(G40="-",-1,1)*H40*O40+IF(ISNUMBER(V39),V39,0),"")
A41: =IF(C41<>0,1,"") | B41: =IFERROR(IF(C41<>"",MAX($B$27:$B40)+1,""),1) | J41: =IF(I41="","",-I41) | K41: =IF(H41="","",IF(J41="",H41,H41+(I41+J41)/2)*IF(G41="-",-1,1)) | L41: =IF(I41="","",IF(J41<>"",(I41-J41)/2,I41)) | N41: =IFERROR(VLOOKUP(LEFT(M41,SEARCH(" :",M41)-1),GDT_Ref,3,FALSE),"") | Q41: =IF(L41="","",IFERROR(IF(A41=0,0,L41*N41*O41/P41),"")) | R41: =IF(Q41<>"",Q41^2,"") | S41: =IFERROR(R41/SUM($R$28:$R$102),"") | U41: =IFERROR(IF(T41="",R41,0)/SUMIFS($R$28:$R$197,$T$28:$T$197,""),"") | V41: =IF(H41<>"",IF(G41="-",-1,1)*H41*O41+IF(ISNUMBER(V40),V40,0),"")
A42: =IF(C42<>0,1,"") | B42: =IFERROR(IF(C42<>"",MAX($B$27:$B41)+1,""),1) | J42: =IF(I42="","",-I42) | K42: =IF(H42="","",IF(J42="",H42,H42+(I42+J42)/2)*IF(G42="-",-1,1)) | L42: =IF(I42="","",IF(J42<>"",(I42-J42)/2,I42)) | N42: =IFERROR(VLOOKUP(LEFT(M42,SEARCH(" :",M42)-1),GDT_Ref,3,FALSE),"") | Q42: =IF(L42="","",IFERROR(IF(A42=0,0,L42*N42*O42/P42),"")) | R42: =IF(Q42<>"",Q42^2,"") | S42: =IFERROR(R42/SUM($R$28:$R$102),"") | U42: =IFERROR(IF(T42="",R42,0)/SUMIFS($R$28:$R$197,$T$28:$T$197,""),"") | V42: =IF(H42<>"",IF(G42="-",-1,1)*H42*O42+IF(ISNUMBER(V41),V41,0),"")
A43: =IF(C43<>0,1,"") | B43: =IFERROR(IF(C43<>"",MAX($B$27:$B42)+1,""),1) | J43: =IF(I43="","",-I43) | K43: =IF(H43="","",IF(J43="",H43,H43+(I43+J43)/2)*IF(G43="-",-1,1)) | L43: =IF(I43="","",IF(J43<>"",(I43-J43)/2,I43)) | N43: =IFERROR(VLOOKUP(LEFT(M43,SEARCH(" :",M43)-1),GDT_Ref,3,FALSE),"") | Q43: =IF(L43="","",IFERROR(IF(A43=0,0,L43*N43*O43/P43),"")) | R43: =IF(Q43<>"",Q43^2,"") | S43: =IFERROR(R43/SUM($R$28:$R$102),"") | U43: =IFERROR(IF(T43="",R43,0)/SUMIFS($R$28:$R$197,$T$28:$T$197,""),"") | V43: =IF(H43<>"",IF(G43="-",-1,1)*H43*O43+IF(ISNUMBER(V42),V42,0),"")
A44: =IF(C44<>0,1,"") | B44: =IFERROR(IF(C44<>"",MAX($B$27:$B43)+1,""),1) | J44: =IF(I44="","",-I44) | K44: =IF(H44="","",IF(J44="",H44,H44+(I44+J44)/2)*IF(G44="-",-1,1)) | L44: =IF(I44="","",IF(J44<>"",(I44-J44)/2,I44)) | N44: =IFERROR(VLOOKUP(LEFT(M44,SEARCH(" :",M44)-1),GDT_Ref,3,FALSE),"") | Q44: =IF(L44="","",IFERROR(IF(A44=0,0,L44*N44*O44/P44),"")) | R44: =IF(Q44<>"",Q44^2,"") | S44: =IFERROR(R44/SUM($R$28:$R$102),"") | U44: =IFERROR(IF(T44="",R44,0)/SUMIFS($R$28:$R$197,$T$28:$T$197,""),"") | V44: =IF(H44<>"",IF(G44="-",-1,1)*H44*O44+IF(ISNUMBER(V43),V43,0),"")
A45: =IF(C45<>0,1,"") | B45: =IFERROR(IF(C45<>"",MAX($B$27:$B44)+1,""),1) | J45: =IF(I45="","",-I45) | K45: =IF(H45="","",IF(J45="",H45,H45+(I45+J45)/2)*IF(G45="-",-1,1)) | L45: =IF(I45="","",IF(J45<>"",(I45-J45)/2,I45)) | N45: =IFERROR(VLOOKUP(LEFT(M45,SEARCH(" :",M45)-1),GDT_Ref,3,FALSE),"") | Q45: =IF(L45="","",IFERROR(IF(A45=0,0,L45*N45*O45/P45),"")) | R45: =IF(Q45<>"",Q45^2,"") | S45: =IFERROR(R45/SUM($R$28:$R$102),"") | U45: =IFERROR(IF(T45="",R45,0)/SUMIFS($R$28:$R$197,$T$28:$T$197,""),"") | V45: =IF(H45<>"",IF(G45="-",-1,1)*H45*O45+IF(ISNUMBER(V44),V44,0),"")
... A197: =IF(C197<>0,1,"") | B197: =IFERROR(IF(C197<>"",MAX($B$27:$B196)+1,""),1) | J197: =IF(I197="","",-I197) | K197: =IF(H197="","",IF(J197="",H197,H197+(I197+J197)/2)*IF(G197="-",-1,1)) | L197: =IF(I197="","",IF(J197<>"",(I197-J197)/2,I197)) | N197: =IFERROR(VLOOKUP(LEFT(M197,SEARCH(" :",M197)-1),GDT_Ref,3,FALSE),"") | Q197: =IF(L197="","",IFERROR(IF(A197=0,0,L197*N197*O197/P197),"")) | R197: =IF(Q197<>"",Q197^2,"") | S197: =IFERROR(R197/SUM($R$28:$R$102),"") | U197: =IFERROR(IF(T197="",R197,0)/SUMIFS($R$28:$R$197,$T$28:$T$197,""),"") | V197: =IF(H197<>"",IF(G197="-",-1,1)*H197*O197+IF(ISNUMBER(V196),V196,0),"")

Sheet New seal pack
B2: Title: | C2: Seal Pack Tester: Stream Width
B3: Description: | C3: Tolerance analysis of the 'stream width' of the new seal pack (289012412) as measured in the production Alliance seal pack tester
B4: Document Number: | C4: 721015406
B5: Author: | C5: Josh Burnett | M5: Impact Limit: | N5: 0.3
B6: Date: | C6: 43144 | M6: Sigma Tolerance: | N6: 3
A8: Notes:
A9: 1 | B9: All Dimensions assumed to be inches. Geometric conversion factors can be entered as a part of the 'Geometric Multiplier' | N9: ± Tolerance
A10: 2 | B10: The spreadsheets assumes a bilterateral tolerance unless a value is entered in the '(-) Tol' column | M10: =CONCATENATE("RSS (",N6,"σ):") -> RSS (3σ): | N10: =$N$6*SQRT(SUM(R28:R197)) -> 0.0067082039 | O10: =IF(COUNTIF(S28:S197,">="&N5)=0,"Valid","Not Valid") -> Not Valid | P10: =IF(O10="Valid","",CONCATENATE("Some dimensions in '",S27,"' exceed specified limit")) -> Some dimensions in 'Overall Variance % Impact' exceed specified limit
A11: 3 | B11: Statistical Distribution Factor: Enter 3.0, 4.5, 6.0 σ to account for the supplier process capability. Typically assumed to be 3σ. | M11: =CONCATENATE("Combination (",N6,"σ RSS <",N5*100,"%):") -> Combination (3σ RSS <30%): | N11: =N6*SQRT(SUMIFS(R28:R197,T28:T197,""))+SUMPRODUCT(L28:L197,N28:N197,O28:O197,--(T28:T197<>"")) -> 0.0067082039 | O11: =IF(COUNTIF(U28:U197,">="&N5)<>0,"Not Valid",IF(COUNTIF(U28:U197,">0")<4,"Not Valid","Valid")) -> Not Valid | P11: =IF(O11="Valid","",IF(COUNTIF(U28:U197,">"&N5)>0,"Selected dimensions must be below impact limit",IF(COUNTIFS(U28:U197,"<"&$N$5,U28:U197,">0")<=4,"Not enough dimensions to justify an RSS","Should be valid?"))) -> Selected dimensions must be below impact limit
A12: 4 | B12: Geometric Multiplier: Use this factor to account for rotational and projected-tilt tolerance effects | M12: Worst Case: | N12: =SUMPRODUCT(L28:L197,N28:N197,O28:O197) -> 0.013 | O12: Valid
A13: 5 | B13: A valid RSS study should have individual tolerances typically less than 35% variance and have 4 or more components
B17: Analysis Comments | I17: Results | N17: Recommendations
B18: This analyis does not include the effects of the internal pressure generated during the test, and the resulting compression outwards of the two seals, increasing the 'stream width' measurement. Typical (actual) values for the 'stream width' measurement on the production seal pack tester with the new seal pack are 108-110 steps, which is over the current upper limit. | K18: Best Statistically Valid Tolerance: | L18: =INDEX(N10:N12,MATCH("Valid",O10:O12,0)) -> 0.013 | N18: The current limits of the seal pack tester's 'stream width' measurement (62-104 steps) do not match the output of the tolerance analysis on the 'Old seal pack' tab, and the typical values of this test with the old seal pack are very close to the upper specification limit. The actual performance of the seal pack is not heavily sensitive to the 'stream width' measurement, so there is no pressing reason to keep the current specification limits in place. In order to accomodate the new seal pack design, and to have proper margin in the tester, we recommend changing the tester limits to a range of 85-125 steps. The overall width of this specification range is similar to the old range.
K20: Expected Value: | L20: =SUMPRODUCT(K28:K197,O28:O197) -> 0.118
K21: Upper Limit: | L21: =L20+L18 -> 0.131
K22: Lower Limit: | L22: =L20-L18 -> 0.105
K23: Upper Limit (steps): | L23: =L21/0.00125 -> 104.8
K24: Lower Limit (steps): | L24: =L22/0.00125 -> 84
A27: Activate/ Deactivate | B27: Item No. | C27: Item Description | D27: Drawing | E27: Rev. | F27: Pg. / Zone | G27: Dir (+/-) | H27: Nominal | I27: (+) Tol | J27: (-) Tol | K27: New Nominal | L27: Bilateral Tolerance | M27: Tolerance Symbol | N27: GD&T Multiplier | O27: Geometric Multiplier | P27: Statistical Distribution Factor ±σ | Q27: Deviation (σ) | R27: Variance (σ²) | S27: Overall Variance % Impact | T27: Use Worst Case? | U27: RSS Variance % Impact | V27: Running Total
A28: =IF(C28<>0,1,"") -> 1 | B28: =IFERROR(IF(C28<>"",MAX($B$27:$B27)+1,""),1) -> 1 | C28: High-pressure seal, height at ID | D28: WAT033276 | E28: 7 | F28: 2/A4 | G28: - | H28: 0.11 | I28: 0.003 | J28: =IF(I28="","",-I28) -> -0.003 | K28: =IF(H28="","",IF(J28="",H28,H28+(I28+J28)/2)*IF(G28="-",-1,1)) -> -0.11 | L28: =IF(I28="","",IF(J28<>"",(I28-J28)/2,I28)) -> 0.003 | M28: ± : Size or Position | N28: =IFERROR(VLOOKUP(LEFT(M28,SEARCH(" :",M28)-1),GDT_Ref,3,FALSE),"") -> 1 | O28: 1 | P28: 3 | Q28: =IF(L28="","",IFERROR(IF(A28=0,0,L28*N28*O28/P28),"")) -> 0.001 | R28: =IF(Q28<>"",Q28^2,"") -> 1e-06 | S28: =IFERROR(R28/SUM($R$28:$R$102),"") -> 0.2 | U28: =IFERROR(IF(T28="",R28,0)/SUMIFS($R$28:$R$197,$T$28:$T$197,""),"") -> 0.2 | V28: =IF(H28<>"",IF(G28="-",-1,1)*H28*O28+IF(ISNUMBER(V27),V27,0),"") -> -0.11
A29: =IF(C29<>0,1,"") -> 1 | B29: =IFERROR(IF(C29<>"",MAX($B$27:$B28)+1,""),1) -> 2 | C29: Top seal pack housing, pocket depth | D29: 405024114 | E29: A | F29: C1 | G29: + | H29: 0.033 | I29: 0.001 | J29: =IF(I29="","",-I29) -> -0.001 | K29: =IF(H29="","",IF(J29="",H29,H29+(I29+J29)/2)*IF(G29="-",-1,1)) -> 0.033 | L29: =IF(I29="","",IF(J29<>"",(I29-J29)/2,I29)) -> 0.001 | M29: ± : Size or Position | N29: =IFERROR(VLOOKUP(LEFT(M29,SEARCH(" :",M29)-1),GDT_Ref,3,FALSE),"") -> 1 | O29: 1 | P29: 3 | Q29: =IF(L29="","",IFERROR(IF(A29=0,0,L29*N29*O29/P29),"")) -> 0.00033333333 | R29: =IF(Q29<>"",Q29^2,"") -> 1.1111111e-07 | S29: =IFERROR(R29/SUM($R$28:$R$102),"") -> 0.022222222 | U29: =IFERROR(IF(T29="",R29,0)/SUMIFS($R$28:$R$197,$T$28:$T$197,""),"") -> 0.022222222 | V29: =IF(H29<>"",IF(G29="-",-1,1)*H29*O29+IF(ISNUMBER(V28),V28,0),"") -> -0.077
A30: =IF(C30<>0,1,"") -> 1 | B30: =IFERROR(IF(C30<>"",MAX($B$27:$B29)+1,""),1) -> 3 | C30: Middle seal pack housing, body thickness | D30: 405024112 | E30: A | F30: B5 | G30: + | H30: 0.272 | I30: 0.005 | J30: =IF(I30="","",-I30) -> -0.005 | K30: =IF(H30="","",IF(J30="",H30,H30+(I30+J30)/2)*IF(G30="-",-1,1)) -> 0.272 | L30: =IF(I30="","",IF(J30<>"",(I30-J30)/2,I30)) -> 0.005 | M30: ± : Size or Position | N30: =IFERROR(VLOOKUP(LEFT(M30,SEARCH(" :",M30)-1),GDT_Ref,3,FALSE),"") -> 1 | O30: 1 | P30: 3 | Q30: =IF(L30="","",IFERROR(IF(A30=0,0,L30*N30*O30/P30),"")) -> 0.0016666667 | R30: =IF(Q30<>"",Q30^2,"") -> 2.7777778e-06 | S30: =IFERROR(R30/SUM($R$28:$R$102),"") -> 0.55555556 | U30: =IFERROR(IF(T30="",R30,0)/SUMIFS($R$28:$R$197,$T$28:$T$197,""),"") -> 0.55555556 | V30: =IF(H30<>"",IF(G30="-",-1,1)*H30*O30+IF(ISNUMBER(V29),V29,0),"") -> 0.195
A31: =IF(C31<>0,1,"") -> 1 | B31: =IFERROR(IF(C31<>"",MAX($B$27:$B30)+1,""),1) -> 4 | C31: Bottom seal pack housing, pocket depth | D31: 405023945 | E31: A | F31: D7 | G31: + | H31: 0.033 | I31: 0.001 | J31: =IF(I31="","",-I31) -> -0.001 | K31: =IF(H31="","",IF(J31="",H31,H31+(I31+J31)/2)*IF(G31="-",-1,1)) -> 0.033 | L31: =IF(I31="","",IF(J31<>"",(I31-J31)/2,I31)) -> 0.001 | M31: ± : Size or Position | N31: =IFERROR(VLOOKUP(LEFT(M31,SEARCH(" :",M31)-1),GDT_Ref,3,FALSE),"") -> 1 | O31: 1 | P31: 3 | Q31: =IF(L31="","",IFERROR(IF(A31=0,0,L31*N31*O31/P31),"")) -> 0.00033333333 | R31: =IF(Q31<>"",Q31^2,"") -> 1.1111111e-07 | S31: =IFERROR(R31/SUM($R$28:$R$102),"") -> 0.022222222 | U31: =IFERROR(IF(T31="",R31,0)/SUMIFS($R$28:$R$197,$T$28:$T$197,""),"") -> 0.022222222 | V31: =IF(H31<>"",IF(G31="-",-1,1)*H31*O31+IF(ISNUMBER(V30),V30,0),"") -> 0.228
A32: =IF(C32<>0,1,"") -> 1 | B32: =IFERROR(IF(C32<>"",MAX($B$27:$B31)+1,""),1) -> 5 | C32: High-pressure seal, height at ID | D32: WAT033276 | E32: 7 | F32: 2/A4 | G32: - | H32: 0.11 | I32: 0.003 | J32: =IF(I32="","",-I32) -> -0.003 | K32: =IF(H32="","",IF(J32="",H32,H32+(I32+J32)/2)*IF(G32="-",-1,1)) -> -0.11 | L32: =IF(I32="","",IF(J32<>"",(I32-J32)/2,I32)) -> 0.003 | M32: ± : Size or Position | N32: =IFERROR(VLOOKUP(LEFT(M32,SEARCH(" :",M32)-1),GDT_Ref,3,FALSE),"") -> 1 | O32: 1 | P32: 3 | Q32: =IF(L32="","",IFERROR(IF(A32=0,0,L32*N32*O32/P32),"")) -> 0.001 | R32: =IF(Q32<>"",Q32^2,"") -> 1e-06 | S32: =IFERROR(R32/SUM($R$28:$R$102),"") -> 0.2 | U32: =IFERROR(IF(T32="",R32,0)/SUMIFS($R$28:$R$197,$T$28:$T$197,""),"") -> 0.2 | V32: =IF(H32<>"",IF(G32="-",-1,1)*H32*O32+IF(ISNUMBER(V31),V31,0),"") -> 0.118
A33: =IF(C33<>0,1,"") -> 1 | B33: =IFERROR(IF(C33<>"",MAX($B$27:$B32)+1,""),1) -> 6 | C33: Needle, side port diameter | D33: 405001338 | E33: B | F33: D6 | G33: - | H33: 0.015 | I33: 0.002 | J33: =IF(I33="","",-I33) -> -0.002 | K33: =IF(H33="","",IF(J33="",H33,H33+(I33+J33)/2)*IF(G33="-",-1,1)) -> -0.015 | L33: =IF(I33="","",IF(J33<>"",(I33-J33)/2,I33)) -> 0.002 | M33: ± : Size or Position | N33: =IFERROR(VLOOKUP(LEFT(M33,SEARCH(" :",M33)-1),GDT_Ref,3,FALSE),"") -> 1 | O33: 0 | P33: 3 | Q33: =IF(L33="","",IFERROR(IF(A33=0,0,L33*N33*O33/P33),"")) -> 0 | R33: =IF(Q33<>"",Q33^2,"") -> 0 | S33: =IFERROR(R33/SUM($R$28:$R$102),"") -> 0 | U33: =IFERROR(IF(T33="",R33,0)/SUMIFS($R$28:$R$197,$T$28:$T$197,""),"") -> 0 | V33: =IF(H33<>"",IF(G33="-",-1,1)*H33*O33+IF(ISNUMBER(V32),V32,0),"") -> 0.118
A34: =IF(C34<>0,1,"") | B34: =IFERROR(IF(C34<>"",MAX($B$27:$B33)+1,""),1) | J34: =IF(I34="","",-I34) | K34: =IF(H34="","",IF(J34="",H34,H34+(I34+J34)/2)*IF(G34="-",-1,1)) | L34: =IF(I34="","",IF(J34<>"",(I34-J34)/2,I34)) | N34: =IFERROR(VLOOKUP(LEFT(M34,SEARCH(" :",M34)-1),GDT_Ref,3,FALSE),"") | Q34: =IF(L34="","",IFERROR(IF(A34=0,0,L34*N34*O34/P34),"")) | R34: =IF(Q34<>"",Q34^2,"") | S34: =IFERROR(R34/SUM($R$28:$R$102),"") | U34: =IFERROR(IF(T34="",R34,0)/SUMIFS($R$28:$R$197,$T$28:$T$197,""),"") | V34: =IF(H34<>"",IF(G34="-",-1,1)*H34*O34+IF(ISNUMBER(V33),V33,0),"")
A35: =IF(C35<>0,1,"") | B35: =IFERROR(IF(C35<>"",MAX($B$27:$B34)+1,""),1) | J35: =IF(I35="","",-I35) | K35: =IF(H35="","",IF(J35="",H35,H35+(I35+J35)/2)*IF(G35="-",-1,1)) | L35: =IF(I35="","",IF(J35<>"",(I35-J35)/2,I35)) | N35: =IFERROR(VLOOKUP(LEFT(M35,SEARCH(" :",M35)-1),GDT_Ref,3,FALSE),"") | Q35: =IF(L35="","",IFERROR(IF(A35=0,0,L35*N35*O35/P35),"")) | R35: =IF(Q35<>"",Q35^2,"") | S35: =IFERROR(R35/SUM($R$28:$R$102),"") | U35: =IFERROR(IF(T35="",R35,0)/SUMIFS($R$28:$R$197,$T$28:$T$197,""),"") | V35: =IF(H35<>"",IF(G35="-",-1,1)*H35*O35+IF(ISNUMBER(V34),V34,0),"")
A36: =IF(C36<>0,1,"") | B36: =IFERROR(IF(C36<>"",MAX($B$27:$B35)+1,""),1) | J36: =IF(I36="","",-I36) | K36: =IF(H36="","",IF(J36="",H36,H36+(I36+J36)/2)*IF(G36="-",-1,1)) | L36: =IF(I36="","",IF(J36<>"",(I36-J36)/2,I36)) | N36: =IFERROR(VLOOKUP(LEFT(M36,SEARCH(" :",M36)-1),GDT_Ref,3,FALSE),"") | Q36: =IF(L36="","",IFERROR(IF(A36=0,0,L36*N36*O36/P36),"")) | R36: =IF(Q36<>"",Q36^2,"") | S36: =IFERROR(R36/SUM($R$28:$R$102),"") | U36: =IFERROR(IF(T36="",R36,0)/SUMIFS($R$28:$R$197,$T$28:$T$197,""),"") | V36: =IF(H36<>"",IF(G36="-",-1,1)*H36*O36+IF(ISNUMBER(V35),V35,0),"")
A37: =IF(C37<>0,1,"") | B37: =IFERROR(IF(C37<>"",MAX($B$27:$B36)+1,""),1) | J37: =IF(I37="","",-I37) | K37: =IF(H37="","",IF(J37="",H37,H37+(I37+J37)/2)*IF(G37="-",-1,1)) | L37: =IF(I37="","",IF(J37<>"",(I37-J37)/2,I37)) | N37: =IFERROR(VLOOKUP(LEFT(M37,SEARCH(" :",M37)-1),GDT_Ref,3,FALSE),"") | Q37: =IF(L37="","",IFERROR(IF(A37=0,0,L37*N37*O37/P37),"")) | R37: =IF(Q37<>"",Q37^2,"") | S37: =IFERROR(R37/SUM($R$28:$R$102),"") | U37: =IFERROR(IF(T37="",R37,0)/SUMIFS($R$28:$R$197,$T$28:$T$197,""),"") | V37: =IF(H37<>"",IF(G37="-",-1,1)*H37*O37+IF(ISNUMBER(V36),V36,0),"")
A38: =IF(C38<>0,1,"") | B38: =IFERROR(IF(C38<>"",MAX($B$27:$B37)+1,""),1) | J38: =IF(I38="","",-I38) | K38: =IF(H38="","",IF(J38="",H38,H38+(I38+J38)/2)*IF(G38="-",-1,1)) | L38: =IF(I38="","",IF(J38<>"",(I38-J38)/2,I38)) | N38: =IFERROR(VLOOKUP(LEFT(M38,SEARCH(" :",M38)-1),GDT_Ref,3,FALSE),"") | Q38: =IF(L38="","",IFERROR(IF(A38=0,0,L38*N38*O38/P38),"")) | R38: =IF(Q38<>"",Q38^2,"") | S38: =IFERROR(R38/SUM($R$28:$R$102),"") | U38: =IFERROR(IF(T38="",R38,0)/SUMIFS($R$28:$R$197,$T$28:$T$197,""),"") | V38: =IF(H38<>"",IF(G38="-",-1,1)*H38*O38+IF(ISNUMBER(V37),V37,0),"")
A39: =IF(C39<>0,1,"") | B39: =IFERROR(IF(C39<>"",MAX($B$27:$B38)+1,""),1) | J39: =IF(I39="","",-I39) | K39: =IF(H39="","",IF(J39="",H39,H39+(I39+J39)/2)*IF(G39="-",-1,1)) | L39: =IF(I39="","",IF(J39<>"",(I39-J39)/2,I39)) | N39: =IFERROR(VLOOKUP(LEFT(M39,SEARCH(" :",M39)-1),GDT_Ref,3,FALSE),"") | Q39: =IF(L39="","",IFERROR(IF(A39=0,0,L39*N39*O39/P39),"")) | R39: =IF(Q39<>"",Q39^2,"") | S39: =IFERROR(R39/SUM($R$28:$R$102),"") | U39: =IFERROR(IF(T39="",R39,0)/SUMIFS($R$28:$R$197,$T$28:$T$197,""),"") | V39: =IF(H39<>"",IF(G39="-",-1,1)*H39*O39+IF(ISNUMBER(V38),V38,0),"")
A40: =IF(C40<>0,1,"") | B40: =IFERROR(IF(C40<>"",MAX($B$27:$B39)+1,""),1) | J40: =IF(I40="","",-I40) | K40: =IF(H40="","",IF(J40="",H40,H40+(I40+J40)/2)*IF(G40="-",-1,1)) | L40: =IF(I40="","",IF(J40<>"",(I40-J40)/2,I40)) | N40: =IFERROR(VLOOKUP(LEFT(M40,SEARCH(" :",M40)-1),GDT_Ref,3,FALSE),"") | Q40: =IF(L40="","",IFERROR(IF(A40=0,0,L40*N40*O40/P40),"")) | R40: =IF(Q40<>"",Q40^2,"") | S40: =IFERROR(R40/SUM($R$28:$R$102),"") | U40: =IFERROR(IF(T40="",R40,0)/SUMIFS($R$28:$R$197,$T$28:$T$197,""),"") | V40: =IF(H40<>"",IF(G40="-",-1,1)*H40*O40+IF(ISNUMBER(V39),V39,0),"")
A41: =IF(C41<>0,1,"") | B41: =IFERROR(IF(C41<>"",MAX($B$27:$B40)+1,""),1) | J41: =IF(I41="","",-I41) | K41: =IF(H41="","",IF(J41="",H41,H41+(I41+J41)/2)*IF(G41="-",-1,1)) | L41: =IF(I41="","",IF(J41<>"",(I41-J41)/2,I41)) | N41: =IFERROR(VLOOKUP(LEFT(M41,SEARCH(" :",M41)-1),GDT_Ref,3,FALSE),"") | Q41: =IF(L41="","",IFERROR(IF(A41=0,0,L41*N41*O41/P41),"")) | R41: =IF(Q41<>"",Q41^2,"") | S41: =IFERROR(R41/SUM($R$28:$R$102),"") | U41: =IFERROR(IF(T41="",R41,0)/SUMIFS($R$28:$R$197,$T$28:$T$197,""),"") | V41: =IF(H41<>"",IF(G41="-",-1,1)*H41*O41+IF(ISNUMBER(V40),V40,0),"")
A42: =IF(C42<>0,1,"") | B42: =IFERROR(IF(C42<>"",MAX($B$27:$B41)+1,""),1) | J42: =IF(I42="","",-I42) | K42: =IF(H42="","",IF(J42="",H42,H42+(I42+J42)/2)*IF(G42="-",-1,1)) | L42: =IF(I42="","",IF(J42<>"",(I42-J42)/2,I42)) | N42: =IFERROR(VLOOKUP(LEFT(M42,SEARCH(" :",M42)-1),GDT_Ref,3,FALSE),"") | Q42: =IF(L42="","",IFERROR(IF(A42=0,0,L42*N42*O42/P42),"")) | R42: =IF(Q42<>"",Q42^2,"") | S42: =IFERROR(R42/SUM($R$28:$R$102),"") | U42: =IFERROR(IF(T42="",R42,0)/SUMIFS($R$28:$R$197,$T$28:$T$197,""),"") | V42: =IF(H42<>"",IF(G42="-",-1,1)*H42*O42+IF(ISNUMBER(V41),V41,0),"")
A43: =IF(C43<>0,1,"") | B43: =IFERROR(IF(C43<>"",MAX($B$27:$B42)+1,""),1) | J43: =IF(I43="","",-I43) | K43: =IF(H43="","",IF(J43="",H43,H43+(I43+J43)/2)*IF(G43="-",-1,1)) | L43: =IF(I43="","",IF(J43<>"",(I43-J43)/2,I43)) | N43: =IFERROR(VLOOKUP(LEFT(M43,SEARCH(" :",M43)-1),GDT_Ref,3,FALSE),"") | Q43: =IF(L43="","",IFERROR(IF(A43=0,0,L43*N43*O43/P43),"")) | R43: =IF(Q43<>"",Q43^2,"") | S43: =IFERROR(R43/SUM($R$28:$R$102),"") | U43: =IFERROR(IF(T43="",R43,0)/SUMIFS($R$28:$R$197,$T$28:$T$197,""),"") | V43: =IF(H43<>"",IF(G43="-",-1,1)*H43*O43+IF(ISNUMBER(V42),V42,0),"")
A44: =IF(C44<>0,1,"") | B44: =IFERROR(IF(C44<>"",MAX($B$27:$B43)+1,""),1) | J44: =IF(I44="","",-I44) | K44: =IF(H44="","",IF(J44="",H44,H44+(I44+J44)/2)*IF(G44="-",-1,1)) | L44: =IF(I44="","",IF(J44<>"",(I44-J44)/2,I44)) | N44: =IFERROR(VLOOKUP(LEFT(M44,SEARCH(" :",M44)-1),GDT_Ref,3,FALSE),"") | Q44: =IF(L44="","",IFERROR(IF(A44=0,0,L44*N44*O44/P44),"")) | R44: =IF(Q44<>"",Q44^2,"") | S44: =IFERROR(R44/SUM($R$28:$R$102),"") | U44: =IFERROR(IF(T44="",R44,0)/SUMIFS($R$28:$R$197,$T$28:$T$197,""),"") | V44: =IF(H44<>"",IF(G44="-",-1,1)*H44*O44+IF(ISNUMBER(V43),V43,0),"")
A45: =IF(C45<>0,1,"") | B45: =IFERROR(IF(C45<>"",MAX($B$27:$B44)+1,""),1) | J45: =IF(I45="","",-I45) | K45: =IF(H45="","",IF(J45="",H45,H45+(I45+J45)/2)*IF(G45="-",-1,1)) | L45: =IF(I45="","",IF(J45<>"",(I45-J45)/2,I45)) | N45: =IFERROR(VLOOKUP(LEFT(M45,SEARCH(" :",M45)-1),GDT_Ref,3,FALSE),"") | Q45: =IF(L45="","",IFERROR(IF(A45=0,0,L45*N45*O45/P45),"")) | R45: =IF(Q45<>"",Q45^2,"") | S45: =IFERROR(R45/SUM($R$28:$R$102),"") | U45: =IFERROR(IF(T45="",R45,0)/SUMIFS($R$28:$R$197,$T$28:$T$197,""),"") | V45: =IF(H45<>"",IF(G45="-",-1,1)*H45*O45+IF(ISNUMBER(V44),V44,0),"")
... A197: =IF(C197<>0,1,"") | B197: =IFERROR(IF(C197<>"",MAX($B$27:$B196)+1,""),1) | J197: =IF(I197="","",-I197) | K197: =IF(H197="","",IF(J197="",H197,H197+(I197+J197)/2)*IF(G197="-",-1,1)) | L197: =IF(I197="","",IF(J197<>"",(I197-J197)/2,I197)) | N197: =IFERROR(VLOOKUP(LEFT(M197,SEARCH(" :",M197)-1),GDT_Ref,3,FALSE),"") | Q197: =IF(L197="","",IFERROR(IF(A197=0,0,L197*N197*O197/P197),"")) | R197: =IF(Q197<>"",Q197^2,"") | S197: =IFERROR(R197/SUM($R$28:$R$102),"") | U197: =IFERROR(IF(T197="",R197,0)/SUMIFS($R$28:$R$197,$T$28:$T$197,""),"") | V197: =IF(H197<>"",IF(G197="-",-1,1)*H197*O197+IF(ISNUMBER(V196),V196,0),"")

Sheet Reference
B2: For Reference
B4: σ | C4: Bilateral Normal Distribution | G4: GD&T Multiplier Table
B5: 1 | C5: 0.6827 | G5: ± | H5: Size or Position | I5: 1
B6: 2 | C6: 0.9545 | G6: ⌖ | H6: True Position | I6: 0.5
B7: 3 | C7: 0.9973 | G7: // | H7: Parallelism | I7: 0.5
B8: 4.5 | C8: 0.9999932 | G8: ⌓ | H8: Surface Profile | I8: 0.5
B9: 6 | C9: 0.99999999 | G9: ↗ | H9: Circular Runout | I9: 0.5
G10: ⌰ | H10: Total Runout | I10: 0.5
G11: O | H11: Concentricity | I11: 0.5
G12: ⊥ | H12: Perpendicularity | I12: 0.5
G13: ▱ | H13: Flatness | I13: 0.5
G15: The above table is referenced for the tolerance type drop-down in the main sheet. Do not delete.
B18: Template Version Record:
B19: v00 | C19: Initial Release
B20: v01 | C20: Corrected Combination & Worst Case results when Sigma Tolerance ≠ 3.0

Sheet DataVal Lists
B2: GD&T Tolerance List
B3: =CONCATENATE(Reference!G5," : ",Reference!H5) -> ± : Size or Position
B4: =CONCATENATE(Reference!G6," : ",Reference!H6) -> ⌖ : True Position
B5: =CONCATENATE(Reference!G7," : ",Reference!H7) -> // : Parallelism
B6: =CONCATENATE(Reference!G8," : ",Reference!H8) -> ⌓ : Surface Profile
B7: =CONCATENATE(Reference!G9," : ",Reference!H9) -> ↗ : Circular Runout
B8: =CONCATENATE(Reference!G10," : ",Reference!H10) -> ⌰ : Total Runout
B9: =CONCATENATE(Reference!G11," : ",Reference!H11) -> O : Concentricity
B10: =CONCATENATE(Reference!G12," : ",Reference!H12) -> ⊥ : Perpendicularity
B11: =CONCATENATE(Reference!G13," : ",Reference!H13) -> ▱ : Flatness
