Workbook

Sheet Materlist
B1: EQUIPMENT DESCRIPTION | C1: MANUFACTURER / DISTRIBUTOR | D1: MODEL | E1: SN | F1: EQUIPMENT LOCATION | G1: INTERVAL | H1: Current COST (USD) | I1: MPC Cost(USD) | J1: MPC Cost (SGD) | K1: Cost Diff. (USD) | L1: Cost Diff. with 10% (USD)
A2: 1 | B2: Pipette | C2: Eppendorf /VWR | D2: P1000 | E2: G42127G | F2: WPPL Lab | G2: 1 Year
A3: 2 | B3: Pipette | C3: Eppendorf / VWR | D3: P1000 | E3: G42285G | F3: WPPL Lab | G3: 1 Year
A4: 3 | B4: Weighing Scale | C4: Sartorius | D4: MSA 125P-100-DI | E4: 35701494 | F4: WPPL Lab | G4: 1 Year
A5: 4 | B5: Multimeter | C5: FLUKE / Region Suppliers (PTE) LTD | D5: FL77-4 | E5: 35700255 | F5: WPPL Lab | G5: 1 Year
A6: 5 | B6: Wide Range Gauge | C6: Edwards | D6: D14703000 | E6: 170077634 | F6: WPPL Lab | G6: 1 Year
A7: 6 | B7: Wide Range Gauge | C7: Edwards | D7: D14703000 | E7: 170077633 | F7: WPPL Lab | G7: 1 Year
A8: 7 | B8: Wide Range Gauge | C8: Edwards | D8: D14703000 | E8: 150253989 | F8: WPPL Lab | G8: 1 Year
A9: 8 | B9: Wide Range Gauge | C9: Edwards | D9: D14703000 | E9: 150253990 | F9: WPPL Lab | G9: 1 Year
A10: 9 | B10: Traceable Stopwatch/ Timer Big Digit 4 Channel | C10: VWR | D10: 62344-641 | E10: 170445616 | F10: WPPL Lab | G10: 2 Years
A11: 10 | B11: Weight-1g | C11: Sartorius | D11: YCW313-00 | E11: 34729085 | F11: WPPL Lab | G11: 1 Year
A12: 11 | B12: Weight-10g | C12: Sartorius | D12: YCW413-00 | E12: 35229142 | F12: WPPL Lab | G12: 1 Year
A13: 12 | B13: Analogue Surface Resistance Meter Kit | C13: Pro-Pack Materials Pte Ltd | D13: SCS 701 | E13: 7011745026 | F13: WPPL Lab | G13: 1 Year
A14: 13 | B14: ESD Personnel Test Station | C14: Vermason | D14: 222563 | E14: 1719001 | F14: WPPL Lab | G14: 1 Year
A15: 14 | B15: Megger MIT410/2 Insulation Tester | C15: Megger | D15: MIT410/2 | E15: 1.0063371e+15 | F15: WPPL Lab | G15: 1 Year
A16: 15 | B16: Glassware washer | C16: Lab Science Solution Pte Ltd | D16: PG8593 | E16: 74400208 | F16: WPPL Lab | G16: 1 Year
A17: 16 | B17: Pipette | C17: Eppendorf /VWR | D17: 200uL | E17: I22994G | F17: WPPL Lab | G17: 1 Year
A18: 17 | B18: Pipette | C18: Eppendorf /VWR | D18: 200uL | E18: I22911G | F18: WPPL Lab | G18: 1 Year
A19: 18 | B19: Grundfos Pump | C19: Adept Pure Water Limited | D19: CME3-5 | E19: 98358937 | F19: Richport | G19: 1 Year
A20: 19 | B20: Tempreature Recorder | C20: LogTag | D20: TRIX-8 | E20: 1000848285 | F20: WPPL | G20: 1 Year
A21: 20 | B21: Tempreature Recorder | C21: LogTag | D21: TRIX-8 | E21: 1000848290 | F21: WPPL | G21: 1 Year
A22: 21 | B22: Tempreature Recorder | C22: LogTag | D22: TRIX-8 | E22: 1000848288 | F22: WPPL | G22: 1 Year
A23: 22 | B23: Tempreature Recorder | C23: LogTag | D23: TRIX-8 | E23: 1000848283 | F23: WPPL | G23: 1 Year
A24: 23 | B24: Tempreature Recorder | C24: LogTag | D24: TRIX-8 | E24: 1000848289 | F24: WPPL | G24: 1 Year
A25: 24 | B25: Tempreature Recorder | C25: LogTag | D25: TRIX-8 | E25: 1000848284 | F25: WPPL | G25: 1 Year
A26: 25 | B26: Tempreature Recorder | C26: LogTag | D26: TRIX-8 | E26: 1000848286 | F26: WPPL | G26: 1 Year
A27: 26 | B27: Tempreature Recorder | C27: LogTag | D27: TRIX-8 | E27: 1000848287 | F27: WPPL | G27: 1 Year
A28: 27 | B28: DIGIMATIC MICROMETER | C28: Mitutoyo | D28: MDC-1"PX | E28: 632855699 | F28: WPPL | G28: 1 Year
A29: 28 | B29: DIGIMATIC CALIPER | C29: Mitutoyo | D29: CD-8"ASX | E29: B16215984 | F29: WPPL | G29: 1 Year
A30: 29 | B30: Electrical Safety Analyzer | C30: Chroma | D30: 19032 | E30: 19032G400225 | F30: CEI | G30: 12 | H30: 480 | I30: =J30*0.73799 -> 221.397 | J30: =VLOOKUP(A30,'Quote from MPC'!A1:I94,8,FALSE) -> 300 | K30: =H30-I30 -> 258.603 | L30: =K30*1.1 -> 284.4633
A31: 30 | B31: Load Box | C31: Chroma | D31: S14-03 | E31: 14354696 | F31: CEI | G31: 12 | H31: 75 | I31: =J31*0.73799 -> 169.7377 | J31: =VLOOKUP(A31,'Quote from MPC'!A2:I95,8,FALSE) -> 230 | K31: =H31-I31 -> -94.7377 | L31: =K31*1.1 -> -104.21147
A32: 31 | B32: Keithley Source Measurement Unit #1 | C32: Keithley | D32: 236 | E32: 782275 | F32: CEI PCBA | G32: 12 | H32: 1017.11 | I32: =J32*0.73799 -> 169.7377 | J32: =VLOOKUP(A32,'Quote from MPC'!A3:I96,8) -> 230 | K32: =H32-I32 -> 847.3723 | L32: =K32*1.1 -> 932.10953
A33: 32 | B33: Programmable DC Power supply | C33: TDK Lambda | D33: GENH30-25 | E33: 09M1019A | F33: CEI PCBA | G33: 12 | H33: 145.89 | I33: =J33*0.73799 -> #N/A | J33: =VLOOKUP(A33,'Quote from MPC'!A4:I97,8,FALSE) -> #N/A
A34: 33 | B34: Programmable DC Power supply | C34: TDK Lambda | D34: GENH30-25 | E34: 09M1020A | F34: CEI PCBA | G34: 12 | H34: 145.89 | I34: =J34*0.73799 -> #N/A | J34: =VLOOKUP(A34,'Quote from MPC'!A5:I98,8,FALSE) -> #N/A
A35: 34 | B35: 6½ DIGITAL MULTIMETER | C35: Agilent Technologies | D35: 34411A | E35: MY46000358 | F35: CEI PCBA | G35: 12 | H35: 132.63 | I35: =J35*0.73799 -> #N/A | J35: =VLOOKUP(A35,'Quote from MPC'!A6:I99,8,FALSE) -> #N/A
A36: 35 | B36: 4 CH 500MHz OSCILLOSCOPE | C36: Tektronix | D36: TDS3054C | E36: C011085 | F36: CEI PCBA | G36: 12 | H36: 298.42 | I36: =J36*0.73799 -> #N/A | J36: =VLOOKUP(A36,'Quote from MPC'!A7:I100,8,FALSE) -> #N/A
A37: 36 | B37: NI [ M series ] MULTIFUNCTION DAQ Device | C37: National Instruments | D37: PXI-6229 | E37: 145DF14 | F37: CEI PCBA | G37: 12 | H37: 397.89 | I37: =J37*0.73799 -> #N/A | J37: =VLOOKUP(A37,'Quote from MPC'!A8:I101,8,FALSE) -> #N/A
A38: 37 | B38: NI [ M series ] MULTIFUNCTION DAQ Device | C38: National Instruments | D38: PXI-6229 | E38: 145DF42 | F38: CEI PCBA | G38: 12 | H38: 397.89 | I38: =J38*0.73799 -> #N/A | J38: =VLOOKUP(A38,'Quote from MPC'!A9:I102,8,FALSE) -> #N/A
A39: 38 | B39: Programmable DC Power supply | C39: TDK Lambda | D39: GENH60-12.5 | E39: 09M1026A | F39: CEI PCBA | G39: 12 | H39: 119.37 | I39: =J39*0.73799 -> #N/A | J39: =VLOOKUP(A39,'Quote from MPC'!A10:I103,8,FALSE) -> #N/A
A40: 39 | B40: Programmable DC Power supply | C40: TDK Lambda | D40: GENH60-12.5 | E40: 09M1028A | F40: CEI PCBA | G40: 12 | H40: 119.37 | I40: =J40*0.73799 -> #N/A | J40: =VLOOKUP(A40,'Quote from MPC'!A11:I104,8,FALSE) -> #N/A
A41: 40 | B41: Programmable DC Power supply | C41: TDK Lambda | D41: GENH60-12.5 | E41: 09M1029A | F41: CEI PCBA | G41: 12 | H41: 119.37 | I41: =J41*0.73799 -> #N/A | J41: =VLOOKUP(A41,'Quote from MPC'!A12:I105,8,FALSE) -> #N/A
A42: 41 | B42: Programmable DC Power supply | C42: TDK Lambda | D42: GENH60-12.5 | E42: 09M1032A | F42: CEI PCBA | G42: 12 | H42: 119.37 | I42: =J42*0.73799 -> #N/A | J42: =VLOOKUP(A42,'Quote from MPC'!A13:I106,8,FALSE) -> #N/A
A43: 42 | B43: 20MHZ FUNCTION.ARBITRARY WAVEFORM GENERATOR | C43: Agilent Technologies | D43: 33220A | E43: MY44046858 | F43: CEI PCBA | G43: 12 | H43: 232.1 | I43: =J43*0.73799 -> #N/A | J43: =VLOOKUP(A43,'Quote from MPC'!A14:I107,8,FALSE) -> #N/A
A44: 43 | B44: DC ELECTRONIC LOAD MODULE 0-60 A, 80 V, 300 W | C44: Chroma | D44: 63103 | E44: 631030017022 | F44: CEI PCBA | G44: 12 | H44: 198.94 | I44: =J44*0.73799 -> #N/A | J44: =VLOOKUP(A44,'Quote from MPC'!A15:I108,8,FALSE) -> #N/A
A45: 44 | B45: DC ELECTRONIC LOAD MODULE 0-60 A, 80 V, 300 W | C45: Chroma | D45: 63103 | E45: 631030017023 | F45: CEI PCBA | G45: 12 | H45: 198.94 | I45: =J45*0.73799 -> #N/A | J45: =VLOOKUP(A45,'Quote from MPC'!A16:I109,8,FALSE) -> #N/A
A46: 45 | B46: DC ELECTRONIC LOAD MODULE 0-60 A, 80 V, 300 W | C46: Chroma | D46: 63103 | E46: 631030017030 | F46: CEI PCBA | G46: 12 | H46: 198.94 | I46: =J46*0.73799 -> #N/A | J46: =VLOOKUP(A46,'Quote from MPC'!A17:I110,8,FALSE) -> #N/A
A47: 46 | B47: DC ELECTRONIC LOAD MODULE 0-60 A, 80 V, 300 W | C47: Chroma | D47: 63103 | E47: 631030017042 | F47: CEI PCBA | G47: 12 | H47: 198.94 | I47: =J47*0.73799 -> #N/A | J47: =VLOOKUP(A47,'Quote from MPC'!A18:I111,8,FALSE) -> #N/A
A48: 47 | B48: NI Programmable DC Power supply | C48: National Instruments | D48: PXI-4130 | E48: 1450264 | F48: CEI PCBA | G48: 12 | H48: 397.89 | I48: =J48*0.73799 -> #N/A | J48: =VLOOKUP(A48,'Quote from MPC'!A19:I112,8,FALSE) -> #N/A
A49: 48 | B49: HP66103A DC Power Module 35V/4.5A | C49: Agilent Technologies | D49: 66103A | E49: US34212664 | F49: CEI PCBA | G49: 12 | H49: 165.79 | I49: =J49*0.73799 -> 121.76835 | J49: 165 | K49: =H49-I49 -> 44.02165 | L49: =K49*1.1 -> 48.423815
A50: 49 | B50: HP66103A DC Power Module 35V/4.5A | C50: Agilent Technologies | D50: 66103A | E50: US34212667 | F50: CEI PCBA | G50: 12 | H50: 165.79 | I50: =J50*0.73799 -> 121.76835 | J50: 165 | K50: =H50-I50 -> 44.02165 | L50: =K50*1.1 -> 48.423815
A51: 50 | B51: HP66103A DC Power Module 35V/4.5A | C51: Agilent Technologies | D51: 66103A | E51: US34212669 | F51: CEI PCBA | G51: 12 | H51: 165.79 | I51: =J51*0.73799 -> 121.76835 | J51: 165 | K51: =H51-I51 -> 44.02165 | L51: =K51*1.1 -> 48.423815
A52: 51 | B52: HP66103A DC Power Module 35V/4.5A | C52: Agilent Technologies | D52: 66103A | E52: US34212670 | F52: CEI PCBA | G52: 12 | H52: 165.79 | I52: =J52*0.73799 -> 121.76835 | J52: 165 | K52: =H52-I52 -> 44.02165 | L52: =K52*1.1 -> 48.423815
A53: 52 | B53: HP66103A DC Power Module 35V/4.5A | C53: Agilent Technologies | D53: 66103A | E53: US34212672 | F53: CEI PCBA | G53: 12 | H53: 165.79 | I53: =J53*0.73799 -> 121.76835 | J53: 165 | K53: =H53-I53 -> 44.02165 | L53: =K53*1.1 -> 48.423815
A54: 53 | B54: HP66101A DC Power Module 8V/16A | C54: Agilent Technologies | D54: 66101A | E54: US34442070 | F54: CEI PCBA | G54: 12 | H54: 165.79 | I54: =J54*0.73799 -> 121.76835 | J54: 165 | K54: =H54-I54 -> 44.02165 | L54: =K54*1.1 -> 48.423815
A55: 54 | B55: HP66101A DC Power Module 8V/16A | C55: Agilent Technologies | D55: 66101A | E55: MY40000535 | F55: CEI PCBA | G55: 12 | H55: 165.79 | I55: =J55*0.73799 -> 121.76835 | J55: 165 | K55: =H55-I55 -> 44.02165 | L55: =K55*1.1 -> 48.423815
A56: 55 | B56: Electronic Load | C56: Hewlett Packard | D56: 60502B | E56: US37244128 | F56: CEI PCBA | G56: 12 | H56: 165.79 | I56: =J56*0.73799 -> 140.2181 | J56: 190 | K56: =H56-I56 -> 25.5719 | L56: =K56*1.1 -> 28.12909
A57: 56 | B57: Electronic Load | C57: Hewlett Packard | D57: 60502B | E57: US37244138 | F57: CEI PCBA | G57: 12 | H57: 165.79 | I57: =J57*0.73799 -> 140.2181 | J57: 190 | K57: =H57-I57 -> 25.5719 | L57: =K57*1.1 -> 28.12909
A58: 57 | B58: Electronic Load | C58: Hewlett Packard | D58: 60502B | E58: US37244141 | F58: CEI PCBA | G58: 12 | H58: 165.79 | I58: =J58*0.73799 -> 140.2181 | J58: 190 | K58: =H58-I58 -> 25.5719 | L58: =K58*1.1 -> 28.12909
A59: 58 | B59: Tektronics 4-Channel Digitizing Oscilloscope | C59: Tektronix | D59: TDS460A | E59: B071897 | F59: CEI PCBA | G59: 12 | H59: 271.89 | I59: =J59*0.73799 -> 206.6372 | J59: 280 | K59: =H59-I59 -> 65.2528 | L59: =K59*1.1 -> 71.77808
A60: 59 | B60: Electronic Load | C60: Hewlett Packard | D60: 60502B | E60: US37243391 | F60: CEI PCBA | G60: 12 | H60: 165.79 | I60: =J60*0.73799 -> 140.2181 | J60: 190 | K60: =H60-I60 -> 25.5719 | L60: =K60*1.1 -> 28.12909
... A62: 61 | B62: Electronic Load | C62: Hewlett Packard | D62: 60502A | E62: 3011A-01246 | F62: CEI PCBA | G62: 12 | H62: 165.79 | I62: =J62*0.73799 -> 140.2181 | J62: 190 | K62: =H62-I62 -> 25.5719 | L62: =K62*1.1 -> 28.12909
A63: 62 | B63: Keithley Source Measurement Unit #2 | C63: Keithley | D63: 236 | E63: 0786386 | F63: CEI PCBA | G63: 12 | H63: 1135.64 | J63: =VLOOKUP(A63,'Quote from MPC'!A34:I127,8,FALSE) -> #N/A
A64: 63 | B64: Digital Thermometer with Probe (K type) | C64: Fluke | D64: 51 II | E64: 89280141 | F64: Flex | G64: 12 | H64: 59.34 | I64: =J64*0.73799 -> 88.5588 | J64: =VLOOKUP(A64,'Quote from MPC'!A2:H94,8,FALSE) -> 120 | K64: =H64-I64 -> -29.2188 | L64: =K64*1.1 -> -32.14068
A65: 64 | B65: Electronic Weigh Balance | C65: AND | D65: HR200 | E65: 12305757 | F65: Flex | G65: 6 | H65: 53.7 | I65: =J65*0.73799 -> 59.0392 | J65: =VLOOKUP(A65,'Quote from MPC'!A2:H94,8,FALSE) -> 80 | K65: =H65-I65 -> -5.3392 | L65: =K65*1.1 -> -5.87312
A66: 65 | B66: Electronic Weigh Balance | C66: AND | D66: HR200 | E66: 12305757 | F66: Flex | G66: 6 | H66: 52.75 | I66: =J66*0.73799 -> 59.0392 | J66: =VLOOKUP(A66,'Quote from MPC'!A3:H95,8,FALSE) -> 80 | K66: =H66-I66 -> -6.2892 | L66: =K66*1.1 -> -6.91812
A67: 66 | B67: Electronic Weigh Balance | C67: AND | D67: HR200 | E67: 12200404 | F67: Flex | G67: 6 | H67: 53.7 | I67: =J67*0.73799 -> 59.0392 | J67: =VLOOKUP(A67,'Quote from MPC'!A4:H96,8,FALSE) -> 80 | K67: =H67-I67 -> -5.3392 | L67: =K67*1.1 -> -5.87312
A68: 67 | B68: Electronic Weigh Balance | C68: AND | D68: HR200 | E68: 12200404 | F68: Flex | G68: 6 | H68: 52.75 | I68: =J68*0.73799 -> 59.0392 | J68: =VLOOKUP(A68,'Quote from MPC'!A5:H97,8,FALSE) -> 80 | K68: =H68-I68 -> -6.2892 | L68: =K68*1.1 -> -6.91812
A69: 68 | B69: Electronic Weigh Balance | C69: AND | D69: HR200 | E69: 12303279 | F69: Flex | G69: 6 | H69: 53.7 | I69: =J69*0.73799 -> 59.0392 | J69: =VLOOKUP(A69,'Quote from MPC'!A6:H98,8,FALSE) -> 80 | K69: =H69-I69 -> -5.3392 | L69: =K69*1.1 -> -5.87312
A70: 69 | B70: Electronic Weigh Balance | C70: AND | D70: HR200 | E70: 12303279 | F70: Flex | G70: 6 | H70: 52.75 | I70: =J70*0.73799 -> 59.0392 | J70: =VLOOKUP(A70,'Quote from MPC'!A7:H99,8,FALSE) -> 80 | K70: =H70-I70 -> -6.2892 | L70: =K70*1.1 -> -6.91812
A71: 70 | B71: Electronic Weigh Balance | C71: AND | D71: HR200 | E71: 12315717 | F71: Flex | G71: 6 | H71: 53.7 | I71: =J71*0.73799 -> 59.0392 | J71: =VLOOKUP(A71,'Quote from MPC'!A8:H100,8,FALSE) -> 80 | K71: =H71-I71 -> -5.3392 | L71: =K71*1.1 -> -5.87312
A72: 71 | B72: Electronic Weigh Balance | C72: AND | D72: HR200 | E72: 12315717 | F72: Flex | G72: 6 | H72: 52.75 | I72: =J72*0.73799 -> 59.0392 | J72: =VLOOKUP(A72,'Quote from MPC'!A9:H101,8,FALSE) -> 80 | K72: =H72-I72 -> -6.2892 | L72: =K72*1.1 -> -6.91812
A73: 72 | B73: Digital Multimeter | C73: Fluke | D73: 110 | E73: 85730619 | F73: Flex | G73: 12 | H73: 53.7 | I73: =J73*0.73799 -> 59.0392 | J73: =VLOOKUP(A73,'Quote from MPC'!A10:H102,8,FALSE) -> 80 | K73: =H73-I73 -> -5.3392 | L73: =K73*1.1 -> -5.87312
A74: 73 | B74: Digital Multimeter | C74: Fluke | D74: 179 | E74: 90240092 | F74: Flex | G74: 12 | H74: 53.7 | I74: =J74*0.73799 -> 59.0392 | J74: =VLOOKUP(A74,'Quote from MPC'!A11:H103,8,FALSE) -> 80 | K74: =H74-I74 -> -5.3392 | L74: =K74*1.1 -> -5.87312
A75: 74 | B75: Electrical Safety Analyzer | C75: Quadtech | D75: Guardian 6000 | E75: 5037655 | F75: Flex | G75: 12 | H75: 223.76 | I75: =J75*0.73799 -> 221.397 | J75: =VLOOKUP(A75,'Quote from MPC'!A12:H104,8,FALSE) -> 300 | K75: =H75-I75 -> 2.363 | L75: =K75*1.1 -> 2.5993
A76: 75 | B76: Pressure Calibrator | C76: Ametek | D76: APC10KGINDG | E76: 9093205 | F76: Flex | G76: 12 | H76: 231.5 | I76: =J76*0.73799 -> 132.8382 | J76: =VLOOKUP(A76,'Quote from MPC'!A13:H105,8,FALSE) -> 180 | K76: =H76-I76 -> 98.6618 | L76: =K76*1.1 -> 108.52798
A77: 76 | B77: Electronic Weigh Balance | C77: AND | D77: HR200 | E77: 12316922 | F77: Flex | G77: 6 | H77: 53.7 | I77: =J77*0.73799 -> 59.0392 | J77: =VLOOKUP(A77,'Quote from MPC'!A14:H106,8,FALSE) -> 80 | K77: =H77-I77 -> -5.3392 | L77: =K77*1.1 -> -5.87312
A78: 77 | B78: Electronic Weigh Balance | C78: AND | D78: HR200 | E78: 12316922 | F78: Flex | G78: 6 | H78: 52.75 | I78: =J78*0.73799 -> 59.0392 | J78: =VLOOKUP(A78,'Quote from MPC'!A15:H107,8,FALSE) -> 80 | K78: =H78-I78 -> -6.2892 | L78: =K78*1.1 -> -6.91812
A79: 78 | B79: High Voltage Probe | C79: Fluke | D79: 80K-6 | E79: 89200011 | F79: Flex | G79: 12 | H79: 159.71 | I79: =J79*0.73799 -> 73.799 | J79: =VLOOKUP(A79,'Quote from MPC'!A16:H108,8,FALSE) -> 100 | K79: =H79-I79 -> 85.911 | L79: =K79*1.1 -> 94.5021
A80: 79 | B80: Clamp Meter | C80: Kyoritsu | D80: 2033 | E80: 66386 | F80: Flex | G80: 12 | H80: 79.12 | I80: =J80*0.73799 -> 88.5588 | J80: =VLOOKUP(A80,'Quote from MPC'!A17:H109,8,FALSE) -> 120 | K80: =H80-I80 -> -9.4388 | L80: =K80*1.1 -> -10.38268
A81: 80 | B81: Electrical Safety Analyzer | C81: Quadtech | D81: Guardian 6000 | E81: 6069766 | F81: Flex | G81: 12 | H81: 217.74 | I81: =J81*0.73799 -> 221.397 | J81: =VLOOKUP(A81,'Quote from MPC'!A18:H110,8,FALSE) -> 300 | K81: =H81-I81 -> -3.657 | L81: =K81*1.1 -> -4.0227
A82: 81 | B82: Picoammeter | C82: Keithley | D82: 485 | E82: 310788 | F82: Flex | G82: 12 | H82: 201.39 | J82: =VLOOKUP(A82,'Quote from MPC'!A19:H111,8,FALSE) -> No Capability
A83: 82 | B83: Picoammeter | C83: Keithley | D83: 485 | E83: 435110 | F83: Flex | G83: 12 | H83: 201.39 | J83: =VLOOKUP(A83,'Quote from MPC'!A20:H112,8,FALSE) -> No Capability
A84: 83 | B84: Electrical Safety Analyzer | C84: Quadtech | D84: Guardian 6000 Plus | E84: 8280865 | F84: Flex | G84: 12 | H84: 219.78 | I84: =J84*0.73799 -> 221.397 | J84: =VLOOKUP(A84,'Quote from MPC'!A21:H113,8,FALSE) -> 300 | K84: =H84-I84 -> -1.617 | L84: =K84*1.1 -> -1.7787
A85: 84 | B85: Liquilaz | C85: Particle Measuring Systems | D85: E20P | E85: 51053 | F85: Flex | G85: 12 | H85: 1353.85 | J85: =VLOOKUP(A85,'Quote from MPC'!A22:H114,8,FALSE) -> No Capability
A86: 85 | B86: Electronic Weigh Balance | C86: AND | D86: HR200 | E86: 12326186 | F86: Flex | G86: 6 | H86: 53.7 | I86: =J86*0.73799 -> 59.0392 | J86: =VLOOKUP(A86,'Quote from MPC'!A23:H115,8,FALSE) -> 80 | K86: =H86-I86 -> -5.3392 | L86: =K86*1.1 -> -5.87312
A87: 86 | B87: Electronic Weigh Balance | C87: AND | D87: HR200 | E87: 12326186 | F87: Flex | G87: 6 | H87: 52.75 | I87: =J87*0.73799 -> 59.0392 | J87: =VLOOKUP(A87,'Quote from MPC'!A24:H116,8,FALSE) -> 80 | K87: =H87-I87 -> -6.2892 | L87: =K87*1.1 -> -6.91812
A88: 87 | B88: Electronic Weigh Balance | C88: AND | D88: HR200 | E88: 12326300 | F88: Flex | G88: 6 | H88: 53.7 | I88: =J88*0.73799 -> 59.0392 | J88: =VLOOKUP(A88,'Quote from MPC'!A25:H117,8,FALSE) -> 80 | K88: =H88-I88 -> -5.3392 | L88: =K88*1.1 -> -5.87312
A89: 88 | B89: Electronic Weigh Balance | C89: AND | D89: HR200 | E89: 12326300 | F89: Flex | G89: 6 | H89: 52.75 | I89: =J89*0.73799 -> 59.0392 | J89: =VLOOKUP(A89,'Quote from MPC'!A26:H118,8,FALSE) -> 80 | K89: =H89-I89 -> -6.2892 | L89: =K89*1.1 -> -6.91812
A90: 89 | B90: Electronic Weigh Balance | C90: AND | D90: HR200 | E90: 12324733 | F90: Flex | G90: 6 | H90: 53.7 | I90: =J90*0.73799 -> 59.0392 | J90: =VLOOKUP(A90,'Quote from MPC'!A27:H119,8,FALSE) -> 80 | K90: =H90-I90 -> -5.3392 | L90: =K90*1.1 -> -5.87312
A91: 90 | B91: Electronic Weigh Balance | C91: AND | D91: HR200 | E91: 12324733 | F91: Flex | G91: 6 | H91: 52.75 | I91: =J91*0.73799 -> 59.0392 | J91: =VLOOKUP(A91,'Quote from MPC'!A28:H120,8,FALSE) -> 80 | K91: =H91-I91 -> -6.2892 | L91: =K91*1.1 -> -6.91812
A92: 91 | B92: Electronic Weigh Balance | C92: AND | D92: HR200 | E92: 12326184 | F92: Flex | G92: 6 | H92: 53.7 | I92: =J92*0.73799 -> 59.0392 | J92: =VLOOKUP(A92,'Quote from MPC'!A29:H121,8,FALSE) -> 80 | K92: =H92-I92 -> -5.3392 | L92: =K92*1.1 -> -5.87312
A93: 92 | B93: Electronic Weigh Balance | C93: AND | D93: HR200 | E93: 12326184 | F93: Flex | G93: 6 | H93: 52.26 | I93: =J93*0.73799 -> 59.0392 | J93: =VLOOKUP(A93,'Quote from MPC'!A30:H122,8,FALSE) -> 80 | K93: =H93-I93 -> -6.7792 | L93: =K93*1.1 -> -7.45712
A94: 93 | B94: Electronic Weigh Balance | C94: AND | D94: HR200 | E94: 12326187 | F94: Flex | G94: 6 | H94: 53.7 | I94: =J94*0.73799 -> 59.0392 | J94: =VLOOKUP(A94,'Quote from MPC'!A31:H123,8,FALSE) -> 80 | K94: =H94-I94 -> -5.3392 | L94: =K94*1.1 -> -5.87312
A95: 94 | B95: Electronic Weigh Balance | C95: AND | D95: HR200 | E95: 12326187 | F95: Flex | G95: 6 | H95: 52.75 | I95: =J95*0.73799 -> 59.0392 | J95: =VLOOKUP(A95,'Quote from MPC'!A32:H124,8,FALSE) -> 80 | K95: =H95-I95 -> -6.2892 | L95: =K95*1.1 -> -6.91812
A96: 95 | B96: Electronic Weigh Balance | C96: AND | D96: HR200 | E96: 12326180 | F96: Flex | G96: 6 | H96: 53.7 | I96: =J96*0.73799 -> 59.0392 | J96: =VLOOKUP(A96,'Quote from MPC'!A33:H125,8,FALSE) -> 80 | K96: =H96-I96 -> -5.3392 | L96: =K96*1.1 -> -5.87312
A97: 96 | B97: Electronic Weigh Balance | C97: AND | D97: HR200 | E97: 12326180 | F97: Flex | G97: 6 | H97: 52.75 | I97: =J97*0.73799 -> 59.0392 | J97: =VLOOKUP(A97,'Quote from MPC'!A34:H126,8,FALSE) -> 80 | K97: =H97-I97 -> -6.2892 | L97: =K97*1.1 -> -6.91812
... A103: 102 | B103: Torque Wrench | C103: Snap-on | D103: QD2R1000 | E103: 1009032663 | F103: Flex | G103: 6 | H103: 46.89 | I103: =J103*0.73799 -> 36.8995 | J103: =VLOOKUP(A103,'Quote from MPC'!A40:H132,8,FALSE) -> 50 | K103: =H103-I103 -> 9.9905 | L103: =K103*1.1 -> 10.98955
A104: 103 | B104: Dial Depth Gauge | C104: Mitutoyo | D104: 2904S / 7217S | E104: LQY537 / 000943 | F104: Flex | G104: 6 | H104: 23.87 | I104: =J104*0.73799 -> 33.20955 | J104: =VLOOKUP(A104,'Quote from MPC'!A41:H133,8,FALSE) -> 45 | K104: =H104-I104 -> -9.33955 | L104: =K104*1.1 -> -10.273505
A105: 104 | B105: Dial Depth Gauge | C105: Mitutoyo | D105: 2904S / 7217S | E105: LQY537 / 000943 | F105: Flex | G105: 6 | H105: 23.44 | I105: =J105*0.73799 -> 33.20955 | J105: =VLOOKUP(A105,'Quote from MPC'!A42:H134,8,FALSE) -> 45 | K105: =H105-I105 -> -9.76955 | L105: =K105*1.1 -> -10.746505
A106: 105 | B106: Dial Indicator | C106: Mitutoyo | D106: 2514S | E106: JDY576 | F106: Flex | G106: 6 | H106: 17.9 | I106: =J106*0.73799 -> 33.20955 | J106: =VLOOKUP(A106,'Quote from MPC'!A43:H135,8,FALSE) -> 45 | K106: =H106-I106 -> -15.30955 | L106: =K106*1.1 -> -16.840505
...

Sheet Quote from MPC
B1: EQUIPMENT DESCRIPTION | C1: MANUFACTURER / DISTRIBUTOR | D1: MODEL | E1: SN | F1: EQUIPMENT LOCATION | G1: INTERVAL | H1: MPC-2020 Price (SGD) | I1: Remark
A2: 29 | B2: Electrical Safety Analyzer | C2: Chroma | D2: 19032 | E2: 19032G400225 | F2: CEI | G2: 12 | H2: 300
A3: 30 | B3: Load Box | C3: Chroma | D3: S14-03 | E3: 14354696 | F3: CEI | G3: 12 | H3: 230
A4: 63 | B4: Digital Thermometer with Probe (K type) | C4: Fluke | D4: 51 II | E4: 89280141 | F4: Flex | G4: 12 | H4: 120
A5: 64 | B5: Electronic Weigh Balance | C5: AND | D5: HR200 | E5: 12305757 | F5: Flex | G5: 6 | H5: 80
A6: 65 | B6: Electronic Weigh Balance | C6: AND | D6: HR200 | E6: 12305757 | F6: Flex | G6: 6 | H6: 80
A7: 66 | B7: Electronic Weigh Balance | C7: AND | D7: HR200 | E7: 12200404 | F7: Flex | G7: 6 | H7: 80
A8: 67 | B8: Electronic Weigh Balance | C8: AND | D8: HR200 | E8: 12200404 | F8: Flex | G8: 6 | H8: 80
A9: 68 | B9: Electronic Weigh Balance | C9: AND | D9: HR200 | E9: 12303279 | F9: Flex | G9: 6 | H9: 80
A10: 69 | B10: Electronic Weigh Balance | C10: AND | D10: HR200 | E10: 12303279 | F10: Flex | G10: 6 | H10: 80
A11: 70 | B11: Electronic Weigh Balance | C11: AND | D11: HR200 | E11: 12315717 | F11: Flex | G11: 6 | H11: 80
A12: 71 | B12: Electronic Weigh Balance | C12: AND | D12: HR200 | E12: 12315717 | F12: Flex | G12: 6 | H12: 80
A13: 72 | B13: Digital Multimeter | C13: Fluke | D13: 110 | E13: 85730619 | F13: Flex | G13: 12 | H13: 80
A14: 73 | B14: Digital Multimeter | C14: Fluke | D14: 179 | E14: 90240092 | F14: Flex | G14: 12 | H14: 80
A15: 74 | B15: Electrical Safety Analyzer | C15: Quadtech | D15: Guardian 6000 | E15: 5037655 | F15: Flex | G15: 12 | H15: 300
A16: 75 | B16: Pressure Calibrator | C16: Ametek | D16: APC10KGINDG | E16: 9093205 | F16: Flex | G16: 12 | H16: 180 | I16: up to 10k psi
A17: 76 | B17: Electronic Weigh Balance | C17: AND | D17: HR200 | E17: 12316922 | F17: Flex | G17: 6 | H17: 80
A18: 77 | B18: Electronic Weigh Balance | C18: AND | D18: HR200 | E18: 12316922 | F18: Flex | G18: 6 | H18: 80
A19: 78 | B19: High Voltage Probe | C19: Fluke | D19: 80K-6 | E19: 89200011 | F19: Flex | G19: 12 | H19: 100 | I19: up to 1KV
A20: 79 | B20: Clamp Meter | C20: Kyoritsu | D20: 2033 | E20: 66386 | F20: Flex | G20: 12 | H20: 120
A21: 80 | B21: Electrical Safety Analyzer | C21: Quadtech | D21: Guardian 6000 | E21: 6069766 | F21: Flex | G21: 12 | H21: 300
A22: 81 | B22: Picoammeter | C22: Keithley | D22: 485 | E22: 310788 | F22: Flex | G22: 12 | H22: No Capability | I22: can do normal calibration with data only
A23: 82 | B23: Picoammeter | C23: Keithley | D23: 485 | E23: 435110 | F23: Flex | G23: 12 | H23: No Capability | I23: can do normal calibration with data only
A24: 83 | B24: Electrical Safety Analyzer | C24: Quadtech | D24: Guardian 6000 Plus | E24: 8280865 | F24: Flex | G24: 12 | H24: 300
A25: 84 | B25: Liquilaz | C25: Particle Measuring Systems | D25: E20P | F25: Flex | G25: 12 | H25: No Capability | I25: can do normal calibration with data only
A26: 85 | B26: Electronic Weigh Balance | C26: AND | D26: HR200 | E26: 12326186 | F26: Flex | G26: 6 | H26: 80
A27: 86 | B27: Electronic Weigh Balance | C27: AND | D27: HR200 | E27: 12326186 | F27: Flex | G27: 6 | H27: 80
A28: 87 | B28: Electronic Weigh Balance | C28: AND | D28: HR200 | E28: 12326300 | F28: Flex | G28: 6 | H28: 80
A29: 88 | B29: Electronic Weigh Balance | C29: AND | D29: HR200 | E29: 12326300 | F29: Flex | G29: 6 | H29: 80
A30: 89 | B30: Electronic Weigh Balance | C30: AND | D30: HR200 | E30: 12324733 | F30: Flex | G30: 6 | H30: 80
A31: 90 | B31: Electronic Weigh Balance | C31: AND | D31: HR200 | E31: 12324733 | F31: Flex | G31: 6 | H31: 80
A32: 91 | B32: Electronic Weigh Balance | C32: AND | D32: HR200 | E32: 12326184 | F32: Flex | G32: 6 | H32: 80
A33: 92 | B33: Electronic Weigh Balance | C33: AND | D33: HR200 | E33: 12326184 | F33: Flex | G33: 6 | H33: 80
A34: 93 | B34: Electronic Weigh Balance | C34: AND | D34: HR200 | E34: 12326187 | F34: Flex | G34: 6 | H34: 80
A35: 94 | B35: Electronic Weigh Balance | C35: AND | D35: HR200 | E35: 12326187 | F35: Flex | G35: 6 | H35: 80
A36: 95 | B36: Electronic Weigh Balance | C36: AND | D36: HR200 | E36: 12326180 | F36: Flex | G36: 6 | H36: 80
A37: 96 | B37: Electronic Weigh Balance | C37: AND | D37: HR200 | E37: 12326180 | F37: Flex | G37: 6 | H37: 80
... A43: 102 | B43: Torque Wrench | C43: Snap-on | D43: QD2R1000 | E43: 1009032663 | F43: Flex | G43: 6 | H43: 50
A44: 103 | B44: Dial Depth Gauge | C44: Mitutoyo | D44: 2904S / 7217S | E44: LQY537 / 000943 | F44: Flex | G44: 6 | H44: 45
A45: 104 | B45: Dial Depth Gauge | C45: Mitutoyo | D45: 2904S / 7217S | E45: LQY537 / 000943 | F45: Flex | G45: 6 | H45: 45
A46: 105 | B46: Dial Indicator | C46: Mitutoyo | D46: 2514S | E46: JDY576 | F46: Flex | G46: 6 | H46: 45
A47: 106 | B47: Dial Indicator | C47: Mitutoyo | D47: 2514S | E47: JDY576 | F47: Flex | G47: 6 | H47: 45
A48: 107 | B48: Mass Flow Meter | C48: Aalborg | D48: GFM17 | E48: 170609-1 | F48: Flex | G48: 12 | H48: No Capability
A49: 108 | B49: Torque Wrench | C49: Snap-on | D49: QD1R200 | E49: 408302147 | F49: Flex | G49: 6 | H49: 50
A50: 109 | B50: Torque Wrench | C50: Snap-on | D50: QD1R200 | E50: 408302147 | F50: Flex | G50: 6 | H50: 50
A51: 110 | B51: Electrical Safety Analyzer | C51: Chroma | D51: 19032 | E51: 19032G000182 | F51: Flex | G51: 12 | H51: 300
A52: 111 | B52: Macbeth Lighting | C52: X-Rite | D52: Judge II | E52: C61093261217 | F52: Flex | G52: 12 | H52: No Capability | I52: No Capability
A53: 112 | B53: Electronic Weigh Balance | C53: AND | D53: HR200 | E53: 12336741 | F53: Flex | G53: 6 | H53: 80
A54: 113 | B54: Electronic Weigh Balance | C54: AND | D54: HR200 | E54: 12336741 | F54: Flex | G54: 6 | H54: 80
A55: 114 | B55: Load Box | C55: Chroma | D55: S14-03 | E55: 14354695 | F55: Flex | G55: 12 | H55: 230
A56: 115 | B56: Load Box | C56: Chroma | D56: S14-03 | E56: 14354681 | F56: Flex | G56: 12 | H56: 230
A57: 116 | B57: Load Box | C57: Chroma | D57: S14-03 | E57: 14354691 | F57: Flex | G57: 12 | H57: 230
A58: 117 | B58: Load Box | C58: Chroma | D58: S14-03 | E58: 7322788 | F58: Flex | G58: 12 | H58: 230
A59: 118 | B59: Benchtop Measuring Machine | C59: Quality Vision International | D59: StarLite 150 | E59: RSL1002609 | F59: Flex | G59: 12 | H59: 450 | I59: Follow previous cal cert
A60: 136 | B60: Light Box | C60: X-Rite | D60: JUDGE II | E60: C61093251217 | F60: Venture (LC) | G60: 12 | H60: No Capability | I60: No Capability
A61: 171 | B61: VXI 6 1/2 Digit Multimeter | C61: Racal-Dana Instruments, inc. | D61: 4152A | E61: US38010437 | F61: Venture PCBA (LC) | G61: 12 | H61: 400
A62: 172 | B62: VXI 6 1/2 Digit Multimeter | C62: Racal-Dana Instruments, Inc. | D62: 4152A | E62: US38010248 | F62: Venture PCBA (LC) | G62: 12 | H62: 400
A63: 173 | B63: VXI Universal Counter 200 MHZ | C63: Racal-Dana Instruments, inc. | D63: 2461-CD | E63: 03070017 | F63: Venture PCBA (LC) | G63: 12 | H63: 400
A64: 174 | B64: VXI Universal Counter 200 MHZ | C64: Racal-Dana Instruments, Inc. | D64: 2461-CD | E64: 1210 | F64: Venture PCBA (LC) | G64: 12 | H64: 400
A65: 175 | B65: VXI Waveform Generator | C65: Racal-Dana Instruments, Inc. | D65: 3151A+ | E65: 9809972 | F65: Venture PCBA (LC) | G65: 12 | H65: 300
A66: 176 | B66: VXI Waveform Generator | C66: Racal-Dana Instruments, inc. | D66: 3151A+ | E66: 0101813 | F66: Venture PCBA (LC) | G66: 12 | H66: 300
A67: 179 | B67: DIGITAL PHOSPOR OSCILLOSCOPE | C67: Tektronix | D67: TDS3054C | E67: C020604 | F67: Venture (MS) | G67: 12 | H67: 350
A68: 180 | B68: Digital Gram Balance - WP07 (Weighing Scale) | C68: AND | D68: HR-200 | E68: 12335004 (93371) | F68: Venture (LC) | G68: 6 | H68: 80
A69: 181 | B69: Digital Gram Balance - WP07 (Weighing Scale) | C69: AND | D69: HR-200 | E69: 12335004 (93371) | F69: Venture (LC) | G69: 6 | H69: 80
A70: 182 | B70: Digital Gram Balance - WP07 (Weighing Scale) | C70: AND | D70: HR-200 | E70: 12333739 (93373) | F70: Venture (LC) | G70: 6 | H70: 80
A71: 183 | B71: Digital Gram Balance - WP07 (Weighing Scale) | C71: AND | D71: HR-200 | E71: 12333739 (93373) | F71: Venture (LC) | G71: 6 | H71: 80
A72: 184 | B72: Digital Gram Balance - WP07 (Weighing Scale) | C72: AND | D72: HR-200 | E72: 12333783 (93372) | F72: Venture (LC) | G72: 6 | H72: 80
... A86: 198 | B86: Electrical Safety Analyzer | C86: QuadTech | D86: 6000 Plus | E86: 11173729 (ID#91890) | F86: Venture (LC) | G86: 12 | H86: 300
A87: 199 | B87: Load Box | C87: Chroma | D87: S14-03 | E87: 7322783 | F87: Venture (LC) | G87: 12 | H87: 230
A88: 200 | B88: Load Box | C88: Chroma | D88: S14-03 | E88: 7322786 | F88: Venture (LC) | G88: 12 | H88: 230
A89: 201 | B89: Load Box | C89: Chroma | D89: S14-03 | E89: 14354687 | F89: Venture (LC) | G89: 12 | H89: 230
A90: 202 | B90: Load Box | C90: Chroma | D90: S14-03 | E90: 14354682 | F90: Venture (LC) | G90: 12 | H90: 230
A91: 203 | B91: Load Box | C91: Chroma | D91: S14-03 | E91: 14354698 | F91: Venture (LC) | G91: 12 | H91: 230
A92: 204 | B92: Pat and Flash Tester | C92: Seaward Electronic | D92: CLARE HAL 104 | E92: 34J-0747 | F92: Venture (LC) | G92: 12 | H92: 560
A93: 205 | B93: Insulation Tester | C93: Megger | D93: MIT400 | E93: 0703071132 | F93: Venture (MS) | G93: 12 | H93: 150
A94: 226 | B94: Leak Detector | C94: Leybold | D94: PhoenixL 300i | E94: 90001301209 | F94: Venture (MS) | G94: 15 | H94: No Capability

Sheet Lowest Price in CM
A3: Row Labels
A4: Clamp Meter
A5: 79.12
A6: Dial Depth Gauge
A7: 23.44
A8: 23.87
A9: Dial Indicator
A10: 17.9
A11: 23.44
A12: Digital Multimeter
A13: 53.7
A14: DIGITAL PHOSPOR OSCILLOSCOPE
A15: 200
A16: Digital Thermometer with Probe (K type)
A17: 59.34
A18: Electrical Safety Analyzer
A19: 217.74
A20: 219.78
A21: Electronic Weigh Balance
A22: 52.26
A23: 52.75
A24: 53.7
A25: Load Box
A26: 75
A27: 80
A28: 89.51
A29: VXI Universal Counter 200 MHZ
A30: (blank)
A31: Grand Total

Sheet Items need to check with MPC
B2: EQUIPMENT DESCRIPTION | C2: MANUFACTURER / DISTRIBUTOR | D2: MODEL | E2: SN | F2: EQUIPMENT LOCATION | G2: INTERVAL | H2: Current COST (USD) | I2: MPC Cost(USD) | J2: Cost Diff. (USD)
B3: Load Box | C3: Chroma | D3: S14-03 | E3: 14354696 | F3: CEI | G3: 12 | H3: 75 | I3: 169.7377 | J3: -94.7377
B4: Digital Thermometer with Probe (K type) | C4: Fluke | D4: 51 II | E4: 89280141 | F4: Flex | G4: 12 | H4: 59.34 | I4: 88.5588 | J4: -29.2188
B5: Electronic Weigh Balance | C5: AND | D5: HR200 | E5: 12305757 | F5: Flex | G5: 6 | H5: 53.7 | I5: 59.0392 | J5: -5.3392
B6: Electronic Weigh Balance | C6: AND | D6: HR200 | E6: 12305757 | F6: Flex | G6: 6 | H6: 52.75 | I6: 59.0392 | J6: -6.2892
B7: Electronic Weigh Balance | C7: AND | D7: HR200 | E7: 12200404 | F7: Flex | G7: 6 | H7: 53.7 | I7: 59.0392 | J7: -5.3392
B8: Electronic Weigh Balance | C8: AND | D8: HR200 | E8: 12200404 | F8: Flex | G8: 6 | H8: 52.75 | I8: 59.0392 | J8: -6.2892
B9: Electronic Weigh Balance | C9: AND | D9: HR200 | E9: 12303279 | F9: Flex | G9: 6 | H9: 53.7 | I9: 59.0392 | J9: -5.3392
B10: Electronic Weigh Balance | C10: AND | D10: HR200 | E10: 12303279 | F10: Flex | G10: 6 | H10: 52.75 | I10: 59.0392 | J10: -6.2892
B11: Electronic Weigh Balance | C11: AND | D11: HR200 | E11: 12315717 | F11: Flex | G11: 6 | H11: 53.7 | I11: 59.0392 | J11: -5.3392
B12: Electronic Weigh Balance | C12: AND | D12: HR200 | E12: 12315717 | F12: Flex | G12: 6 | H12: 52.75 | I12: 59.0392 | J12: -6.2892
B13: Digital Multimeter | C13: Fluke | D13: 110 | E13: 85730619 | F13: Flex | G13: 12 | H13: 53.7 | I13: 59.0392 | J13: -5.3392
B14: Digital Multimeter | C14: Fluke | D14: 179 | E14: 90240092 | F14: Flex | G14: 12 | H14: 53.7 | I14: 59.0392 | J14: -5.3392
B15: Electronic Weigh Balance | C15: AND | D15: HR200 | E15: 12316922 | F15: Flex | G15: 6 | H15: 53.7 | I15: 59.0392 | J15: -5.3392
B16: Electronic Weigh Balance | C16: AND | D16: HR200 | E16: 12316922 | F16: Flex | G16: 6 | H16: 52.75 | I16: 59.0392 | J16: -6.2892
B17: Clamp Meter | C17: Kyoritsu | D17: 2033 | E17: 66386 | F17: Flex | G17: 12 | H17: 79.12 | I17: 88.5588 | J17: -9.4388
B18: Electrical Safety Analyzer | C18: Quadtech | D18: Guardian 6000 | E18: 6069766 | F18: Flex | G18: 12 | H18: 217.74 | I18: 221.397 | J18: -3.657
B19: Electrical Safety Analyzer | C19: Quadtech | D19: Guardian 6000 Plus | E19: 8280865 | F19: Flex | G19: 12 | H19: 219.78 | I19: 221.397 | J19: -1.617
B20: Electronic Weigh Balance | C20: AND | D20: HR200 | E20: 12326186 | F20: Flex | G20: 6 | H20: 53.7 | I20: 59.0392 | J20: -5.3392
B21: Electronic Weigh Balance | C21: AND | D21: HR200 | E21: 12326186 | F21: Flex | G21: 6 | H21: 52.75 | I21: 59.0392 | J21: -6.2892
B22: Electronic Weigh Balance | C22: AND | D22: HR200 | E22: 12326300 | F22: Flex | G22: 6 | H22: 53.7 | I22: 59.0392 | J22: -5.3392
B23: Electronic Weigh Balance | C23: AND | D23: HR200 | E23: 12326300 | F23: Flex | G23: 6 | H23: 52.75 | I23: 59.0392 | J23: -6.2892
B24: Electronic Weigh Balance | C24: AND | D24: HR200 | E24: 12324733 | F24: Flex | G24: 6 | H24: 53.7 | I24: 59.0392 | J24: -5.3392
B25: Electronic Weigh Balance | C25: AND | D25: HR200 | E25: 12324733 | F25: Flex | G25: 6 | H25: 52.75 | I25: 59.0392 | J25: -6.2892
B26: Electronic Weigh Balance | C26: AND | D26: HR200 | E26: 12326184 | F26: Flex | G26: 6 | H26: 53.7 | I26: 59.0392 | J26: -5.3392
B27: Electronic Weigh Balance | C27: AND | D27: HR200 | E27: 12326184 | F27: Flex | G27: 6 | H27: 52.26 | I27: 59.0392 | J27: -6.7792
B28: Electronic Weigh Balance | C28: AND | D28: HR200 | E28: 12326187 | F28: Flex | G28: 6 | H28: 53.7 | I28: 59.0392 | J28: -5.3392
B29: Electronic Weigh Balance | C29: AND | D29: HR200 | E29: 12326187 | F29: Flex | G29: 6 | H29: 52.75 | I29: 59.0392 | J29: -6.2892
... B35: Electronic Weigh Balance | C35: AND | D35: HR200 | E35: 12326279 | F35: Flex | G35: 6 | H35: 52.75 | I35: 59.0392 | J35: -6.2892
B36: Dial Depth Gauge | C36: Mitutoyo | D36: 2904S / 7217S | E36: LQY537 / 000943 | F36: Flex | G36: 6 | H36: 23.87 | I36: 33.20955 | J36: -9.33955
B37: Dial Depth Gauge | C37: Mitutoyo | D37: 2904S / 7217S | E37: LQY537 / 000943 | F37: Flex | G37: 6 | H37: 23.44 | I37: 33.20955 | J37: -9.76955
B38: Dial Indicator | C38: Mitutoyo | D38: 2514S | E38: JDY576 | F38: Flex | G38: 6 | H38: 17.9 | I38: 33.20955 | J38: -15.30955
B39: Dial Indicator | C39: Mitutoyo | D39: 2514S | E39: JDY576 | F39: Flex | G39: 6 | H39: 23.44 | I39: 33.20955 | J39: -9.76955
B40: Electrical Safety Analyzer | C40: Chroma | D40: 19032 | E40: 19032G000182 | F40: Flex | G40: 12 | H40: 217.74 | I40: 221.397 | J40: -3.657
B41: Electronic Weigh Balance | C41: AND | D41: HR200 | E41: 12336741 | F41: Flex | G41: 6 | H41: 53.7 | I41: 59.0392 | J41: -5.3392
B42: Electronic Weigh Balance | C42: AND | D42: HR200 | E42: 12336741 | F42: Flex | G42: 6 | H42: 53.7 | I42: 59.0392 | J42: -5.3392
B43: Load Box | C43: Chroma | D43: S14-03 | E43: 14354695 | F43: Flex | G43: 12 | H43: 89.51 | I43: 169.7377 | J43: -80.2277
B44: Load Box | C44: Chroma | D44: S14-03 | E44: 14354681 | F44: Flex | G44: 12 | H44: 89.51 | I44: 169.7377 | J44: -80.2277
B45: Load Box | C45: Chroma | D45: S14-03 | E45: 14354691 | F45: Flex | G45: 12 | H45: 89.51 | I45: 169.7377 | J45: -80.2277
B46: Load Box | C46: Chroma | D46: S14-03 | E46: 7322788 | F46: Flex | G46: 12 | H46: 89.51 | I46: 169.7377 | J46: -80.2277
B47: VXI Universal Counter 200 MHZ | C47: Racal-Dana Instruments, inc. | D47: 2461-CD | E47: 03070017 | F47: Venture PCBA (LC) | G47: 12 | I47: 295.196 | J47: -295.196
B48: DIGITAL PHOSPOR OSCILLOSCOPE | C48: Tektronix | D48: TDS3054C | E48: C020604 | F48: Venture (MS) | G48: 12 | H48: 200 | I48: 258.2965 | J48: -58.2965
B49: Load Box | C49: Chroma | D49: S14-03 | E49: 7322783 | F49: Venture (LC) | G49: 12 | H49: 80 | I49: 169.7377 | J49: -89.7377
B50: Load Box | C50: Chroma | D50: S14-03 | E50: 7322786 | F50: Venture (LC) | G50: 12 | H50: 80 | I50: 169.7377 | J50: -89.7377
B51: Load Box | C51: Chroma | D51: S14-03 | E51: 14354687 | F51: Venture (LC) | G51: 12 | H51: 80 | I51: 169.7377 | J51: -89.7377
B52: Load Box | C52: Chroma | D52: S14-03 | E52: 14354682 | F52: Venture (LC) | G52: 12 | H52: 80 | I52: 169.7377 | J52: -89.7377
B53: Load Box | C53: Chroma | D53: S14-03 | E53: 14354698 | F53: Venture (LC) | G53: 12 | H53: 80 | I53: 169.7377 | J53: -89.7377
I54: 4826.4546 | J54: -1387.8846

Sheet GTS list
C2: Scope | D2: Tektronix | E2: C012802
C3: Function Generator | D3: Agilent | E3: MY44054891
C4: Mulitmeter | D4: Agilent | E4: MY48004403
C5: Electronic Load Module | D5: Chroma | E5: 63103A003917
C6: Electronic Load Module | D6: Chroma | E6: 63103A003907
C7: Electronic Load Module | D7: Chroma | E7: 63103A003897
C8: Electronic Load Module | D8: Chroma | E8: 63103A003947
C9: Programmable Card, 4Ch | D9: Geotest | E9: GX1164
C10: Programmable Power Supply | D10: National Instrument | E10: 160B96F
C11: Data Acquisition | D11: National Instrument | E11: 164D2A9
C12: Data Acquisition | D12: National Instrument | E12: 164D2B4
C13: Genesys 750W Power Supply | D13: Lambda | E13: 11K5893Z
... C19: NI PXI-4071 FlexDMM | D19: National Instrument | E19: F1E66F
C20: Aglient Current Shunt for DMM | D20: Agilent
