Workbook

Sheet Materlist
B1: EQUIPMENT DESCRIPTION | C1: MANUFACTURER / DISTRIBUTOR | D1: MODEL | E1: SN | F1: EQUIPMENT LOCATION | G1: INTERVAL | H1: Current COST (USD) | I1: MPC Cost(USD) | J1: MPC Cost (SGD) | K1: Cost Diff. (USD) | L1: Cost Diff. with 10% (USD)
A2: 1 | B2: Pipette | C2: Eppendorf /VWR | D2: P1000 | E2: G42127G | F2: WPPL Lab | G2: 1 Year
A3: 2 | B3: Pipette | C3: Eppendorf / VWR | D3: P1000 | E3: G42285G | F3: WPPL Lab | G3: 1 Year
A4: 3 | B4: Weighing Scale | C4: Sartorius | D4: MSA 125P-100-DI | E4: 35701494 | F4: WPPL Lab | G4: 1 Year
A5: 4 | B5: Multimeter | C5: FLUKE / Region Suppliers (PTE) LTD | D5: FL77-4 | E5: 35700255 | F5: WPPL Lab | G5: 1 Year
A6: 5 | B6: Wide Range Gauge | C6: Edwards | D6: D14703000 | E6: 170077634 | F6: WPPL Lab | G6: 1 Year
A7: 6 | B7: Wide Range Gauge | C7: Edwards | D7: D14703000 | E7: 170077633 | F7: WPPL Lab | G7: 1 Year
A8: 7 | B8: Wide Range Gauge | C8: Edwards | D8: D14703000 | E8: 150253989 | F8: WPPL Lab | G8: 1 Year
A9: 8 | B9: Wide Range Gauge | C9: Edwards | D9: D14703000 | E9: 150253990 | F9: WPPL Lab | G9: 1 Year
A10: 9 | B10: Traceable Stopwatch/ Timer Big Digit 4 Channel | C10: VWR | D10: 62344-641 | E10: 170445616 | F10: WPPL Lab | G10: 2 Years
A11: 10 | B11: Weight-1g | C11: Sartorius | D11: YCW313-00 | E11: 34729085 | F11: WPPL Lab | G11: 1 Year
A12: 11 | B12: Weight-10g | C12: Sartorius | D12: YCW413-00 | E12: 35229142 | F12: WPPL Lab | G12: 1 Year
A13: 12 | B13: Analogue Surface Resistance Meter Kit | C13: Pro-Pack Materials Pte Ltd | D13: SCS 701 | E13: 7011745026 | F13: WPPL Lab | G13: 1 Year
A14: 13 | B14: ESD Personnel Test Station | C14: Vermason | D14: 222563 | E14: 1719001 | F14: WPPL Lab | G14: 1 Year
A15: 14 | B15: Megger MIT410/2 Insulation Tester | C15: Megger | D15: MIT410/2 | E15: 1.0063371e+15 | F15: WPPL Lab | G15: 1 Year
A16: 15 | B16: Glassware washer | C16: Lab Science Solution Pte Ltd | D16: PG8593 | E16: 74400208 | F16: WPPL Lab | G16: 1 Year
A17: 16 | B17: Pipette | C17: Eppendorf /VWR | D17: 200uL | E17: I22994G | F17: WPPL Lab | G17: 1 Year
A18: 17 | B18: Pipette | C18: Eppendorf /VWR | D18: 200uL | E18: I22911G | F18: WPPL Lab | G18: 1 Year
A19: 18 | B19: Grundfos Pump | C19: Adept Pure Water Limited | D19: CME3-5 | E19: 98358937 | F19: Richport | G19: 1 Year
A20: 19 | B20: Tempreature Recorder | C20: LogTag | D20: TRIX-8 | E20: 1000848285 | F20: WPPL | G20: 1 Year
A21: 20 | B21: Tempreature Recorder | C21: LogTag | D21: TRIX-8 | E21: 1000848290 | F21: WPPL | G21: 1 Year
A22: 21 | B22: Tempreature Recorder | C22: LogTag | D22: TRIX-8 | E22: 1000848288 | F22: WPPL | G22: 1 Year
A23: 22 | B23: Tempreature Recorder | C23: LogTag | D23: TRIX-8 | E23: 1000848283 | F23: WPPL | G23: 1 Year
A24: 23 | B24: Tempreature Recorder | C24: LogTag | D24: TRIX-8 | E24: 1000848289 | F24: WPPL | G24: 1 Year
A25: 24 | B25: Tempreature Recorder | C25: LogTag | D25: TRIX-8 | E25: 1000848284 | F25: WPPL | G25: 1 Year
A26: 25 | B26: Tempreature Recorder | C26: LogTag | D26: TRIX-8 | E26: 1000848286 | F26: WPPL | G26: 1 Year
A27: 26 | B27: Tempreature Recorder | C27: LogTag | D27: TRIX-8 | E27: 1000848287 | F27: WPPL | G27: 1 Year
A28: 27 | B28: DIGIMATIC MICROMETER | C28: Mitutoyo | D28: MDC-1"PX | E28: 632855699 | F28: WPPL | G28: 1 Year
A29: 28 | B29: DIGIMATIC CALIPER | C29: Mitutoyo | D29: CD-8"ASX | E29: B16215984 | F29: WPPL | G29: 1 Year
A30: 29 | B30: Electrical Safety Analyzer | C30: Chroma | D30: 19032 | E30: 19032G400225 | F30: CEI | G30: 12 | H30: 480 | I30: =J30*0.73799 -> 221.397 | J30: =VLOOKUP(A30,'Quote from MPC'!A1:I94,8,FALSE) -> 300 | K30: =H30-I30 -> 258.603 | L30: =K30*1.1 -> 284.4633
A31: 30 | B31: Load Box | C31: Chroma | D31: S14-03 | E31: 14354696 | F31: CEI | G31: 12 | H31: 75 | I31: =J31*0.73799 -> 169.7377 | J31: =VLOOKUP(A31,'Quote from MPC'!A2:I95,8,FALSE) -> 230 | K31: =H31-I31 -> -94.7377 | L31: =K31*1.1 -> -104.21147
A32: 31 | B32: Keithley Source Measurement Unit #1 | C32: Keithley | D32: 236 | E32: 782275 | F32: CEI PCBA | G32: 12 | H32: 1017.11 | I32: =J32*0.73799 -> 169.7377 | J32: =VLOOKUP(A32,'Quote from MPC'!A3:I96,8) -> 230 | K32: =H32-I32 -> 847.3723 | L32: =K32*1.1 -> 932.10953
A33: 32 | B33: Programmable DC Power supply | C33: TDK Lambda | D33: GENH30-25 | E33: 09M1019A | F33: CEI PCBA | G33: 12 | H33: 145.89 | I33: =J33*0.73799 -> #N/A | J33: =VLOOKUP(A33,'Quote from MPC'!A4:I97,8,FALSE) -> #N/A
A34: 33 | B34: Programmable DC Power supply | C34: TDK Lambda | D34: GENH30-25 | E34: 09M1020A | F34: CEI PCBA | G34: 12 | H34: 145.89 | I34: =J34*0.73799 -> #N/A | J34: =VLOOKUP(A34,'Quote from MPC'!A5:I98,8,FALSE) -> #N/A
A35: 34 | B35: 6½ DIGITAL MULTIMETER | C35: Agilent Technologies | D35: 34411A | E35: MY46000358 | F35: CEI PCBA | G35: 12 | H35: 132.63 | I35: =J35*0.73799 -> #N/A | J35: =VLOOKUP(A35,'Quote from MPC'!A6:I99,8,FALSE) -> #N/A
A36: 35 | B36: 4 CH 500MHz OSCILLOSCOPE | C36: Tektronix | D36: TDS3054C | E36: C011085 | F36: CEI PCBA | G36: 12 | H36: 298.42 | I36: =J36*0.73799 -> #N/A | J36: =VLOOKUP(A36,'Quote from MPC'!A7:I100,8,FALSE) -> #N/A
A37: 36 | B37: NI [ M series ] MULTIFUNCTION DAQ Device | C37: National Instruments | D37: PXI-6229 | E37: 145DF14 | F37: CEI PCBA | G37: 12 | H37: 397.89 | I37: =J37*0.73799 -> #N/A | J37: =VLOOKUP(A37,'Quote from MPC'!A8:I101,8,FALSE) -> #N/A
A38: 37 | B38: NI [ M series ] MULTIFUNCTION DAQ Device | C38: National Instruments | D38: PXI-6229 | E38: 145DF42 | F38: CEI PCBA | G38: 12 | H38: 397.89 | I38: =J38*0.73799 -> #N/A | J38: =VLOOKUP(A38,'Quote from MPC'!A9:I102,8,FALSE) -> #N/A
A39: 38 | B39: Programmable DC Power supply | C39: TDK Lambda | D39: GENH60-12.5 | E39: 09M1026A | F39: CEI PCBA | G39: 12 | H39: 119.37 | I39: =J39*0.73799 -> #N/A | J39: =VLOOKUP(A39,'Quote from MPC'!A10:I103,8,FALSE) -> #N/A
A40: 39 | B40: Programmable DC Power supply | C40: TDK Lambda | D40: GENH60-12.5 | E40: 09M1028A | F40: CEI PCBA | G40: 12 | H40: 119.37 | I40: =J40*0.73799 -> #N/A | J40: =VLOOKUP(A40,'Quote from MPC'!A11:I104,8,FALSE) -> #N/A
...

Sheet Quote from MPC
B1: EQUIPMENT DESCRIPTION | C1: MANUFACTURER / DISTRIBUTOR | D1: MODEL | E1: SN | F1: EQUIPMENT LOCATION | G1: INTERVAL | H1: MPC-2020 Price (SGD) | I1: Remark
A2: 29 | B2: Electrical Safety Analyzer | C2: Chroma | D2: 19032 | E2: 19032G400225 | F2: CEI | G2: 12 | H2: 300
A3: 30 | B3: Load Box | C3: Chroma | D3: S14-03 | E3: 14354696 | F3: CEI | G3: 12 | H3: 230
A4: 63 | B4: Digital Thermometer with Probe (K type) | C4: Fluke | D4: 51 II | E4: 89280141 | F4: Flex | G4: 12 | H4: 120
A5: 64 | B5: Electronic Weigh Balance | C5: AND | D5: HR200 | E5: 12305757 | F5: Flex | G5: 6 | H5: 80
A6: 65 | B6: Electronic Weigh Balance | C6: AND | D6: HR200 | E6: 12305757 | F6: Flex | G6: 6 | H6: 80
A7: 66 | B7: Electronic Weigh Balance | C7: AND | D7: HR200 | E7: 12200404 | F7: Flex | G7: 6 | H7: 80
A8: 67 | B8: Electronic Weigh Balance | C8: AND | D8: HR200 | E8: 12200404 | F8: Flex | G8: 6 | H8: 80
A9: 68 | B9: Electronic Weigh Balance | C9: AND | D9: HR200 | E9: 12303279 | F9: Flex | G9: 6 | H9: 80
A10: 69 | B10: Electronic Weigh Balance | C10: AND | D10: HR200 | E10: 12303279 | F10: Flex | G10: 6 | H10: 80
A11: 70 | B11: Electronic Weigh Balance | C11: AND | D11: HR200 | E11: 12315717 | F11: Flex | G11: 6 | H11: 80
A12: 71 | B12: Electronic Weigh Balance | C12: AND | D12: HR200 | E12: 12315717 | F12: Flex | G12: 6 | H12: 80
A13: 72 | B13: Digital Multimeter | C13: Fluke | D13: 110 | E13: 85730619 | F13: Flex | G13: 12 | H13: 80
A14: 73 | B14: Digital Multimeter | C14: Fluke | D14: 179 | E14: 90240092 | F14: Flex | G14: 12 | H14: 80
A15: 74 | B15: Electrical Safety Analyzer | C15: Quadtech | D15: Guardian 6000 | E15: 5037655 | F15: Flex | G15: 12 | H15: 300
A16: 75 | B16: Pressure Calibrator | C16: Ametek | D16: APC10KGINDG | E16: 9093205 | F16: Flex | G16: 12 | H16: 180 | I16: up to 10k psi
A17: 76 | B17: Electronic Weigh Balance | C17: AND | D17: HR200 | E17: 12316922 | F17: Flex | G17: 6 | H17: 80
A18: 77 | B18: Electronic Weigh Balance | C18: AND | D18: HR200 | E18: 12316922 | F18: Flex | G18: 6 | H18: 80
A19: 78 | B19: High Voltage Probe | C19: Fluke | D19: 80K-6 | E19: 89200011 | F19: Flex | G19: 12 | H19: 100 | I19: up to 1KV
A20: 79 | B20: Clamp Meter | C20: Kyoritsu | D20: 2033 | E20: 66386 | F20: Flex | G20: 12 | H20: 120
A21: 80 | B21: Electrical Safety Analyzer | C21: Quadtech | D21: Guardian 6000 | E21: 6069766 | F21: Flex | G21: 12 | H21: 300
A22: 81 | B22: Picoammeter | C22: Keithley | D22: 485 | E22: 310788 | F22: Flex | G22: 12 | H22: No Capability | I22: can do normal calibration with data only
A23: 82 | B23: Picoammeter | C23: Keithley | D23: 485 | E23: 435110 | F23: Flex | G23: 12 | H23: No Capability | I23: can do normal calibration with data only
A24: 83 | B24: Electrical Safety Analyzer | C24: Quadtech | D24: Guardian 6000 Plus | E24: 8280865 | F24: Flex | G24: 12 | H24: 300
A25: 84 | B25: Liquilaz | C25: Particle Measuring Systems | D25: E20P | F25: Flex | G25: 12 | H25: No Capability | I25: can do normal calibration with data only
A26: 85 | B26: Electronic Weigh Balance | C26: AND | D26: HR200 | E26: 12326186 | F26: Flex | G26: 6 | H26: 80
A27: 86 | B27: Electronic Weigh Balance | C27: AND | D27: HR200 | E27: 12326186 | F27: Flex | G27: 6 | H27: 80
A28: 87 | B28: Electronic Weigh Balance | C28: AND | D28: HR200 | E28: 12326300 | F28: Flex | G28: 6 | H28: 80
A29: 88 | B29: Electronic Weigh Balance | C29: AND | D29: HR200 | E29: 12326300 | F29: Flex | G29: 6 | H29: 80
A30: 89 | B30: Electronic Weigh Balance | C30: AND | D30: HR200 | E30: 12324733 | F30: Flex | G30: 6 | H30: 80
A31: 90 | B31: Electronic Weigh Balance | C31: AND | D31: HR200 | E31: 12324733 | F31: Flex | G31: 6 | H31: 80
A32: 91 | B32: Electronic Weigh Balance | C32: AND | D32: HR200 | E32: 12326184 | F32: Flex | G32: 6 | H32: 80
A33: 92 | B33: Electronic Weigh Balance | C33: AND | D33: HR200 | E33: 12326184 | F33: Flex | G33: 6 | H33: 80
A34: 93 | B34: Electronic Weigh Balance | C34: AND | D34: HR200 | E34: 12326187 | F34: Flex | G34: 6 | H34: 80
A35: 94 | B35: Electronic Weigh Balance | C35: AND | D35: HR200 | E35: 12326187 | F35: Flex | G35: 6 | H35: 80
A36: 95 | B36: Electronic Weigh Balance | C36: AND | D36: HR200 | E36: 12326180 | F36: Flex | G36: 6 | H36: 80
A37: 96 | B37: Electronic Weigh Balance | C37: AND | D37: HR200 | E37: 12326180 | F37: Flex | G37: 6 | H37: 80
... A43: 102 | B43: Torque Wrench | C43: Snap-on | D43: QD2R1000 | E43: 1009032663 | F43: Flex | G43: 6 | H43: 50
A44: 103 | B44: Dial Depth Gauge | C44: Mitutoyo | D44: 2904S / 7217S | E44: LQY537 / 000943 | F44: Flex | G44: 6 | H44: 45
A45: 104 | B45: Dial Depth Gauge | C45: Mitutoyo | D45: 2904S / 7217S | E45: LQY537 / 000943 | F45: Flex | G45: 6 | H45: 45
...

Sheet Lowest Price in CM
A3: Row Labels
A4: Clamp Meter
A5: 79.12
A6: Dial Depth Gauge
A7: 23.44
A8: 23.87
A9: Dial Indicator
A10: 17.9
A11: 23.44
A12: Digital Multimeter
A13: 53.7
A14: DIGITAL PHOSPOR OSCILLOSCOPE
A15: 200
A16: Digital Thermometer with Probe (K type)
A17: 59.34
A18: Electrical Safety Analyzer
A19: 217.74
A20: 219.78
A21: Electronic Weigh Balance
A22: 52.26
A23: 52.75
A24: 53.7
A25: Load Box
A26: 75
A27: 80
A28: 89.51
A29: VXI Universal Counter 200 MHZ
A30: (blank)
A31: Grand Total

Sheet Items need to check with MPC
B2: EQUIPMENT DESCRIPTION | C2: MANUFACTURER / DISTRIBUTOR | D2: MODEL | E2: SN | F2: EQUIPMENT LOCATION | G2: INTERVAL | H2: Current COST (USD) | I2: MPC Cost(USD) | J2: Cost Diff. (USD)
B3: Load Box | C3: Chroma | D3: S14-03 | E3: 14354696 | F3: CEI | G3: 12 | H3: 75 | I3: 169.7377 | J3: -94.7377
B4: Digital Thermometer with Probe (K type) | C4: Fluke | D4: 51 II | E4: 89280141 | F4: Flex | G4: 12 | H4: 59.34 | I4: 88.5588 | J4: -29.2188
B5: Electronic Weigh Balance | C5: AND | D5: HR200 | E5: 12305757 | F5: Flex | G5: 6 | H5: 53.7 | I5: 59.0392 | J5: -5.3392
B6: Electronic Weigh Balance | C6: AND | D6: HR200 | E6: 12305757 | F6: Flex | G6: 6 | H6: 52.75 | I6: 59.0392 | J6: -6.2892
B7: Electronic Weigh Balance | C7: AND | D7: HR200 | E7: 12200404 | F7: Flex | G7: 6 | H7: 53.7 | I7: 59.0392 | J7: -5.3392
B8: Electronic Weigh Balance | C8: AND | D8: HR200 | E8: 12200404 | F8: Flex | G8: 6 | H8: 52.75 | I8: 59.0392 | J8: -6.2892
B9: Electronic Weigh Balance | C9: AND | D9: HR200 | E9: 12303279 | F9: Flex | G9: 6 | H9: 53.7 | I9: 59.0392 | J9: -5.3392
B10: Electronic Weigh Balance | C10: AND | D10: HR200 | E10: 12303279 | F10: Flex | G10: 6 | H10: 52.75 | I10: 59.0392 | J10: -6.2892
B11: Electronic Weigh Balance | C11: AND | D11: HR200 | E11: 12315717 | F11: Flex | G11: 6 | H11: 53.7 | I11: 59.0392 | J11: -5.3392
B12: Electronic Weigh Balance | C12: AND | D12: HR200 | E12: 12315717 | F12: Flex | G12: 6 | H12: 52.75 | I12: 59.0392 | J12: -6.2892
B13: Digital Multimeter | C13: Fluke | D13: 110 | E13: 85730619 | F13: Flex | G13: 12 | H13: 53.7 | I13: 59.0392 | J13: -5.3392
B14: Digital Multimeter | C14: Fluke | D14: 179 | E14: 90240092 | F14: Flex | G14: 12 | H14: 53.7 | I14: 59.0392 | J14: -5.3392
B15: Electronic Weigh Balance | C15: AND | D15: HR200 | E15: 12316922 | F15: Flex | G15: 6 | H15: 53.7 | I15: 59.0392 | J15: -5.3392
B16: Electronic Weigh Balance | C16: AND | D16: HR200 | E16: 12316922 | F16: Flex | G16: 6 | H16: 52.75 | I16: 59.0392 | J16: -6.2892
B17: Clamp Meter | C17: Kyoritsu | D17: 2033 | E17: 66386 | F17: Flex | G17: 12 | H17: 79.12 | I17: 88.5588 | J17: -9.4388
B18: Electrical Safety Analyzer | C18: Quadtech | D18: Guardian 6000 | E18: 6069766 | F18: Flex | G18: 12 | H18: 217.74 | I18: 221.397 | J18: -3.657
B19: Electrical Safety Analyzer | C19: Quadtech | D19: Guardian 6000 Plus | E19: 8280865 | F19: Flex | G19: 12 | H19: 219.78 | I19: 221.397 | J19: -1.617
B20: Electronic Weigh Balance | C20: AND | D20: HR200 | E20: 12326186 | F20: Flex | G20: 6 | H20: 53.7 | I20: 59.0392 | J20: -5.3392
B21: Electronic Weigh Balance | C21: AND | D21: HR200 | E21: 12326186 | F21: Flex | G21: 6 | H21: 52.75 | I21: 59.0392 | J21: -6.2892
B22: Electronic Weigh Balance | C22: AND | D22: HR200 | E22: 12326300 | F22: Flex | G22: 6 | H22: 53.7 | I22: 59.0392 | J22: -5.3392
B23: Electronic Weigh Balance | C23: AND | D23: HR200 | E23: 12326300 | F23: Flex | G23: 6 | H23: 52.75 | I23: 59.0392 | J23: -6.2892
B24: Electronic Weigh Balance | C24: AND | D24: HR200 | E24: 12324733 | F24: Flex | G24: 6 | H24: 53.7 | I24: 59.0392 | J24: -5.3392
B25: Electronic Weigh Balance | C25: AND | D25: HR200 | E25: 12324733 | F25: Flex | G25: 6 | H25: 52.75 | I25: 59.0392 | J25: -6.2892
B26: Electronic Weigh Balance | C26: AND | D26: HR200 | E26: 12326184 | F26: Flex | G26: 6 | H26: 53.7 | I26: 59.0392 | J26: -5.3392
B27: Electronic Weigh Balance | C27: AND | D27: HR200 | E27: 12326184 | F27: Flex | G27: 6 | H27: 52.26 | I27: 59.0392 | J27: -6.7792
B28: Electronic Weigh Balance | C28: AND | D28: HR200 | E28: 12326187 | F28: Flex | G28: 6 | H28: 53.7 | I28: 59.0392 | J28: -5.3392
B29: Electronic Weigh Balance | C29: AND | D29: HR200 | E29: 12326187 | F29: Flex | G29: 6 | H29: 52.75 | I29: 59.0392 | J29: -6.2892
... B35: Electronic Weigh Balance | C35: AND | D35: HR200 | E35: 12326279 | F35: Flex | G35: 6 | H35: 52.75 | I35: 59.0392 | J35: -6.2892
B36: Dial Depth Gauge | C36: Mitutoyo | D36: 2904S / 7217S | E36: LQY537 / 000943 | F36: Flex | G36: 6 | H36: 23.87 | I36: 33.20955 | J36: -9.33955
B37: Dial Depth Gauge | C37: Mitutoyo | D37: 2904S / 7217S | E37: LQY537 / 000943 | F37: Flex | G37: 6 | H37: 23.44 | I37: 33.20955 | J37: -9.76955
B38: Dial Indicator | C38: Mitutoyo | D38: 2514S | E38: JDY576 | F38: Flex | G38: 6 | H38: 17.9 | I38: 33.20955 | J38: -15.30955
B39: Dial Indicator | C39: Mitutoyo | D39: 2514S | E39: JDY576 | F39: Flex | G39: 6 | H39: 23.44 | I39: 33.20955 | J39: -9.76955
B40: Electrical Safety Analyzer | C40: Chroma | D40: 19032 | E40: 19032G000182 | F40: Flex | G40: 12 | H40: 217.74 | I40: 221.397 | J40: -3.657
B41: Electronic Weigh Balance | C41: AND | D41: HR200 | E41: 12336741 | F41: Flex | G41: 6 | H41: 53.7 | I41: 59.0392 | J41: -5.3392
B42: Electronic Weigh Balance | C42: AND | D42: HR200 | E42: 12336741 | F42: Flex | G42: 6 | H42: 53.7 | I42: 59.0392 | J42: -5.3392
B43: Load Box | C43: Chroma | D43: S14-03 | E43: 14354695 | F43: Flex | G43: 12 | H43: 89.51 | I43: 169.7377 | J43: -80.2277
B44: Load Box | C44: Chroma | D44: S14-03 | E44: 14354681 | F44: Flex | G44: 12 | H44: 89.51 | I44: 169.7377 | J44: -80.2277
B45: Load Box | C45: Chroma | D45: S14-03 | E45: 14354691 | F45: Flex | G45: 12 | H45: 89.51 | I45: 169.7377 | J45: -80.2277
B46: Load Box | C46: Chroma | D46: S14-03 | E46: 7322788 | F46: Flex | G46: 12 | H46: 89.51 | I46: 169.7377 | J46: -80.2277
...

Sheet GTS list
C2: Scope | D2: Tektronix | E2: C012802
C3: Function Generator | D3: Agilent | E3: MY44054891
C4: Mulitmeter | D4: Agilent | E4: MY48004403
C5: Electronic Load Module | D5: Chroma | E5: 63103A003917
C6: Electronic Load Module | D6: Chroma | E6: 63103A003907
C7: Electronic Load Module | D7: Chroma | E7: 63103A003897
C8: Electronic Load Module | D8: Chroma | E8: 63103A003947
C9: Programmable Card, 4Ch | D9: Geotest | E9: GX1164
C10: Programmable Power Supply | D10: National Instrument | E10: 160B96F
C11: Data Acquisition | D11: National Instrument | E11: 164D2A9
C12: Data Acquisition | D12: National Instrument | E12: 164D2B4
C13: Genesys 750W Power Supply | D13: Lambda | E13: 11K5893Z
... C19: NI PXI-4071 FlexDMM | D19: National Instrument | E19: F1E66F
C20: Aglient Current Shunt for DMM | D20: Agilent
