Workbook

Sheet Materlist
B1: EQUIPMENT DESCRIPTION | D1: MODEL | E1: SN | F1: EQUIPMENT LOCATION | G1: INTERVAL | H1: Current COST (USD) | I1: MPC Cost(USD) | J1: MPC Cost (SGD) | K1: Cost Diff. (USD) | L1: Cost Diff. with 10% (USD) | M1: Remarks
A2: 1 | B2: Pipette | C2: Eppendorf /VWR | D2: P1000 | E2: G42127G | F2: WPPL Lab | G2: 1 Year | I2: =J2*0.73799 -> 0 | K2: =H2-I2 -> 0
A3: 2 | B3: Pipette | C3: Eppendorf / VWR | D3: P1000 | E3: G42285G | F3: WPPL Lab | G3: 1 Year | I3: =J3*0.73799 -> 0 | K3: =H3-I3 -> 0
A4: 3 | B4: Weighing Scale | C4: Sartorius | D4: MSA 125P-100-DI | E4: 35701494 | F4: WPPL Lab | G4: 1 Year | I4: =J4*0.73799 -> 0 | K4: =H4-I4 -> 0
A5: 4 | B5: Multimeter | C5: FLUKE / Region Suppliers (PTE) LTD | D5: FL77-4 | E5: 35700255 | F5: WPPL Lab | G5: 1 Year | I5: =J5*0.73799 -> 0 | K5: =H5-I5 -> 0
A6: 5 | B6: Wide Range Gauge | C6: Edwards | D6: D14703000 | E6: 170077634 | F6: WPPL Lab | G6: 1 Year | I6: =J6*0.73799 -> 0 | K6: =H6-I6 -> 0
A7: 6 | B7: Wide Range Gauge | C7: Edwards | D7: D14703000 | E7: 170077633 | F7: WPPL Lab | G7: 1 Year | I7: =J7*0.73799 -> 0 | K7: =H7-I7 -> 0
A8: 7 | B8: Wide Range Gauge | C8: Edwards | D8: D14703000 | E8: 150253989 | F8: WPPL Lab | G8: 1 Year | I8: =J8*0.73799 -> 0 | K8: =H8-I8 -> 0
A9: 8 | B9: Wide Range Gauge | C9: Edwards | D9: D14703000 | E9: 150253990 | F9: WPPL Lab | G9: 1 Year | I9: =J9*0.73799 -> 0 | K9: =H9-I9 -> 0
A10: 9 | B10: Traceable Stopwatch/ Timer Big Digit 4 Channel | C10: VWR | D10: 62344-641 | E10: 170445616 | F10: WPPL Lab | G10: 2 Years | I10: =J10*0.73799 -> 0 | K10: =H10-I10 -> 0
A11: 10 | B11: Weight-1g | C11: Sartorius | D11: YCW313-00 | E11: 34729085 | F11: WPPL Lab | G11: 1 Year | I11: =J11*0.73799 -> 0 | K11: =H11-I11 -> 0
A12: 11 | B12: Weight-10g | C12: Sartorius | D12: YCW413-00 | E12: 35229142 | F12: WPPL Lab | G12: 1 Year | I12: =J12*0.73799 -> 0 | K12: =H12-I12 -> 0
A13: 12 | B13: Analogue Surface Resistance Meter Kit | C13: Pro-Pack Materials Pte Ltd | D13: SCS 701 | E13: 7011745026 | F13: WPPL Lab | G13: 1 Year | I13: =J13*0.73799 -> 0 | K13: =H13-I13 -> 0
A14: 13 | B14: ESD Personnel Test Station | C14: Vermason | D14: 222563 | E14: 1719001 | F14: WPPL Lab | G14: 1 Year | I14: =J14*0.73799 -> 0 | K14: =H14-I14 -> 0
A15: 14 | B15: Megger MIT410/2 Insulation Tester | C15: Megger | D15: MIT410/2 | E15: 1.0063371e+15 | F15: WPPL Lab | G15: 1 Year | I15: =J15*0.73799 -> 0 | K15: =H15-I15 -> 0
A16: 15 | B16: Glassware washer | C16: Lab Science Solution Pte Ltd | D16: PG8593 | E16: 74400208 | F16: WPPL Lab | G16: 1 Year | I16: =J16*0.73799 -> 0 | K16: =H16-I16 -> 0
A17: 16 | B17: Pipette | C17: Eppendorf /VWR | D17: 200uL | E17: I22994G | F17: WPPL Lab | G17: 1 Year | I17: =J17*0.73799 -> 0 | K17: =H17-I17 -> 0
A18: 17 | B18: Pipette | C18: Eppendorf /VWR | D18: 200uL | E18: I22911G | F18: WPPL Lab | G18: 1 Year | I18: =J18*0.73799 -> 0 | K18: =H18-I18 -> 0
A19: 18 | B19: Grundfos Pump | C19: Adept Pure Water Limited | D19: CME3-5 | E19: 98358937 | F19: Richport | G19: 1 Year | I19: =J19*0.73799 -> 0 | K19: =H19-I19 -> 0
A20: 19 | B20: Tempreature Recorder | C20: LogTag | D20: TRIX-8 | E20: 1000848285 | F20: WPPL | G20: 1 Year | I20: =J20*0.73799 -> 0 | K20: =H20-I20 -> 0
A21: 20 | B21: Tempreature Recorder | C21: LogTag | D21: TRIX-8 | E21: 1000848290 | F21: WPPL | G21: 1 Year | I21: =J21*0.73799 -> 0 | K21: =H21-I21 -> 0
A22: 21 | B22: Tempreature Recorder | C22: LogTag | D22: TRIX-8 | E22: 1000848288 | F22: WPPL | G22: 1 Year | I22: =J22*0.73799 -> 0 | K22: =H22-I22 -> 0
A23: 22 | B23: Tempreature Recorder | C23: LogTag | D23: TRIX-8 | E23: 1000848283 | F23: WPPL | G23: 1 Year | I23: =J23*0.73799 -> 0 | K23: =H23-I23 -> 0
A24: 23 | B24: Tempreature Recorder | C24: LogTag | D24: TRIX-8 | E24: 1000848289 | F24: WPPL | G24: 1 Year | I24: =J24*0.73799 -> 0 | K24: =H24-I24 -> 0
A25: 24 | B25: Tempreature Recorder | C25: LogTag | D25: TRIX-8 | E25: 1000848284 | F25: WPPL | G25: 1 Year | I25: =J25*0.73799 -> 0 | K25: =H25-I25 -> 0
A26: 25 | B26: Tempreature Recorder | C26: LogTag | D26: TRIX-8 | E26: 1000848286 | F26: WPPL | G26: 1 Year | I26: =J26*0.73799 -> 0 | K26: =H26-I26 -> 0
A27: 26 | B27: Tempreature Recorder | C27: LogTag | D27: TRIX-8 | E27: 1000848287 | F27: WPPL | G27: 1 Year | I27: =J27*0.73799 -> 0 | K27: =H27-I27 -> 0
A28: 27 | B28: DIGIMATIC MICROMETER | C28: Mitutoyo | D28: MDC-1"PX | E28: 632855699 | F28: WPPL | G28: 1 Year | I28: =J28*0.73799 -> 0 | K28: =H28-I28 -> 0
A29: 28 | B29: DIGIMATIC CALIPER | C29: Mitutoyo | D29: CD-8"ASX | E29: B16215984 | F29: WPPL | G29: 1 Year | I29: =J29*0.73799 -> 0 | K29: =H29-I29 -> 0
A30: 29 | B30: Electrical Safety Analyzer | C30: Chroma | D30: 19032 | E30: 19032G400225 | F30: CEI | G30: 12 | H30: 480 | I30: =J30*0.73799 -> 217.70705 | J30: =VLOOKUP(A30,'Quote from MPC Rev03'!A1:I94,8,FALSE) -> 295 | K30: =H30-I30 -> 262.29295 | L30: =K30*1.1 -> 288.52225
A31: 48 | B31: HP66103A DC Power Module 35V/4.5A | C31: Agilent Technologies | D31: 66103A | E31: US34212664 | F31: CEI PCBA | G31: 12 | H31: 165.79 | I31: =J31*0.73799 -> 125.4583 | J31: =VLOOKUP(A31,'Quote from MPC Rev03'!A2:I128,8) -> 170 | K31: =H31-I31 -> 40.3317 | L31: =K31*1.1 -> 44.36487
A32: 49 | B32: HP66103A DC Power Module 35V/4.5A | C32: Agilent Technologies | D32: 66103A | E32: US34212667 | F32: CEI PCBA | G32: 12 | H32: 165.79 | I32: =J32*0.73799 -> 125.4583 | J32: =VLOOKUP(A32,'Quote from MPC Rev03'!A3:I129,8) -> 170 | K32: =H32-I32 -> 40.3317 | L32: =K32*1.1 -> 44.36487
A33: 50 | B33: HP66103A DC Power Module 35V/4.5A | C33: Agilent Technologies | D33: 66103A | E33: US34212669 | F33: CEI PCBA | G33: 12 | H33: 165.79 | I33: =J33*0.73799 -> 125.4583 | J33: =VLOOKUP(A33,'Quote from MPC Rev03'!A4:I130,8) -> 170 | K33: =H33-I33 -> 40.3317 | L33: =K33*1.1 -> 44.36487
A34: 51 | B34: HP66103A DC Power Module 35V/4.5A | C34: Agilent Technologies | D34: 66103A | E34: US34212670 | F34: CEI PCBA | G34: 12 | H34: 165.79 | I34: =J34*0.73799 -> 125.4583 | J34: =VLOOKUP(A34,'Quote from MPC Rev03'!A5:I131,8) -> 170 | K34: =H34-I34 -> 40.3317 | L34: =K34*1.1 -> 44.36487
A35: 52 | B35: HP66103A DC Power Module 35V/4.5A | C35: Agilent Technologies | D35: 66103A | E35: US34212672 | F35: CEI PCBA | G35: 12 | H35: 165.79 | I35: =J35*0.73799 -> 125.4583 | J35: =VLOOKUP(A35,'Quote from MPC Rev03'!A6:I132,8) -> 170 | K35: =H35-I35 -> 40.3317 | L35: =K35*1.1 -> 44.36487
A36: 53 | B36: HP66101A DC Power Module 8V/16A | C36: Agilent Technologies | D36: 66101A | E36: US34442070 | F36: CEI PCBA | G36: 12 | H36: 165.79 | I36: =J36*0.73799 -> 125.4583 | J36: =VLOOKUP(A36,'Quote from MPC Rev03'!A7:I133,8) -> 170 | K36: =H36-I36 -> 40.3317 | L36: =K36*1.1 -> 44.36487
A37: 54 | B37: HP66101A DC Power Module 8V/16A | C37: Agilent Technologies | D37: 66101A | E37: MY40000535 | F37: CEI PCBA | G37: 12 | H37: 165.79 | I37: =J37*0.73799 -> 125.4583 | J37: =VLOOKUP(A37,'Quote from MPC Rev03'!A8:I134,8) -> 170 | K37: =H37-I37 -> 40.3317 | L37: =K37*1.1 -> 44.36487
A38: 55 | B38: Electronic Load | C38: Hewlett Packard | D38: 60502B | E38: US37244128 | F38: CEI PCBA | G38: 12 | H38: 165.79 | I38: =J38*0.73799 -> 132.8382 | J38: =VLOOKUP(A38,'Quote from MPC Rev03'!A9:I135,8) -> 180 | K38: =H38-I38 -> 32.9518 | L38: =K38*1.1 -> 36.24698
A39: 56 | B39: Electronic Load | C39: Hewlett Packard | D39: 60502B | E39: US37244138 | F39: CEI PCBA | G39: 12 | H39: 165.79 | I39: =J39*0.73799 -> 132.8382 | J39: =VLOOKUP(A39,'Quote from MPC Rev03'!A10:I136,8) -> 180 | K39: =H39-I39 -> 32.9518 | L39: =K39*1.1 -> 36.24698
A40: 57 | B40: Electronic Load | C40: Hewlett Packard | D40: 60502B | E40: US37244141 | F40: CEI PCBA | G40: 12 | H40: 165.79 | I40: =J40*0.73799 -> 132.8382 | J40: =VLOOKUP(A40,'Quote from MPC Rev03'!A11:I137,8) -> 180 | K40: =H40-I40 -> 32.9518 | L40: =K40*1.1 -> 36.24698
A41: 58 | B41: Tektronics 4-Channel Digitizing Oscilloscope | C41: Tektronix | D41: TDS460A | E41: B071897 | F41: CEI PCBA | G41: 12 | H41: 271.89 | I41: =J41*0.73799 -> 206.6372 | J41: =VLOOKUP(A41,'Quote from MPC Rev03'!A12:I138,8) -> 280 | K41: =H41-I41 -> 65.2528 | L41: =K41*1.1 -> 71.77808
A42: 59 | B42: Electronic Load | C42: Hewlett Packard | D42: 60502B | E42: US37243391 | F42: CEI PCBA | G42: 12 | H42: 165.79 | I42: =J42*0.73799 -> 132.8382 | J42: =VLOOKUP(A42,'Quote from MPC Rev03'!A13:I139,8) -> 180 | K42: =H42-I42 -> 32.9518 | L42: =K42*1.1 -> 36.24698
... A44: 61 | B44: Electronic Load | C44: Hewlett Packard | D44: 60502A | E44: 3011A-01246 | F44: CEI PCBA | G44: 12 | H44: 165.79 | I44: =J44*0.73799 -> 132.8382 | J44: =VLOOKUP(A44,'Quote from MPC Rev03'!A15:I141,8) -> 180 | K44: =H44-I44 -> 32.9518 | L44: =K44*1.1 -> 36.24698
A45: 64 | B45: Electronic Weigh Balance | C45: AND | D45: HR200 | E45: 12305757 | F45: Flex | G45: 6 | H45: 53.7 | I45: =J45*0.73799 -> 51.6593 | J45: =VLOOKUP(A45,'Quote from MPC Rev03'!A18:I144,8) -> 70 | K45: =H45-I45 -> 2.0407 | L45: =K45*1.1 -> 2.24477
A46: 65 | B46: Electronic Weigh Balance | C46: AND | D46: HR200 | E46: 12305757 | F46: Flex | G46: 6 | H46: 52.75 | I46: =J46*0.73799 -> 51.6593 | J46: =VLOOKUP(A46,'Quote from MPC Rev03'!A19:I145,8) -> 70 | K46: =H46-I46 -> 1.0907 | L46: =K46*1.1 -> 1.19977
A47: 66 | B47: Electronic Weigh Balance | C47: AND | D47: HR200 | E47: 12200404 | F47: Flex | G47: 6 | H47: 53.7 | I47: =J47*0.73799 -> 51.6593 | J47: =VLOOKUP(A47,'Quote from MPC Rev03'!A20:I146,8) -> 70 | K47: =H47-I47 -> 2.0407 | L47: =K47*1.1 -> 2.24477
A48: 67 | B48: Electronic Weigh Balance | C48: AND | D48: HR200 | E48: 12200404 | F48: Flex | G48: 6 | H48: 52.75 | I48: =J48*0.73799 -> 51.6593 | J48: =VLOOKUP(A48,'Quote from MPC Rev03'!A21:I147,8) -> 70 | K48: =H48-I48 -> 1.0907 | L48: =K48*1.1 -> 1.19977
A49: 68 | B49: Electronic Weigh Balance | C49: AND | D49: HR200 | E49: 12303279 | F49: Flex | G49: 6 | H49: 53.7 | I49: =J49*0.73799 -> 51.6593 | J49: =VLOOKUP(A49,'Quote from MPC Rev03'!A22:I148,8) -> 70 | K49: =H49-I49 -> 2.0407 | L49: =K49*1.1 -> 2.24477
A50: 69 | B50: Electronic Weigh Balance | C50: AND | D50: HR200 | E50: 12303279 | F50: Flex | G50: 6 | H50: 52.75 | I50: =J50*0.73799 -> 51.6593 | J50: =VLOOKUP(A50,'Quote from MPC Rev03'!A23:I149,8) -> 70 | K50: =H50-I50 -> 1.0907 | L50: =K50*1.1 -> 1.19977
A51: 70 | B51: Electronic Weigh Balance | C51: AND | D51: HR200 | E51: 12315717 | F51: Flex | G51: 6 | H51: 53.7 | I51: =J51*0.73799 -> 51.6593 | J51: =VLOOKUP(A51,'Quote from MPC Rev03'!A24:I150,8) -> 70 | K51: =H51-I51 -> 2.0407 | L51: =K51*1.1 -> 2.24477
A52: 71 | B52: Electronic Weigh Balance | C52: AND | D52: HR200 | E52: 12315717 | F52: Flex | G52: 6 | H52: 52.75 | I52: =J52*0.73799 -> 51.6593 | J52: =VLOOKUP(A52,'Quote from MPC Rev03'!A25:I151,8) -> 70 | K52: =H52-I52 -> 1.0907 | L52: =K52*1.1 -> 1.19977
A53: 72 | B53: Digital Multimeter | C53: Fluke | D53: 110 | E53: 85730619 | F53: Flex | G53: 12 | H53: 53.7 | I53: =J53*0.73799 -> 51.6593 | J53: =VLOOKUP(A53,'Quote from MPC Rev03'!A26:I152,8) -> 70 | K53: =H53-I53 -> 2.0407 | L53: =K53*1.1 -> 2.24477
A54: 73 | B54: Digital Multimeter | C54: Fluke | D54: 179 | E54: 90240092 | F54: Flex | G54: 12 | H54: 53.7 | I54: =J54*0.73799 -> 51.6593 | J54: =VLOOKUP(A54,'Quote from MPC Rev03'!A27:I153,8) -> 70 | K54: =H54-I54 -> 2.0407 | L54: =K54*1.1 -> 2.24477
A55: 74 | B55: Electrical Safety Analyzer | C55: Quadtech | D55: Guardian 6000 | E55: 5037655 | F55: Flex | G55: 12 | H55: 223.76 | I55: =J55*0.73799 -> 217.70705 | J55: =VLOOKUP(A55,'Quote from MPC Rev03'!A28:I154,8) -> 295 | K55: =H55-I55 -> 6.05295 | L55: =K55*1.1 -> 6.658245
A56: 75 | B56: Pressure Calibrator | C56: Ametek | D56: APC10KGINDG | E56: 9093205 | F56: Flex | G56: 12 | H56: 231.5 | I56: =J56*0.73799 -> 132.8382 | J56: =VLOOKUP(A56,'Quote from MPC Rev03'!A29:I155,8) -> 180 | K56: =H56-I56 -> 98.6618 | L56: =K56*1.1 -> 108.52798
A57: 76 | B57: Electronic Weigh Balance | C57: AND | D57: HR200 | E57: 12316922 | F57: Flex | G57: 6 | H57: 53.7 | I57: =J57*0.73799 -> 51.6593 | J57: =VLOOKUP(A57,'Quote from MPC Rev03'!A30:I156,8) -> 70 | K57: =H57-I57 -> 2.0407 | L57: =K57*1.1 -> 2.24477
A58: 77 | B58: Electronic Weigh Balance | C58: AND | D58: HR200 | E58: 12316922 | F58: Flex | G58: 6 | H58: 52.75 | I58: =J58*0.73799 -> 51.6593 | J58: =VLOOKUP(A58,'Quote from MPC Rev03'!A31:I157,8) -> 70 | K58: =H58-I58 -> 1.0907 | L58: =K58*1.1 -> 1.19977
A59: 78 | B59: High Voltage Probe | C59: Fluke | D59: 80K-6 | E59: 89200011 | F59: Flex | G59: 12 | H59: 159.71 | I59: =J59*0.73799 -> 73.799 | J59: =VLOOKUP(A59,'Quote from MPC Rev03'!A32:I158,8) -> 100 | K59: =H59-I59 -> 85.911 | L59: =K59*1.1 -> 94.5021
A60: 79 | B60: Clamp Meter | C60: Kyoritsu | D60: 2033 | E60: 66386 | F60: Flex | G60: 12 | H60: 79.12 | I60: =J60*0.73799 -> 73.799 | J60: =VLOOKUP(A60,'Quote from MPC Rev03'!A33:I159,8) -> 100 | K60: =H60-I60 -> 5.321 | L60: =K60*1.1 -> 5.8531
A61: 80 | B61: Electrical Safety Analyzer | C61: Quadtech | D61: Guardian 6000 | E61: 6069766 | F61: Flex | G61: 12 | H61: 217.74 | I61: =J61*0.73799 -> 217.70705 | J61: =VLOOKUP(A61,'Quote from MPC Rev03'!A34:I160,8) -> 295 | K61: =H61-I61 -> 0.03295 | L61: =K61*1.1 -> 0.036245
A62: 83 | B62: Electrical Safety Analyzer | C62: Quadtech | D62: Guardian 6000 Plus | E62: 8280865 | F62: Flex | G62: 12 | H62: 219.78 | I62: =J62*0.73799 -> 217.70705 | J62: =VLOOKUP(A62,'Quote from MPC Rev03'!A37:I163,8) -> 295 | K62: =H62-I62 -> 2.07295 | L62: =K62*1.1 -> 2.280245
A63: 85 | B63: Electronic Weigh Balance | C63: AND | D63: HR200 | E63: 12326186 | F63: Flex | G63: 6 | H63: 53.7 | I63: =J63*0.73799 -> 51.6593 | J63: =VLOOKUP(A63,'Quote from MPC Rev03'!A39:I165,8) -> 70 | K63: =H63-I63 -> 2.0407 | L63: =K63*1.1 -> 2.24477
A64: 86 | B64: Electronic Weigh Balance | C64: AND | D64: HR200 | E64: 12326186 | F64: Flex | G64: 6 | H64: 52.75 | I64: =J64*0.73799 -> 51.6593 | J64: =VLOOKUP(A64,'Quote from MPC Rev03'!A40:I166,8) -> 70 | K64: =H64-I64 -> 1.0907 | L64: =K64*1.1 -> 1.19977
A65: 87 | B65: Electronic Weigh Balance | C65: AND | D65: HR200 | E65: 12326300 | F65: Flex | G65: 6 | H65: 53.7 | I65: =J65*0.73799 -> 51.6593 | J65: =VLOOKUP(A65,'Quote from MPC Rev03'!A41:I167,8) -> 70 | K65: =H65-I65 -> 2.0407 | L65: =K65*1.1 -> 2.24477
A66: 88 | B66: Electronic Weigh Balance | C66: AND | D66: HR200 | E66: 12326300 | F66: Flex | G66: 6 | H66: 52.75 | I66: =J66*0.73799 -> 51.6593 | J66: =VLOOKUP(A66,'Quote from MPC Rev03'!A42:I168,8) -> 70 | K66: =H66-I66 -> 1.0907 | L66: =K66*1.1 -> 1.19977
A67: 89 | B67: Electronic Weigh Balance | C67: AND | D67: HR200 | E67: 12324733 | F67: Flex | G67: 6 | H67: 53.7 | I67: =J67*0.73799 -> 51.6593 | J67: =VLOOKUP(A67,'Quote from MPC Rev03'!A43:I169,8) -> 70 | K67: =H67-I67 -> 2.0407 | L67: =K67*1.1 -> 2.24477
A68: 90 | B68: Electronic Weigh Balance | C68: AND | D68: HR200 | E68: 12324733 | F68: Flex | G68: 6 | H68: 52.75 | I68: =J68*0.73799 -> 51.6593 | J68: =VLOOKUP(A68,'Quote from MPC Rev03'!A44:I170,8) -> 70 | K68: =H68-I68 -> 1.0907 | L68: =K68*1.1 -> 1.19977
A69: 91 | B69: Electronic Weigh Balance | C69: AND | D69: HR200 | E69: 12326184 | F69: Flex | G69: 6 | H69: 53.7 | I69: =J69*0.73799 -> 51.6593 | J69: =VLOOKUP(A69,'Quote from MPC Rev03'!A45:I171,8) -> 70 | K69: =H69-I69 -> 2.0407 | L69: =K69*1.1 -> 2.24477
A70: 92 | B70: Electronic Weigh Balance | C70: AND | D70: HR200 | E70: 12326184 | F70: Flex | G70: 6 | H70: 52.26 | I70: =J70*0.73799 -> 51.6593 | J70: =VLOOKUP(A70,'Quote from MPC Rev03'!A46:I172,8) -> 70 | K70: =H70-I70 -> 0.6007 | L70: =K70*1.1 -> 0.66077
A71: 93 | B71: Electronic Weigh Balance | C71: AND | D71: HR200 | E71: 12326187 | F71: Flex | G71: 6 | H71: 53.7 | I71: =J71*0.73799 -> 51.6593 | J71: =VLOOKUP(A71,'Quote from MPC Rev03'!A47:I173,8) -> 70 | K71: =H71-I71 -> 2.0407 | L71: =K71*1.1 -> 2.24477
A72: 94 | B72: Electronic Weigh Balance | C72: AND | D72: HR200 | E72: 12326187 | F72: Flex | G72: 6 | H72: 52.75 | I72: =J72*0.73799 -> 51.6593 | J72: =VLOOKUP(A72,'Quote from MPC Rev03'!A48:I174,8) -> 70 | K72: =H72-I72 -> 1.0907 | L72: =K72*1.1 -> 1.19977
A73: 95 | B73: Electronic Weigh Balance | C73: AND | D73: HR200 | E73: 12326180 | F73: Flex | G73: 6 | H73: 53.7 | I73: =J73*0.73799 -> 51.6593 | J73: =VLOOKUP(A73,'Quote from MPC Rev03'!A49:I175,8) -> 70 | K73: =H73-I73 -> 2.0407 | L73: =K73*1.1 -> 2.24477
A74: 96 | B74: Electronic Weigh Balance | C74: AND | D74: HR200 | E74: 12326180 | F74: Flex | G74: 6 | H74: 52.75 | I74: =J74*0.73799 -> 51.6593 | J74: =VLOOKUP(A74,'Quote from MPC Rev03'!A50:I176,8) -> 70 | K74: =H74-I74 -> 1.0907 | L74: =K74*1.1 -> 1.19977
... A80: 102 | B80: Torque Wrench | C80: Snap-on | D80: QD2R1000 | E80: 1009032663 | F80: Flex | G80: 6 | H80: 46.89 | I80: =J80*0.73799 -> 36.8995 | J80: =VLOOKUP(A80,'Quote from MPC Rev03'!A56:I182,8) -> 50 | K80: =H80-I80 -> 9.9905 | L80: =K80*1.1 -> 10.98955
A81: 103 | B81: Dial Depth Gauge | C81: Mitutoyo | D81: 2904S / 7217S | E81: LQY537 / 000943 | F81: Flex | G81: 6 | H81: 23.87 | I81: =J81*0.73799 -> 22.1397 | J81: =VLOOKUP(A81,'Quote from MPC Rev03'!A57:I183,8) -> 30 | K81: =H81-I81 -> 1.7303 | L81: =K81*1.1 -> 1.90333
A82: 104 | B82: Dial Depth Gauge | C82: Mitutoyo | D82: 2904S / 7217S | E82: LQY537 / 000943 | F82: Flex | G82: 6 | H82: 23.44 | I82: =J82*0.73799 -> 22.1397 | J82: =VLOOKUP(A82,'Quote from MPC Rev03'!A58:I184,8) -> 30 | K82: =H82-I82 -> 1.3003 | L82: =K82*1.1 -> 1.43033
A83: 106 | B83: Dial Indicator | C83: Mitutoyo | D83: 2514S | E83: JDY576 | F83: Flex | G83: 6 | H83: 23.44 | I83: =J83*0.73799 -> 22.1397 | J83: =VLOOKUP(A83,'Quote from MPC Rev03'!A60:I186,8) -> 30 | K83: =H83-I83 -> 1.3003 | L83: =K83*1.1 -> 1.43033
A84: 108 | B84: Torque Wrench | C84: Snap-on | D84: QD1R200 | E84: 408302147 | F84: Flex | G84: 6 | H84: 47.74 | I84: =J84*0.73799 -> 36.8995 | J84: =VLOOKUP(A84,'Quote from MPC Rev03'!A62:I188,8) -> 50 | K84: =H84-I84 -> 10.8405 | L84: =K84*1.1 -> 11.92455
A85: 109 | B85: Torque Wrench | C85: Snap-on | D85: QD1R200 | E85: 408302147 | F85: Flex | G85: 6 | H85: 46.89 | I85: =J85*0.73799 -> 36.8995 | J85: =VLOOKUP(A85,'Quote from MPC Rev03'!A63:I189,8) -> 50 | K85: =H85-I85 -> 9.9905 | L85: =K85*1.1 -> 10.98955
A86: 110 | B86: Electrical Safety Analyzer | C86: Chroma | D86: 19032 | E86: 19032G000182 | F86: Flex | G86: 12 | H86: 217.74 | I86: =J86*0.73799 -> 217.70705 | J86: =VLOOKUP(A86,'Quote from MPC Rev03'!A64:I190,8) -> 295 | K86: =H86-I86 -> 0.03295 | L86: =K86*1.1 -> 0.036245
A87: 112 | B87: Electronic Weigh Balance | C87: AND | D87: HR200 | E87: 12336741 | F87: Flex | G87: 6 | H87: 53.7 | I87: =J87*0.73799 -> 51.6593 | J87: =VLOOKUP(A87,'Quote from MPC Rev03'!A66:I192,8) -> 70 | K87: =H87-I87 -> 2.0407 | L87: =K87*1.1 -> 2.24477
A88: 113 | B88: Electronic Weigh Balance | C88: AND | D88: HR200 | E88: 12336741 | F88: Flex | G88: 6 | H88: 53.7 | I88: =J88*0.73799 -> 51.6593 | J88: =VLOOKUP(A88,'Quote from MPC Rev03'!A67:I193,8) -> 70 | K88: =H88-I88 -> 2.0407 | L88: =K88*1.1 -> 2.24477
A89: 114 | B89: Load Box | C89: Chroma | D89: S14-03 | E89: 14354695 | F89: Flex | G89: 12 | H89: 89.51 | I89: =J89*0.73799 -> 77.48895 | J89: =VLOOKUP(A89,'Quote from MPC Rev03'!A68:I194,8) -> 105 | K89: =H89-I89 -> 12.02105 | L89: =K89*1.1 -> 13.223155
A90: 115 | B90: Load Box | C90: Chroma | D90: S14-03 | E90: 14354681 | F90: Flex | G90: 12 | H90: 89.51 | I90: =J90*0.73799 -> 77.48895 | J90: =VLOOKUP(A90,'Quote from MPC Rev03'!A69:I195,8) -> 105 | K90: =H90-I90 -> 12.02105 | L90: =K90*1.1 -> 13.223155
A91: 116 | B91: Load Box | C91: Chroma | D91: S14-03 | E91: 14354691 | F91: Flex | G91: 12 | H91: 89.51 | I91: =J91*0.73799 -> 77.48895 | J91: =VLOOKUP(A91,'Quote from MPC Rev03'!A70:I196,8) -> 105 | K91: =H91-I91 -> 12.02105 | L91: =K91*1.1 -> 13.223155
A92: 117 | B92: Load Box | C92: Chroma | D92: S14-03 | E92: 7322788 | F92: Flex | G92: 12 | H92: 89.51 | I92: =J92*0.73799 -> 77.48895 | J92: =VLOOKUP(A92,'Quote from MPC Rev03'!A71:I197,8) -> 105 | K92: =H92-I92 -> 12.02105 | L92: =K92*1.1 -> 13.223155
A93: 121 | B93: Universal Front End Tester | C93: National Instruments | D93: PCI-6025E | E93: 1347EFD | F93: Flex Senai | G93: 12 | H93: 485.07 | I93: =J93*0.73799 -> 243.5367 | J93: =VLOOKUP(A93,'Quote from MPC Rev03'!A2:I128,8) -> 330 | K93: =H93-I93 -> 241.5333 | L93: =K93*1.1 -> 265.68663
A94: 137 | B94: DC Electronic Load module | C94: Hewlett Packard | D94: 60502B | E94: 3211A01907 | F94: Venture PCBA (LC) | G94: 12 | H94: 141.5 | I94: =J94*0.73799 -> 132.8382 | J94: =VLOOKUP(A94,'Quote from MPC Rev03'!A2:I128,8) -> 180 | K94: =H94-I94 -> 8.6618 | L94: =K94*1.1 -> 9.52798
A95: 138 | B95: DC Electronic Load module | C95: Hewlett Packard | D95: 60502B | E95: 3211A01876 | F95: Venture PCBA (LC) | G95: 12 | H95: 141.5 | I95: =J95*0.73799 -> 132.8382 | J95: =VLOOKUP(A95,'Quote from MPC Rev03'!A3:I129,8) -> 180 | K95: =H95-I95 -> 8.6618 | L95: =K95*1.1 -> 9.52798
A96: 139 | B96: DC Electronic Load module | C96: Hewlett Packard | D96: 60502B | E96: 3211A01587 | F96: Venture PCBA (LC) | G96: 12 | H96: 141.5 | I96: =J96*0.73799 -> 132.8382 | J96: =VLOOKUP(A96,'Quote from MPC Rev03'!A4:I130,8) -> 180 | K96: =H96-I96 -> 8.6618 | L96: =K96*1.1 -> 9.52798
A97: 140 | B97: DC Electronic Load module | C97: Hewlett Packard | D97: 60502B | E97: 3211A02210 | F97: Venture PCBA (LC) | G97: 12 | H97: 141.5 | I97: =J97*0.73799 -> 132.8382 | J97: =VLOOKUP(A97,'Quote from MPC Rev03'!A5:I131,8) -> 180 | K97: =H97-I97 -> 8.6618 | L97: =K97*1.1 -> 9.52798
A98: 141 | B98: DC Electronic Load module | C98: Hewlett Packard | D98: 60502B | E98: 3211A01795 | F98: Venture PCBA (LC) | G98: 12 | H98: 141.5 | I98: =J98*0.73799 -> 132.8382 | J98: =VLOOKUP(A98,'Quote from MPC Rev03'!A6:I132,8) -> 180 | K98: =H98-I98 -> 8.6618 | L98: =K98*1.1 -> 9.52798
A99: 142 | B99: DC Electronic Load module | C99: Hewlett Packard | D99: 60502B | E99: 3211A00920 | F99: Venture PCBA (LC) | G99: 12 | H99: 141.5 | I99: =J99*0.73799 -> 132.8382 | J99: =VLOOKUP(A99,'Quote from MPC Rev03'!A7:I133,8) -> 180 | K99: =H99-I99 -> 8.6618 | L99: =K99*1.1 -> 9.52798
A100: 149 | B100: DC POWER SUPPLY MODULE | C100: Hewlett Packard | D100: 66103A | E100: US34213251 | F100: Venture PCBA (LC) | G100: 12 | H100: 170 | I100: =J100*0.73799 -> 125.4583 | J100: =VLOOKUP(A100,'Quote from MPC Rev03'!A14:I140,8) -> 170 | K100: =H100-I100 -> 44.5417 | L100: =K100*1.1 -> 48.99587
A101: 150 | B101: DC POWER SUPPLY MODULE | C101: Hewlett Packard | D101: 66103A | E101: US34213252 | F101: Venture PCBA (LC) | G101: 12 | H101: 170 | I101: =J101*0.73799 -> 125.4583 | J101: =VLOOKUP(A101,'Quote from MPC Rev03'!A15:I141,8) -> 170 | K101: =H101-I101 -> 44.5417 | L101: =K101*1.1 -> 48.99587
A102: 151 | B102: DC POWER SUPPLY MODULE | C102: Hewlett Packard | D102: 66103A | E102: US34213090 | F102: Venture PCBA (LC) | G102: 12 | H102: 170 | I102: =J102*0.73799 -> 125.4583 | J102: =VLOOKUP(A102,'Quote from MPC Rev03'!A16:I142,8) -> 170 | K102: =H102-I102 -> 44.5417 | L102: =K102*1.1 -> 48.99587
A103: 152 | B103: DC POWER SUPPLY MODULE | C103: Hewlett Packard | D103: 66103A | E103: US34213209 | F103: Venture PCBA (LC) | G103: 12 | H103: 170 | I103: =J103*0.73799 -> 125.4583 | J103: =VLOOKUP(A103,'Quote from MPC Rev03'!A17:I143,8) -> 170 | K103: =H103-I103 -> 44.5417 | L103: =K103*1.1 -> 48.99587
A104: 153 | B104: DC POWER SUPPLY MODULE | C104: Hewlett Packard | D104: 66101A | E104: 3444A02477 | F104: Venture PCBA (LC) | G104: 12 | H104: 170 | I104: =J104*0.73799 -> 125.4583 | J104: =VLOOKUP(A104,'Quote from MPC Rev03'!A18:I144,8) -> 170 | K104: =H104-I104 -> 44.5417 | L104: =K104*1.1 -> 48.99587
A105: 154 | B105: DC POWER SUPPLY MODULE | C105: Hewlett Packard | D105: 66103A | E105: US34213216 | F105: Venture PCBA (LC) | G105: 12 | H105: 170 | I105: =J105*0.73799 -> 125.4583 | J105: =VLOOKUP(A105,'Quote from MPC Rev03'!A19:I145,8) -> 170 | K105: =H105-I105 -> 44.5417 | L105: =K105*1.1 -> 48.99587
A106: 155 | B106: DC POWER SUPPLY MODULE | C106: Hewlett Packard | D106: 66101A | E106: 3444A02507 | F106: Venture PCBA (LC) | G106: 12 | H106: 170 | I106: =J106*0.73799 -> 125.4583 | J106: =VLOOKUP(A106,'Quote from MPC Rev03'!A20:I146,8) -> 170 | K106: =H106-I106 -> 44.5417 | L106: =K106*1.1 -> 48.99587
...

Sheet Quote from MPC Rev03
B1: EQUIPMENT DESCRIPTION | C1: MANUFACTURER / DISTRIBUTOR | D1: MODEL | E1: SN | F1: EQUIPMENT LOCATION | G1: INTERVAL | H1: MPC-2020 Price (SGD) | I1: Remark
A2: 29 | B2: Electrical Safety Analyzer | C2: Chroma | D2: 19032 | E2: 19032G400225 | F2: CEI | G2: 12 | H2: 295
A3: 30 | B3: Load Box | C3: Chroma | D3: S14-03 | E3: 14354696 | F3: CEI | G3: 12 | H3: 105
A4: 48 | B4: HP66103A DC Power Module 35V/4.5A | C4: Agilent Technologies | D4: 66103A | E4: US34212664 | F4: CEI PCBA | G4: 12 | H4: 170
A5: 49 | B5: HP66103A DC Power Module 35V/4.5A | C5: Agilent Technologies | D5: 66103A | E5: US34212667 | F5: CEI PCBA | G5: 12 | H5: 170
A6: 50 | B6: HP66103A DC Power Module 35V/4.5A | C6: Agilent Technologies | D6: 66103A | E6: US34212669 | F6: CEI PCBA | G6: 12 | H6: 170
A7: 51 | B7: HP66103A DC Power Module 35V/4.5A | C7: Agilent Technologies | D7: 66103A | E7: US34212670 | F7: CEI PCBA | G7: 12 | H7: 170
A8: 52 | B8: HP66103A DC Power Module 35V/4.5A | C8: Agilent Technologies | D8: 66103A | E8: US34212672 | F8: CEI PCBA | G8: 12 | H8: 170
A9: 53 | B9: HP66101A DC Power Module 8V/16A | C9: Agilent Technologies | D9: 66101A | E9: US34442070 | F9: CEI PCBA | G9: 12 | H9: 170
A10: 54 | B10: HP66101A DC Power Module 8V/16A | C10: Agilent Technologies | D10: 66101A | E10: MY40000535 | F10: CEI PCBA | G10: 12 | H10: 170
A11: 55 | B11: Electronic Load | C11: Hewlett Packard | D11: 60502B | E11: US37244128 | F11: CEI PCBA | G11: 12 | H11: 180
A12: 56 | B12: Electronic Load | C12: Hewlett Packard | D12: 60502B | E12: US37244138 | F12: CEI PCBA | G12: 12 | H12: 180
A13: 57 | B13: Electronic Load | C13: Hewlett Packard | D13: 60502B | E13: US37244141 | F13: CEI PCBA | G13: 12 | H13: 180
A14: 58 | B14: Tektronics 4-Channel Digitizing Oscilloscope | C14: Tektronix | D14: TDS460A | E14: B071897 | F14: CEI PCBA | G14: 12 | H14: 280
A15: 59 | B15: Electronic Load | C15: Hewlett Packard | D15: 60502B | E15: US37243391 | F15: CEI PCBA | G15: 12 | H15: 180
... A17: 61 | B17: Electronic Load | C17: Hewlett Packard | D17: 60502A | E17: 3011A-01246 | F17: CEI PCBA | G17: 12 | H17: 180
A18: 63 | B18: Digital Thermometer with Probe (K type) | C18: Fluke | D18: 51 II | E18: 89280141 | F18: Flex | G18: 12 | H18: 90
A19: 64 | B19: Electronic Weigh Balance | C19: AND | D19: HR200 | E19: 12305757 | F19: Flex | G19: 6 | H19: 70
A20: 65 | B20: Electronic Weigh Balance | C20: AND | D20: HR200 | E20: 12305757 | F20: Flex | G20: 6 | H20: 70
A21: 66 | B21: Electronic Weigh Balance | C21: AND | D21: HR200 | E21: 12200404 | F21: Flex | G21: 6 | H21: 70
A22: 67 | B22: Electronic Weigh Balance | C22: AND | D22: HR200 | E22: 12200404 | F22: Flex | G22: 6 | H22: 70
A23: 68 | B23: Electronic Weigh Balance | C23: AND | D23: HR200 | E23: 12303279 | F23: Flex | G23: 6 | H23: 70
A24: 69 | B24: Electronic Weigh Balance | C24: AND | D24: HR200 | E24: 12303279 | F24: Flex | G24: 6 | H24: 70
A25: 70 | B25: Electronic Weigh Balance | C25: AND | D25: HR200 | E25: 12315717 | F25: Flex | G25: 6 | H25: 70
A26: 71 | B26: Electronic Weigh Balance | C26: AND | D26: HR200 | E26: 12315717 | F26: Flex | G26: 6 | H26: 70
A27: 72 | B27: Digital Multimeter | C27: Fluke | D27: 110 | E27: 85730619 | F27: Flex | G27: 12 | H27: 70
A28: 73 | B28: Digital Multimeter | C28: Fluke | D28: 179 | E28: 90240092 | F28: Flex | G28: 12 | H28: 70
A29: 74 | B29: Electrical Safety Analyzer | C29: Quadtech | D29: Guardian 6000 | E29: 5037655 | F29: Flex | G29: 12 | H29: 295
A30: 75 | B30: Pressure Calibrator | C30: Ametek | D30: APC10KGINDG | E30: 9093205 | F30: Flex | G30: 12 | H30: 180 | I30: up to 10k psi
A31: 76 | B31: Electronic Weigh Balance | C31: AND | D31: HR200 | E31: 12316922 | F31: Flex | G31: 6 | H31: 70
A32: 77 | B32: Electronic Weigh Balance | C32: AND | D32: HR200 | E32: 12316922 | F32: Flex | G32: 6 | H32: 70
A33: 78 | B33: High Voltage Probe | C33: Fluke | D33: 80K-6 | E33: 89200011 | F33: Flex | G33: 12 | H33: 100 | I33: up to 1KV
A34: 79 | B34: Clamp Meter | C34: Kyoritsu | D34: 2033 | E34: 66386 | F34: Flex | G34: 12 | H34: 100
A35: 80 | B35: Electrical Safety Analyzer | C35: Quadtech | D35: Guardian 6000 | E35: 6069766 | F35: Flex | G35: 12 | H35: 295
A36: 81 | B36: Picoammeter | C36: Keithley | D36: 485 | E36: 310788 | F36: Flex | G36: 12 | H36: No Capability | I36: can do normal calibration with data only
A37: 82 | B37: Picoammeter | C37: Keithley | D37: 485 | E37: 435110 | F37: Flex | G37: 12 | H37: No Capability | I37: can do normal calibration with data only
A38: 83 | B38: Electrical Safety Analyzer | C38: Quadtech | D38: Guardian 6000 Plus | E38: 8280865 | F38: Flex | G38: 12 | H38: 295
A39: 84 | B39: Liquilaz | C39: Particle Measuring Systems | D39: E20P | F39: Flex | G39: 12 | H39: No Capability | I39: can do normal calibration with data only
A40: 85 | B40: Electronic Weigh Balance | C40: AND | D40: HR200 | E40: 12326186 | F40: Flex | G40: 6 | H40: 70
A41: 86 | B41: Electronic Weigh Balance | C41: AND | D41: HR200 | E41: 12326186 | F41: Flex | G41: 6 | H41: 70
A42: 87 | B42: Electronic Weigh Balance | C42: AND | D42: HR200 | E42: 12326300 | F42: Flex | G42: 6 | H42: 70
A43: 88 | B43: Electronic Weigh Balance | C43: AND | D43: HR200 | E43: 12326300 | F43: Flex | G43: 6 | H43: 70
A44: 89 | B44: Electronic Weigh Balance | C44: AND | D44: HR200 | E44: 12324733 | F44: Flex | G44: 6 | H44: 70
A45: 90 | B45: Electronic Weigh Balance | C45: AND | D45: HR200 | E45: 12324733 | F45: Flex | G45: 6 | H45: 70
A46: 91 | B46: Electronic Weigh Balance | C46: AND | D46: HR200 | E46: 12326184 | F46: Flex | G46: 6 | H46: 70
A47: 92 | B47: Electronic Weigh Balance | C47: AND | D47: HR200 | E47: 12326184 | F47: Flex | G47: 6 | H47: 70
A48: 93 | B48: Electronic Weigh Balance | C48: AND | D48: HR200 | E48: 12326187 | F48: Flex | G48: 6 | H48: 70
A49: 94 | B49: Electronic Weigh Balance | C49: AND | D49: HR200 | E49: 12326187 | F49: Flex | G49: 6 | H49: 70
A50: 95 | B50: Electronic Weigh Balance | C50: AND | D50: HR200 | E50: 12326180 | F50: Flex | G50: 6 | H50: 70
A51: 96 | B51: Electronic Weigh Balance | C51: AND | D51: HR200 | E51: 12326180 | F51: Flex | G51: 6 | H51: 70
... A57: 102 | B57: Torque Wrench | C57: Snap-on | D57: QD2R1000 | E57: 1009032663 | F57: Flex | G57: 6 | H57: 50
A58: 103 | B58: Dial Depth Gauge | C58: Mitutoyo | D58: 2904S / 7217S | E58: LQY537 / 000943 | F58: Flex | G58: 6 | H58: 30
A59: 104 | B59: Dial Depth Gauge | C59: Mitutoyo | D59: 2904S / 7217S | E59: LQY537 / 000943 | F59: Flex | G59: 6 | H59: 30
A60: 105 | B60: Dial Indicator | C60: Mitutoyo | D60: 2514S | E60: JDY576 | F60: Flex | G60: 6 | H60: 30
A61: 106 | B61: Dial Indicator | C61: Mitutoyo | D61: 2514S | E61: JDY576 | F61: Flex | G61: 6 | H61: 30
A62: 107 | B62: Mass Flow Meter | C62: Aalborg | D62: GFM17 | E62: 170609-1 | F62: Flex | G62: 12 | H62: No Capability
A63: 108 | B63: Torque Wrench | C63: Snap-on | D63: QD1R200 | E63: 408302147 | F63: Flex | G63: 6 | H63: 50
A64: 109 | B64: Torque Wrench | C64: Snap-on | D64: QD1R200 | E64: 408302147 | F64: Flex | G64: 6 | H64: 50
A65: 110 | B65: Electrical Safety Analyzer | C65: Chroma | D65: 19032 | E65: 19032G000182 | F65: Flex | G65: 12 | H65: 295
A66: 111 | B66: Macbeth Lighting | C66: X-Rite | D66: Judge II | E66: C61093261217 | F66: Flex | G66: 12 | H66: No Capability | I66: No Capability
A67: 112 | B67: Electronic Weigh Balance | C67: AND | D67: HR200 | E67: 12336741 | F67: Flex | G67: 6 | H67: 70
A68: 113 | B68: Electronic Weigh Balance | C68: AND | D68: HR200 | E68: 12336741 | F68: Flex | G68: 6 | H68: 70
A69: 114 | B69: Load Box | C69: Chroma | D69: S14-03 | E69: 14354695 | F69: Flex | G69: 12 | H69: 105
A70: 115 | B70: Load Box | C70: Chroma | D70: S14-03 | E70: 14354681 | F70: Flex | G70: 12 | H70: 105
A71: 116 | B71: Load Box | C71: Chroma | D71: S14-03 | E71: 14354691 | F71: Flex | G71: 12 | H71: 105
A72: 117 | B72: Load Box | C72: Chroma | D72: S14-03 | E72: 7322788 | F72: Flex | G72: 12 | H72: 105
A73: 118 | B73: Benchtop Measuring Machine | C73: Quality Vision International | D73: StarLite 150 | E73: RSL1002609 | F73: Flex | G73: 12 | H73: 450 | I73: Follow previous cal cert
A74: 121 | B74: Universal Front End Tester | C74: National Instruments | D74: PCI-6025E | E74: 1347EFD | F74: Flex Senai | G74: 12 | H74: 330
A75: 136 | B75: Light Box | C75: X-Rite | D75: JUDGE II | E75: C61093251217 | F75: Venture (LC) | G75: 12 | H75: No Capability | I75: No Capability
A76: 137 | B76: DC Electronic Load module | C76: Hewlett Packard | D76: 60502B | E76: 3211A01907 | F76: Venture PCBA (LC) | G76: 12 | H76: 180
A77: 138 | B77: DC Electronic Load module | C77: Hewlett Packard | D77: 60502B | E77: 3211A01876 | F77: Venture PCBA (LC) | G77: 12 | H77: 180
A78: 139 | B78: DC Electronic Load module | C78: Hewlett Packard | D78: 60502B | E78: 3211A01587 | F78: Venture PCBA (LC) | G78: 12 | H78: 180
A79: 140 | B79: DC Electronic Load module | C79: Hewlett Packard | D79: 60502B | E79: 3211A02210 | F79: Venture PCBA (LC) | G79: 12 | H79: 180
A80: 141 | B80: DC Electronic Load module | C80: Hewlett Packard | D80: 60502B | E80: 3211A01795 | F80: Venture PCBA (LC) | G80: 12 | H80: 180
A81: 142 | B81: DC Electronic Load module | C81: Hewlett Packard | D81: 60502B | E81: 3211A00920 | F81: Venture PCBA (LC) | G81: 12 | H81: 180
A82: 149 | B82: DC POWER SUPPLY MODULE | C82: Hewlett Packard | D82: 66103A | E82: US34213251 | F82: Venture PCBA (LC) | G82: 12 | H82: 170
A83: 150 | B83: DC POWER SUPPLY MODULE | C83: Hewlett Packard | D83: 66103A | E83: US34213252 | F83: Venture PCBA (LC) | G83: 12 | H83: 170
A84: 151 | B84: DC POWER SUPPLY MODULE | C84: Hewlett Packard | D84: 66103A | E84: US34213090 | F84: Venture PCBA (LC) | G84: 12 | H84: 170
A85: 152 | B85: DC POWER SUPPLY MODULE | C85: Hewlett Packard | D85: 66103A | E85: US34213209 | F85: Venture PCBA (LC) | G85: 12 | H85: 170
A86: 153 | B86: DC POWER SUPPLY MODULE | C86: Hewlett Packard | D86: 66101A | E86: 3444A02477 | F86: Venture PCBA (LC) | G86: 12 | H86: 170
A87: 154 | B87: DC POWER SUPPLY MODULE | C87: Hewlett Packard | D87: 66103A | E87: US34213216 | F87: Venture PCBA (LC) | G87: 12 | H87: 170
... A118: 198 | B118: Electrical Safety Analyzer | C118: QuadTech | D118: 6000 Plus | E118: 11173729 (ID#91890) | F118: Venture (LC) | G118: 12 | H118: 295
A119: 199 | B119: Load Box | C119: Chroma | D119: S14-03 | E119: 7322783 | F119: Venture (LC) | G119: 12 | H119: 105
A120: 200 | B120: Load Box | C120: Chroma | D120: S14-03 | E120: 7322786 | F120: Venture (LC) | G120: 12 | H120: 105
A121: 201 | B121: Load Box | C121: Chroma | D121: S14-03 | E121: 14354687 | F121: Venture (LC) | G121: 12 | H121: 105
A122: 202 | B122: Load Box | C122: Chroma | D122: S14-03 | E122: 14354682 | F122: Venture (LC) | G122: 12 | H122: 105
A123: 203 | B123: Load Box | C123: Chroma | D123: S14-03 | E123: 14354698 | F123: Venture (LC) | G123: 12 | H123: 105
A124: 204 | B124: Pat and Flash Tester | C124: Seaward Electronic | D124: CLARE HAL 104 | E124: 34J-0747 | F124: Venture (LC) | G124: 12 | H124: 560
A125: 205 | B125: Insulation Tester | C125: Megger | D125: MIT400 | E125: 0703071132 | F125: Venture (MS) | G125: 12 | H125: 150
A126: 223 | B126: DC Electronic Load mainframe | C126: Hewlett Packard | D126: 6050A | E126: 3312A02661 | F126: Venture PCBA (LC) | G126: 12 | H126: F.O.C
A127: 224 | B127: MPS MAINFRAME | C127: Hewlett Packard | D127: 66000A | E127: US35221282 | F127: Venture PCBA (LC) | G127: 12 | H127: F.O.C
A128: 226 | B128: Leak Detector | C128: Leybold | D128: PhoenixL 300i | E128: 90001301209 | F128: Venture (MS) | G128: 15 | H128: No Capability

Sheet Items need to check with MPC
B2: EQUIPMENT DESCRIPTION | C2: MANUFACTURER / DISTRIBUTOR | D2: MODEL | E2: SN | F2: EQUIPMENT LOCATION | G2: INTERVAL | H2: Current COST (USD) | I2: MPC Cost(USD) | J2: Cost Diff. (USD)
B3: Load Box | C3: Chroma | D3: S14-03 | E3: 14354696 | F3: CEI | G3: 12 | H3: 75 | I3: 169.7377 | J3: -94.7377
B4: Digital Thermometer with Probe (K type) | C4: Fluke | D4: 51 II | E4: 89280141 | F4: Flex | G4: 12 | H4: 59.34 | I4: 88.5588 | J4: -29.2188
B5: Electronic Weigh Balance | C5: AND | D5: HR200 | E5: 12305757 | F5: Flex | G5: 6 | H5: 53.7 | I5: 59.0392 | J5: -5.3392
B6: Electronic Weigh Balance | C6: AND | D6: HR200 | E6: 12305757 | F6: Flex | G6: 6 | H6: 52.75 | I6: 59.0392 | J6: -6.2892
B7: Electronic Weigh Balance | C7: AND | D7: HR200 | E7: 12200404 | F7: Flex | G7: 6 | H7: 53.7 | I7: 59.0392 | J7: -5.3392
B8: Electronic Weigh Balance | C8: AND | D8: HR200 | E8: 12200404 | F8: Flex | G8: 6 | H8: 52.75 | I8: 59.0392 | J8: -6.2892
B9: Electronic Weigh Balance | C9: AND | D9: HR200 | E9: 12303279 | F9: Flex | G9: 6 | H9: 53.7 | I9: 59.0392 | J9: -5.3392
B10: Electronic Weigh Balance | C10: AND | D10: HR200 | E10: 12303279 | F10: Flex | G10: 6 | H10: 52.75 | I10: 59.0392 | J10: -6.2892
B11: Electronic Weigh Balance | C11: AND | D11: HR200 | E11: 12315717 | F11: Flex | G11: 6 | H11: 53.7 | I11: 59.0392 | J11: -5.3392
B12: Electronic Weigh Balance | C12: AND | D12: HR200 | E12: 12315717 | F12: Flex | G12: 6 | H12: 52.75 | I12: 59.0392 | J12: -6.2892
B13: Digital Multimeter | C13: Fluke | D13: 110 | E13: 85730619 | F13: Flex | G13: 12 | H13: 53.7 | I13: 59.0392 | J13: -5.3392
B14: Digital Multimeter | C14: Fluke | D14: 179 | E14: 90240092 | F14: Flex | G14: 12 | H14: 53.7 | I14: 59.0392 | J14: -5.3392
B15: Electronic Weigh Balance | C15: AND | D15: HR200 | E15: 12316922 | F15: Flex | G15: 6 | H15: 53.7 | I15: 59.0392 | J15: -5.3392
B16: Electronic Weigh Balance | C16: AND | D16: HR200 | E16: 12316922 | F16: Flex | G16: 6 | H16: 52.75 | I16: 59.0392 | J16: -6.2892
B17: Clamp Meter | C17: Kyoritsu | D17: 2033 | E17: 66386 | F17: Flex | G17: 12 | H17: 79.12 | I17: 88.5588 | J17: -9.4388
B18: Electrical Safety Analyzer | C18: Quadtech | D18: Guardian 6000 | E18: 6069766 | F18: Flex | G18: 12 | H18: 217.74 | I18: 221.397 | J18: -3.657
B19: Electrical Safety Analyzer | C19: Quadtech | D19: Guardian 6000 Plus | E19: 8280865 | F19: Flex | G19: 12 | H19: 219.78 | I19: 221.397 | J19: -1.617
B20: Electronic Weigh Balance | C20: AND | D20: HR200 | E20: 12326186 | F20: Flex | G20: 6 | H20: 53.7 | I20: 59.0392 | J20: -5.3392
B21: Electronic Weigh Balance | C21: AND | D21: HR200 | E21: 12326186 | F21: Flex | G21: 6 | H21: 52.75 | I21: 59.0392 | J21: -6.2892
B22: Electronic Weigh Balance | C22: AND | D22: HR200 | E22: 12326300 | F22: Flex | G22: 6 | H22: 53.7 | I22: 59.0392 | J22: -5.3392
B23: Electronic Weigh Balance | C23: AND | D23: HR200 | E23: 12326300 | F23: Flex | G23: 6 | H23: 52.75 | I23: 59.0392 | J23: -6.2892
B24: Electronic Weigh Balance | C24: AND | D24: HR200 | E24: 12324733 | F24: Flex | G24: 6 | H24: 53.7 | I24: 59.0392 | J24: -5.3392
B25: Electronic Weigh Balance | C25: AND | D25: HR200 | E25: 12324733 | F25: Flex | G25: 6 | H25: 52.75 | I25: 59.0392 | J25: -6.2892
B26: Electronic Weigh Balance | C26: AND | D26: HR200 | E26: 12326184 | F26: Flex | G26: 6 | H26: 53.7 | I26: 59.0392 | J26: -5.3392
B27: Electronic Weigh Balance | C27: AND | D27: HR200 | E27: 12326184 | F27: Flex | G27: 6 | H27: 52.26 | I27: 59.0392 | J27: -6.7792
B28: Electronic Weigh Balance | C28: AND | D28: HR200 | E28: 12326187 | F28: Flex | G28: 6 | H28: 53.7 | I28: 59.0392 | J28: -5.3392
B29: Electronic Weigh Balance | C29: AND | D29: HR200 | E29: 12326187 | F29: Flex | G29: 6 | H29: 52.75 | I29: 59.0392 | J29: -6.2892
... B35: Electronic Weigh Balance | C35: AND | D35: HR200 | E35: 12326279 | F35: Flex | G35: 6 | H35: 52.75 | I35: 59.0392 | J35: -6.2892
B36: Dial Depth Gauge | C36: Mitutoyo | D36: 2904S / 7217S | E36: LQY537 / 000943 | F36: Flex | G36: 6 | H36: 23.87 | I36: 33.20955 | J36: -9.33955
B37: Dial Depth Gauge | C37: Mitutoyo | D37: 2904S / 7217S | E37: LQY537 / 000943 | F37: Flex | G37: 6 | H37: 23.44 | I37: 33.20955 | J37: -9.76955
B38: Dial Indicator | C38: Mitutoyo | D38: 2514S | E38: JDY576 | F38: Flex | G38: 6 | H38: 17.9 | I38: 33.20955 | J38: -15.30955
B39: Dial Indicator | C39: Mitutoyo | D39: 2514S | E39: JDY576 | F39: Flex | G39: 6 | H39: 23.44 | I39: 33.20955 | J39: -9.76955
B40: Electrical Safety Analyzer | C40: Chroma | D40: 19032 | E40: 19032G000182 | F40: Flex | G40: 12 | H40: 217.74 | I40: 221.397 | J40: -3.657
B41: Electronic Weigh Balance | C41: AND | D41: HR200 | E41: 12336741 | F41: Flex | G41: 6 | H41: 53.7 | I41: 59.0392 | J41: -5.3392
B42: Electronic Weigh Balance | C42: AND | D42: HR200 | E42: 12336741 | F42: Flex | G42: 6 | H42: 53.7 | I42: 59.0392 | J42: -5.3392
B43: Load Box | C43: Chroma | D43: S14-03 | E43: 14354695 | F43: Flex | G43: 12 | H43: 89.51 | I43: 169.7377 | J43: -80.2277
B44: Load Box | C44: Chroma | D44: S14-03 | E44: 14354681 | F44: Flex | G44: 12 | H44: 89.51 | I44: 169.7377 | J44: -80.2277
B45: Load Box | C45: Chroma | D45: S14-03 | E45: 14354691 | F45: Flex | G45: 12 | H45: 89.51 | I45: 169.7377 | J45: -80.2277
B46: Load Box | C46: Chroma | D46: S14-03 | E46: 7322788 | F46: Flex | G46: 12 | H46: 89.51 | I46: 169.7377 | J46: -80.2277
B47: VXI Universal Counter 200 MHZ | C47: Racal-Dana Instruments, inc. | D47: 2461-CD | E47: 03070017 | F47: Venture PCBA (LC) | G47: 12 | I47: 295.196 | J47: -295.196
B48: DIGITAL PHOSPOR OSCILLOSCOPE | C48: Tektronix | D48: TDS3054C | E48: C020604 | F48: Venture (MS) | G48: 12 | H48: 200 | I48: 258.2965 | J48: -58.2965
B49: Load Box | C49: Chroma | D49: S14-03 | E49: 7322783 | F49: Venture (LC) | G49: 12 | H49: 80 | I49: 169.7377 | J49: -89.7377
B50: Load Box | C50: Chroma | D50: S14-03 | E50: 7322786 | F50: Venture (LC) | G50: 12 | H50: 80 | I50: 169.7377 | J50: -89.7377
B51: Load Box | C51: Chroma | D51: S14-03 | E51: 14354687 | F51: Venture (LC) | G51: 12 | H51: 80 | I51: 169.7377 | J51: -89.7377
B52: Load Box | C52: Chroma | D52: S14-03 | E52: 14354682 | F52: Venture (LC) | G52: 12 | H52: 80 | I52: 169.7377 | J52: -89.7377
B53: Load Box | C53: Chroma | D53: S14-03 | E53: 14354698 | F53: Venture (LC) | G53: 12 | H53: 80 | I53: 169.7377 | J53: -89.7377
I54: 4826.4546 | J54: -1387.8846

Sheet GTS list
C2: Scope | D2: Tektronix | E2: C012802
C3: Function Generator | D3: Agilent | E3: MY44054891
C4: Mulitmeter | D4: Agilent | E4: MY48004403
C5: Electronic Load Module | D5: Chroma | E5: 63103A003917
C6: Electronic Load Module | D6: Chroma | E6: 63103A003907
C7: Electronic Load Module | D7: Chroma | E7: 63103A003897
C8: Electronic Load Module | D8: Chroma | E8: 63103A003947
C9: Programmable Card, 4Ch | D9: Geotest | E9: GX1164
C10: Programmable Power Supply | D10: National Instrument | E10: 160B96F
C11: Data Acquisition | D11: National Instrument | E11: 164D2A9
C12: Data Acquisition | D12: National Instrument | E12: 164D2B4
C13: Genesys 750W Power Supply | D13: Lambda | E13: 11K5893Z
... C19: NI PXI-4071 FlexDMM | D19: National Instrument | E19: F1E66F
C20: Aglient Current Shunt for DMM | D20: Agilent

Sheet Sheet1
B1: Improvement after implement of onsite calibration
A3: Measures | B3: Before | C3: After | D3: Remarks
A4: Cost saving | B4: 3795 USD/System | C4: 3524 USD/System | D4: Cost savings
D5: ($271/system)
A6: Productivity improvement | C6: 1 day downtime | D6: Instrument/spare parts shipment disrupted due to
B7: ~ 15 days downtime | D7: GTS calibration
D8: Total time saving 70 days (14 days/system in CM)
D9: Total labour cost saving ~14000USD(25USD/hr x 8hr x70 days)
A10: Quality enhancement | B10: handling damage | C10: No removal – eliminate handling damage | D10: Self test after calibration to make sure system work as desired
B11: due to removal of NI/Geotest cards
