Workbook

Sheet Materlist
B1: EQUIPMENT DESCRIPTION | D1: MODEL | E1: SN | F1: EQUIPMENT LOCATION | G1: INTERVAL | H1: Current COST (USD) | I1: MPC Cost(USD) | J1: MPC Cost (SGD) | K1: Cost Diff. (USD) | L1: Cost Diff. with 10% (USD) | M1: Remarks
A2: 1 | B2: Pipette | C2: Eppendorf /VWR | D2: P1000 | E2: G42127G | F2: WPPL Lab | G2: 1 Year | I2: =J2*0.73799 -> 0 | K2: =H2-I2 -> 0
A3: 2 | B3: Pipette | C3: Eppendorf / VWR | D3: P1000 | E3: G42285G | F3: WPPL Lab | G3: 1 Year | I3: =J3*0.73799 -> 0 | K3: =H3-I3 -> 0
A4: 3 | B4: Weighing Scale | C4: Sartorius | D4: MSA 125P-100-DI | E4: 35701494 | F4: WPPL Lab | G4: 1 Year | I4: =J4*0.73799 -> 0 | K4: =H4-I4 -> 0
A5: 4 | B5: Multimeter | C5: FLUKE / Region Suppliers (PTE) LTD | D5: FL77-4 | E5: 35700255 | F5: WPPL Lab | G5: 1 Year | I5: =J5*0.73799 -> 0 | K5: =H5-I5 -> 0
A6: 5 | B6: Wide Range Gauge | C6: Edwards | D6: D14703000 | E6: 170077634 | F6: WPPL Lab | G6: 1 Year | I6: =J6*0.73799 -> 0 | K6: =H6-I6 -> 0
A7: 6 | B7: Wide Range Gauge | C7: Edwards | D7: D14703000 | E7: 170077633 | F7: WPPL Lab | G7: 1 Year | I7: =J7*0.73799 -> 0 | K7: =H7-I7 -> 0
A8: 7 | B8: Wide Range Gauge | C8: Edwards | D8: D14703000 | E8: 150253989 | F8: WPPL Lab | G8: 1 Year | I8: =J8*0.73799 -> 0 | K8: =H8-I8 -> 0
A9: 8 | B9: Wide Range Gauge | C9: Edwards | D9: D14703000 | E9: 150253990 | F9: WPPL Lab | G9: 1 Year | I9: =J9*0.73799 -> 0 | K9: =H9-I9 -> 0
A10: 9 | B10: Traceable Stopwatch/ Timer Big Digit 4 Channel | C10: VWR | D10: 62344-641 | E10: 170445616 | F10: WPPL Lab | G10: 2 Years | I10: =J10*0.73799 -> 0 | K10: =H10-I10 -> 0
A11: 10 | B11: Weight-1g | C11: Sartorius | D11: YCW313-00 | E11: 34729085 | F11: WPPL Lab | G11: 1 Year | I11: =J11*0.73799 -> 0 | K11: =H11-I11 -> 0
A12: 11 | B12: Weight-10g | C12: Sartorius | D12: YCW413-00 | E12: 35229142 | F12: WPPL Lab | G12: 1 Year | I12: =J12*0.73799 -> 0 | K12: =H12-I12 -> 0
A13: 12 | B13: Analogue Surface Resistance Meter Kit | C13: Pro-Pack Materials Pte Ltd | D13: SCS 701 | E13: 7011745026 | F13: WPPL Lab | G13: 1 Year | I13: =J13*0.73799 -> 0 | K13: =H13-I13 -> 0
A14: 13 | B14: ESD Personnel Test Station | C14: Vermason | D14: 222563 | E14: 1719001 | F14: WPPL Lab | G14: 1 Year | I14: =J14*0.73799 -> 0 | K14: =H14-I14 -> 0
A15: 14 | B15: Megger MIT410/2 Insulation Tester | C15: Megger | D15: MIT410/2 | E15: 1.0063371e+15 | F15: WPPL Lab | G15: 1 Year | I15: =J15*0.73799 -> 0 | K15: =H15-I15 -> 0
A16: 15 | B16: Glassware washer | C16: Lab Science Solution Pte Ltd | D16: PG8593 | E16: 74400208 | F16: WPPL Lab | G16: 1 Year | I16: =J16*0.73799 -> 0 | K16: =H16-I16 -> 0
A17: 16 | B17: Pipette | C17: Eppendorf /VWR | D17: 200uL | E17: I22994G | F17: WPPL Lab | G17: 1 Year | I17: =J17*0.73799 -> 0 | K17: =H17-I17 -> 0
A18: 17 | B18: Pipette | C18: Eppendorf /VWR | D18: 200uL | E18: I22911G | F18: WPPL Lab | G18: 1 Year | I18: =J18*0.73799 -> 0 | K18: =H18-I18 -> 0
A19: 18 | B19: Grundfos Pump | C19: Adept Pure Water Limited | D19: CME3-5 | E19: 98358937 | F19: Richport | G19: 1 Year | I19: =J19*0.73799 -> 0 | K19: =H19-I19 -> 0
A20: 19 | B20: Tempreature Recorder | C20: LogTag | D20: TRIX-8 | E20: 1000848285 | F20: WPPL | G20: 1 Year | I20: =J20*0.73799 -> 0 | K20: =H20-I20 -> 0
A21: 20 | B21: Tempreature Recorder | C21: LogTag | D21: TRIX-8 | E21: 1000848290 | F21: WPPL | G21: 1 Year | I21: =J21*0.73799 -> 0 | K21: =H21-I21 -> 0
A22: 21 | B22: Tempreature Recorder | C22: LogTag | D22: TRIX-8 | E22: 1000848288 | F22: WPPL | G22: 1 Year | I22: =J22*0.73799 -> 0 | K22: =H22-I22 -> 0
A23: 22 | B23: Tempreature Recorder | C23: LogTag | D23: TRIX-8 | E23: 1000848283 | F23: WPPL | G23: 1 Year | I23: =J23*0.73799 -> 0 | K23: =H23-I23 -> 0
A24: 23 | B24: Tempreature Recorder | C24: LogTag | D24: TRIX-8 | E24: 1000848289 | F24: WPPL | G24: 1 Year | I24: =J24*0.73799 -> 0 | K24: =H24-I24 -> 0
A25: 24 | B25: Tempreature Recorder | C25: LogTag | D25: TRIX-8 | E25: 1000848284 | F25: WPPL | G25: 1 Year | I25: =J25*0.73799 -> 0 | K25: =H25-I25 -> 0
A26: 25 | B26: Tempreature Recorder | C26: LogTag | D26: TRIX-8 | E26: 1000848286 | F26: WPPL | G26: 1 Year | I26: =J26*0.73799 -> 0 | K26: =H26-I26 -> 0
A27: 26 | B27: Tempreature Recorder | C27: LogTag | D27: TRIX-8 | E27: 1000848287 | F27: WPPL | G27: 1 Year | I27: =J27*0.73799 -> 0 | K27: =H27-I27 -> 0
A28: 27 | B28: DIGIMATIC MICROMETER | C28: Mitutoyo | D28: MDC-1"PX | E28: 632855699 | F28: WPPL | G28: 1 Year | I28: =J28*0.73799 -> 0 | K28: =H28-I28 -> 0
A29: 28 | B29: DIGIMATIC CALIPER | C29: Mitutoyo | D29: CD-8"ASX | E29: B16215984 | F29: WPPL | G29: 1 Year | I29: =J29*0.73799 -> 0 | K29: =H29-I29 -> 0
A30: 29 | B30: Electrical Safety Analyzer | C30: Chroma | D30: 19032 | E30: 19032G400225 | F30: CEI | G30: 12 | H30: 480 | I30: =J30*0.73799 -> 217.70705 | J30: =VLOOKUP(A30,'Quote from MPC Rev03'!A1:I94,8,FALSE) -> 295 | K30: =H30-I30 -> 262.29295 | L30: =K30*1.1 -> 288.52225
A31: 48 | B31: HP66103A DC Power Module 35V/4.5A | C31: Agilent Technologies | D31: 66103A | E31: US34212664 | F31: CEI PCBA | G31: 12 | H31: 165.79 | I31: =J31*0.73799 -> 125.4583 | J31: =VLOOKUP(A31,'Quote from MPC Rev03'!A2:I128,8) -> 170 | K31: =H31-I31 -> 40.3317 | L31: =K31*1.1 -> 44.36487
A32: 49 | B32: HP66103A DC Power Module 35V/4.5A | C32: Agilent Technologies | D32: 66103A | E32: US34212667 | F32: CEI PCBA | G32: 12 | H32: 165.79 | I32: =J32*0.73799 -> 125.4583 | J32: =VLOOKUP(A32,'Quote from MPC Rev03'!A3:I129,8) -> 170 | K32: =H32-I32 -> 40.3317 | L32: =K32*1.1 -> 44.36487
A33: 50 | B33: HP66103A DC Power Module 35V/4.5A | C33: Agilent Technologies | D33: 66103A | E33: US34212669 | F33: CEI PCBA | G33: 12 | H33: 165.79 | I33: =J33*0.73799 -> 125.4583 | J33: =VLOOKUP(A33,'Quote from MPC Rev03'!A4:I130,8) -> 170 | K33: =H33-I33 -> 40.3317 | L33: =K33*1.1 -> 44.36487
A34: 51 | B34: HP66103A DC Power Module 35V/4.5A | C34: Agilent Technologies | D34: 66103A | E34: US34212670 | F34: CEI PCBA | G34: 12 | H34: 165.79 | I34: =J34*0.73799 -> 125.4583 | J34: =VLOOKUP(A34,'Quote from MPC Rev03'!A5:I131,8) -> 170 | K34: =H34-I34 -> 40.3317 | L34: =K34*1.1 -> 44.36487
A35: 52 | B35: HP66103A DC Power Module 35V/4.5A | C35: Agilent Technologies | D35: 66103A | E35: US34212672 | F35: CEI PCBA | G35: 12 | H35: 165.79 | I35: =J35*0.73799 -> 125.4583 | J35: =VLOOKUP(A35,'Quote from MPC Rev03'!A6:I132,8) -> 170 | K35: =H35-I35 -> 40.3317 | L35: =K35*1.1 -> 44.36487
A36: 53 | B36: HP66101A DC Power Module 8V/16A | C36: Agilent Technologies | D36: 66101A | E36: US34442070 | F36: CEI PCBA | G36: 12 | H36: 165.79 | I36: =J36*0.73799 -> 125.4583 | J36: =VLOOKUP(A36,'Quote from MPC Rev03'!A7:I133,8) -> 170 | K36: =H36-I36 -> 40.3317 | L36: =K36*1.1 -> 44.36487
A37: 54 | B37: HP66101A DC Power Module 8V/16A | C37: Agilent Technologies | D37: 66101A | E37: MY40000535 | F37: CEI PCBA | G37: 12 | H37: 165.79 | I37: =J37*0.73799 -> 125.4583 | J37: =VLOOKUP(A37,'Quote from MPC Rev03'!A8:I134,8) -> 170 | K37: =H37-I37 -> 40.3317 | L37: =K37*1.1 -> 44.36487
A38: 55 | B38: Electronic Load | C38: Hewlett Packard | D38: 60502B | E38: US37244128 | F38: CEI PCBA | G38: 12 | H38: 165.79 | I38: =J38*0.73799 -> 132.8382 | J38: =VLOOKUP(A38,'Quote from MPC Rev03'!A9:I135,8) -> 180 | K38: =H38-I38 -> 32.9518 | L38: =K38*1.1 -> 36.24698
A39: 56 | B39: Electronic Load | C39: Hewlett Packard | D39: 60502B | E39: US37244138 | F39: CEI PCBA | G39: 12 | H39: 165.79 | I39: =J39*0.73799 -> 132.8382 | J39: =VLOOKUP(A39,'Quote from MPC Rev03'!A10:I136,8) -> 180 | K39: =H39-I39 -> 32.9518 | L39: =K39*1.1 -> 36.24698
A40: 57 | B40: Electronic Load | C40: Hewlett Packard | D40: 60502B | E40: US37244141 | F40: CEI PCBA | G40: 12 | H40: 165.79 | I40: =J40*0.73799 -> 132.8382 | J40: =VLOOKUP(A40,'Quote from MPC Rev03'!A11:I137,8) -> 180 | K40: =H40-I40 -> 32.9518 | L40: =K40*1.1 -> 36.24698
...

Sheet Quote from MPC Rev03
B1: EQUIPMENT DESCRIPTION | C1: MANUFACTURER / DISTRIBUTOR | D1: MODEL | E1: SN | F1: EQUIPMENT LOCATION | G1: INTERVAL | H1: MPC-2020 Price (SGD) | I1: Remark
A2: 29 | B2: Electrical Safety Analyzer | C2: Chroma | D2: 19032 | E2: 19032G400225 | F2: CEI | G2: 12 | H2: 295
A3: 30 | B3: Load Box | C3: Chroma | D3: S14-03 | E3: 14354696 | F3: CEI | G3: 12 | H3: 105
A4: 48 | B4: HP66103A DC Power Module 35V/4.5A | C4: Agilent Technologies | D4: 66103A | E4: US34212664 | F4: CEI PCBA | G4: 12 | H4: 170
A5: 49 | B5: HP66103A DC Power Module 35V/4.5A | C5: Agilent Technologies | D5: 66103A | E5: US34212667 | F5: CEI PCBA | G5: 12 | H5: 170
A6: 50 | B6: HP66103A DC Power Module 35V/4.5A | C6: Agilent Technologies | D6: 66103A | E6: US34212669 | F6: CEI PCBA | G6: 12 | H6: 170
A7: 51 | B7: HP66103A DC Power Module 35V/4.5A | C7: Agilent Technologies | D7: 66103A | E7: US34212670 | F7: CEI PCBA | G7: 12 | H7: 170
A8: 52 | B8: HP66103A DC Power Module 35V/4.5A | C8: Agilent Technologies | D8: 66103A | E8: US34212672 | F8: CEI PCBA | G8: 12 | H8: 170
A9: 53 | B9: HP66101A DC Power Module 8V/16A | C9: Agilent Technologies | D9: 66101A | E9: US34442070 | F9: CEI PCBA | G9: 12 | H9: 170
A10: 54 | B10: HP66101A DC Power Module 8V/16A | C10: Agilent Technologies | D10: 66101A | E10: MY40000535 | F10: CEI PCBA | G10: 12 | H10: 170
A11: 55 | B11: Electronic Load | C11: Hewlett Packard | D11: 60502B | E11: US37244128 | F11: CEI PCBA | G11: 12 | H11: 180
A12: 56 | B12: Electronic Load | C12: Hewlett Packard | D12: 60502B | E12: US37244138 | F12: CEI PCBA | G12: 12 | H12: 180
A13: 57 | B13: Electronic Load | C13: Hewlett Packard | D13: 60502B | E13: US37244141 | F13: CEI PCBA | G13: 12 | H13: 180
A14: 58 | B14: Tektronics 4-Channel Digitizing Oscilloscope | C14: Tektronix | D14: TDS460A | E14: B071897 | F14: CEI PCBA | G14: 12 | H14: 280
A15: 59 | B15: Electronic Load | C15: Hewlett Packard | D15: 60502B | E15: US37243391 | F15: CEI PCBA | G15: 12 | H15: 180
... A17: 61 | B17: Electronic Load | C17: Hewlett Packard | D17: 60502A | E17: 3011A-01246 | F17: CEI PCBA | G17: 12 | H17: 180
A18: 63 | B18: Digital Thermometer with Probe (K type) | C18: Fluke | D18: 51 II | E18: 89280141 | F18: Flex | G18: 12 | H18: 90
A19: 64 | B19: Electronic Weigh Balance | C19: AND | D19: HR200 | E19: 12305757 | F19: Flex | G19: 6 | H19: 70
A20: 65 | B20: Electronic Weigh Balance | C20: AND | D20: HR200 | E20: 12305757 | F20: Flex | G20: 6 | H20: 70
A21: 66 | B21: Electronic Weigh Balance | C21: AND | D21: HR200 | E21: 12200404 | F21: Flex | G21: 6 | H21: 70
A22: 67 | B22: Electronic Weigh Balance | C22: AND | D22: HR200 | E22: 12200404 | F22: Flex | G22: 6 | H22: 70
A23: 68 | B23: Electronic Weigh Balance | C23: AND | D23: HR200 | E23: 12303279 | F23: Flex | G23: 6 | H23: 70
A24: 69 | B24: Electronic Weigh Balance | C24: AND | D24: HR200 | E24: 12303279 | F24: Flex | G24: 6 | H24: 70
A25: 70 | B25: Electronic Weigh Balance | C25: AND | D25: HR200 | E25: 12315717 | F25: Flex | G25: 6 | H25: 70
A26: 71 | B26: Electronic Weigh Balance | C26: AND | D26: HR200 | E26: 12315717 | F26: Flex | G26: 6 | H26: 70
A27: 72 | B27: Digital Multimeter | C27: Fluke | D27: 110 | E27: 85730619 | F27: Flex | G27: 12 | H27: 70
A28: 73 | B28: Digital Multimeter | C28: Fluke | D28: 179 | E28: 90240092 | F28: Flex | G28: 12 | H28: 70
A29: 74 | B29: Electrical Safety Analyzer | C29: Quadtech | D29: Guardian 6000 | E29: 5037655 | F29: Flex | G29: 12 | H29: 295
A30: 75 | B30: Pressure Calibrator | C30: Ametek | D30: APC10KGINDG | E30: 9093205 | F30: Flex | G30: 12 | H30: 180 | I30: up to 10k psi
A31: 76 | B31: Electronic Weigh Balance | C31: AND | D31: HR200 | E31: 12316922 | F31: Flex | G31: 6 | H31: 70
A32: 77 | B32: Electronic Weigh Balance | C32: AND | D32: HR200 | E32: 12316922 | F32: Flex | G32: 6 | H32: 70
A33: 78 | B33: High Voltage Probe | C33: Fluke | D33: 80K-6 | E33: 89200011 | F33: Flex | G33: 12 | H33: 100 | I33: up to 1KV
A34: 79 | B34: Clamp Meter | C34: Kyoritsu | D34: 2033 | E34: 66386 | F34: Flex | G34: 12 | H34: 100
A35: 80 | B35: Electrical Safety Analyzer | C35: Quadtech | D35: Guardian 6000 | E35: 6069766 | F35: Flex | G35: 12 | H35: 295
A36: 81 | B36: Picoammeter | C36: Keithley | D36: 485 | E36: 310788 | F36: Flex | G36: 12 | H36: No Capability | I36: can do normal calibration with data only
A37: 82 | B37: Picoammeter | C37: Keithley | D37: 485 | E37: 435110 | F37: Flex | G37: 12 | H37: No Capability | I37: can do normal calibration with data only
A38: 83 | B38: Electrical Safety Analyzer | C38: Quadtech | D38: Guardian 6000 Plus | E38: 8280865 | F38: Flex | G38: 12 | H38: 295
A39: 84 | B39: Liquilaz | C39: Particle Measuring Systems | D39: E20P | F39: Flex | G39: 12 | H39: No Capability | I39: can do normal calibration with data only
A40: 85 | B40: Electronic Weigh Balance | C40: AND | D40: HR200 | E40: 12326186 | F40: Flex | G40: 6 | H40: 70
A41: 86 | B41: Electronic Weigh Balance | C41: AND | D41: HR200 | E41: 12326186 | F41: Flex | G41: 6 | H41: 70
...

Sheet Items need to check with MPC
B2: EQUIPMENT DESCRIPTION | C2: MANUFACTURER / DISTRIBUTOR | D2: MODEL | E2: SN | F2: EQUIPMENT LOCATION | G2: INTERVAL | H2: Current COST (USD) | I2: MPC Cost(USD) | J2: Cost Diff. (USD)
B3: Load Box | C3: Chroma | D3: S14-03 | E3: 14354696 | F3: CEI | G3: 12 | H3: 75 | I3: 169.7377 | J3: -94.7377
B4: Digital Thermometer with Probe (K type) | C4: Fluke | D4: 51 II | E4: 89280141 | F4: Flex | G4: 12 | H4: 59.34 | I4: 88.5588 | J4: -29.2188
B5: Electronic Weigh Balance | C5: AND | D5: HR200 | E5: 12305757 | F5: Flex | G5: 6 | H5: 53.7 | I5: 59.0392 | J5: -5.3392
B6: Electronic Weigh Balance | C6: AND | D6: HR200 | E6: 12305757 | F6: Flex | G6: 6 | H6: 52.75 | I6: 59.0392 | J6: -6.2892
B7: Electronic Weigh Balance | C7: AND | D7: HR200 | E7: 12200404 | F7: Flex | G7: 6 | H7: 53.7 | I7: 59.0392 | J7: -5.3392
B8: Electronic Weigh Balance | C8: AND | D8: HR200 | E8: 12200404 | F8: Flex | G8: 6 | H8: 52.75 | I8: 59.0392 | J8: -6.2892
B9: Electronic Weigh Balance | C9: AND | D9: HR200 | E9: 12303279 | F9: Flex | G9: 6 | H9: 53.7 | I9: 59.0392 | J9: -5.3392
B10: Electronic Weigh Balance | C10: AND | D10: HR200 | E10: 12303279 | F10: Flex | G10: 6 | H10: 52.75 | I10: 59.0392 | J10: -6.2892
B11: Electronic Weigh Balance | C11: AND | D11: HR200 | E11: 12315717 | F11: Flex | G11: 6 | H11: 53.7 | I11: 59.0392 | J11: -5.3392
B12: Electronic Weigh Balance | C12: AND | D12: HR200 | E12: 12315717 | F12: Flex | G12: 6 | H12: 52.75 | I12: 59.0392 | J12: -6.2892
B13: Digital Multimeter | C13: Fluke | D13: 110 | E13: 85730619 | F13: Flex | G13: 12 | H13: 53.7 | I13: 59.0392 | J13: -5.3392
B14: Digital Multimeter | C14: Fluke | D14: 179 | E14: 90240092 | F14: Flex | G14: 12 | H14: 53.7 | I14: 59.0392 | J14: -5.3392
B15: Electronic Weigh Balance | C15: AND | D15: HR200 | E15: 12316922 | F15: Flex | G15: 6 | H15: 53.7 | I15: 59.0392 | J15: -5.3392
B16: Electronic Weigh Balance | C16: AND | D16: HR200 | E16: 12316922 | F16: Flex | G16: 6 | H16: 52.75 | I16: 59.0392 | J16: -6.2892
B17: Clamp Meter | C17: Kyoritsu | D17: 2033 | E17: 66386 | F17: Flex | G17: 12 | H17: 79.12 | I17: 88.5588 | J17: -9.4388
B18: Electrical Safety Analyzer | C18: Quadtech | D18: Guardian 6000 | E18: 6069766 | F18: Flex | G18: 12 | H18: 217.74 | I18: 221.397 | J18: -3.657
B19: Electrical Safety Analyzer | C19: Quadtech | D19: Guardian 6000 Plus | E19: 8280865 | F19: Flex | G19: 12 | H19: 219.78 | I19: 221.397 | J19: -1.617
B20: Electronic Weigh Balance | C20: AND | D20: HR200 | E20: 12326186 | F20: Flex | G20: 6 | H20: 53.7 | I20: 59.0392 | J20: -5.3392
B21: Electronic Weigh Balance | C21: AND | D21: HR200 | E21: 12326186 | F21: Flex | G21: 6 | H21: 52.75 | I21: 59.0392 | J21: -6.2892
B22: Electronic Weigh Balance | C22: AND | D22: HR200 | E22: 12326300 | F22: Flex | G22: 6 | H22: 53.7 | I22: 59.0392 | J22: -5.3392
B23: Electronic Weigh Balance | C23: AND | D23: HR200 | E23: 12326300 | F23: Flex | G23: 6 | H23: 52.75 | I23: 59.0392 | J23: -6.2892
B24: Electronic Weigh Balance | C24: AND | D24: HR200 | E24: 12324733 | F24: Flex | G24: 6 | H24: 53.7 | I24: 59.0392 | J24: -5.3392
B25: Electronic Weigh Balance | C25: AND | D25: HR200 | E25: 12324733 | F25: Flex | G25: 6 | H25: 52.75 | I25: 59.0392 | J25: -6.2892
B26: Electronic Weigh Balance | C26: AND | D26: HR200 | E26: 12326184 | F26: Flex | G26: 6 | H26: 53.7 | I26: 59.0392 | J26: -5.3392
B27: Electronic Weigh Balance | C27: AND | D27: HR200 | E27: 12326184 | F27: Flex | G27: 6 | H27: 52.26 | I27: 59.0392 | J27: -6.7792
B28: Electronic Weigh Balance | C28: AND | D28: HR200 | E28: 12326187 | F28: Flex | G28: 6 | H28: 53.7 | I28: 59.0392 | J28: -5.3392
B29: Electronic Weigh Balance | C29: AND | D29: HR200 | E29: 12326187 | F29: Flex | G29: 6 | H29: 52.75 | I29: 59.0392 | J29: -6.2892
... B35: Electronic Weigh Balance | C35: AND | D35: HR200 | E35: 12326279 | F35: Flex | G35: 6 | H35: 52.75 | I35: 59.0392 | J35: -6.2892
B36: Dial Depth Gauge | C36: Mitutoyo | D36: 2904S / 7217S | E36: LQY537 / 000943 | F36: Flex | G36: 6 | H36: 23.87 | I36: 33.20955 | J36: -9.33955
B37: Dial Depth Gauge | C37: Mitutoyo | D37: 2904S / 7217S | E37: LQY537 / 000943 | F37: Flex | G37: 6 | H37: 23.44 | I37: 33.20955 | J37: -9.76955
B38: Dial Indicator | C38: Mitutoyo | D38: 2514S | E38: JDY576 | F38: Flex | G38: 6 | H38: 17.9 | I38: 33.20955 | J38: -15.30955
B39: Dial Indicator | C39: Mitutoyo | D39: 2514S | E39: JDY576 | F39: Flex | G39: 6 | H39: 23.44 | I39: 33.20955 | J39: -9.76955
B40: Electrical Safety Analyzer | C40: Chroma | D40: 19032 | E40: 19032G000182 | F40: Flex | G40: 12 | H40: 217.74 | I40: 221.397 | J40: -3.657
B41: Electronic Weigh Balance | C41: AND | D41: HR200 | E41: 12336741 | F41: Flex | G41: 6 | H41: 53.7 | I41: 59.0392 | J41: -5.3392
B42: Electronic Weigh Balance | C42: AND | D42: HR200 | E42: 12336741 | F42: Flex | G42: 6 | H42: 53.7 | I42: 59.0392 | J42: -5.3392
B43: Load Box | C43: Chroma | D43: S14-03 | E43: 14354695 | F43: Flex | G43: 12 | H43: 89.51 | I43: 169.7377 | J43: -80.2277
B44: Load Box | C44: Chroma | D44: S14-03 | E44: 14354681 | F44: Flex | G44: 12 | H44: 89.51 | I44: 169.7377 | J44: -80.2277
B45: Load Box | C45: Chroma | D45: S14-03 | E45: 14354691 | F45: Flex | G45: 12 | H45: 89.51 | I45: 169.7377 | J45: -80.2277
B46: Load Box | C46: Chroma | D46: S14-03 | E46: 7322788 | F46: Flex | G46: 12 | H46: 89.51 | I46: 169.7377 | J46: -80.2277
...

Sheet GTS list
C2: Scope | D2: Tektronix | E2: C012802
C3: Function Generator | D3: Agilent | E3: MY44054891
C4: Mulitmeter | D4: Agilent | E4: MY48004403
C5: Electronic Load Module | D5: Chroma | E5: 63103A003917
C6: Electronic Load Module | D6: Chroma | E6: 63103A003907
C7: Electronic Load Module | D7: Chroma | E7: 63103A003897
C8: Electronic Load Module | D8: Chroma | E8: 63103A003947
C9: Programmable Card, 4Ch | D9: Geotest | E9: GX1164
C10: Programmable Power Supply | D10: National Instrument | E10: 160B96F
C11: Data Acquisition | D11: National Instrument | E11: 164D2A9
C12: Data Acquisition | D12: National Instrument | E12: 164D2B4
C13: Genesys 750W Power Supply | D13: Lambda | E13: 11K5893Z
... C19: NI PXI-4071 FlexDMM | D19: National Instrument | E19: F1E66F
C20: Aglient Current Shunt for DMM | D20: Agilent

Sheet Sheet1
B1: Improvement after implement of onsite calibration
A3: Measures | B3: Before | C3: After | D3: Remarks
A4: Cost saving | B4: 3795 USD/System | C4: 3524 USD/System | D4: Cost savings
D5: ($271/system)
A6: Productivity improvement | C6: 1 day downtime | D6: Instrument/spare parts shipment disrupted due to
B7: ~ 15 days downtime | D7: GTS calibration
D8: Total time saving 70 days (14 days/system in CM)
D9: Total labour cost saving ~14000USD(25USD/hr x 8hr x70 days)
A10: Quality enhancement | B10: handling damage | C10: No removal – eliminate handling damage | D10: Self test after calibration to make sure system work as desired
B11: due to removal of NI/Geotest cards
