Workbook
Name Client: [2]OUTPUTS!$C$7
Name Country: [3]Tables!$A$344
Name DATA1: '[4]Spare Forecast'!#REF!
Name DATA10: '[4]Spare Forecast'!#REF!
Name DATA12: '[4]Spare Forecast'!#REF!
Name DATA13: '[4]Spare Forecast'!#REF!
Name DATA14: '[4]Spare Forecast'!#REF!
Name DATA16: '[4]Spare Forecast'!#REF!
Name DATA18: '[4]Spare Forecast'!#REF!
Name DATA19: '[4]Spare Forecast'!#REF!
Name DATA2: '[4]Spare Forecast'!#REF!
Name DATA20: '[4]Spare Forecast'!#REF!
Name DATA21: '[4]Spare Forecast'!#REF!
Name DATA22: '[4]Spare Forecast'!#REF!
Name DATA4: '[4]Spare Forecast'!#REF!
Name DATA5: '[4]Spare Forecast'!#REF!
Name DATA6: '[4]Spare Forecast'!#REF!
Name DATA7: '[4]Spare Forecast'!#REF!
Name DATA8: '[4]Spare Forecast'!#REF!
Name DeliveryModelTable: [3]Tables!$B$13:$M$171
Name DMODEL: '[3]DEFAULTS-Override'!$A$12
Name InputsTable: [3]INPUTS!$B$13:$AG$125
Name ITCLI: [3]INPUTS!$A$30
Name ITHLParts: [3]INPUTS!$A$46
Name ITMechParts: [3]INPUTS!$A$49
Name ITOFD: [3]INPUTS!$A$123
Name ITOther: [3]INPUTS!$A$125
Name ITPackCost: [3]INPUTS!$A$124
Name ITPN: [3]INPUTS!$A$15
Name ITSIM: [3]INPUTS!$A$17
Name ITSIT: [3]INPUTS!$A$16
Name ITSMTParts: [3]INPUTS!$A$39
Name ITTime: [3]INPUTS!$A$18
Name ITTLI: [3]INPUTS!$A$25
Name ITTYP: [3]INPUTS!$A$14
Name LineEqDL: [3]Tables!$A$146
Name LSTvolPL: [3]Tables!$B$557:$B$586
Name MSDetail: [3]INPUTS!$C$11
Name OverTable: '[3]DEFAULTS-Override'!$B$8:$AG$128
Name OVTDLperLine: '[3]DEFAULTS-Override'!$A$76
Name PNLDTable: '[2]P&LDetail'!$B$3:$AR$81
Name PNLDTAP2: '[2]P&LDetail'!$A$75
Name PNLDTAR: '[2]P&LDetail'!$A$69
Name PNLDTCorpSGA: '[2]P&LDetail'!$A$44
Name PNLDTDL: '[2]P&LDetail'!$A$30
Name PNLDTDPO: '[2]P&LDetail'!$A$79
Name PNLDTDSO: '[2]P&LDetail'!$A$78
Name PNLDTEDM: '[2]P&LDetail'!$A$27
Name PNLDTEO: '[2]P&LDetail'!$A$23
Name PNLDTFac: '[2]P&LDetail'!$A$74
Name PNLDTFD: '[2]P&LDetail'!$A$24
Name PNLDTInterest: '[2]P&LDetail'!$A$48
Name PNLDTInv2: '[2]P&LDetail'!$A$70
Name PNLDTLandP: '[2]P&LDetail'!$A$64
Name PNLDTMatOH: '[2]P&LDetail'!$A$34
Name PNLDTMfgOH: '[2]P&LDetail'!$A$40
Name PNLDTMLoss: '[2]P&LDetail'!$A$22
Name PNLDTNetEQT: '[2]P&LDetail'!$A$73
Name PNLDTPAI: '[2]P&LDetail'!$A$50
Name PNLDTPrice: '[2]P&LDetail'!$A$52

Sheet Tester utilization calculator
B2: Tester utilization calculator | E2: Updated: 08 Jun 21 | N2: Available days | O2: 26 | R2: ='Waters Calender'!H5 -> 19 | U2: ='Waters Calender'!I5 -> 19 | X2: ='Waters Calender'!J5 -> 25 | AA2: ='Waters Calender'!K5 -> 20 | AD2: ='Waters Calender'!L5 -> 19 | AG2: ='Waters Calender'!M5 -> 24
N3: Month | O3: Jun | R3: Jul | U3: Aug | X3: Sep | AA3: Oct | AD3: Nov | AG3: Dec
B4: Product Family | C4: Main / Spares | D4: PN | E4: Product Family | F4: Tester Number | G4: Tester name | H4: Qty | I4: Test Time (hrs) | J4: Tester Efficiency(%) | K4: No of shifts | L4: Shift allocation time (hrs) | M4: Available Line Capacity (hrs): | N4: Test capacity per day (pcs) | O4: Tester Capacity per month | P4: Demand | Q4: Tester Utilization include Spares demand | R4: Tester Capacity per month | S4: Demand | T4: Tester Utilization exclude Spares demand | U4: Tester Capacity per month | V4: Demand | W4: Tester Utilization exclude Spares demand | X4: Tester Capacity per month | Y4: Demand | Z4: Tester Utilization exclude Spares demand | AA4: Tester Capacity per month | AB4: Demand | AC4: Tester Utilization exclude Spares demand | AD4: Tester Capacity per month | AE4: Demand | AF4: Tester Utilization exclude Spares demand | AG4: Tester Capacity per month | AH4: Demand | AI4: Tester Utilization exclude Spares demand | AJ4: Common with Spares | AK4: Remarks
B5: Pumps | C5: Pumps | D5: WAT207000 | E5: Pump Mechanic Run In Test | F5: TE82613 | G5: TE82613 | H5: 2 | I5: 0.2 | J5: 0.98 | K5: 1 | L5: 8 | M5: =H5*K5*L5 -> 16 | N5: =(M5/I5)*J5 -> 78.4 | O5: =N5*$O$2 -> 2038.4 | P5: =VLOOKUP(D5,Forecast!B$1:H$27,7,FALSE) -> 15 | Q5: =SUM(P5:P9)/O5 -> 0.0073587127 | R5: =N5*$R$2 -> 1489.6 | S5: =VLOOKUP(D5,Forecast!$B$1:$I$27,8,FALSE) -> 38 | T5: =SUM(S5:S9)/R5 -> 0.04632116 | U5: =N5*$U$2 -> 1489.6 | V5: =VLOOKUP(D5,Forecast!B$1:J$27,9,FALSE) -> 24 | W5: =SUM(V5:V9)/U5 -> 0.018125671 | X5: =N5*$X$2 -> 1960 | Y5: =VLOOKUP(D5,Forecast!B$1:K$27,10,FALSE) -> 0 | Z5: =SUM(Y5:Y9)/X5 -> 0 | AA5: =N5*$AA$2 -> 1568 | AB5: =VLOOKUP(D5,Forecast!B$1:L$27,11,FALSE) -> 26 | AC5: =SUM(AB5:AB9)/AA5 -> 0.02869898 | AD5: =N5*$AD$2 -> 1489.6 | AE5: =VLOOKUP(D5,Forecast!B$1:M$27,12,FALSE) -> 26 | AF5: =SUM(AE5:AE9)/AD5 -> 0.029538131 | AG5: =N5*$AG$2 -> 1881.6 | AH5: =VLOOKUP(D5,Forecast!B$1:N$27,13,FALSE) -> 25 | AI5: =SUM(AH5:AH9)/AG5 -> 0.022321429 | AJ5: Common with Spares | AK5: NA
C6: Pumps | D6: 186001515 | E6: Pump Mechanic Run In Test | F6: TE82613 | G6: TE82613 | H6: 2 | I6: 0.2 | J6: 0.98 | K6: 1 | L6: 8 | M6: =H6*K6*L6 -> 16 | N6: =(M6/I6)*J6 -> 78.4 | O6: =N6*$O$2 -> 2038.4 | P6: 0 | R6: =N6*$R$2 -> 1489.6 | S6: =VLOOKUP(D6,Forecast!$B$1:$I$27,8,FALSE) -> 11 | U6: =N6*$U$2 -> 1489.6 | V6: =VLOOKUP(D6,Forecast!B$1:J$27,9,FALSE) -> 0 | X6: =N6*$X$2 -> 1960 | Y6: =VLOOKUP(D6,Forecast!B$1:K$27,10,FALSE) -> 0 | AA6: =N6*$AA$2 -> 1568 | AB6: =VLOOKUP(D6,Forecast!B$1:L$27,11,FALSE) -> 7 | AD6: =N6*$AD$2 -> 1489.6 | AE6: =VLOOKUP(D6,Forecast!B$1:M$27,12,FALSE) -> 6 | AG6: =N6*$AG$2 -> 1881.6 | AH6: =VLOOKUP(D6,Forecast!B$1:N$27,13,FALSE) -> 6
C7: Pumps | D7: 186001525 | E7: Pump Mechanic Run In Test | F7: TE82613 | G7: TE82613 | H7: 2 | I7: 0.2 | J7: 0.98 | K7: 1 | L7: 8 | M7: =H7*K7*L7 -> 16 | N7: =(M7/I7)*J7 -> 78.4 | O7: =N7*$O$2 -> 2038.4 | P7: =VLOOKUP(D7,Forecast!B$1:H$27,7,FALSE) -> 0 | R7: =N7*$R$2 -> 1489.6 | S7: =VLOOKUP(D7,Forecast!$B$1:$I$27,8,FALSE) -> 20 | U7: =N7*$U$2 -> 1489.6 | V7: =VLOOKUP(D7,Forecast!B$1:J$27,9,FALSE) -> 3 | X7: =N7*$X$2 -> 1960 | Y7: =VLOOKUP(D7,Forecast!B$1:K$27,10,FALSE) -> 0 | AA7: =N7*$AA$2 -> 1568 | AB7: =VLOOKUP(D7,Forecast!B$1:L$27,11,FALSE) -> 12 | AD7: =N7*$AD$2 -> 1489.6 | AE7: =VLOOKUP(D7,Forecast!B$1:M$27,12,FALSE) -> 12 | AG7: =N7*$AG$2 -> 1881.6 | AH7: =VLOOKUP(D7,Forecast!B$1:N$27,13,FALSE) -> 11
C8: Pumps | D8: 186001825 | E8: Pump Mechanic Run In Test | F8: TE82613 | G8: TE82613 | H8: 2 | I8: 0.2 | J8: 0.98 | K8: 1 | L8: 8 | M8: =H8*K8*L8 -> 16 | N8: =(M8/I8)*J8 -> 78.4 | O8: =N8*$O$2 -> 2038.4 | P8: 0 | R8: =N8*$R$2 -> 1489.6 | S8: =VLOOKUP(D8,Forecast!$B$1:$I$27,8,FALSE) -> 0 | U8: =N8*$U$2 -> 1489.6 | V8: =VLOOKUP(D8,Forecast!B$1:J$27,9,FALSE) -> 0 | X8: =N8*$X$2 -> 1960 | Y8: =VLOOKUP(D8,Forecast!B$1:K$27,10,FALSE) -> 0 | AA8: =N8*$AA$2 -> 1568 | AB8: =VLOOKUP(D8,Forecast!B$1:L$27,11,FALSE) -> 0 | AD8: =N8*$AD$2 -> 1489.6 | AE8: =VLOOKUP(D8,Forecast!B$1:M$27,12,FALSE) -> 0 | AG8: =N8*$AG$2 -> 1881.6 | AH8: =VLOOKUP(D8,Forecast!B$1:N$27,13,FALSE) -> 0
C9: Spares | D9: WAS207033 | E9: Pump Mechanic Run In Test | F9: TE82613 | G9: TE82613 | H9: 2 | I9: 0.2 | J9: 0.98 | K9: 1 | L9: 8 | M9: =H9*K9*L9 -> 16 | N9: =(M9/I9)*J9 -> 78.4 | O9: =N9*$O$2 -> 2038.4 | P9: 0 | R9: =N9*$R$2 -> 1489.6 | S9: 0 | U9: =N9*$U$2 -> 1489.6 | V9: 0 | X9: =N9*$X$2 -> 1960 | Y9: 0 | AA9: =N9*$AA$2 -> 1568 | AB9: 0 | AD9: =N9*$AD$2 -> 1489.6 | AE9: 0 | AG9: =N9*$AG$2 -> 1881.6 | AH9: 0
C10: Pumps | D10: WAT207000 | E10: HIPOT / Safety Analyzer Test | F10: TE95037 | G10: TE95037 | H10: 1 | I10: 0.11 | J10: 0.98 | K10: 1 | L10: 8 | M10: =H10*K10*L10 -> 8 | N10: =(M10/I10)*J10 -> 71.272727 | O10: =N10*$O$2 -> 1853.0909 | P10: =VLOOKUP(D10,Forecast!B$1:H$27,7,FALSE) -> 15 | Q10: =SUM(P10:P13)/O10 -> 0.008094584 | R10: =N10*$R$2 -> 1354.1818 | S10: =VLOOKUP(D10,Forecast!$B$1:$I$27,8,FALSE) -> 38 | T10: =SUM(S10:S13)/R10 -> 0.050953276 | U10: =N10*$U$2 -> 1354.1818 | V10: =VLOOKUP(D10,Forecast!B$1:J$27,9,FALSE) -> 24 | W10: =SUM(V10:V13)/U10 -> 0.019938238 | X10: =N10*$X$2 -> 1781.8182 | Y10: =VLOOKUP(D10,Forecast!B$1:K$27,10,FALSE) -> 0 | Z10: =SUM(Y10:Y13)/X10 -> 0 | AA10: =N10*$AA$2 -> 1425.4545 | AB10: =VLOOKUP(D10,Forecast!B$1:L$27,11,FALSE) -> 26 | AC10: =SUM(AB10:AB13)/AA10 -> 0.031568878 | AD10: =N10*$AD$2 -> 1354.1818 | AE10: =VLOOKUP(D10,Forecast!B$1:M$27,12,FALSE) -> 26 | AF10: =SUM(AE10:AE13)/AD10 -> 0.032491944 | AG10: =N10*$AG$2 -> 1710.5455 | AH10: =VLOOKUP(D10,Forecast!B$1:N$27,13,FALSE) -> 25 | AI10: =SUM(AH10:AH13)/AG10 -> 0.024553571 | AJ10: Unique for Instrument
C11: Pumps | D11: 186001515 | E11: HIPOT / Safety Analyzer Test | F11: TE95037 | G11: TE95037 | H11: 1 | I11: 0.11 | J11: 0.98 | K11: 1 | L11: 8 | M11: =H11*K11*L11 -> 8 | N11: =(M11/I11)*J11 -> 71.272727 | O11: =N11*$O$2 -> 1853.0909 | P11: =VLOOKUP(D11,Forecast!B$1:H$27,7,FALSE) -> 0 | R11: =N11*$R$2 -> 1354.1818 | S11: =VLOOKUP(D11,Forecast!$B$1:$I$27,8,FALSE) -> 11 | U11: =N11*$U$2 -> 1354.1818 | V11: =VLOOKUP(D11,Forecast!B$1:J$27,9,FALSE) -> 0 | X11: =N11*$X$2 -> 1781.8182 | Y11: =VLOOKUP(D11,Forecast!B$1:K$27,10,FALSE) -> 0 | AA11: =N11*$AA$2 -> 1425.4545 | AB11: =VLOOKUP(D11,Forecast!B$1:L$27,11,FALSE) -> 7 | AD11: =N11*$AD$2 -> 1354.1818 | AE11: =VLOOKUP(D11,Forecast!B$1:M$27,12,FALSE) -> 6 | AG11: =N11*$AG$2 -> 1710.5455 | AH11: =VLOOKUP(D11,Forecast!B$1:N$27,13,FALSE) -> 6
C12: Pumps | D12: 186001525 | E12: HIPOT / Safety Analyzer Test | F12: TE95037 | G12: TE95037 | H12: 1 | I12: 0.11 | J12: 0.98 | K12: 1 | L12: 8 | M12: =H12*K12*L12 -> 8 | N12: =(M12/I12)*J12 -> 71.272727 | O12: =N12*$O$2 -> 1853.0909 | P12: =VLOOKUP(D12,Forecast!B$1:H$27,7,FALSE) -> 0 | R12: =N12*$R$2 -> 1354.1818 | S12: =VLOOKUP(D12,Forecast!$B$1:$I$27,8,FALSE) -> 20 | U12: =N12*$U$2 -> 1354.1818 | V12: =VLOOKUP(D12,Forecast!B$1:J$27,9,FALSE) -> 3 | X12: =N12*$X$2 -> 1781.8182 | Y12: =VLOOKUP(D12,Forecast!B$1:K$27,10,FALSE) -> 0 | AA12: =N12*$AA$2 -> 1425.4545 | AB12: =VLOOKUP(D12,Forecast!B$1:L$27,11,FALSE) -> 12 | AD12: =N12*$AD$2 -> 1354.1818 | AE12: =VLOOKUP(D12,Forecast!B$1:M$27,12,FALSE) -> 12 | AG12: =N12*$AG$2 -> 1710.5455 | AH12: =VLOOKUP(D12,Forecast!B$1:N$27,13,FALSE) -> 11
C13: Pumps | D13: 186001825 | E13: HIPOT / Safety Analyzer Test | F13: TE95037 | G13: TE95037 | H13: 1 | I13: 0.11 | J13: 0.98 | K13: 1 | L13: 8 | M13: =H13*K13*L13 -> 8 | N13: =(M13/I13)*J13 -> 71.272727 | O13: =N13*$O$2 -> 1853.0909 | P13: =VLOOKUP(D13,Forecast!B$1:H$27,7,FALSE) -> 0 | R13: =N13*$R$2 -> 1354.1818 | S13: =VLOOKUP(D13,Forecast!$B$1:$I$27,8,FALSE) -> 0 | U13: =N13*$U$2 -> 1354.1818 | V13: =VLOOKUP(D13,Forecast!B$1:J$27,9,FALSE) -> 0 | X13: =N13*$X$2 -> 1781.8182 | Y13: =VLOOKUP(D13,Forecast!B$1:K$27,10,FALSE) -> 0 | AA13: =N13*$AA$2 -> 1425.4545 | AB13: =VLOOKUP(D13,Forecast!B$1:L$27,11,FALSE) -> 0 | AD13: =N13*$AD$2 -> 1354.1818 | AE13: =VLOOKUP(D13,Forecast!B$1:M$27,12,FALSE) -> 0 | AG13: =N13*$AG$2 -> 1710.5455 | AH13: =VLOOKUP(D13,Forecast!B$1:N$27,13,FALSE) -> 0
C14: Pumps | D14: WAT207000 | E14: ASSY, HPLC PUMP, M515 | F14: TE 82534 | G14: TE 82534 | H14: 1 | I14: 0.83 | J14: 0.95 | K14: 1 | L14: 8 | M14: =H14*K14*L14 -> 8 | N14: =(M14/I14)*J14 -> 9.1566265 | O14: =N14*$O$2 -> 238.07229 | P14: =VLOOKUP(D14,Forecast!B$1:H$27,7,FALSE) -> 15 | Q14: =SUM(P14:P15)/O14 -> 0.063006073 | R14: =N14*$R$2 -> 173.9759 | S14: =VLOOKUP(D14,Forecast!$B$1:$I$27,8,FALSE) -> 38 | T14: =SUM(S14:S15)/R14 -> 0.21842105 | U14: =N14*$U$2 -> 173.9759 | V14: =VLOOKUP(D14,Forecast!B$1:J$27,9,FALSE) -> 24 | W14: =SUM(V14:V15)/U14 -> 0.13795014 | X14: =N14*$X$2 -> 228.91566 | Y14: =VLOOKUP(D14,Forecast!B$1:K$27,10,FALSE) -> 0 | Z14: =SUM(Y14:Y15)/X14 -> 0 | AA14: =N14*$AA$2 -> 183.13253 | AB14: =VLOOKUP(D14,Forecast!B$1:L$27,11,FALSE) -> 26 | AC14: =SUM(AB14:AB15)/AA14 -> 0.14197368 | AD14: =N14*$AD$2 -> 173.9759 | AE14: =VLOOKUP(D14,Forecast!B$1:M$27,12,FALSE) -> 26 | AF14: =SUM(AE14:AE15)/AD14 -> 0.14944598 | AG14: =N14*$AG$2 -> 219.75904 | AH14: =VLOOKUP(D14,Forecast!B$1:N$27,13,FALSE) -> 25 | AI14: =SUM(AH14:AH15)/AG14 -> 0.11376096 | AJ14: Common with Spares
C15: Spares | D15: WAS207006 | E15: ASSY, HPLC PUMP, M515 | F15: TE 82534 | G15: TE 82534 | H15: 1 | I15: 0.83 | J15: 0.95 | K15: 1 | L15: 8 | M15: =H15*K15*L15 -> 8 | N15: =(M15/I15)*J15 -> 9.1566265 | O15: =N15*$O$2 -> 238.07229 | P15: 0 | R15: =N15*$R$2 -> 173.9759 | S15: 0 | U15: =N15*$U$2 -> 173.9759 | V15: 0 | X15: =N15*$X$2 -> 228.91566 | Y15: 0 | AA15: =N15*$AA$2 -> 183.13253 | AB15: 0 | AD15: =N15*$AD$2 -> 173.9759 | AE15: 0 | AG15: =N15*$AG$2 -> 219.75904 | AH15: 0
C16: Pumps | D16: 186001515 | E16: 1515 ISOCRATIC HPLC PUMP | F16: TE 82705-02 | G16: TE 82705-02 | H16: 1 | I16: 0.83 | J16: 0.95 | K16: 1 | L16: 8 | M16: =H16*K16*L16 -> 8 | N16: =(M16/I16)*J16 -> 9.1566265 | O16: =N16*$O$2 -> 238.07229 | P16: =VLOOKUP(D16,Forecast!B$1:H$27,7,FALSE) -> 0 | Q16: =SUM(P16:P18)/O16 -> 0 | R16: =N16*$R$2 -> 173.9759 | S16: =VLOOKUP(D16,Forecast!$B$1:$I$27,8,FALSE) -> 11 | T16: =SUM(S16:S18)/R16 -> 0.1781856 | U16: =N16*$U$2 -> 173.9759 | V16: =VLOOKUP(D16,Forecast!B$1:J$27,9,FALSE) -> 0 | W16: =SUM(V16:V18)/U16 -> 0.017243767 | X16: =N16*$X$2 -> 228.91566 | Y16: =VLOOKUP(D16,Forecast!B$1:K$27,10,FALSE) -> 0 | Z16: =SUM(Y16:Y18)/X16 -> 0 | AA16: =N16*$AA$2 -> 183.13253 | AB16: =VLOOKUP(D16,Forecast!B$1:L$27,11,FALSE) -> 7 | AC16: =SUM(AB16:AB18)/AA16 -> 0.10375 | AD16: =N16*$AD$2 -> 173.9759 | AE16: =VLOOKUP(D16,Forecast!B$1:M$27,12,FALSE) -> 6 | AF16: =SUM(AE16:AE18)/AD16 -> 0.1034626 | AG16: =N16*$AG$2 -> 219.75904 | AH16: =VLOOKUP(D16,Forecast!B$1:N$27,13,FALSE) -> 6 | AI16: =SUM(AH16:AH18)/AG16 -> 0.077357456 | AJ16: Unique for Instrument
C17: Pumps | D17: 186001525 | E17: 1525 BINARY HPLC PUMP | F17: TE 82705-02 | G17: TE 82705-02 | I17: 1.58 | J17: 0.95 | K17: 1 | L17: 8 | M17: =H16*K17*L17 -> 8 | N17: =(M17/I17)*J17 -> 4.8101266 | O17: =N17*$O$2 -> 125.06329 | P17: =VLOOKUP(D17,Forecast!B$1:H$27,7,FALSE) -> 0 | R17: =N17*$R$2 -> 91.392405 | S17: =VLOOKUP(D17,Forecast!$B$1:$I$27,8,FALSE) -> 20 | U17: =N17*$U$2 -> 91.392405 | V17: =VLOOKUP(D17,Forecast!B$1:J$27,9,FALSE) -> 3 | X17: =N17*$X$2 -> 120.25316 | Y17: =VLOOKUP(D17,Forecast!B$1:K$27,10,FALSE) -> 0 | AA17: =N17*$AA$2 -> 96.202532 | AB17: =VLOOKUP(D17,Forecast!B$1:L$27,11,FALSE) -> 12 | AD17: =N17*$AD$2 -> 91.392405 | AE17: =VLOOKUP(D17,Forecast!B$1:M$27,12,FALSE) -> 12 | AG17: =N17*$AG$2 -> 115.44304 | AH17: =VLOOKUP(D17,Forecast!B$1:N$27,13,FALSE) -> 11
C18: Pumps | D18: 186001825 | E18: 1525µ Binary HPLC Pump w/Degasser | F18: TE 82705-02 | G18: TE 82705-02 | I18: 1.58 | J18: 0.95 | K18: 1 | L18: 8 | M18: =H16*K18*L18 -> 8 | N18: =(M18/I18)*J18 -> 4.8101266 | O18: =N18*$O$2 -> 125.06329 | P18: =VLOOKUP(D18,Forecast!B$1:H$27,7,FALSE) -> 0 | R18: =N18*$R$2 -> 91.392405 | S18: =VLOOKUP(D18,Forecast!$B$1:$I$27,8,FALSE) -> 0 | U18: =N18*$U$2 -> 91.392405 | V18: =VLOOKUP(D18,Forecast!B$1:J$27,9,FALSE) -> 0 | X18: =N18*$X$2 -> 120.25316 | Y18: =VLOOKUP(D18,Forecast!B$1:K$27,10,FALSE) -> 0 | AA18: =N18*$AA$2 -> 96.202532 | AB18: =VLOOKUP(D18,Forecast!B$1:L$27,11,FALSE) -> 0 | AD18: =N18*$AD$2 -> 91.392405 | AE18: =VLOOKUP(D18,Forecast!B$1:M$27,12,FALSE) -> 0 | AG18: =N18*$AG$2 -> 115.44304 | AH18: =VLOOKUP(D18,Forecast!B$1:N$27,13,FALSE) -> 0
B19: Alliance | C19: Alliance | D19: 186269505 | E19: Front Bezel/Keypad LCD Tester | F19: TE82546 | G19: TE82546 | H19: 1 | I19: 0.085 | J19: 0.95 | K19: 1 | L19: 8 | M19: =H19*K19*L19 -> 8 | N19: =(M19/I19)*J19 -> 89.411765 | O19: =N19*$O$2 -> 2324.7059 | P19: =VLOOKUP(D19,Forecast!B$1:H$27,7,FALSE) -> 104 | Q19: =SUM(P19:P21)/O19 -> 0.26627024 | R19: =N19*$R$2 -> 1698.8235 | S19: =VLOOKUP(D19,Forecast!$B$1:$I$27,8,FALSE) -> 64 | T19: =SUM(S19:S21)/R19 -> 0.24134349 | U19: =N19*$U$2 -> 1698.8235 | V19: =VLOOKUP(D19,Forecast!B$1:J$27,9,FALSE) -> 48 | W19: =SUM(V19:V21)/U19 -> 0.18954294 | X19: =N19*$X$2 -> 2235.2941 | Y19: =VLOOKUP(D19,Forecast!B$1:K$27,10,FALSE) -> 44 | Z19: =SUM(Y19:Y21)/X19 -> 0.14047368 | AA19: =N19*$AA$2 -> 1788.2353 | AB19: =VLOOKUP(D19,Forecast!B$1:L$27,11,FALSE) -> 60 | AC19: =SUM(AB19:AB21)/AA19 -> 0.20411184 | AD19: =N19*$AD$2 -> 1698.8235 | AE19: =VLOOKUP(D19,Forecast!B$1:M$27,12,FALSE) -> 59 | AF19: =SUM(AE19:AE21)/AD19 -> 0.21426593 | AG19: =N19*$AG$2 -> 2145.8824 | AH19: =VLOOKUP(D19,Forecast!B$1:N$27,13,FALSE) -> 59 | AI19: =SUM(AH19:AH21)/AG19 -> 0.16916118 | AJ19: Common with Spares
C20: Alliance | D20: 186269506 | E20: Front Bezel/Keypad LCD Tester | F20: TE82546 | G20: TE82546 | H20: 1 | I20: 0.085 | J20: 0.95 | K20: 1 | L20: 8 | M20: =H20*K20*L20 -> 8 | N20: =(M20/I20)*J20 -> 89.411765 | O20: =N20*$O$2 -> 2324.7059 | P20: =VLOOKUP(D20,Forecast!B$1:H$27,7,FALSE) -> 515 | R20: =N20*$R$2 -> 1698.8235 | S20: =VLOOKUP(D20,Forecast!$B$1:$I$27,8,FALSE) -> 346 | U20: =N20*$U$2 -> 1698.8235 | V20: =VLOOKUP(D20,Forecast!B$1:J$27,9,FALSE) -> 274 | X20: =N20*$X$2 -> 2235.2941 | Y20: =VLOOKUP(D20,Forecast!B$1:K$27,10,FALSE) -> 270 | AA20: =N20*$AA$2 -> 1788.2353 | AB20: =VLOOKUP(D20,Forecast!B$1:L$27,11,FALSE) -> 305 | AD20: =N20*$AD$2 -> 1698.8235 | AE20: =VLOOKUP(D20,Forecast!B$1:M$27,12,FALSE) -> 305 | AG20: =N20*$AG$2 -> 2145.8824 | AH20: =VLOOKUP(D20,Forecast!B$1:N$27,13,FALSE) -> 304
C21: Spares | D21: 700004463 | E21: Front Bezel/Keypad LCD Tester | F21: TE82546 | G21: TE82546 | H21: 1 | I21: 0.085 | J21: 0.95 | K21: 1 | L21: 8 | M21: =H21*K21*L21 -> 8 | N21: =(M21/I21)*J21 -> 89.411765 | O21: =N21*$O$2 -> 2324.7059 | P21: 0 | R21: =N21*$R$2 -> 1698.8235 | S21: 0 | U21: =N21*$U$2 -> 1698.8235 | V21: 0 | X21: =N21*$X$2 -> 2235.2941 | Y21: 0 | AA21: =N21*$AA$2 -> 1788.2353 | AB21: 0 | AD21: =N21*$AD$2 -> 1698.8235 | AE21: 0 | AG21: =N21*$AG$2 -> 2145.8824 | AH21: 0
C22: Alliance | D22: 186269505 | E22: Pump Tray Tester | F22: TE82526 | G22: TE82526 | H22: 3 | I22: 0.65 | J22: 0.8 | K22: 1 | L22: 8 | M22: =H22*K22*L22 -> 24 | N22: =(M22/I22)*J22 -> 29.538462 | O22: =N22*$O$2 -> 768 | P22: =VLOOKUP(D22,Forecast!B$1:H$27,7,FALSE) -> 104 | Q22: =SUM(P22:P24)/O22 -> 0.80598958 | R22: =N22*$R$2 -> 561.23077 | S22: =VLOOKUP(D22,Forecast!$B$1:$I$27,8,FALSE) -> 64 | T22: =SUM(S22:S24)/R22 -> 0.73053728 | U22: =N22*$U$2 -> 561.23077 | V22: =VLOOKUP(D22,Forecast!B$1:J$27,9,FALSE) -> 48 | W22: =SUM(V22:V24)/U22 -> 0.57373904 | X22: =N22*$X$2 -> 738.46154 | Y22: =VLOOKUP(D22,Forecast!B$1:K$27,10,FALSE) -> 44 | Z22: =SUM(Y22:Y24)/X22 -> 0.42520833 | AA22: =N22*$AA$2 -> 590.76923 | AB22: =VLOOKUP(D22,Forecast!B$1:L$27,11,FALSE) -> 60 | AC22: =SUM(AB22:AB24)/AA22 -> 0.61783854 | AD22: =N22*$AD$2 -> 561.23077 | AE22: =VLOOKUP(D22,Forecast!B$1:M$27,12,FALSE) -> 59 | AF22: =SUM(AE22:AE24)/AD22 -> 0.64857456 | AG22: =N22*$AG$2 -> 708.92308 | AH22: =VLOOKUP(D22,Forecast!B$1:N$27,13,FALSE) -> 59 | AI22: =SUM(AH22:AH24)/AG22 -> 0.51204427 | AJ22: Common with Spares
C23: Alliance | D23: 186269506 | E23: Pump Tray Tester | F23: TE82526 | G23: TE82526 | H23: 3 | I23: 0.65 | J23: 0.8 | K23: 1 | L23: 8 | M23: =H23*K23*L23 -> 24 | N23: =(M23/I23)*J23 -> 29.538462 | O23: =N23*$O$2 -> 768 | P23: =VLOOKUP(D23,Forecast!B$1:H$27,7,FALSE) -> 515 | R23: =N23*$R$2 -> 561.23077 | S23: =VLOOKUP(D23,Forecast!$B$1:$I$27,8,FALSE) -> 346 | U23: =N23*$U$2 -> 561.23077 | V23: =VLOOKUP(D23,Forecast!B$1:J$27,9,FALSE) -> 274 | X23: =N23*$X$2 -> 738.46154 | Y23: =VLOOKUP(D23,Forecast!B$1:K$27,10,FALSE) -> 270 | AA23: =N23*$AA$2 -> 590.76923 | AB23: =VLOOKUP(D23,Forecast!B$1:L$27,11,FALSE) -> 305 | AD23: =N23*$AD$2 -> 561.23077 | AE23: =VLOOKUP(D23,Forecast!B$1:M$27,12,FALSE) -> 305 | AG23: =N23*$AG$2 -> 708.92308 | AH23: =VLOOKUP(D23,Forecast!B$1:N$27,13,FALSE) -> 304
C24: Spares | D24: 700001030 | E24: Pump Tray Tester | F24: TE82526 | G24: TE82526 | H24: 3 | I24: 0.65 | J24: 0.8 | K24: 1 | L24: 8 | M24: =H24*K24*L24 -> 24 | N24: =(M24/I24)*J24 -> 29.538462 | O24: =N24*$O$2 -> 768 | P24: 0 | R24: =N24*$R$2 -> 561.23077 | S24: 0 | U24: =N24*$U$2 -> 561.23077 | V24: 0 | X24: =N24*$X$2 -> 738.46154 | Y24: 0 | AA24: =N24*$AA$2 -> 590.76923 | AB24: 0 | AD24: =N24*$AD$2 -> 561.23077 | AE24: 0 | AG24: =N24*$AG$2 -> 708.92308 | AH24: 0
C25: Spares | D25: WAT045438 | E25: HPMV Tester | F25: TE82625 | G25: TE82625 | H25: 1 | I25: 0.11 | J25: 0.85 | K25: 1 | L25: 8 | M25: =H25*K25*L25 -> 8 | N25: =(M25/I25)*J25 -> 61.818182 | O25: =N25*$O$2 -> 1607.2727 | P25: 0 | Q25: =P25/O25 -> 0 | R25: =N25*$R$2 -> 1174.5455 | S25: 0 | T25: =S25/R25 -> 0 | U25: =N25*$U$2 -> 1174.5455 | V25: 0 | W25: =V25/U25 -> 0 | X25: =N25*$X$2 -> 1545.4545 | Y25: 0 | Z25: =Y25/X25 -> 0 | AA25: =N25*$AA$2 -> 1236.3636 | AB25: 0 | AC25: =AB25/AA25 -> 0 | AD25: =N25*$AD$2 -> 1174.5455 | AE25: 0 | AF25: =AE25/AD25 -> 0 | AG25: =N25*$AG$2 -> 1483.6364 | AH25: 0 | AI25: =AH25/AG25 -> 0 | AJ25: Spares only
C26: Alliance | D26: 186269505 | E26: Syringe Needle tester | F26: TE82656 | G26: TE82656 | H26: 1 | I26: 0.05 | J26: 0.95 | K26: 1 | L26: 8 | M26: =H26*K26*L26 -> 8 | N26: =(M26/I26)*J26 -> 152 | O26: =N26*$O$2 -> 3952 | P26: =VLOOKUP(D26,Forecast!B$1:H$27,7,FALSE) -> 104 | Q26: =SUM(P26:P28)/O26 -> 0.15662955 | R26: =N26*$R$2 -> 2888 | S26: =VLOOKUP(D26,Forecast!$B$1:$I$27,8,FALSE) -> 64 | T26: =SUM(S26:S28)/R26 -> 0.14196676 | U26: =N26*$U$2 -> 2888 | V26: =VLOOKUP(D26,Forecast!B$1:J$27,9,FALSE) -> 48 | W26: =SUM(V26:V28)/U26 -> 0.11149584 | X26: =N26*$X$2 -> 3800 | Y26: =VLOOKUP(D26,Forecast!B$1:K$27,10,FALSE) -> 44 | Z26: =SUM(Y26:Y28)/X26 -> 0.082631579 | AA26: =N26*$AA$2 -> 3040 | AB26: =VLOOKUP(D26,Forecast!B$1:L$27,11,FALSE) -> 60 | AC26: =SUM(AB26:AB28)/AA26 -> 0.12006579 | AD26: =N26*$AD$2 -> 2888 | AE26: =VLOOKUP(D26,Forecast!B$1:M$27,12,FALSE) -> 59 | AF26: =SUM(AE26:AE28)/AD26 -> 0.12603878 | AG26: =N26*$AG$2 -> 3648 | AH26: =VLOOKUP(D26,Forecast!B$1:N$27,13,FALSE) -> 59 | AI26: =SUM(AH26:AH28)/AG26 -> 0.099506579 | AJ26: Common with Spares
C27: Alliance | D27: 186269506 | E27: Syringe Needle tester | F27: TE82656 | G27: TE82656 | H27: 1 | I27: 0.05 | J27: 0.95 | K27: 1 | L27: 8 | M27: =H27*K27*L27 -> 8 | N27: =(M27/I27)*J27 -> 152 | O27: =N27*$O$2 -> 3952 | P27: =VLOOKUP(D27,Forecast!B$1:H$27,7,FALSE) -> 515 | R27: =N27*$R$2 -> 2888 | S27: =VLOOKUP(D27,Forecast!$B$1:$I$27,8,FALSE) -> 346 | U27: =N27*$U$2 -> 2888 | V27: =VLOOKUP(D27,Forecast!B$1:J$27,9,FALSE) -> 274 | X27: =N27*$X$2 -> 3800 | Y27: =VLOOKUP(D27,Forecast!B$1:K$27,10,FALSE) -> 270 | AA27: =N27*$AA$2 -> 3040 | AB27: =VLOOKUP(D27,Forecast!B$1:L$27,11,FALSE) -> 305 | AD27: =N27*$AD$2 -> 2888 | AE27: =VLOOKUP(D27,Forecast!B$1:M$27,12,FALSE) -> 305 | AG27: =N27*$AG$2 -> 3648 | AH27: =VLOOKUP(D27,Forecast!B$1:N$27,13,FALSE) -> 304
C28: Spares | D28: 700000239 | E28: Syringe Needle tester | F28: TE82656 | G28: TE82656 | H28: 1 | I28: 0.05 | J28: 0.95 | K28: 1 | L28: 8 | M28: =H28*K28*L28 -> 8 | N28: =(M28/I28)*J28 -> 152 | O28: =N28*$O$2 -> 3952 | P28: 0 | R28: =N28*$R$2 -> 2888 | S28: 0 | U28: =N28*$U$2 -> 2888 | V28: 0 | X28: =N28*$X$2 -> 3800 | Y28: 0 | AA28: =N28*$AA$2 -> 3040 | AB28: 0 | AD28: =N28*$AD$2 -> 2888 | AE28: 0 | AG28: =N28*$AG$2 -> 3648 | AH28: 0
C29: Alliance | D29: 186269505 | E29: Injector Seal Wash Tester | F29: TE82503 | G29: TE82503 | H29: 2 | I29: 0.3 | J29: 0.85 | K29: 1 | L29: 8 | M29: =H29*K29*L29 -> 16 | N29: =(M29/I29)*J29 -> 45.333333 | O29: =N29*$O$2 -> 1178.6667 | P29: =VLOOKUP(D29,Forecast!B$1:H$27,7,FALSE) -> 104 | Q29: =SUM(P29:P36)/O29 -> 1.0045249 | R29: =N29*$R$2 -> 861.33333 | S29: =VLOOKUP(D29,Forecast!$B$1:$I$27,8,FALSE) -> 64 | T29: =SUM(S29:S36)/R29 -> 0.47600619 | U29: =N29*$U$2 -> 861.33333 | V29: =VLOOKUP(D29,Forecast!B$1:J$27,9,FALSE) -> 48 | W29: =SUM(V29:V36)/U29 -> 0.37383901 | X29: =N29*$X$2 -> 1133.3333 | Y29: =VLOOKUP(D29,Forecast!B$1:K$27,10,FALSE) -> 44 | Z29: =SUM(Y29:Y36)/X29 -> 0.27705882 | AA29: =N29*$AA$2 -> 906.66667 | AB29: =VLOOKUP(D29,Forecast!B$1:L$27,11,FALSE) -> 60 | AC29: =SUM(AB29:AB36)/AA29 -> 0.40257353 | AD29: =N29*$AD$2 -> 861.33333 | AE29: =VLOOKUP(D29,Forecast!B$1:M$27,12,FALSE) -> 59 | AF29: =SUM(AE29:AE36)/AD29 -> 0.42260062 | AG29: =N29*$AG$2 -> 1088 | AH29: =VLOOKUP(D29,Forecast!B$1:N$27,13,FALSE) -> 59 | AI29: =SUM(AH29:AH36)/AG29 -> 0.33363971 | AJ29: Common with Spares | AK29: Propose to cover by OT
C30: Alliance | D30: 186269506 | E30: Injector Seal Wash Tester | F30: TE82503 | G30: TE82503 | H30: 2 | I30: 0.3 | J30: 0.85 | K30: 1 | L30: 8 | M30: =H30*K30*L30 -> 16 | N30: =(M30/I30)*J30 -> 45.333333 | O30: =N30*$O$2 -> 1178.6667 | P30: =VLOOKUP(D30,Forecast!B$1:H$27,7,FALSE) -> 515 | R30: =N30*$R$2 -> 861.33333 | S30: =VLOOKUP(D30,Forecast!$B$1:$I$27,8,FALSE) -> 346 | U30: =N30*$U$2 -> 861.33333 | V30: =VLOOKUP(D30,Forecast!B$1:J$27,9,FALSE) -> 274 | X30: =N30*$X$2 -> 1133.3333 | Y30: =VLOOKUP(D30,Forecast!B$1:K$27,10,FALSE) -> 270 | AA30: =N30*$AA$2 -> 906.66667 | AB30: =VLOOKUP(D30,Forecast!B$1:L$27,11,FALSE) -> 305 | AD30: =N30*$AD$2 -> 861.33333 | AE30: =VLOOKUP(D30,Forecast!B$1:M$27,12,FALSE) -> 305 | AG30: =N30*$AG$2 -> 1088 | AH30: =VLOOKUP(D30,Forecast!B$1:N$27,13,FALSE) -> 304
C31: Spares | D31: 289012412 | E31: Injector Seal Wash Tester | F31: TE82503 | G31: TE82503 | H31: 2 | I31: 0.3 | J31: 0.85 | K31: 1 | L31: 8 | M31: =H31*K31*L31 -> 16 | N31: =(M31/I31)*J31 -> 45.333333 | O31: =N31*$O$2 -> 1178.6667 | P31: 0 | R31: =N31*$R$2 -> 861.33333 | S31: 0 | U31: =N31*$U$2 -> 861.33333 | V31: 0 | X31: =N31*$X$2 -> 1133.3333 | Y31: 0 | AA31: =N31*$AA$2 -> 906.66667 | AB31: 0 | AD31: =N31*$AD$2 -> 861.33333 | AE31: 0 | AG31: =N31*$AG$2 -> 1088 | AH31: 0
C32: Spares | D32: 700002789 | E32: Injector Seal Wash Tester | F32: TE82503 | G32: TE82503 | H32: 2 | I32: 0.3 | J32: 0.85 | K32: 1 | L32: 8 | M32: =H32*K32*L32 -> 16 | N32: =(M32/I32)*J32 -> 45.333333 | O32: =N32*$O$2 -> 1178.6667 | P32: 60 | R32: =N32*$R$2 -> 861.33333 | S32: 0 | U32: =N32*$U$2 -> 861.33333 | V32: 0 | X32: =N32*$X$2 -> 1133.3333 | Y32: 0 | AA32: =N32*$AA$2 -> 906.66667 | AB32: 0 | AD32: =N32*$AD$2 -> 861.33333 | AE32: 0 | AG32: =N32*$AG$2 -> 1088 | AH32: 0
C33: Spares | D33: 700002791 | E33: Injector Seal Wash Tester | F33: TE82503 | G33: TE82503 | H33: 2 | I33: 0.3 | J33: 0.85 | K33: 1 | L33: 8 | M33: =H33*K33*L33 -> 16 | N33: =(M33/I33)*J33 -> 45.333333 | O33: =N33*$O$2 -> 1178.6667 | P33: 120 | R33: =N33*$R$2 -> 861.33333 | S33: 0 | U33: =N33*$U$2 -> 861.33333 | V33: 0 | X33: =N33*$X$2 -> 1133.3333 | Y33: 0 | AA33: =N33*$AA$2 -> 906.66667 | AB33: 0 | AD33: =N33*$AD$2 -> 861.33333 | AE33: 0 | AG33: =N33*$AG$2 -> 1088 | AH33: 0
C34: Spares | D34: 700011784 | E34: Injector Seal Wash Tester | F34: TE82503 | G34: TE82503 | H34: 2 | I34: 0.3 | J34: 0.85 | K34: 1 | L34: 8 | M34: =H34*K34*L34 -> 16 | N34: =(M34/I34)*J34 -> 45.333333 | O34: =N34*$O$2 -> 1178.6667 | P34: 48 | R34: =N34*$R$2 -> 861.33333 | S34: 0 | U34: =N34*$U$2 -> 861.33333 | V34: 0 | X34: =N34*$X$2 -> 1133.3333 | Y34: 0 | AA34: =N34*$AA$2 -> 906.66667 | AB34: 0 | AD34: =N34*$AD$2 -> 861.33333 | AE34: 0 | AG34: =N34*$AG$2 -> 1088 | AH34: 0
C35: Spares | D35: 700011785 | E35: Injector Seal Wash Tester | F35: TE82503 | G35: TE82503 | H35: 2 | I35: 0.3 | J35: 0.85 | K35: 1 | L35: 8 | M35: =H35*K35*L35 -> 16 | N35: =(M35/I35)*J35 -> 45.333333 | O35: =N35*$O$2 -> 1178.6667 | P35: 14 | R35: =N35*$R$2 -> 861.33333 | S35: 0 | U35: =N35*$U$2 -> 861.33333 | V35: 0 | X35: =N35*$X$2 -> 1133.3333 | Y35: 0 | AA35: =N35*$AA$2 -> 906.66667 | AB35: 0 | AD35: =N35*$AD$2 -> 861.33333 | AE35: 0 | AG35: =N35*$AG$2 -> 1088 | AH35: 0
C36: Spares | D36: 700011805 | E36: Injector Seal Wash Tester | F36: TE82503 | G36: TE82503 | H36: 2 | I36: 0.3 | J36: 0.85 | K36: 1 | L36: 8 | M36: =H36*K36*L36 -> 16 | N36: =(M36/I36)*J36 -> 45.333333 | O36: =N36*$O$2 -> 1178.6667 | P36: 323 | R36: =N36*$R$2 -> 861.33333 | S36: 0 | U36: =N36*$U$2 -> 861.33333 | V36: 0 | X36: =N36*$X$2 -> 1133.3333 | Y36: 0 | AA36: =N36*$AA$2 -> 906.66667 | AB36: 0 | AD36: =N36*$AD$2 -> 861.33333 | AE36: 0 | AG36: =N36*$AG$2 -> 1088 | AH36: 0
C37: Alliance | D37: 186269505 | E37: Carousel Carrier Drive Alignment Station | F37: TE82520 | G37: TE82520 | H37: 2 | I37: 0.42 | J37: 0.85 | K37: 1 | L37: 8 | M37: =H37*K37*L37 -> 16 | N37: =(M37/I37)*J37 -> 32.380952 | O37: =N37*$O$2 -> 841.90476 | P37: =VLOOKUP(D37,Forecast!B$1:H$27,7,FALSE) -> 104 | Q37: =SUM(P37:P39)/O37 -> 0.73523756 | R37: =N37*$R$2 -> 615.2381 | S37: =VLOOKUP(D37,Forecast!$B$1:$I$27,8,FALSE) -> 64 | T37: =SUM(S37:S39)/R37 -> 0.66640867 | U37: =N37*$U$2 -> 615.2381 | V37: =VLOOKUP(D37,Forecast!B$1:J$27,9,FALSE) -> 48 | W37: =SUM(V37:V39)/U37 -> 0.52337461 | X37: =N37*$X$2 -> 809.52381 | Y37: =VLOOKUP(D37,Forecast!B$1:K$27,10,FALSE) -> 44 | Z37: =SUM(Y37:Y39)/X37 -> 0.38788235 | AA37: =N37*$AA$2 -> 647.61905 | AB37: =VLOOKUP(D37,Forecast!B$1:L$27,11,FALSE) -> 60 | AC37: =SUM(AB37:AB39)/AA37 -> 0.56360294 | AD37: =N37*$AD$2 -> 615.2381 | AE37: =VLOOKUP(D37,Forecast!B$1:M$27,12,FALSE) -> 59 | AF37: =SUM(AE37:AE39)/AD37 -> 0.59164087 | AG37: =N37*$AG$2 -> 777.14286 | AH37: =VLOOKUP(D37,Forecast!B$1:N$27,13,FALSE) -> 59 | AI37: =SUM(AH37:AH39)/AG37 -> 0.46709559 | AJ37: Common with Spares
C38: Alliance | D38: 186269506 | E38: Carousel Carrier Drive Alignment Station | F38: TE82520 | G38: TE82520 | H38: 2 | I38: 0.42 | J38: 0.85 | K38: 1 | L38: 8 | M38: =H38*K38*L38 -> 16 | N38: =(M38/I38)*J38 -> 32.380952 | O38: =N38*$O$2 -> 841.90476 | P38: =VLOOKUP(D38,Forecast!B$1:H$27,7,FALSE) -> 515 | R38: =N38*$R$2 -> 615.2381 | S38: =VLOOKUP(D38,Forecast!$B$1:$I$27,8,FALSE) -> 346 | U38: =N38*$U$2 -> 615.2381 | V38: =VLOOKUP(D38,Forecast!B$1:J$27,9,FALSE) -> 274 | X38: =N38*$X$2 -> 809.52381 | Y38: =VLOOKUP(D38,Forecast!B$1:K$27,10,FALSE) -> 270 | AA38: =N38*$AA$2 -> 647.61905 | AB38: =VLOOKUP(D38,Forecast!B$1:L$27,11,FALSE) -> 305 | AD38: =N38*$AD$2 -> 615.2381 | AE38: =VLOOKUP(D38,Forecast!B$1:M$27,12,FALSE) -> 305 | AG38: =N38*$AG$2 -> 777.14286 | AH38: =VLOOKUP(D38,Forecast!B$1:N$27,13,FALSE) -> 304
C39: Spares | D39: WAT270928 | E39: Carousel Carrier Drive Alignment Station | F39: TE82520 | G39: TE82520 | H39: 2 | I39: 0.42 | J39: 0.85 | K39: 1 | L39: 8 | M39: =H39*K39*L39 -> 16 | N39: =(M39/I39)*J39 -> 32.380952 | O39: =N39*$O$2 -> 841.90476 | P39: 0 | R39: =N39*$R$2 -> 615.2381 | S39: 0 | U39: =N39*$U$2 -> 615.2381 | V39: 0 | X39: =N39*$X$2 -> 809.52381 | Y39: 0 | AA39: =N39*$AA$2 -> 647.61905 | AB39: 0 | AD39: =N39*$AD$2 -> 615.2381 | AE39: 0 | AG39: =N39*$AG$2 -> 777.14286 | AH39: 0
C40: Spares | D40: 700011708 | E40: Fluidics Tray Tester | F40: TE82523 | G40: TE82523 | H40: 1 | I40: 0.25 | J40: 0.9 | K40: 1 | L40: 8 | M40: =H40*K40*L40 -> 8 | N40: =(M40/I40)*J40 -> 28.8 | O40: =N40*$O$2 -> 748.8 | P40: 0 | Q40: =P40/$O$40 -> 0 | R40: =N40*$R$2 -> 547.2 | S40: 0 | T40: =S40/$O$40 -> 0 | U40: =N40*$U$2 -> 547.2 | V40: 0 | W40: =V40/$O$40 -> 0 | X40: =N40*$X$2 -> 720 | Y40: 0 | Z40: =Y40/$O$40 -> 0 | AA40: =N40*$AA$2 -> 576 | AB40: 0 | AC40: =AB40/$O$40 -> 0 | AD40: =N40*$AD$2 -> 547.2 | AE40: 0 | AF40: =AE40/$O$40 -> 0 | AG40: =N40*$AG$2 -> 691.2 | AH40: 0 | AI40: =AH40/$O$40 -> 0 | AJ40: Spares only
C41: Spares | D41: WAT270802 | E41: Heater Cooler Tester | F41: TE0084018 | G41: TE0084018 | H41: 1 | I41: 0.2 | J41: 0.95 | K41: 1 | L41: 8 | M41: =H41*K41*L41 -> 8 | N41: =(M41/I41)*J41 -> 38 | O41: =N41*$O$2 -> 988 | P41: 0 | Q41: =SUM(P41:P42)/$O$41 -> 0 | R41: =N41*$R$2 -> 722 | S41: 0 | T41: =SUM(S41:S42)/$O$41 -> 0 | U41: =N41*$U$2 -> 722 | V41: 0 | W41: =SUM(V41:V42)/$O$41 -> 0 | X41: =N41*$X$2 -> 950 | Y41: 0 | Z41: =SUM(Y41:Y42)/$O$41 -> 0 | AA41: =N41*$AA$2 -> 760 | AB41: 0 | AC41: =SUM(AB41:AB42)/$O$41 -> 0 | AD41: =N41*$AD$2 -> 722 | AE41: 0 | AF41: =SUM(AE41:AE42)/$O$41 -> 0 | AG41: =N41*$AG$2 -> 912 | AH41: 0 | AI41: =SUM(AH41:AH42)/$O$41 -> 0 | AJ41: Spares only
...

Sheet Forecast
A1: Product | B1: Forecast | C1: 44197 | D1: 44228 | E1: 44256 | F1: 44287 | G1: 44317 | H1: 44348 | I1: 44378 | J1: 44409 | K1: 44440 | L1: 44470 | M1: 44501 | N1: 44531 | O1: Total per year | P1: Total per Qtr | Q1: Total per month | R1: Total per week | S1: Total per day | T1: Unit price | U1: Annual amount | V1: 2 Oct customer PO
A2: Pump | B2: WAT207000 | C2: 12 | D2: 20 | E2: 4 | F2: 24 | G2: 22 | H2: 15 | I2: 38 | J2: 24 | K2: 0 | L2: 26 | M2: 26 | N2: 25 | O2: =SUM(C2:N2) -> 236 | P2: =O2/4 -> 59 | Q2: =P2/3 -> 19.666667 | R2: =P2/13 -> 4.5384615 | S2: =R2/5 -> 0.90769231 | T2: 1547.9 | U2: =T2*O2 -> 365304.4 | V2: Waters Calendar
B3: 186001515 | C3: 0 | D3: 10 | E3: 14 | F3: 15 | G3: 4 | H3: 0 | I3: 11 | J3: 0 | K3: 0 | L3: 7 | M3: 6 | N3: 6 | O3: =SUM(C3:N3) -> 73 | P3: =O3/4 -> 18.25 | Q3: =P3/3 -> 6.0833333 | R3: =P3/13 -> 1.4038462 | S3: =R3/5 -> 0.28076923 | T3: 2680.54 | U3: =T3*O3 -> 195679.42
B4: 186001525 | C4: 9 | D4: 9 | E4: 0 | F4: 20 | G4: 5 | H4: 0 | I4: 20 | J4: 3 | K4: 0 | L4: 12 | M4: 12 | N4: 11 | O4: =SUM(C4:N4) -> 101 | P4: =O4/4 -> 25.25 | Q4: =P4/3 -> 8.4166667 | R4: =P4/13 -> 1.9423077 | S4: =R4/5 -> 0.38846154 | T4: 3659.28 | U4: =T4*O4 -> 369587.28
B5: 186001825 | C5: 0 | D5: 0 | E5: 0 | F5: 0 | G5: 0 | H5: 0 | I5: 0 | J5: 0 | K5: 0 | L5: 0 | M5: 0 | N5: 0 | O5: =SUM(C5:N5) -> 0 | P5: =O5/4 -> 0 | Q5: =P5/3 -> 0 | R5: =P5/13 -> 0 | S5: =R5/5 -> 0 | U5: =T5*O5 -> 0
A6: Alliance | B6: 186269505 | C6: 53 | D6: 47 | E6: 32 | F6: 64 | G6: 48 | H6: 104 | I6: 64 | J6: 48 | K6: 44 | L6: 60 | M6: 59 | N6: 59 | O6: =SUM(C6:N6) -> 682 | P6: =O6/4 -> 170.5 | Q6: =P6/3 -> 56.833333 | R6: =P6/13 -> 13.115385 | S6: =R6/5 -> 2.6230769 | T6: 5848.29 | U6: =T6*O6 -> 3988533.8
B7: 186269506 | C7: 200 | D7: 208 | E7: 272 | F7: 265 | G7: 276 | H7: 515 | I7: 346 | J7: 274 | K7: 270 | L7: 305 | M7: 305 | N7: 304 | O7: =SUM(C7:N7) -> 3540 | P7: =O7/4 -> 885 | Q7: =P7/3 -> 295 | R7: =P7/13 -> 68.076923 | S7: =R7/5 -> 13.615385 | T7: 6129.01 | U7: =T7*O7 -> 21696695
A8: BSM/QSM | B8: 186015001 | C8: 12 | D8: 12 | E8: 36 | F8: 10 | G8: 0 | H8: 0 | I8: 0 | J8: 0 | K8: 0 | L8: 0 | M8: 0 | N8: 0 | O8: =SUM(C8:N8) -> 70 | P8: =O8/4 -> 17.5 | Q8: =P8/3 -> 5.8333333 | R8: =P8/13 -> 1.3461538 | S8: =R8/5 -> 0.26923077 | T8: 7072.62 | U8: =T8*O8 -> 495083.4
B9: 186015018 | C9: 0 | D9: 0 | E9: 0 | F9: 0 | G9: 0 | H9: 0 | I9: 0 | J9: 0 | K9: 0 | L9: 0 | M9: 0 | N9: 0 | O9: =SUM(C9:N9) -> 0 | P9: =O9/4 -> 0 | Q9: =P9/3 -> 0 | R9: =P9/13 -> 0 | S9: =R9/5 -> 0 | U9: =T9*O9 -> 0
B10: 186015080 | C10: 124 | D10: 180 | E10: 207 | F10: 176 | G10: 144 | H10: 180 | I10: 288 | J10: 150 | K10: 160 | L10: 181 | M10: 181 | N10: 180 | O10: =SUM(C10:N10) -> 2151 | P10: =O10/4 -> 537.75 | Q10: =P10/3 -> 179.25 | R10: =P10/13 -> 41.365385 | S10: =R10/5 -> 8.2730769 | T10: 4533.88 | U10: =T10*O10 -> 9752375.9
A11: TUV | B11: 186248900 | C11: 186 | D11: 272 | E11: 318 | F11: 288 | G11: 264 | H11: 575 | I11: 364 | J11: 288 | K11: 288 | L11: 325 | M11: 324 | N11: 324 | O11: =SUM(C11:N11) -> 3816 | P11: =O11/4 -> 954 | Q11: =P11/3 -> 318 | R11: =P11/13 -> 73.384615 | S11: =R11/5 -> 14.676923 | T11: 2113.26 | U11: =T11*O11 -> 8064200.2
B12: 186002487 | C12: 12 | D12: 24 | E12: 15 | F12: 34 | G12: 24 | H12: 95 | I12: 131 | J12: 96 | K12: 96 | L12: 28 | M12: 28 | N12: 28 | O12: =SUM(C12:N12) -> 611 | P12: =O12/4 -> 152.75 | Q12: =P12/3 -> 50.916667 | R12: =P12/13 -> 11.75 | S12: =R12/5 -> 2.35 | T12: 1985.4 | U12: =T12*O12 -> 1213079.4
B13: 186015031 | C13: 72 | D13: 80 | E13: 112 | F13: 88 | G13: 101 | H13: 104 | I13: 112 | J13: 88 | K13: 88 | L13: 98 | M13: 98 | N13: 98 | O13: =SUM(C13:N13) -> 1139 | P13: =O13/4 -> 284.75 | Q13: =P13/3 -> 94.916667 | R13: =P13/13 -> 21.903846 | S13: =R13/5 -> 4.3807692 | T13: 2076.89 | U13: =T13*O13 -> 2365577.7
B14: 186018006 | C14: 5 | D14: 0 | E14: 0 | F14: 13 | G14: 0 | H14: 8 | I14: 15 | J14: 12 | K14: 6 | L14: 14 | M14: 13 | N14: 13 | O14: 13 | P14: 13 | Q14: 13 | R14: 13 | S14: 13 | T14: 13 | U14: 13 | V14: 13
B15: 186017002 | C15: 40 | D15: 48 | E15: 16 | F15: 56 | G15: 60 | H15: 0 | I15: 64 | J15: 32 | K15: 24 | L15: 42 | M15: 42 | N15: 42 | O15: =SUM(C15:N15) -> 466 | P15: =O15/4 -> 116.5 | Q15: =P15/3 -> 38.833333 | R15: =P15/13 -> 8.9615385 | S15: =R15/5 -> 1.7923077 | T15: 2193.42 | U15: =T15*O15 -> 1022133.7
B16: 186019007 | C16: 0 | D16: 0 | E16: 0 | F16: 5 | G16: 0 | H16: 0 | I16: 21 | J16: 16 | K16: 12 | L16: 25 | M16: 24 | N16: 24 | O16: =SUM(C16:N16) -> 127 | P16: =O16/4 -> 31.75 | Q16: =P16/3 -> 10.583333 | R16: =P16/13 -> 2.4423077 | S16: =R16/5 -> 0.48846154
B17: 186017012 | C17: 0 | D17: 7 | E17: 5 | F17: 9 | G17: 0 | H17: 16 | I17: 9 | J17: 0 | K17: 0 | L17: 4 | M17: 3 | N17: 3 | O17: =SUM(C17:N17) -> 56 | P17: =O17/4 -> 14 | Q17: =P17/3 -> 4.6666667 | R17: =P17/13 -> 1.0769231 | S17: =R17/5 -> 0.21538462 | T17: 2751.82 | U17: =T17*O17 -> 154101.92
A18: PDA | B18: 186002998 | C18: 0 | D18: 16 | E18: 29 | F18: 12 | G18: 14 | H18: 38 | I18: 26 | J18: 16 | K18: 16 | L18: 22 | M18: 22 | N18: 22 | O18: =SUM(C18:N18) -> 233 | P18: =O18/4 -> 58.25 | Q18: =P18/3 -> 19.416667 | R18: =P18/13 -> 4.4807692 | S18: =R18/5 -> 0.89615385 | T18: 3007.95 | U18: =T18*O18 -> 700852.35
B19: 186299800 | C19: 148 | D19: 222 | E19: 150 | F19: 176 | G19: 168 | H19: 438 | I19: 232 | J19: 184 | K19: 184 | L19: 202 | M19: 202 | N19: 202 | O19: =SUM(C19:N19) -> 2508 | P19: =O19/4 -> 627 | Q19: =P19/3 -> 209 | R19: =P19/13 -> 48.230769 | S19: =R19/5 -> 9.6461538 | T19: 3032.4 | U19: =T19*O19 -> 7605259.2
B20: 186017003 | C20: 24 | D20: 33 | E20: 58 | F20: 41 | G20: 64 | H20: 8 | I20: 40 | J20: 32 | K20: 28 | L20: 40 | M20: 40 | N20: 39 | O20: =SUM(C20:N20) -> 447 | P20: =O20/4 -> 111.75 | Q20: =P20/3 -> 37.25 | R20: =P20/13 -> 8.5961538 | S20: =R20/5 -> 1.7192308 | T20: 3090.02 | U20: =T20*O20 -> 1381238.9
B21: 186019008 | C21: 0 | D21: 0 | E21: 0 | F21: 5 | G21: 0 | H21: 0 | I21: 17 | J21: 16 | K21: 16 | L21: 25 | M21: 24 | N21: 24 | O21: =SUM(C21:N21) -> 127 | P21: =O21/4 -> 31.75 | Q21: =P21/3 -> 10.583333 | R21: =P21/13 -> 2.4423077 | S21: =R21/5 -> 0.48846154
B22: 186015032 | C22: 48 | D22: 56 | E22: 112 | F22: 88 | G22: 76 | H22: 146 | I22: 112 | J22: 88 | K22: 72 | L22: 95 | M22: 95 | N22: 95 | O22: =SUM(C22:N22) -> 1083 | P22: =O22/4 -> 270.75 | Q22: =P22/3 -> 90.25 | R22: =P22/13 -> 20.826923 | S22: =R22/5 -> 4.1653846 | T22: 3066.66 | U22: =T22*O22 -> 3321192.8
B23: 186015033 | C23: 8 | D23: 112 | E23: 128 | F23: 72 | G23: 88 | H23: 212 | I23: 116 | J23: 88 | K23: 96 | L23: 94 | M23: 94 | N23: 93 | O23: =SUM(C23:N23) -> 1201 | P23: =O23/4 -> 300.25 | Q23: =P23/3 -> 100.08333 | R23: =P23/13 -> 23.096154 | S23: =R23/5 -> 4.6192308 | T23: 3063.67 | U23: =T23*O23 -> 3679467.7
B24: 186018007 | C24: 10 | D24: 0 | E24: 0 | F24: 32 | G24: 0 | H24: 34 | I24: 32 | J24: 24 | K24: 24 | L24: 28 | M24: 28 | N24: 28 | O24: =SUM(C24:N24) -> 240 | P24: =O24/4 -> 60 | R24: =P24/13 -> 4.6153846 | S24: =R24/5 -> 0.92307692 | T24: 3305.36 | U24: =T24*O24 -> 793286.4
B25: 186015034 | C25: 16 | D25: 7 | E25: 0 | F25: 20 | G25: 5 | H25: 6 | I25: 20 | J25: 0 | K25: 0 | L25: 8 | M25: 8 | N25: 7 | O25: =SUM(C25:N25) -> 97 | P25: =O25/4 -> 24.25 | Q25: =P25/3 -> 8.0833333 | R25: =P25/13 -> 1.8653846 | S25: =R25/5 -> 0.37307692 | T25: 2981.31 | U25: =T25*O25 -> 289187.07
B26: 186015053 | C26: 4 | D26: 0 | E26: 0 | F26: 7 | G26: 0 | H26: 0 | I26: 5 | J26: 0 | K26: 0 | L26: 4 | M26: 4 | N26: 4 | O26: =SUM(C26:N26) -> 28 | P26: =O26/4 -> 7 | Q26: =P26/3 -> 2.3333333 | R26: =P26/13 -> 0.53846154 | S26: =R26/5 -> 0.10769231 | T26: 3116.69 | U26: =T26*O26 -> 87267.32
B27: 186017013 | C27: 0 | D27: 0 | E27: 0 | F27: 0 | G27: 0 | H27: 7 | I27: 3 | J27: 0 | K27: 0 | L27: 1 | M27: 1 | N27: 1 | O27: =SUM(C27:N27) -> 13 | P27: =O27/4 -> 3.25 | Q27: =P27/3 -> 1.0833333 | R27: =P27/13 -> 0.25 | S27: =R27/5 -> 0.05 | T27: 3461.11 | U27: =T27*O27 -> 44994.43
C28: =SUM(C2:C27) -> 983 | D28: =SUM(D2:D27) -> 1363 | E28: =SUM(E2:E27) -> 1508 | F28: =SUM(F2:F27) -> 1520 | G28: =SUM(G2:G27) -> 1363 | H28: =SUM(H2:H27) -> 2501 | I28: =SUM(I2:I27) -> 2086 | J28: =SUM(J2:J27) -> 1479 | ... O28: =SUM(O2:O27) -> 19058
A32: WATERS INSTRUMENTS
A33: 44180 | C33: Jan'21 | G33: Feb'21 | K33: Mar'21 | P33: Apr'21 | T33: May'21 | Y33: Jun'21 | AD33: Jul'21 | AH33: Aug'21 | AL33: Sep'21 | AQ33: Oct'21 | AU33: Nov'21 | AY33: Dec'21 | BD33: Jan'22 | BH33: Feb'22 | BL33: Mar'22
B34: Waters PO due date | C34: 44202 | D34: =C34+7 -> 44209 | E34: =D34+7 -> 44216 | F34: =E34+7 -> 44223 | G34: =F34+7 -> 44230 | H34: =G34+7 -> 44237 | I34: =H34+7 -> 44244 | J34: =I34+7 -> 44251 | K34: =J34+7 -> 44258 | ... T34: =S34+7 -> 44321 | V34: =T34+7 -> 44328 | W34: =V34+7 -> 44335 | X34: =W34+7 -> 44342 | Y34: =X34+7 -> 44349 | Z34: =Y34+7 -> 44356 | AA34: =Z34+7 -> 44363 | AB34: =AA34+7 -> 44370 | AC34: =AB34+7 -> 44377 | AD34: =AC34+7 -> 44384 | ... BP34: =BO34+7 -> 44650
B35: Baan forecast date | C35: 44206 | D35: =C35+7 -> 44213 | E35: =D35+7 -> 44220 | F35: =E35+7 -> 44227 | G35: =F35+7 -> 44234 | H35: =G35+7 -> 44241 | I35: =H35+7 -> 44248 | J35: =I35+7 -> 44255 | K35: =J35+7 -> 44262 | ... T35: =S35+7 -> 44325 | V35: =T35+7 -> 44332 | W35: =V35+7 -> 44339 | X35: =W35+7 -> 44346 | Y35: =X35+7 -> 44353 | Z35: =Y35+7 -> 44360 | AA35: =Z35+7 -> 44367 | AB35: =AA35+7 -> 44374 | AC35: =AB35+7 -> 44381 | AD35: =AC35+7 -> 44388 | ... BP35: =BO35+7 -> 44654
A36: Ship Plan | B36: WAT-WAT207000 (515) | E36: 6 | F36: 6 | G36: 8 | H36: 6 | J36: 6 | K36: 6 | P36: 20 | T36: 19 | Y36: 19 | AD36: 19 | AH36: 19 | AL36: 18 | AQ36: 25 | AU36: 24 | AY36: 24 | BD36: 17 | BH36: 17 | BL36: 16
A37: Ship Plan | B37: WAT-186001515 (1515) | G37: 4 | H37: 3 | J37: 3 | K37: 3 | L37: 3 | M37: 3 | N37: 3 | O37: 2 | P37: 7 | T37: 6 | Y37: 6 | AD37: 7 | AH37: 6 | AL37: 6 | AQ37: 7 | AU37: 6 | AY37: 6 | BD37: 7 | BH37: 6 | BL37: 6
A38: Ship Plan | B38: WAT-186001525 (1525) | D38: 3 | E38: 3 | F38: 3 | G38: 3 | H38: 3 | J38: 3 | K38: 3 | L38: 3 | M38: 3 | N38: 3 | P38: 11 | T38: 10 | Y38: 10 | AD38: 10 | AH38: 10 | AL38: 10 | AQ38: 14 | AU38: 13 | AY38: 13 | BD38: 9 | BH38: 9 | BL38: 9
A39: Ship Plan | B39: WAT-186001825 (1525u) | BD39: 0 | BH39: 0 | BL39: 0
A40: Ship plan | B40: WAT-186269505 | C40: 10 | D40: 10 | E40: 17 | F40: 16 | G40: 13 | H40: 13 | I40: 8 | J40: 13 | K40: 13 | L40: 10 | M40: 10 | N40: 10 | O40: 10 | P40: 54 | T40: 54 | Y40: 54 | AD40: 55 | AH40: 55 | AL40: 54 | AQ40: 67 | AU40: 67 | AY40: 66 | BD40: 44 | BH40: 43 | BL40: 43
A41: Ship plan | B41: WAT-186269506 | C41: 35 | D41: 35 | E41: 70 | F41: 60 | G41: 57 | H41: 57 | I41: 39 | J41: 55 | K41: 55 | L41: 55 | M41: 55 | N41: 40 | O41: 40 | P41: 251 | T41: 251 | Y41: 251 | AD41: 267 | AH41: 267 | AL41: 266 | AQ41: 326 | AU41: 325 | AY41: 325 | BD41: 225 | BH41: 225 | BL41: 224
A42: Ship Plan | B42: WAT-186015001 (BSM) | D42: 6 | E42: 2 | F42: 4 | G42: 4 | H42: 4 | I42: 4 | L42: 4 | M42: 3 | N42: 2 | P42: 4 | T42: 4 | Y42: 3 | AD42: 5 | AH42: 5 | AL42: 4 | AQ42: 5 | AU42: 5 | AY42: 4 | BD42: 4 | BH42: 3 | BL42: 3
A43: Ship Plan | B43: WAT-186015018 (QSM)
...

Sheet Waters Calender
A1: WATERS CORPORATION
A2: 2021 FISCAL CALENDAR
B3: Cut off Wed
B4: Jan | C4: Feb | D4: Mar | E4: Apr | F4: May | G4: Jun | H4: Jul | I4: Aug | J4: Sep | K4: Oct | L4: Nov | M4: Dec
A5: Work days by month | B5: 20 | C5: =C6*5-2 -> 18 | D5: 24 | E5: 20 | F5: 17 | G5: =G6*5 -> 25 | H5: =H6*5-1 -> 19 | I5: =I6*5-1 -> 19 | J5: =J6*5 -> 25 | K5: =K6*5 -> 20 | L5: =L6*5-1 -> 19 | M5: =M6*5-1 -> 24
A6: Work week by month | B6: 4 | C6: 4 | D6: 5 | E6: 4 | F6: 4 | G6: 5 | H6: 4 | I6: 4 | J6: 5 | K6: 4 | L6: 4 | M6: 5
A7: Month-end date | B7: 44225 | C7: 44253 | D7: 44286 | E7: 44316 | F7: 44344 | G7: 44377 | H7: 44407 | I7: 44435 | J7: 44469 | K7: 44498 | L7: 44526 | M7: 44561
B9: WATERS CORPORATION PRELIM!
B10: 2021 FISCAL CALENDAR
B11: 2021 | C11: Qtr Wk | D11: Yr Wk | E11: S | F11: M | G11: T | H11: W | I11: T | J11: F | K11: S | M11: Qtr Wk | N11: Yr Wk | O11: S | P11: M | Q11: T | R11: W | S11: T | T11: F | U11: S
J12: 1 | K12: =+J12+1 -> 2 | M12: 1 | N12: 27 | O12: =K41+1 -> 4 | P12: =O12+1 -> 5 | Q12: =+P12+1 -> 6 | R12: =+Q12+1 -> 7 | S12: =+R12+1 -> 8 | T12: =+S12+1 -> 9 | U12: =+T12+1 -> 10
B13: JAN | C13: 1 | D13: 1 | E13: =+K12+1 -> 3 | F13: =+E13+1 -> 4 | G13: =+F13+1 -> 5 | H13: =+G13+1 -> 6 | I13: =+H13+1 -> 7 | J13: =+I13+1 -> 8 | K13: =+J13+1 -> 9 | L13: JUL | M13: 2 | N13: 28 | O13: =+U12+1 -> 11 | P13: =+O13+1 -> 12 | Q13: =+P13+1 -> 13 | R13: =+Q13+1 -> 14 | S13: =+R13+1 -> 15 | T13: =+S13+1 -> 16 | U13: =+T13+1 -> 17
C14: 2 | D14: 2 | E14: =+K13+1 -> 10 | F14: =+E14+1 -> 11 | G14: =+F14+1 -> 12 | H14: =+G14+1 -> 13 | I14: =+H14+1 -> 14 | J14: =+I14+1 -> 15 | K14: =+J14+1 -> 16 | M14: 3 | N14: 29 | O14: =+U13+1 -> 18 | P14: =+O14+1 -> 19 | Q14: =+P14+1 -> 20 | R14: =+Q14+1 -> 21 | S14: =+R14+1 -> 22 | T14: =+S14+1 -> 23 | U14: =T14+1 -> 24
C15: 3 | D15: 3 | E15: =+K14+1 -> 17 | F15: =E15+1 -> 18 | G15: =F15+1 -> 19 | H15: =+G15+1 -> 20 | I15: =+H15+1 -> 21 | J15: =+I15+1 -> 22 | K15: =+J15+1 -> 23 | M15: 4 | N15: 30 | O15: =U14+1 -> 25 | P15: =O15+1 -> 26 | Q15: =P15+1 -> 27 | R15: =+Q15+1 -> 28 | S15: =+R15+1 -> 29 | T15: =+S15+1 -> 30 | U15: =+T15+1 -> 31
C16: 4 | D16: 4 | E16: =+K15+1 -> 24 | F16: =E16+1 -> 25 | G16: =F16+1 -> 26 | H16: =+G16+1 -> 27 | I16: =+H16+1 -> 28 | J16: =+I16+1 -> 29 | K16: =+J16+1 -> 30
C17: 5 | D17: 5 | E17: =K16+1 -> 31 | F17: 1 | G17: =+F17+1 -> 2 | H17: =+G17+1 -> 3 | I17: =+H17+1 -> 4 | J17: =+I17+1 -> 5 | K17: =+J17+1 -> 6 | M17: 5 | N17: 31 | O17: 1 | P17: =+O17+1 -> 2 | Q17: =+P17+1 -> 3 | R17: =+Q17+1 -> 4 | S17: =+R17+1 -> 5 | T17: =+S17+1 -> 6 | U17: =T17+1 -> 7
B18: FEB | C18: 6 | D18: 6 | E18: =+K17+1 -> 7 | F18: =E18+1 -> 8 | G18: =+F18+1 -> 9 | H18: =+G18+1 -> 10 | I18: =+H18+1 -> 11 | J18: =+I18+1 -> 12 | K18: =+J18+1 -> 13 | L18: AUG | M18: 6 | N18: 32 | O18: =+U17+1 -> 8 | P18: =+O18+1 -> 9 | Q18: =+P18+1 -> 10 | R18: =+Q18+1 -> 11 | S18: =+R18+1 -> 12 | T18: =+S18+1 -> 13 | U18: =+T18+1 -> 14
C19: 7 | D19: 7 | E19: =+K18+1 -> 14 | F19: =+E19+1 -> 15 | G19: =+F19+1 -> 16 | H19: =+G19+1 -> 17 | I19: =+H19+1 -> 18 | J19: =+I19+1 -> 19 | K19: =+J19+1 -> 20 | M19: 7 | N19: 33 | O19: =+U18+1 -> 15 | P19: =+O19+1 -> 16 | Q19: =+P19+1 -> 17 | R19: =+Q19+1 -> 18 | S19: =+R19+1 -> 19 | T19: =+S19+1 -> 20 | U19: =+T19+1 -> 21
C20: 8 | D20: 8 | E20: =K19+1 -> 21 | F20: =E20+1 -> 22 | G20: =F20+1 -> 23 | H20: =G20+1 -> 24 | I20: =+H20+1 -> 25 | J20: =+I20+1 -> 26 | K20: =+J20+1 -> 27 | M20: 8 | N20: 34 | O20: =U19+1 -> 22 | P20: =O20+1 -> 23 | Q20: =+P20+1 -> 24 | R20: =Q20+1 -> 25 | S20: =R20+1 -> 26 | T20: =S20+1 -> 27 | U20: =+T20+1 -> 28
C22: 9 | D22: 9 | E22: =K20+1 -> 28 | F22: 1 | G22: =+F22+1 -> 2 | H22: =+G22+1 -> 3 | I22: =+H22+1 -> 4 | J22: =+I22+1 -> 5 | K22: =J22+1 -> 6 | M22: 9 | N22: 35 | O22: =U20+1 -> 29 | P22: =O22+1 -> 30 | Q22: =P22+1 -> 31 | R22: 1 | S22: =+R22+1 -> 2 | T22: =+S22+1 -> 3 | U22: =T22+1 -> 4
B23: MAR | C23: 10 | D23: 10 | E23: =+K22+1 -> 7 | F23: =+E23+1 -> 8 | G23: =+F23+1 -> 9 | H23: =+G23+1 -> 10 | I23: =+H23+1 -> 11 | J23: =+I23+1 -> 12 | K23: =+J23+1 -> 13 | L23: SEP | M23: 10 | N23: 36 | O23: =U22+1 -> 5 | P23: =+O23+1 -> 6 | Q23: =+P23+1 -> 7 | R23: =+Q23+1 -> 8 | S23: =+R23+1 -> 9 | T23: =+S23+1 -> 10 | U23: =+T23+1 -> 11
C24: 11 | D24: 11 | E24: =+K23+1 -> 14 | F24: =+E24+1 -> 15 | G24: =+F24+1 -> 16 | H24: =+G24+1 -> 17 | I24: =+H24+1 -> 18 | J24: =+I24+1 -> 19 | K24: =+J24+1 -> 20 | M24: 11 | N24: 37 | O24: =+U23+1 -> 12 | P24: =+O24+1 -> 13 | Q24: =+P24+1 -> 14 | R24: =+Q24+1 -> 15 | S24: =+R24+1 -> 16 | T24: =+S24+1 -> 17 | U24: =+T24+1 -> 18
C25: 12 | D25: 12 | E25: =+K24+1 -> 21 | F25: =+E25+1 -> 22 | G25: =+F25+1 -> 23 | H25: =G25+1 -> 24 | I25: =H25+1 -> 25 | J25: =I25+1 -> 26 | K25: =+J25+1 -> 27 | M25: 12 | N25: 38 | O25: =+U24+1 -> 19 | P25: =+O25+1 -> 20 | Q25: =+P25+1 -> 21 | R25: =+Q25+1 -> 22 | S25: =+R25+1 -> 23 | T25: =S25+1 -> 24 | U25: =T25+1 -> 25
C26: 13 | D26: 13 | E26: =+K25+1 -> 28 | F26: =E26+1 -> 29 | G26: =F26+1 -> 30 | H26: =G26+1 -> 31 | I26: 1 | J26: =I26+1 -> 2 | K26: =J26+1 -> 3 | M26: 13 | N26: 39 | O26: =U25+1 -> 26 | P26: =+O26+1 -> 27 | Q26: =+P26+1 -> 28 | R26: =+Q26+1 -> 29 | S26: =+R26+1 -> 30 | T26: 1 | U26: =T26+1 -> 2
C27: 1 | D27: 14 | E27: =K26+1 -> 4 | F27: =E27+1 -> 5 | G27: =F27+1 -> 6 | H27: =+G27+1 -> 7 | I27: =+H27+1 -> 8 | J27: =+I27+1 -> 9 | K27: =+J27+1 -> 10 | M27: 1 | N27: 40 | O27: =U26+1 -> 3 | P27: =O27+1 -> 4 | Q27: =P27+1 -> 5 | R27: =+Q27+1 -> 6 | S27: =+R27+1 -> 7 | T27: =+S27+1 -> 8 | U27: =+T27+1 -> 9
B28: APR | C28: 2 | D28: 15 | E28: =+K27+1 -> 11 | F28: =+E28+1 -> 12 | G28: =+F28+1 -> 13 | H28: =+G28+1 -> 14 | I28: =+H28+1 -> 15 | J28: =+I28+1 -> 16 | K28: =+J28+1 -> 17 | L28: OCT | M28: 2 | N28: 41 | O28: =+U27+1 -> 10 | P28: =+O28+1 -> 11 | Q28: =+P28+1 -> 12 | R28: =+Q28+1 -> 13 | S28: =+R28+1 -> 14 | T28: =+S28+1 -> 15 | U28: =+T28+1 -> 16
C29: 3 | D29: 16 | E29: =+K28+1 -> 18 | F29: =+E29+1 -> 19 | G29: =+F29+1 -> 20 | H29: =+G29+1 -> 21 | I29: =+H29+1 -> 22 | J29: =I29+1 -> 23 | K29: =J29+1 -> 24 | M29: 3 | N29: 42 | O29: =+U28+1 -> 17 | P29: =+O29+1 -> 18 | Q29: =+P29+1 -> 19 | R29: =+Q29+1 -> 20 | S29: =+R29+1 -> 21 | T29: =+S29+1 -> 22 | U29: =+T29+1 -> 23
C30: 4 | D30: 17 | E30: =K29+1 -> 25 | F30: =E30+1 -> 26 | G30: =+F30+1 -> 27 | H30: =+G30+1 -> 28 | I30: =+H30+1 -> 29 | J30: =+I30+1 -> 30 | K30: 1 | M30: 4 | N30: 43 | O30: =U29+1 -> 24 | P30: =O30+1 -> 25 | Q30: =P30+1 -> 26 | R30: =Q30+1 -> 27 | S30: =+R30+1 -> 28 | T30: =+S30+1 -> 29 | U30: =+T30+1 -> 30
C32: 5 | D32: 18 | E32: =K30+1 -> 2 | F32: =E32+1 -> 3 | G32: =F32+1 -> 4 | H32: =G32+1 -> 5 | I32: =H32+1 -> 6 | J32: =I32+1 -> 7 | K32: =J32+1 -> 8 | M32: 5 | N32: 44 | O32: =U30+1 -> 31 | P32: 1 | Q32: =+P32+1 -> 2 | R32: =+Q32+1 -> 3 | S32: =R32+1 -> 4 | T32: =S32+1 -> 5 | U32: =+T32+1 -> 6
B33: MAY | C33: 6 | D33: 19 | E33: =+K32+1 -> 9 | F33: =+E33+1 -> 10 | G33: =+F33+1 -> 11 | H33: =+G33+1 -> 12 | I33: =+H33+1 -> 13 | J33: =+I33+1 -> 14 | K33: =+J33+1 -> 15 | L33: NOV | M33: 6 | N33: 45 | O33: =+U32+1 -> 7 | P33: =+O33+1 -> 8 | Q33: =+P33+1 -> 9 | R33: =+Q33+1 -> 10 | S33: =+R33+1 -> 11 | T33: =+S33+1 -> 12 | U33: =+T33+1 -> 13
C34: 7 | D34: 20 | E34: =+K33+1 -> 16 | F34: =+E34+1 -> 17 | G34: =+F34+1 -> 18 | H34: =+G34+1 -> 19 | I34: =+H34+1 -> 20 | J34: =+I34+1 -> 21 | K34: =+J34+1 -> 22 | M34: 7 | N34: 46 | O34: =+U33+1 -> 14 | P34: =+O34+1 -> 15 | Q34: =+P34+1 -> 16 | R34: =+Q34+1 -> 17 | S34: =+R34+1 -> 18 | T34: =+S34+1 -> 19 | U34: =+T34+1 -> 20
C35: 8 | D35: 21 | E35: =K34+1 -> 23 | F35: =+E35+1 -> 24 | G35: =F35+1 -> 25 | H35: =G35+1 -> 26 | I35: =H35+1 -> 27 | J35: =+I35+1 -> 28 | K35: =+J35+1 -> 29 | M35: 8 | N35: 47 | O35: =U34+1 -> 21 | P35: =+O35+1 -> 22 | Q35: =+P35+1 -> 23 | R35: =Q35+1 -> 24 | S35: =R35+1 -> 25 | T35: =S35+1 -> 26 | U35: =+T35+1 -> 27
C37: 9 | D37: 22 | E37: =+K35+1 -> 30 | F37: =E37+1 -> 31 | G37: 1 | H37: =+G37+1 -> 2 | I37: =H37+1 -> 3 | J37: =I37+1 -> 4 | K37: =J37+1 -> 5 | M37: 9 | N37: 48 | O37: =U35+1 -> 28 | P37: =O37+1 -> 29 | Q37: =P37+1 -> 30 | R37: 1 | S37: =R37+1 -> 2 | T37: =S37+1 -> 3 | U37: =T37+1 -> 4
B38: JUN | C38: 10 | D38: 23 | E38: =K37+1 -> 6 | F38: =E38+1 -> 7 | G38: =F38+1 -> 8 | H38: =+G38+1 -> 9 | I38: =+H38+1 -> 10 | J38: =+I38+1 -> 11 | K38: =+J38+1 -> 12 | L38: DEC | M38: 10 | N38: 49 | O38: =U37+1 -> 5 | P38: =+O38+1 -> 6 | Q38: =+P38+1 -> 7 | R38: =+Q38+1 -> 8 | S38: =+R38+1 -> 9 | T38: =+S38+1 -> 10 | U38: =+T38+1 -> 11
C39: 11 | D39: 24 | E39: =+K38+1 -> 13 | F39: =+E39+1 -> 14 | G39: =+F39+1 -> 15 | H39: =+G39+1 -> 16 | I39: =+H39+1 -> 17 | J39: =+I39+1 -> 18 | K39: =+J39+1 -> 19 | M39: 11 | N39: 50 | O39: =+U38+1 -> 12 | P39: =+O39+1 -> 13 | Q39: =+P39+1 -> 14 | R39: =+Q39+1 -> 15 | S39: =+R39+1 -> 16 | T39: =+S39+1 -> 17 | U39: =+T39+1 -> 18
C40: 12 | D40: 25 | E40: =+K39+1 -> 20 | F40: =+E40+1 -> 21 | G40: =+F40+1 -> 22 | H40: =G40+1 -> 23 | I40: =H40+1 -> 24 | J40: =I40+1 -> 25 | K40: =J40+1 -> 26 | M40: 12 | N40: 51 | O40: =+U39+1 -> 19 | P40: =+O40+1 -> 20 | Q40: =+P40+1 -> 21 | R40: =+Q40+1 -> 22 | S40: =+R40+1 -> 23 | T40: =S40+1 -> 24 | U40: =T40+1 -> 25
C41: 13 | D41: 26 | E41: =K40+1 -> 27 | F41: =E41+1 -> 28 | G41: =F41+1 -> 29 | H41: =G41+1 -> 30 | I41: 1 | J41: =+I41+1 -> 2 | K41: =J41+1 -> 3 | M41: 13 | N41: 52 | O41: =U40+1 -> 26 | P41: =O41+1 -> 27 | Q41: =+P41+1 -> 28 | R41: =+Q41+1 -> 29 | S41: =+R41+1 -> 30 | T41: =+S41+1 -> 31
F44: 2021 | G44: 2020 | H44: 2019 | I44: 2018 | J44: 2017 | K44: 2016 | L44: 2015 | M44: 2014 | N44: 2013 | O44: 2012
D45: # days in Q1 | F45: 93 | G45: 88 | H45: 89 | I45: 90 | J45: 91 | K45: 93 | L45: 94 | M45: 88 | N45: 89 | O45: 91 | R45: = Official Waters U. S. Holiday (full day)
D46: # days in Q2 | F46: 91 | G46: 91 | H46: 91 | I46: 91 | J46: 91 | K46: 91 | L46: 91 | M46: 91 | N46: 91 | O46: 91
...
