Workbook
Name Client: [2]OUTPUTS!$C$7
Name Country: [3]Tables!$A$344
Name DATA1: '[4]Spare Forecast'!#REF!
Name DATA10: '[4]Spare Forecast'!#REF!
Name DATA12: '[4]Spare Forecast'!#REF!
Name DATA13: '[4]Spare Forecast'!#REF!
Name DATA14: '[4]Spare Forecast'!#REF!
Name DATA16: '[4]Spare Forecast'!#REF!
Name DATA18: '[4]Spare Forecast'!#REF!
Name DATA19: '[4]Spare Forecast'!#REF!
Name DATA2: '[4]Spare Forecast'!#REF!
Name DATA20: '[4]Spare Forecast'!#REF!
Name DATA21: '[4]Spare Forecast'!#REF!
Name DATA22: '[4]Spare Forecast'!#REF!
Name DATA4: '[4]Spare Forecast'!#REF!
Name DATA5: '[4]Spare Forecast'!#REF!
Name DATA6: '[4]Spare Forecast'!#REF!
Name DATA7: '[4]Spare Forecast'!#REF!
Name DATA8: '[4]Spare Forecast'!#REF!
Name DeliveryModelTable: [3]Tables!$B$13:$M$171
Name DMODEL: '[3]DEFAULTS-Override'!$A$12
Name InputsTable: [3]INPUTS!$B$13:$AG$125
Name ITCLI: [3]INPUTS!$A$30
Name ITHLParts: [3]INPUTS!$A$46
Name ITMechParts: [3]INPUTS!$A$49
Name ITOFD: [3]INPUTS!$A$123
Name ITOther: [3]INPUTS!$A$125
Name ITPackCost: [3]INPUTS!$A$124
Name ITPN: [3]INPUTS!$A$15
Name ITSIM: [3]INPUTS!$A$17
Name ITSIT: [3]INPUTS!$A$16
Name ITSMTParts: [3]INPUTS!$A$39
Name ITTime: [3]INPUTS!$A$18
Name ITTLI: [3]INPUTS!$A$25
Name ITTYP: [3]INPUTS!$A$14
Name LineEqDL: [3]Tables!$A$146
Name LSTvolPL: [3]Tables!$B$557:$B$586
Name MSDetail: [3]INPUTS!$C$11
Name OverTable: '[3]DEFAULTS-Override'!$B$8:$AG$128
Name OVTDLperLine: '[3]DEFAULTS-Override'!$A$76
Name PNLDTable: '[2]P&LDetail'!$B$3:$AR$81
Name PNLDTAP2: '[2]P&LDetail'!$A$75
Name PNLDTAR: '[2]P&LDetail'!$A$69
Name PNLDTCorpSGA: '[2]P&LDetail'!$A$44
Name PNLDTDL: '[2]P&LDetail'!$A$30
Name PNLDTDPO: '[2]P&LDetail'!$A$79
Name PNLDTDSO: '[2]P&LDetail'!$A$78
Name PNLDTEDM: '[2]P&LDetail'!$A$27
Name PNLDTEO: '[2]P&LDetail'!$A$23
Name PNLDTFac: '[2]P&LDetail'!$A$74
Name PNLDTFD: '[2]P&LDetail'!$A$24
Name PNLDTInterest: '[2]P&LDetail'!$A$48
Name PNLDTInv2: '[2]P&LDetail'!$A$70
Name PNLDTLandP: '[2]P&LDetail'!$A$64
Name PNLDTMatOH: '[2]P&LDetail'!$A$34
Name PNLDTMfgOH: '[2]P&LDetail'!$A$40
Name PNLDTMLoss: '[2]P&LDetail'!$A$22
Name PNLDTNetEQT: '[2]P&LDetail'!$A$73
Name PNLDTPAI: '[2]P&LDetail'!$A$50
Name PNLDTPrice: '[2]P&LDetail'!$A$52

Sheet Tester utilization calculator
B2: Tester utilization calculator | E2: Updated: 08 Jun 21 | N2: Available days | O2: 26 | R2: ='Waters Calender'!H5 -> 19 | U2: ='Waters Calender'!I5 -> 19 | X2: ='Waters Calender'!J5 -> 25 | AA2: ='Waters Calender'!K5 -> 20 | AD2: ='Waters Calender'!L5 -> 19 | AG2: ='Waters Calender'!M5 -> 24
N3: Month | O3: Jun | R3: Jul | U3: Aug | X3: Sep | AA3: Oct | AD3: Nov | AG3: Dec
B4: Product Family | C4: Main / Spares | D4: PN | E4: Product Family | F4: Tester Number | G4: Tester name | H4: Qty | I4: Test Time (hrs) | J4: Tester Efficiency(%) | K4: No of shifts | L4: Shift allocation time (hrs) | M4: Available Line Capacity (hrs): | N4: Test capacity per day (pcs) | O4: Tester Capacity per month | P4: Demand | Q4: Tester Utilization include Spares demand | R4: Tester Capacity per month | S4: Demand | T4: Tester Utilization exclude Spares demand | U4: Tester Capacity per month | V4: Demand | W4: Tester Utilization exclude Spares demand | X4: Tester Capacity per month | Y4: Demand | Z4: Tester Utilization exclude Spares demand | AA4: Tester Capacity per month | AB4: Demand | AC4: Tester Utilization exclude Spares demand | AD4: Tester Capacity per month | AE4: Demand | AF4: Tester Utilization exclude Spares demand | AG4: Tester Capacity per month | AH4: Demand | AI4: Tester Utilization exclude Spares demand | AJ4: Common with Spares | AK4: Remarks
B5: Pumps | C5: Pumps | D5: WAT207000 | E5: Pump Mechanic Run In Test | F5: TE82613 | G5: TE82613 | H5: 2 | I5: 0.2 | J5: 0.98 | K5: 1 | L5: 8 | M5: =H5*K5*L5 -> 16 | N5: =(M5/I5)*J5 -> 78.4 | O5: =N5*$O$2 -> 2038.4 | P5: =VLOOKUP(D5,Forecast!B$1:H$27,7,FALSE) -> 15 | Q5: =SUM(P5:P9)/O5 -> 0.0073587127 | R5: =N5*$R$2 -> 1489.6 | S5: =VLOOKUP(D5,Forecast!$B$1:$I$27,8,FALSE) -> 38 | T5: =SUM(S5:S9)/R5 -> 0.04632116 | U5: =N5*$U$2 -> 1489.6 | V5: =VLOOKUP(D5,Forecast!B$1:J$27,9,FALSE) -> 24 | W5: =SUM(V5:V9)/U5 -> 0.018125671 | X5: =N5*$X$2 -> 1960 | Y5: =VLOOKUP(D5,Forecast!B$1:K$27,10,FALSE) -> 0 | Z5: =SUM(Y5:Y9)/X5 -> 0 | AA5: =N5*$AA$2 -> 1568 | AB5: =VLOOKUP(D5,Forecast!B$1:L$27,11,FALSE) -> 26 | AC5: =SUM(AB5:AB9)/AA5 -> 0.02869898 | AD5: =N5*$AD$2 -> 1489.6 | AE5: =VLOOKUP(D5,Forecast!B$1:M$27,12,FALSE) -> 26 | AF5: =SUM(AE5:AE9)/AD5 -> 0.029538131 | AG5: =N5*$AG$2 -> 1881.6 | AH5: =VLOOKUP(D5,Forecast!B$1:N$27,13,FALSE) -> 25 | AI5: =SUM(AH5:AH9)/AG5 -> 0.022321429 | AJ5: Common with Spares | AK5: NA
C6: Pumps | D6: 186001515 | E6: Pump Mechanic Run In Test | F6: TE82613 | G6: TE82613 | H6: 2 | I6: 0.2 | J6: 0.98 | K6: 1 | L6: 8 | M6: =H6*K6*L6 -> 16 | N6: =(M6/I6)*J6 -> 78.4 | O6: =N6*$O$2 -> 2038.4 | P6: 0 | R6: =N6*$R$2 -> 1489.6 | S6: =VLOOKUP(D6,Forecast!$B$1:$I$27,8,FALSE) -> 11 | U6: =N6*$U$2 -> 1489.6 | V6: =VLOOKUP(D6,Forecast!B$1:J$27,9,FALSE) -> 0 | X6: =N6*$X$2 -> 1960 | Y6: =VLOOKUP(D6,Forecast!B$1:K$27,10,FALSE) -> 0 | AA6: =N6*$AA$2 -> 1568 | AB6: =VLOOKUP(D6,Forecast!B$1:L$27,11,FALSE) -> 7 | AD6: =N6*$AD$2 -> 1489.6 | AE6: =VLOOKUP(D6,Forecast!B$1:M$27,12,FALSE) -> 6 | AG6: =N6*$AG$2 -> 1881.6 | AH6: =VLOOKUP(D6,Forecast!B$1:N$27,13,FALSE) -> 6
C7: Pumps | D7: 186001525 | E7: Pump Mechanic Run In Test | F7: TE82613 | G7: TE82613 | H7: 2 | I7: 0.2 | J7: 0.98 | K7: 1 | L7: 8 | M7: =H7*K7*L7 -> 16 | N7: =(M7/I7)*J7 -> 78.4 | O7: =N7*$O$2 -> 2038.4 | P7: =VLOOKUP(D7,Forecast!B$1:H$27,7,FALSE) -> 0 | R7: =N7*$R$2 -> 1489.6 | S7: =VLOOKUP(D7,Forecast!$B$1:$I$27,8,FALSE) -> 20 | U7: =N7*$U$2 -> 1489.6 | V7: =VLOOKUP(D7,Forecast!B$1:J$27,9,FALSE) -> 3 | X7: =N7*$X$2 -> 1960 | Y7: =VLOOKUP(D7,Forecast!B$1:K$27,10,FALSE) -> 0 | AA7: =N7*$AA$2 -> 1568 | AB7: =VLOOKUP(D7,Forecast!B$1:L$27,11,FALSE) -> 12 | AD7: =N7*$AD$2 -> 1489.6 | AE7: =VLOOKUP(D7,Forecast!B$1:M$27,12,FALSE) -> 12 | AG7: =N7*$AG$2 -> 1881.6 | AH7: =VLOOKUP(D7,Forecast!B$1:N$27,13,FALSE) -> 11
C8: Pumps | D8: 186001825 | E8: Pump Mechanic Run In Test | F8: TE82613 | G8: TE82613 | H8: 2 | I8: 0.2 | J8: 0.98 | K8: 1 | L8: 8 | M8: =H8*K8*L8 -> 16 | N8: =(M8/I8)*J8 -> 78.4 | O8: =N8*$O$2 -> 2038.4 | P8: 0 | R8: =N8*$R$2 -> 1489.6 | S8: =VLOOKUP(D8,Forecast!$B$1:$I$27,8,FALSE) -> 0 | U8: =N8*$U$2 -> 1489.6 | V8: =VLOOKUP(D8,Forecast!B$1:J$27,9,FALSE) -> 0 | X8: =N8*$X$2 -> 1960 | Y8: =VLOOKUP(D8,Forecast!B$1:K$27,10,FALSE) -> 0 | AA8: =N8*$AA$2 -> 1568 | AB8: =VLOOKUP(D8,Forecast!B$1:L$27,11,FALSE) -> 0 | AD8: =N8*$AD$2 -> 1489.6 | AE8: =VLOOKUP(D8,Forecast!B$1:M$27,12,FALSE) -> 0 | AG8: =N8*$AG$2 -> 1881.6 | AH8: =VLOOKUP(D8,Forecast!B$1:N$27,13,FALSE) -> 0
C9: Spares | D9: WAS207033 | E9: Pump Mechanic Run In Test | F9: TE82613 | G9: TE82613 | H9: 2 | I9: 0.2 | J9: 0.98 | K9: 1 | L9: 8 | M9: =H9*K9*L9 -> 16 | N9: =(M9/I9)*J9 -> 78.4 | O9: =N9*$O$2 -> 2038.4 | P9: 0 | R9: =N9*$R$2 -> 1489.6 | S9: 0 | U9: =N9*$U$2 -> 1489.6 | V9: 0 | X9: =N9*$X$2 -> 1960 | Y9: 0 | AA9: =N9*$AA$2 -> 1568 | AB9: 0 | AD9: =N9*$AD$2 -> 1489.6 | AE9: 0 | AG9: =N9*$AG$2 -> 1881.6 | AH9: 0
C10: Pumps | D10: WAT207000 | E10: HIPOT / Safety Analyzer Test | F10: TE95037 | G10: TE95037 | H10: 1 | I10: 0.11 | J10: 0.98 | K10: 1 | L10: 8 | M10: =H10*K10*L10 -> 8 | N10: =(M10/I10)*J10 -> 71.272727 | O10: =N10*$O$2 -> 1853.0909 | P10: =VLOOKUP(D10,Forecast!B$1:H$27,7,FALSE) -> 15 | Q10: =SUM(P10:P13)/O10 -> 0.008094584 | R10: =N10*$R$2 -> 1354.1818 | S10: =VLOOKUP(D10,Forecast!$B$1:$I$27,8,FALSE) -> 38 | T10: =SUM(S10:S13)/R10 -> 0.050953276 | U10: =N10*$U$2 -> 1354.1818 | V10: =VLOOKUP(D10,Forecast!B$1:J$27,9,FALSE) -> 24 | W10: =SUM(V10:V13)/U10 -> 0.019938238 | X10: =N10*$X$2 -> 1781.8182 | Y10: =VLOOKUP(D10,Forecast!B$1:K$27,10,FALSE) -> 0 | Z10: =SUM(Y10:Y13)/X10 -> 0 | AA10: =N10*$AA$2 -> 1425.4545 | AB10: =VLOOKUP(D10,Forecast!B$1:L$27,11,FALSE) -> 26 | AC10: =SUM(AB10:AB13)/AA10 -> 0.031568878 | AD10: =N10*$AD$2 -> 1354.1818 | AE10: =VLOOKUP(D10,Forecast!B$1:M$27,12,FALSE) -> 26 | AF10: =SUM(AE10:AE13)/AD10 -> 0.032491944 | AG10: =N10*$AG$2 -> 1710.5455 | AH10: =VLOOKUP(D10,Forecast!B$1:N$27,13,FALSE) -> 25 | AI10: =SUM(AH10:AH13)/AG10 -> 0.024553571 | AJ10: Unique for Instrument
C11: Pumps | D11: 186001515 | E11: HIPOT / Safety Analyzer Test | F11: TE95037 | G11: TE95037 | H11: 1 | I11: 0.11 | J11: 0.98 | K11: 1 | L11: 8 | M11: =H11*K11*L11 -> 8 | N11: =(M11/I11)*J11 -> 71.272727 | O11: =N11*$O$2 -> 1853.0909 | P11: =VLOOKUP(D11,Forecast!B$1:H$27,7,FALSE) -> 0 | R11: =N11*$R$2 -> 1354.1818 | S11: =VLOOKUP(D11,Forecast!$B$1:$I$27,8,FALSE) -> 11 | U11: =N11*$U$2 -> 1354.1818 | V11: =VLOOKUP(D11,Forecast!B$1:J$27,9,FALSE) -> 0 | X11: =N11*$X$2 -> 1781.8182 | Y11: =VLOOKUP(D11,Forecast!B$1:K$27,10,FALSE) -> 0 | AA11: =N11*$AA$2 -> 1425.4545 | AB11: =VLOOKUP(D11,Forecast!B$1:L$27,11,FALSE) -> 7 | AD11: =N11*$AD$2 -> 1354.1818 | AE11: =VLOOKUP(D11,Forecast!B$1:M$27,12,FALSE) -> 6 | AG11: =N11*$AG$2 -> 1710.5455 | AH11: =VLOOKUP(D11,Forecast!B$1:N$27,13,FALSE) -> 6
C12: Pumps | D12: 186001525 | E12: HIPOT / Safety Analyzer Test | F12: TE95037 | G12: TE95037 | H12: 1 | I12: 0.11 | J12: 0.98 | K12: 1 | L12: 8 | M12: =H12*K12*L12 -> 8 | N12: =(M12/I12)*J12 -> 71.272727 | O12: =N12*$O$2 -> 1853.0909 | P12: =VLOOKUP(D12,Forecast!B$1:H$27,7,FALSE) -> 0 | R12: =N12*$R$2 -> 1354.1818 | S12: =VLOOKUP(D12,Forecast!$B$1:$I$27,8,FALSE) -> 20 | U12: =N12*$U$2 -> 1354.1818 | V12: =VLOOKUP(D12,Forecast!B$1:J$27,9,FALSE) -> 3 | X12: =N12*$X$2 -> 1781.8182 | Y12: =VLOOKUP(D12,Forecast!B$1:K$27,10,FALSE) -> 0 | AA12: =N12*$AA$2 -> 1425.4545 | AB12: =VLOOKUP(D12,Forecast!B$1:L$27,11,FALSE) -> 12 | AD12: =N12*$AD$2 -> 1354.1818 | AE12: =VLOOKUP(D12,Forecast!B$1:M$27,12,FALSE) -> 12 | AG12: =N12*$AG$2 -> 1710.5455 | AH12: =VLOOKUP(D12,Forecast!B$1:N$27,13,FALSE) -> 11
C13: Pumps | D13: 186001825 | E13: HIPOT / Safety Analyzer Test | F13: TE95037 | G13: TE95037 | H13: 1 | I13: 0.11 | J13: 0.98 | K13: 1 | L13: 8 | M13: =H13*K13*L13 -> 8 | N13: =(M13/I13)*J13 -> 71.272727 | O13: =N13*$O$2 -> 1853.0909 | P13: =VLOOKUP(D13,Forecast!B$1:H$27,7,FALSE) -> 0 | R13: =N13*$R$2 -> 1354.1818 | S13: =VLOOKUP(D13,Forecast!$B$1:$I$27,8,FALSE) -> 0 | U13: =N13*$U$2 -> 1354.1818 | V13: =VLOOKUP(D13,Forecast!B$1:J$27,9,FALSE) -> 0 | X13: =N13*$X$2 -> 1781.8182 | Y13: =VLOOKUP(D13,Forecast!B$1:K$27,10,FALSE) -> 0 | AA13: =N13*$AA$2 -> 1425.4545 | AB13: =VLOOKUP(D13,Forecast!B$1:L$27,11,FALSE) -> 0 | AD13: =N13*$AD$2 -> 1354.1818 | AE13: =VLOOKUP(D13,Forecast!B$1:M$27,12,FALSE) -> 0 | AG13: =N13*$AG$2 -> 1710.5455 | AH13: =VLOOKUP(D13,Forecast!B$1:N$27,13,FALSE) -> 0
C14: Pumps | D14: WAT207000 | E14: ASSY, HPLC PUMP, M515 | F14: TE 82534 | G14: TE 82534 | H14: 1 | I14: 0.83 | J14: 0.95 | K14: 1 | L14: 8 | M14: =H14*K14*L14 -> 8 | N14: =(M14/I14)*J14 -> 9.1566265 | O14: =N14*$O$2 -> 238.07229 | P14: =VLOOKUP(D14,Forecast!B$1:H$27,7,FALSE) -> 15 | Q14: =SUM(P14:P15)/O14 -> 0.063006073 | R14: =N14*$R$2 -> 173.9759 | S14: =VLOOKUP(D14,Forecast!$B$1:$I$27,8,FALSE) -> 38 | T14: =SUM(S14:S15)/R14 -> 0.21842105 | U14: =N14*$U$2 -> 173.9759 | V14: =VLOOKUP(D14,Forecast!B$1:J$27,9,FALSE) -> 24 | W14: =SUM(V14:V15)/U14 -> 0.13795014 | X14: =N14*$X$2 -> 228.91566 | Y14: =VLOOKUP(D14,Forecast!B$1:K$27,10,FALSE) -> 0 | Z14: =SUM(Y14:Y15)/X14 -> 0 | AA14: =N14*$AA$2 -> 183.13253 | AB14: =VLOOKUP(D14,Forecast!B$1:L$27,11,FALSE) -> 26 | AC14: =SUM(AB14:AB15)/AA14 -> 0.14197368 | AD14: =N14*$AD$2 -> 173.9759 | AE14: =VLOOKUP(D14,Forecast!B$1:M$27,12,FALSE) -> 26 | AF14: =SUM(AE14:AE15)/AD14 -> 0.14944598 | AG14: =N14*$AG$2 -> 219.75904 | AH14: =VLOOKUP(D14,Forecast!B$1:N$27,13,FALSE) -> 25 | AI14: =SUM(AH14:AH15)/AG14 -> 0.11376096 | AJ14: Common with Spares
C15: Spares | D15: WAS207006 | E15: ASSY, HPLC PUMP, M515 | F15: TE 82534 | G15: TE 82534 | H15: 1 | I15: 0.83 | J15: 0.95 | K15: 1 | L15: 8 | M15: =H15*K15*L15 -> 8 | N15: =(M15/I15)*J15 -> 9.1566265 | O15: =N15*$O$2 -> 238.07229 | P15: 0 | R15: =N15*$R$2 -> 173.9759 | S15: 0 | U15: =N15*$U$2 -> 173.9759 | V15: 0 | X15: =N15*$X$2 -> 228.91566 | Y15: 0 | AA15: =N15*$AA$2 -> 183.13253 | AB15: 0 | AD15: =N15*$AD$2 -> 173.9759 | AE15: 0 | AG15: =N15*$AG$2 -> 219.75904 | AH15: 0
C16: Pumps | D16: 186001515 | E16: 1515 ISOCRATIC HPLC PUMP | F16: TE 82705-02 | G16: TE 82705-02 | H16: 1 | I16: 0.83 | J16: 0.95 | K16: 1 | L16: 8 | M16: =H16*K16*L16 -> 8 | N16: =(M16/I16)*J16 -> 9.1566265 | O16: =N16*$O$2 -> 238.07229 | P16: =VLOOKUP(D16,Forecast!B$1:H$27,7,FALSE) -> 0 | Q16: =SUM(P16:P18)/O16 -> 0 | R16: =N16*$R$2 -> 173.9759 | S16: =VLOOKUP(D16,Forecast!$B$1:$I$27,8,FALSE) -> 11 | T16: =SUM(S16:S18)/R16 -> 0.1781856 | U16: =N16*$U$2 -> 173.9759 | V16: =VLOOKUP(D16,Forecast!B$1:J$27,9,FALSE) -> 0 | W16: =SUM(V16:V18)/U16 -> 0.017243767 | X16: =N16*$X$2 -> 228.91566 | Y16: =VLOOKUP(D16,Forecast!B$1:K$27,10,FALSE) -> 0 | Z16: =SUM(Y16:Y18)/X16 -> 0 | AA16: =N16*$AA$2 -> 183.13253 | AB16: =VLOOKUP(D16,Forecast!B$1:L$27,11,FALSE) -> 7 | AC16: =SUM(AB16:AB18)/AA16 -> 0.10375 | AD16: =N16*$AD$2 -> 173.9759 | AE16: =VLOOKUP(D16,Forecast!B$1:M$27,12,FALSE) -> 6 | AF16: =SUM(AE16:AE18)/AD16 -> 0.1034626 | AG16: =N16*$AG$2 -> 219.75904 | AH16: =VLOOKUP(D16,Forecast!B$1:N$27,13,FALSE) -> 6 | AI16: =SUM(AH16:AH18)/AG16 -> 0.077357456 | AJ16: Unique for Instrument
C17: Pumps | D17: 186001525 | E17: 1525 BINARY HPLC PUMP | F17: TE 82705-02 | G17: TE 82705-02 | I17: 1.58 | J17: 0.95 | K17: 1 | L17: 8 | M17: =H16*K17*L17 -> 8 | N17: =(M17/I17)*J17 -> 4.8101266 | O17: =N17*$O$2 -> 125.06329 | P17: =VLOOKUP(D17,Forecast!B$1:H$27,7,FALSE) -> 0 | R17: =N17*$R$2 -> 91.392405 | S17: =VLOOKUP(D17,Forecast!$B$1:$I$27,8,FALSE) -> 20 | U17: =N17*$U$2 -> 91.392405 | V17: =VLOOKUP(D17,Forecast!B$1:J$27,9,FALSE) -> 3 | X17: =N17*$X$2 -> 120.25316 | Y17: =VLOOKUP(D17,Forecast!B$1:K$27,10,FALSE) -> 0 | AA17: =N17*$AA$2 -> 96.202532 | AB17: =VLOOKUP(D17,Forecast!B$1:L$27,11,FALSE) -> 12 | AD17: =N17*$AD$2 -> 91.392405 | AE17: =VLOOKUP(D17,Forecast!B$1:M$27,12,FALSE) -> 12 | AG17: =N17*$AG$2 -> 115.44304 | AH17: =VLOOKUP(D17,Forecast!B$1:N$27,13,FALSE) -> 11
C18: Pumps | D18: 186001825 | E18: 1525µ Binary HPLC Pump w/Degasser | F18: TE 82705-02 | G18: TE 82705-02 | I18: 1.58 | J18: 0.95 | K18: 1 | L18: 8 | M18: =H16*K18*L18 -> 8 | N18: =(M18/I18)*J18 -> 4.8101266 | O18: =N18*$O$2 -> 125.06329 | P18: =VLOOKUP(D18,Forecast!B$1:H$27,7,FALSE) -> 0 | R18: =N18*$R$2 -> 91.392405 | S18: =VLOOKUP(D18,Forecast!$B$1:$I$27,8,FALSE) -> 0 | U18: =N18*$U$2 -> 91.392405 | V18: =VLOOKUP(D18,Forecast!B$1:J$27,9,FALSE) -> 0 | X18: =N18*$X$2 -> 120.25316 | Y18: =VLOOKUP(D18,Forecast!B$1:K$27,10,FALSE) -> 0 | AA18: =N18*$AA$2 -> 96.202532 | AB18: =VLOOKUP(D18,Forecast!B$1:L$27,11,FALSE) -> 0 | AD18: =N18*$AD$2 -> 91.392405 | AE18: =VLOOKUP(D18,Forecast!B$1:M$27,12,FALSE) -> 0 | AG18: =N18*$AG$2 -> 115.44304 | AH18: =VLOOKUP(D18,Forecast!B$1:N$27,13,FALSE) -> 0
B19: Alliance | C19: Alliance | D19: 186269505 | E19: Front Bezel/Keypad LCD Tester | F19: TE82546 | G19: TE82546 | H19: 1 | I19: 0.085 | J19: 0.95 | K19: 1 | L19: 8 | M19: =H19*K19*L19 -> 8 | N19: =(M19/I19)*J19 -> 89.411765 | O19: =N19*$O$2 -> 2324.7059 | P19: =VLOOKUP(D19,Forecast!B$1:H$27,7,FALSE) -> 104 | Q19: =SUM(P19:P21)/O19 -> 0.26627024 | R19: =N19*$R$2 -> 1698.8235 | S19: =VLOOKUP(D19,Forecast!$B$1:$I$27,8,FALSE) -> 64 | T19: =SUM(S19:S21)/R19 -> 0.24134349 | U19: =N19*$U$2 -> 1698.8235 | V19: =VLOOKUP(D19,Forecast!B$1:J$27,9,FALSE) -> 48 | W19: =SUM(V19:V21)/U19 -> 0.18954294 | X19: =N19*$X$2 -> 2235.2941 | Y19: =VLOOKUP(D19,Forecast!B$1:K$27,10,FALSE) -> 44 | Z19: =SUM(Y19:Y21)/X19 -> 0.14047368 | AA19: =N19*$AA$2 -> 1788.2353 | AB19: =VLOOKUP(D19,Forecast!B$1:L$27,11,FALSE) -> 60 | AC19: =SUM(AB19:AB21)/AA19 -> 0.20411184 | AD19: =N19*$AD$2 -> 1698.8235 | AE19: =VLOOKUP(D19,Forecast!B$1:M$27,12,FALSE) -> 59 | AF19: =SUM(AE19:AE21)/AD19 -> 0.21426593 | AG19: =N19*$AG$2 -> 2145.8824 | AH19: =VLOOKUP(D19,Forecast!B$1:N$27,13,FALSE) -> 59 | AI19: =SUM(AH19:AH21)/AG19 -> 0.16916118 | AJ19: Common with Spares
C20: Alliance | D20: 186269506 | E20: Front Bezel/Keypad LCD Tester | F20: TE82546 | G20: TE82546 | H20: 1 | I20: 0.085 | J20: 0.95 | K20: 1 | L20: 8 | M20: =H20*K20*L20 -> 8 | N20: =(M20/I20)*J20 -> 89.411765 | O20: =N20*$O$2 -> 2324.7059 | P20: =VLOOKUP(D20,Forecast!B$1:H$27,7,FALSE) -> 515 | R20: =N20*$R$2 -> 1698.8235 | S20: =VLOOKUP(D20,Forecast!$B$1:$I$27,8,FALSE) -> 346 | U20: =N20*$U$2 -> 1698.8235 | V20: =VLOOKUP(D20,Forecast!B$1:J$27,9,FALSE) -> 274 | X20: =N20*$X$2 -> 2235.2941 | Y20: =VLOOKUP(D20,Forecast!B$1:K$27,10,FALSE) -> 270 | AA20: =N20*$AA$2 -> 1788.2353 | AB20: =VLOOKUP(D20,Forecast!B$1:L$27,11,FALSE) -> 305 | AD20: =N20*$AD$2 -> 1698.8235 | AE20: =VLOOKUP(D20,Forecast!B$1:M$27,12,FALSE) -> 305 | AG20: =N20*$AG$2 -> 2145.8824 | AH20: =VLOOKUP(D20,Forecast!B$1:N$27,13,FALSE) -> 304
C21: Spares | D21: 700004463 | E21: Front Bezel/Keypad LCD Tester | F21: TE82546 | G21: TE82546 | H21: 1 | I21: 0.085 | J21: 0.95 | K21: 1 | L21: 8 | M21: =H21*K21*L21 -> 8 | N21: =(M21/I21)*J21 -> 89.411765 | O21: =N21*$O$2 -> 2324.7059 | P21: 0 | R21: =N21*$R$2 -> 1698.8235 | S21: 0 | U21: =N21*$U$2 -> 1698.8235 | V21: 0 | X21: =N21*$X$2 -> 2235.2941 | Y21: 0 | AA21: =N21*$AA$2 -> 1788.2353 | AB21: 0 | AD21: =N21*$AD$2 -> 1698.8235 | AE21: 0 | AG21: =N21*$AG$2 -> 2145.8824 | AH21: 0
C22: Alliance | D22: 186269505 | E22: Pump Tray Tester | F22: TE82526 | G22: TE82526 | H22: 3 | I22: 0.65 | J22: 0.8 | K22: 1 | L22: 8 | M22: =H22*K22*L22 -> 24 | N22: =(M22/I22)*J22 -> 29.538462 | O22: =N22*$O$2 -> 768 | P22: =VLOOKUP(D22,Forecast!B$1:H$27,7,FALSE) -> 104 | Q22: =SUM(P22:P24)/O22 -> 0.80598958 | R22: =N22*$R$2 -> 561.23077 | S22: =VLOOKUP(D22,Forecast!$B$1:$I$27,8,FALSE) -> 64 | T22: =SUM(S22:S24)/R22 -> 0.73053728 | U22: =N22*$U$2 -> 561.23077 | V22: =VLOOKUP(D22,Forecast!B$1:J$27,9,FALSE) -> 48 | W22: =SUM(V22:V24)/U22 -> 0.57373904 | X22: =N22*$X$2 -> 738.46154 | Y22: =VLOOKUP(D22,Forecast!B$1:K$27,10,FALSE) -> 44 | Z22: =SUM(Y22:Y24)/X22 -> 0.42520833 | AA22: =N22*$AA$2 -> 590.76923 | AB22: =VLOOKUP(D22,Forecast!B$1:L$27,11,FALSE) -> 60 | AC22: =SUM(AB22:AB24)/AA22 -> 0.61783854 | AD22: =N22*$AD$2 -> 561.23077 | AE22: =VLOOKUP(D22,Forecast!B$1:M$27,12,FALSE) -> 59 | AF22: =SUM(AE22:AE24)/AD22 -> 0.64857456 | AG22: =N22*$AG$2 -> 708.92308 | AH22: =VLOOKUP(D22,Forecast!B$1:N$27,13,FALSE) -> 59 | AI22: =SUM(AH22:AH24)/AG22 -> 0.51204427 | AJ22: Common with Spares
C23: Alliance | D23: 186269506 | E23: Pump Tray Tester | F23: TE82526 | G23: TE82526 | H23: 3 | I23: 0.65 | J23: 0.8 | K23: 1 | L23: 8 | M23: =H23*K23*L23 -> 24 | N23: =(M23/I23)*J23 -> 29.538462 | O23: =N23*$O$2 -> 768 | P23: =VLOOKUP(D23,Forecast!B$1:H$27,7,FALSE) -> 515 | R23: =N23*$R$2 -> 561.23077 | S23: =VLOOKUP(D23,Forecast!$B$1:$I$27,8,FALSE) -> 346 | U23: =N23*$U$2 -> 561.23077 | V23: =VLOOKUP(D23,Forecast!B$1:J$27,9,FALSE) -> 274 | X23: =N23*$X$2 -> 738.46154 | Y23: =VLOOKUP(D23,Forecast!B$1:K$27,10,FALSE) -> 270 | AA23: =N23*$AA$2 -> 590.76923 | AB23: =VLOOKUP(D23,Forecast!B$1:L$27,11,FALSE) -> 305 | AD23: =N23*$AD$2 -> 561.23077 | AE23: =VLOOKUP(D23,Forecast!B$1:M$27,12,FALSE) -> 305 | AG23: =N23*$AG$2 -> 708.92308 | AH23: =VLOOKUP(D23,Forecast!B$1:N$27,13,FALSE) -> 304
C24: Spares | D24: 700001030 | E24: Pump Tray Tester | F24: TE82526 | G24: TE82526 | H24: 3 | I24: 0.65 | J24: 0.8 | K24: 1 | L24: 8 | M24: =H24*K24*L24 -> 24 | N24: =(M24/I24)*J24 -> 29.538462 | O24: =N24*$O$2 -> 768 | P24: 0 | R24: =N24*$R$2 -> 561.23077 | S24: 0 | U24: =N24*$U$2 -> 561.23077 | V24: 0 | X24: =N24*$X$2 -> 738.46154 | Y24: 0 | AA24: =N24*$AA$2 -> 590.76923 | AB24: 0 | AD24: =N24*$AD$2 -> 561.23077 | AE24: 0 | AG24: =N24*$AG$2 -> 708.92308 | AH24: 0
C25: Spares | D25: WAT045438 | E25: HPMV Tester | F25: TE82625 | G25: TE82625 | H25: 1 | I25: 0.11 | J25: 0.85 | K25: 1 | L25: 8 | M25: =H25*K25*L25 -> 8 | N25: =(M25/I25)*J25 -> 61.818182 | O25: =N25*$O$2 -> 1607.2727 | P25: 0 | Q25: =P25/O25 -> 0 | R25: =N25*$R$2 -> 1174.5455 | S25: 0 | T25: =S25/R25 -> 0 | U25: =N25*$U$2 -> 1174.5455 | V25: 0 | W25: =V25/U25 -> 0 | X25: =N25*$X$2 -> 1545.4545 | Y25: 0 | Z25: =Y25/X25 -> 0 | AA25: =N25*$AA$2 -> 1236.3636 | AB25: 0 | AC25: =AB25/AA25 -> 0 | AD25: =N25*$AD$2 -> 1174.5455 | AE25: 0 | AF25: =AE25/AD25 -> 0 | AG25: =N25*$AG$2 -> 1483.6364 | AH25: 0 | AI25: =AH25/AG25 -> 0 | AJ25: Spares only
C26: Alliance | D26: 186269505 | E26: Syringe Needle tester | F26: TE82656 | G26: TE82656 | H26: 1 | I26: 0.05 | J26: 0.95 | K26: 1 | L26: 8 | M26: =H26*K26*L26 -> 8 | N26: =(M26/I26)*J26 -> 152 | O26: =N26*$O$2 -> 3952 | P26: =VLOOKUP(D26,Forecast!B$1:H$27,7,FALSE) -> 104 | Q26: =SUM(P26:P28)/O26 -> 0.15662955 | R26: =N26*$R$2 -> 2888 | S26: =VLOOKUP(D26,Forecast!$B$1:$I$27,8,FALSE) -> 64 | T26: =SUM(S26:S28)/R26 -> 0.14196676 | U26: =N26*$U$2 -> 2888 | V26: =VLOOKUP(D26,Forecast!B$1:J$27,9,FALSE) -> 48 | W26: =SUM(V26:V28)/U26 -> 0.11149584 | X26: =N26*$X$2 -> 3800 | Y26: =VLOOKUP(D26,Forecast!B$1:K$27,10,FALSE) -> 44 | Z26: =SUM(Y26:Y28)/X26 -> 0.082631579 | AA26: =N26*$AA$2 -> 3040 | AB26: =VLOOKUP(D26,Forecast!B$1:L$27,11,FALSE) -> 60 | AC26: =SUM(AB26:AB28)/AA26 -> 0.12006579 | AD26: =N26*$AD$2 -> 2888 | AE26: =VLOOKUP(D26,Forecast!B$1:M$27,12,FALSE) -> 59 | AF26: =SUM(AE26:AE28)/AD26 -> 0.12603878 | AG26: =N26*$AG$2 -> 3648 | AH26: =VLOOKUP(D26,Forecast!B$1:N$27,13,FALSE) -> 59 | AI26: =SUM(AH26:AH28)/AG26 -> 0.099506579 | AJ26: Common with Spares
C27: Alliance | D27: 186269506 | E27: Syringe Needle tester | F27: TE82656 | G27: TE82656 | H27: 1 | I27: 0.05 | J27: 0.95 | K27: 1 | L27: 8 | M27: =H27*K27*L27 -> 8 | N27: =(M27/I27)*J27 -> 152 | O27: =N27*$O$2 -> 3952 | P27: =VLOOKUP(D27,Forecast!B$1:H$27,7,FALSE) -> 515 | R27: =N27*$R$2 -> 2888 | S27: =VLOOKUP(D27,Forecast!$B$1:$I$27,8,FALSE) -> 346 | U27: =N27*$U$2 -> 2888 | V27: =VLOOKUP(D27,Forecast!B$1:J$27,9,FALSE) -> 274 | X27: =N27*$X$2 -> 3800 | Y27: =VLOOKUP(D27,Forecast!B$1:K$27,10,FALSE) -> 270 | AA27: =N27*$AA$2 -> 3040 | AB27: =VLOOKUP(D27,Forecast!B$1:L$27,11,FALSE) -> 305 | AD27: =N27*$AD$2 -> 2888 | AE27: =VLOOKUP(D27,Forecast!B$1:M$27,12,FALSE) -> 305 | AG27: =N27*$AG$2 -> 3648 | AH27: =VLOOKUP(D27,Forecast!B$1:N$27,13,FALSE) -> 304
C28: Spares | D28: 700000239 | E28: Syringe Needle tester | F28: TE82656 | G28: TE82656 | H28: 1 | I28: 0.05 | J28: 0.95 | K28: 1 | L28: 8 | M28: =H28*K28*L28 -> 8 | N28: =(M28/I28)*J28 -> 152 | O28: =N28*$O$2 -> 3952 | P28: 0 | R28: =N28*$R$2 -> 2888 | S28: 0 | U28: =N28*$U$2 -> 2888 | V28: 0 | X28: =N28*$X$2 -> 3800 | Y28: 0 | AA28: =N28*$AA$2 -> 3040 | AB28: 0 | AD28: =N28*$AD$2 -> 2888 | AE28: 0 | AG28: =N28*$AG$2 -> 3648 | AH28: 0
C29: Alliance | D29: 186269505 | E29: Injector Seal Wash Tester | F29: TE82503 | G29: TE82503 | H29: 2 | I29: 0.3 | J29: 0.85 | K29: 1 | L29: 8 | M29: =H29*K29*L29 -> 16 | N29: =(M29/I29)*J29 -> 45.333333 | O29: =N29*$O$2 -> 1178.6667 | P29: =VLOOKUP(D29,Forecast!B$1:H$27,7,FALSE) -> 104 | Q29: =SUM(P29:P36)/O29 -> 1.0045249 | R29: =N29*$R$2 -> 861.33333 | S29: =VLOOKUP(D29,Forecast!$B$1:$I$27,8,FALSE) -> 64 | T29: =SUM(S29:S36)/R29 -> 0.47600619 | U29: =N29*$U$2 -> 861.33333 | V29: =VLOOKUP(D29,Forecast!B$1:J$27,9,FALSE) -> 48 | W29: =SUM(V29:V36)/U29 -> 0.37383901 | X29: =N29*$X$2 -> 1133.3333 | Y29: =VLOOKUP(D29,Forecast!B$1:K$27,10,FALSE) -> 44 | Z29: =SUM(Y29:Y36)/X29 -> 0.27705882 | AA29: =N29*$AA$2 -> 906.66667 | AB29: =VLOOKUP(D29,Forecast!B$1:L$27,11,FALSE) -> 60 | AC29: =SUM(AB29:AB36)/AA29 -> 0.40257353 | AD29: =N29*$AD$2 -> 861.33333 | AE29: =VLOOKUP(D29,Forecast!B$1:M$27,12,FALSE) -> 59 | AF29: =SUM(AE29:AE36)/AD29 -> 0.42260062 | AG29: =N29*$AG$2 -> 1088 | AH29: =VLOOKUP(D29,Forecast!B$1:N$27,13,FALSE) -> 59 | AI29: =SUM(AH29:AH36)/AG29 -> 0.33363971 | AJ29: Common with Spares | AK29: Propose to cover by OT
C30: Alliance | D30: 186269506 | E30: Injector Seal Wash Tester | F30: TE82503 | G30: TE82503 | H30: 2 | I30: 0.3 | J30: 0.85 | K30: 1 | L30: 8 | M30: =H30*K30*L30 -> 16 | N30: =(M30/I30)*J30 -> 45.333333 | O30: =N30*$O$2 -> 1178.6667 | P30: =VLOOKUP(D30,Forecast!B$1:H$27,7,FALSE) -> 515 | R30: =N30*$R$2 -> 861.33333 | S30: =VLOOKUP(D30,Forecast!$B$1:$I$27,8,FALSE) -> 346 | U30: =N30*$U$2 -> 861.33333 | V30: =VLOOKUP(D30,Forecast!B$1:J$27,9,FALSE) -> 274 | X30: =N30*$X$2 -> 1133.3333 | Y30: =VLOOKUP(D30,Forecast!B$1:K$27,10,FALSE) -> 270 | AA30: =N30*$AA$2 -> 906.66667 | AB30: =VLOOKUP(D30,Forecast!B$1:L$27,11,FALSE) -> 305 | AD30: =N30*$AD$2 -> 861.33333 | AE30: =VLOOKUP(D30,Forecast!B$1:M$27,12,FALSE) -> 305 | AG30: =N30*$AG$2 -> 1088 | AH30: =VLOOKUP(D30,Forecast!B$1:N$27,13,FALSE) -> 304
C31: Spares | D31: 289012412 | E31: Injector Seal Wash Tester | F31: TE82503 | G31: TE82503 | H31: 2 | I31: 0.3 | J31: 0.85 | K31: 1 | L31: 8 | M31: =H31*K31*L31 -> 16 | N31: =(M31/I31)*J31 -> 45.333333 | O31: =N31*$O$2 -> 1178.6667 | P31: 0 | R31: =N31*$R$2 -> 861.33333 | S31: 0 | U31: =N31*$U$2 -> 861.33333 | V31: 0 | X31: =N31*$X$2 -> 1133.3333 | Y31: 0 | AA31: =N31*$AA$2 -> 906.66667 | AB31: 0 | AD31: =N31*$AD$2 -> 861.33333 | AE31: 0 | AG31: =N31*$AG$2 -> 1088 | AH31: 0
C32: Spares | D32: 700002789 | E32: Injector Seal Wash Tester | F32: TE82503 | G32: TE82503 | H32: 2 | I32: 0.3 | J32: 0.85 | K32: 1 | L32: 8 | M32: =H32*K32*L32 -> 16 | N32: =(M32/I32)*J32 -> 45.333333 | O32: =N32*$O$2 -> 1178.6667 | P32: 60 | R32: =N32*$R$2 -> 861.33333 | S32: 0 | U32: =N32*$U$2 -> 861.33333 | V32: 0 | X32: =N32*$X$2 -> 1133.3333 | Y32: 0 | AA32: =N32*$AA$2 -> 906.66667 | AB32: 0 | AD32: =N32*$AD$2 -> 861.33333 | AE32: 0 | AG32: =N32*$AG$2 -> 1088 | AH32: 0
C33: Spares | D33: 700002791 | E33: Injector Seal Wash Tester | F33: TE82503 | G33: TE82503 | H33: 2 | I33: 0.3 | J33: 0.85 | K33: 1 | L33: 8 | M33: =H33*K33*L33 -> 16 | N33: =(M33/I33)*J33 -> 45.333333 | O33: =N33*$O$2 -> 1178.6667 | P33: 120 | R33: =N33*$R$2 -> 861.33333 | S33: 0 | U33: =N33*$U$2 -> 861.33333 | V33: 0 | X33: =N33*$X$2 -> 1133.3333 | Y33: 0 | AA33: =N33*$AA$2 -> 906.66667 | AB33: 0 | AD33: =N33*$AD$2 -> 861.33333 | AE33: 0 | AG33: =N33*$AG$2 -> 1088 | AH33: 0
C34: Spares | D34: 700011784 | E34: Injector Seal Wash Tester | F34: TE82503 | G34: TE82503 | H34: 2 | I34: 0.3 | J34: 0.85 | K34: 1 | L34: 8 | M34: =H34*K34*L34 -> 16 | N34: =(M34/I34)*J34 -> 45.333333 | O34: =N34*$O$2 -> 1178.6667 | P34: 48 | R34: =N34*$R$2 -> 861.33333 | S34: 0 | U34: =N34*$U$2 -> 861.33333 | V34: 0 | X34: =N34*$X$2 -> 1133.3333 | Y34: 0 | AA34: =N34*$AA$2 -> 906.66667 | AB34: 0 | AD34: =N34*$AD$2 -> 861.33333 | AE34: 0 | AG34: =N34*$AG$2 -> 1088 | AH34: 0
C35: Spares | D35: 700011785 | E35: Injector Seal Wash Tester | F35: TE82503 | G35: TE82503 | H35: 2 | I35: 0.3 | J35: 0.85 | K35: 1 | L35: 8 | M35: =H35*K35*L35 -> 16 | N35: =(M35/I35)*J35 -> 45.333333 | O35: =N35*$O$2 -> 1178.6667 | P35: 14 | R35: =N35*$R$2 -> 861.33333 | S35: 0 | U35: =N35*$U$2 -> 861.33333 | V35: 0 | X35: =N35*$X$2 -> 1133.3333 | Y35: 0 | AA35: =N35*$AA$2 -> 906.66667 | AB35: 0 | AD35: =N35*$AD$2 -> 861.33333 | AE35: 0 | AG35: =N35*$AG$2 -> 1088 | AH35: 0
C36: Spares | D36: 700011805 | E36: Injector Seal Wash Tester | F36: TE82503 | G36: TE82503 | H36: 2 | I36: 0.3 | J36: 0.85 | K36: 1 | L36: 8 | M36: =H36*K36*L36 -> 16 | N36: =(M36/I36)*J36 -> 45.333333 | O36: =N36*$O$2 -> 1178.6667 | P36: 323 | R36: =N36*$R$2 -> 861.33333 | S36: 0 | U36: =N36*$U$2 -> 861.33333 | V36: 0 | X36: =N36*$X$2 -> 1133.3333 | Y36: 0 | AA36: =N36*$AA$2 -> 906.66667 | AB36: 0 | AD36: =N36*$AD$2 -> 861.33333 | AE36: 0 | AG36: =N36*$AG$2 -> 1088 | AH36: 0
C37: Alliance | D37: 186269505 | E37: Carousel Carrier Drive Alignment Station | F37: TE82520 | G37: TE82520 | H37: 2 | I37: 0.42 | J37: 0.85 | K37: 1 | L37: 8 | M37: =H37*K37*L37 -> 16 | N37: =(M37/I37)*J37 -> 32.380952 | O37: =N37*$O$2 -> 841.90476 | P37: =VLOOKUP(D37,Forecast!B$1:H$27,7,FALSE) -> 104 | Q37: =SUM(P37:P39)/O37 -> 0.73523756 | R37: =N37*$R$2 -> 615.2381 | S37: =VLOOKUP(D37,Forecast!$B$1:$I$27,8,FALSE) -> 64 | T37: =SUM(S37:S39)/R37 -> 0.66640867 | U37: =N37*$U$2 -> 615.2381 | V37: =VLOOKUP(D37,Forecast!B$1:J$27,9,FALSE) -> 48 | W37: =SUM(V37:V39)/U37 -> 0.52337461 | X37: =N37*$X$2 -> 809.52381 | Y37: =VLOOKUP(D37,Forecast!B$1:K$27,10,FALSE) -> 44 | Z37: =SUM(Y37:Y39)/X37 -> 0.38788235 | AA37: =N37*$AA$2 -> 647.61905 | AB37: =VLOOKUP(D37,Forecast!B$1:L$27,11,FALSE) -> 60 | AC37: =SUM(AB37:AB39)/AA37 -> 0.56360294 | AD37: =N37*$AD$2 -> 615.2381 | AE37: =VLOOKUP(D37,Forecast!B$1:M$27,12,FALSE) -> 59 | AF37: =SUM(AE37:AE39)/AD37 -> 0.59164087 | AG37: =N37*$AG$2 -> 777.14286 | AH37: =VLOOKUP(D37,Forecast!B$1:N$27,13,FALSE) -> 59 | AI37: =SUM(AH37:AH39)/AG37 -> 0.46709559 | AJ37: Common with Spares
C38: Alliance | D38: 186269506 | E38: Carousel Carrier Drive Alignment Station | F38: TE82520 | G38: TE82520 | H38: 2 | I38: 0.42 | J38: 0.85 | K38: 1 | L38: 8 | M38: =H38*K38*L38 -> 16 | N38: =(M38/I38)*J38 -> 32.380952 | O38: =N38*$O$2 -> 841.90476 | P38: =VLOOKUP(D38,Forecast!B$1:H$27,7,FALSE) -> 515 | R38: =N38*$R$2 -> 615.2381 | S38: =VLOOKUP(D38,Forecast!$B$1:$I$27,8,FALSE) -> 346 | U38: =N38*$U$2 -> 615.2381 | V38: =VLOOKUP(D38,Forecast!B$1:J$27,9,FALSE) -> 274 | X38: =N38*$X$2 -> 809.52381 | Y38: =VLOOKUP(D38,Forecast!B$1:K$27,10,FALSE) -> 270 | AA38: =N38*$AA$2 -> 647.61905 | AB38: =VLOOKUP(D38,Forecast!B$1:L$27,11,FALSE) -> 305 | AD38: =N38*$AD$2 -> 615.2381 | AE38: =VLOOKUP(D38,Forecast!B$1:M$27,12,FALSE) -> 305 | AG38: =N38*$AG$2 -> 777.14286 | AH38: =VLOOKUP(D38,Forecast!B$1:N$27,13,FALSE) -> 304
C39: Spares | D39: WAT270928 | E39: Carousel Carrier Drive Alignment Station | F39: TE82520 | G39: TE82520 | H39: 2 | I39: 0.42 | J39: 0.85 | K39: 1 | L39: 8 | M39: =H39*K39*L39 -> 16 | N39: =(M39/I39)*J39 -> 32.380952 | O39: =N39*$O$2 -> 841.90476 | P39: 0 | R39: =N39*$R$2 -> 615.2381 | S39: 0 | U39: =N39*$U$2 -> 615.2381 | V39: 0 | X39: =N39*$X$2 -> 809.52381 | Y39: 0 | AA39: =N39*$AA$2 -> 647.61905 | AB39: 0 | AD39: =N39*$AD$2 -> 615.2381 | AE39: 0 | AG39: =N39*$AG$2 -> 777.14286 | AH39: 0
C40: Spares | D40: 700011708 | E40: Fluidics Tray Tester | F40: TE82523 | G40: TE82523 | H40: 1 | I40: 0.25 | J40: 0.9 | K40: 1 | L40: 8 | M40: =H40*K40*L40 -> 8 | N40: =(M40/I40)*J40 -> 28.8 | O40: =N40*$O$2 -> 748.8 | P40: 0 | Q40: =P40/$O$40 -> 0 | R40: =N40*$R$2 -> 547.2 | S40: 0 | T40: =S40/$O$40 -> 0 | U40: =N40*$U$2 -> 547.2 | V40: 0 | W40: =V40/$O$40 -> 0 | X40: =N40*$X$2 -> 720 | Y40: 0 | Z40: =Y40/$O$40 -> 0 | AA40: =N40*$AA$2 -> 576 | AB40: 0 | AC40: =AB40/$O$40 -> 0 | AD40: =N40*$AD$2 -> 547.2 | AE40: 0 | AF40: =AE40/$O$40 -> 0 | AG40: =N40*$AG$2 -> 691.2 | AH40: 0 | AI40: =AH40/$O$40 -> 0 | AJ40: Spares only
C41: Spares | D41: WAT270802 | E41: Heater Cooler Tester | F41: TE0084018 | G41: TE0084018 | H41: 1 | I41: 0.2 | J41: 0.95 | K41: 1 | L41: 8 | M41: =H41*K41*L41 -> 8 | N41: =(M41/I41)*J41 -> 38 | O41: =N41*$O$2 -> 988 | P41: 0 | Q41: =SUM(P41:P42)/$O$41 -> 0 | R41: =N41*$R$2 -> 722 | S41: 0 | T41: =SUM(S41:S42)/$O$41 -> 0 | U41: =N41*$U$2 -> 722 | V41: 0 | W41: =SUM(V41:V42)/$O$41 -> 0 | X41: =N41*$X$2 -> 950 | Y41: 0 | Z41: =SUM(Y41:Y42)/$O$41 -> 0 | AA41: =N41*$AA$2 -> 760 | AB41: 0 | AC41: =SUM(AB41:AB42)/$O$41 -> 0 | AD41: =N41*$AD$2 -> 722 | AE41: 0 | AF41: =SUM(AE41:AE42)/$O$41 -> 0 | AG41: =N41*$AG$2 -> 912 | AH41: 0 | AI41: =SUM(AH41:AH42)/$O$41 -> 0 | AJ41: Spares only
C42: Spares | D42: WAT270804 | E42: Heater Cooler Tester | F42: TE0084018 | G42: TE0084018 | H42: 1 | I42: 0.2 | J42: 0.95 | K42: 1 | L42: 8 | M42: =H42*K42*L42 -> 8 | N42: =(M42/I42)*J42 -> 38 | O42: =N42*$O$2 -> 988 | P42: 0 | R42: =N42*$R$2 -> 722 | S42: 0 | U42: =N42*$U$2 -> 722 | V42: 0 | X42: =N42*$X$2 -> 950 | Y42: 0 | AA42: =N42*$AA$2 -> 760 | AB42: 0 | AD42: =N42*$AD$2 -> 722 | AE42: 0 | AG42: =N42*$AG$2 -> 912 | AH42: 0
C43: Alliance | D43: 186269505 | E43: e2695 Separations Module w/o H/C | F43: Final test | G43: Final test | H43: 20 | I43: =4.9+0.75+0.067 -> 5.717 | J43: 0.75 | K43: 1 | L43: 8 | M43: =H43*K43*L43 -> 160 | N43: =(M43/I43)*J43 -> 20.99003 | O43: =N43*$O$2 -> 545.74077 | P43: =VLOOKUP(D43,Forecast!B$1:H$27,7,FALSE) -> 104 | Q43: =SUM(P43:P44)/O43 -> 1.1342381 | R43: =N43*$R$2 -> 398.81056 | S43: =VLOOKUP(D43,Forecast!$B$1:$I$27,8,FALSE) -> 64 | T43: =SUM(S43:S44)/R43 -> 1.028057 | U43: =N43*$U$2 -> 398.81056 | V43: =VLOOKUP(D43,Forecast!B$1:J$27,9,FALSE) -> 48 | W43: =SUM(V43:V44)/U43 -> 0.80740088 | X43: =N43*$X$2 -> 524.75074 | Y43: =VLOOKUP(D43,Forecast!B$1:K$27,10,FALSE) -> 44 | Z43: =SUM(Y43:Y44)/X43 -> 0.59837933 | AA43: =N43*$AA$2 -> 419.80059 | AB43: =VLOOKUP(D43,Forecast!B$1:L$27,11,FALSE) -> 60 | AC43: =SUM(AB43:AB44)/AA43 -> 0.86946042 | AD43: =N43*$AD$2 -> 398.81056 | AE43: =VLOOKUP(D43,Forecast!B$1:M$27,12,FALSE) -> 59 | AF43: =SUM(AE43:AE44)/AD43 -> 0.91271404 | AG43: =N43*$AG$2 -> 503.76071 | AH43: =VLOOKUP(D43,Forecast!B$1:N$27,13,FALSE) -> 59 | AI43: =SUM(AH43:AH44)/AG43 -> 0.72058021 | AJ43: Unique for Instrument | AK43: Propose to cover by OT; Current 6th tester in migration to new tester
C44: Alliance | D44: 186269506 | E44: e2695 Separations Module w/o H/C | F44: Final test | G44: Final test | H44: 20 | I44: =4.9+0.75+0.067 -> 5.717 | J44: 0.75 | K44: 1 | L44: 8 | M44: =H44*K44*L44 -> 160 | N44: =(M44/I44)*J44 -> 20.99003 | O44: =N44*$O$2 -> 545.74077 | P44: =VLOOKUP(D44,Forecast!B$1:H$27,7,FALSE) -> 515 | R44: =N44*$R$2 -> 398.81056 | S44: =VLOOKUP(D44,Forecast!$B$1:$I$27,8,FALSE) -> 346 | U44: =N44*$U$2 -> 398.81056 | V44: =VLOOKUP(D44,Forecast!B$1:J$27,9,FALSE) -> 274 | X44: =N44*$X$2 -> 524.75074 | Y44: =VLOOKUP(D44,Forecast!B$1:K$27,10,FALSE) -> 270 | AA44: =N44*$AA$2 -> 419.80059 | AB44: =VLOOKUP(D44,Forecast!B$1:L$27,11,FALSE) -> 305 | AD44: =N44*$AD$2 -> 398.81056 | AE44: =VLOOKUP(D44,Forecast!B$1:M$27,12,FALSE) -> 305 | AG44: =N44*$AG$2 -> 503.76071 | AH44: =VLOOKUP(D44,Forecast!B$1:N$27,13,FALSE) -> 304
B45: Solvent Mgrs | C45: SM | D45: 186015001 | E45: Actuator Decay Tester | F45: TE82800 | G45: TE82800 | H45: 2 | I45: 0.23 | J45: 0.85 | K45: 1 | L45: 8 | M45: =H45*K45*L45 -> 16 | N45: =(M45/I45)*J45 -> 59.130435 | O45: =N45*$O$2 -> 1537.3913 | P45: =VLOOKUP(D45,Forecast!B$1:H$27,7,FALSE) -> 0 | Q45: =SUM(P45:P47)/O45 -> 0.11708145 | R45: =N45*$R$2 -> 1123.4783 | S45: =VLOOKUP(D45,Forecast!$B$1:$I$27,8,FALSE) -> 0 | T45: =SUM(S45:S47)/R45 -> 0.25634675 | U45: =N45*$U$2 -> 1123.4783 | V45: =VLOOKUP(D45,Forecast!B$1:J$27,9,FALSE) -> 0 | W45: =SUM(V45:V47)/U45 -> 0.13351393 | X45: =N45*$X$2 -> 1478.2609 | Y45: =VLOOKUP(D45,Forecast!B$1:K$27,10,FALSE) -> 0 | Z45: =SUM(Y45:Y47)/X45 -> 0.10823529 | AA45: =N45*$AA$2 -> 1182.6087 | AB45: =VLOOKUP(D45,Forecast!B$1:L$27,11,FALSE) -> 0 | AC45: =SUM(AB45:AB47)/AA45 -> 0.15305147 | AD45: =N45*$AD$2 -> 1123.4783 | AE45: =VLOOKUP(D45,Forecast!B$1:M$27,12,FALSE) -> 0 | AF45: =SUM(AE45:AE47)/AD45 -> 0.16110681 | AG45: =N45*$AG$2 -> 1419.1304 | AH45: =VLOOKUP(D45,Forecast!B$1:N$27,13,FALSE) -> 0 | AI45: =SUM(AH45:AH47)/AG45 -> 0.12683824 | AJ45: Unique for Instrument
C46: SM | D46: 186015018 | E46: Actuator Decay Tester | F46: TE82800 | G46: TE82800 | H46: 2 | I46: 0.23 | J46: 0.85 | K46: 1 | L46: 8 | M46: =H46*K46*L46 -> 16 | N46: =(M46/I46)*J46 -> 59.130435 | O46: =N46*$O$2 -> 1537.3913 | P46: =VLOOKUP(D46,Forecast!B$1:H$27,7,FALSE) -> 0 | R46: =N46*$R$2 -> 1123.4783 | S46: =VLOOKUP(D46,Forecast!$B$1:$I$27,8,FALSE) -> 0 | U46: =N46*$U$2 -> 1123.4783 | V46: =VLOOKUP(D46,Forecast!B$1:J$27,9,FALSE) -> 0 | X46: =N46*$X$2 -> 1478.2609 | Y46: =VLOOKUP(D46,Forecast!B$1:K$27,10,FALSE) -> 0 | AA46: =N46*$AA$2 -> 1182.6087 | AB46: =VLOOKUP(D46,Forecast!B$1:L$27,11,FALSE) -> 0 | AD46: =N46*$AD$2 -> 1123.4783 | AE46: =VLOOKUP(D46,Forecast!B$1:M$27,12,FALSE) -> 0 | AG46: =N46*$AG$2 -> 1419.1304 | AH46: =VLOOKUP(D46,Forecast!B$1:N$27,13,FALSE) -> 0
C47: SM | D47: 186015080 | E47: Actuator Decay Tester | F47: TE82800 | G47: TE82800 | H47: 2 | I47: 0.23 | J47: 0.85 | K47: 1 | L47: 8 | M47: =H47*K47*L47 -> 16 | N47: =(M47/I47)*J47 -> 59.130435 | O47: =N47*$O$2 -> 1537.3913 | P47: =VLOOKUP(D47,Forecast!B$1:H$27,7,FALSE) -> 180 | R47: =N47*$R$2 -> 1123.4783 | S47: =VLOOKUP(D47,Forecast!$B$1:$I$27,8,FALSE) -> 288 | U47: =N47*$U$2 -> 1123.4783 | V47: =VLOOKUP(D47,Forecast!B$1:J$27,9,FALSE) -> 150 | X47: =N47*$X$2 -> 1478.2609 | Y47: =VLOOKUP(D47,Forecast!B$1:K$27,10,FALSE) -> 160 | AA47: =N47*$AA$2 -> 1182.6087 | AB47: =VLOOKUP(D47,Forecast!B$1:L$27,11,FALSE) -> 181 | AD47: =N47*$AD$2 -> 1123.4783 | AE47: =VLOOKUP(D47,Forecast!B$1:M$27,12,FALSE) -> 181 | AG47: =N47*$AG$2 -> 1419.1304 | AH47: =VLOOKUP(D47,Forecast!B$1:N$27,13,FALSE) -> 180
C48: SM | D48: 186015001 | E48: HIPOT / Safety Analyzer Test | F48: TE90282 | G48: TE90282 | H48: 1 | I48: 0.11 | J48: 0.98 | K48: 1 | L48: 8 | M48: =H48*K48*L48 -> 8 | N48: =(M48/I48)*J48 -> 71.272727 | O48: =N48*$O$2 -> 1853.0909 | P48: =VLOOKUP(D48,Forecast!B$1:H$27,7,FALSE) -> 0 | Q48: =SUM(P48:P50)/O48 -> 0.097135008 | R48: =N48*$R$2 -> 1354.1818 | S48: =VLOOKUP(D48,Forecast!$B$1:$I$27,8,FALSE) -> 0 | T48: =SUM(S48:S50)/R48 -> 0.21267454 | U48: =N48*$U$2 -> 1354.1818 | V48: =VLOOKUP(D48,Forecast!B$1:J$27,9,FALSE) -> 0 | W48: =SUM(V48:V50)/U48 -> 0.11076799 | X48: =N48*$X$2 -> 1781.8182 | Y48: =VLOOKUP(D48,Forecast!B$1:K$27,10,FALSE) -> 0 | Z48: =SUM(Y48:Y50)/X48 -> 0.089795918 | AA48: =N48*$AA$2 -> 1425.4545 | AB48: =VLOOKUP(D48,Forecast!B$1:L$27,11,FALSE) -> 0 | AC48: =SUM(AB48:AB50)/AA48 -> 0.12697704 | AD48: =N48*$AD$2 -> 1354.1818 | AE48: =VLOOKUP(D48,Forecast!B$1:M$27,12,FALSE) -> 0 | AF48: =SUM(AE48:AE50)/AD48 -> 0.13366004 | AG48: =N48*$AG$2 -> 1710.5455 | AH48: =VLOOKUP(D48,Forecast!B$1:N$27,13,FALSE) -> 0 | AI48: =SUM(AH48:AH50)/AG48 -> 0.10522959 | AJ48: Unique for Instrument
C49: SM | D49: 186015018 | E49: HIPOT / Safety Analyzer Test | F49: TE90282 | G49: TE90282 | H49: 1 | I49: 0.11 | J49: 0.98 | K49: 1 | L49: 8 | M49: =H49*K49*L49 -> 8 | N49: =(M49/I49)*J49 -> 71.272727 | O49: =N49*$O$2 -> 1853.0909 | P49: =VLOOKUP(D49,Forecast!B$1:H$27,7,FALSE) -> 0 | R49: =N49*$R$2 -> 1354.1818 | S49: =VLOOKUP(D49,Forecast!$B$1:$I$27,8,FALSE) -> 0 | U49: =N49*$U$2 -> 1354.1818 | V49: =VLOOKUP(D49,Forecast!B$1:J$27,9,FALSE) -> 0 | X49: =N49*$X$2 -> 1781.8182 | Y49: =VLOOKUP(D49,Forecast!B$1:K$27,10,FALSE) -> 0 | AA49: =N49*$AA$2 -> 1425.4545 | AB49: =VLOOKUP(D49,Forecast!B$1:L$27,11,FALSE) -> 0 | AD49: =N49*$AD$2 -> 1354.1818 | AE49: =VLOOKUP(D49,Forecast!B$1:M$27,12,FALSE) -> 0 | AG49: =N49*$AG$2 -> 1710.5455 | AH49: =VLOOKUP(D49,Forecast!B$1:N$27,13,FALSE) -> 0
C50: SM | D50: 186015080 | E50: HIPOT / Safety Analyzer Test | F50: TE90282 | G50: TE90282 | H50: 1 | I50: 0.11 | J50: 0.98 | K50: 1 | L50: 8 | M50: =H50*K50*L50 -> 8 | N50: =(M50/I50)*J50 -> 71.272727 | O50: =N50*$O$2 -> 1853.0909 | P50: =VLOOKUP(D50,Forecast!B$1:H$27,7,FALSE) -> 180 | R50: =N50*$R$2 -> 1354.1818 | S50: =VLOOKUP(D50,Forecast!$B$1:$I$27,8,FALSE) -> 288 | U50: =N50*$U$2 -> 1354.1818 | V50: =VLOOKUP(D50,Forecast!B$1:J$27,9,FALSE) -> 150 | X50: =N50*$X$2 -> 1781.8182 | Y50: =VLOOKUP(D50,Forecast!B$1:K$27,10,FALSE) -> 160 | AA50: =N50*$AA$2 -> 1425.4545 | AB50: =VLOOKUP(D50,Forecast!B$1:L$27,11,FALSE) -> 181 | AD50: =N50*$AD$2 -> 1354.1818 | AE50: =VLOOKUP(D50,Forecast!B$1:M$27,12,FALSE) -> 181 | AG50: =N50*$AG$2 -> 1710.5455 | AH50: =VLOOKUP(D50,Forecast!B$1:N$27,13,FALSE) -> 180
C51: SM | D51: 186015001 | E51: Acquity UPLC Binary Solvent Mgr | F51: TE82943 | G51: TE82943 | H51: 8 | I51: 3 | J51: 0.8 | K51: 1 | L51: 8 | M51: =H51*K51*L51 -> 64 | N51: =(M51/I51*J51) -> 17.066667 | O51: =N51*$O$2 -> 443.73333 | P51: =VLOOKUP(D51,Forecast!B$1:H$27,7,FALSE) -> 0 | Q51: =SUM(P51:P53)/O51 -> 0.40564904 | R51: =N51*$R$2 -> 324.26667 | S51: =VLOOKUP(D51,Forecast!$B$1:$I$27,8,FALSE) -> 0 | T51: =SUM(S51:S53)/R51 -> 0.88815789 | U51: =N51*$U$2 -> 324.26667 | V51: =VLOOKUP(D51,Forecast!B$1:J$27,9,FALSE) -> 0 | W51: =SUM(V51:V53)/U51 -> 0.46258224 | X51: =N51*$X$2 -> 426.66667 | Y51: =VLOOKUP(D51,Forecast!B$1:K$27,10,FALSE) -> 0 | Z51: =SUM(Y51:Y53)/X51 -> 0.375 | AA51: =N51*$AA$2 -> 341.33333 | AB51: =VLOOKUP(D51,Forecast!B$1:L$27,11,FALSE) -> 0 | AC51: =SUM(AB51:AB53)/AA51 -> 0.53027344 | AD51: =N51*$AD$2 -> 324.26667 | AE51: =VLOOKUP(D51,Forecast!B$1:M$27,12,FALSE) -> 0 | AF51: =SUM(AE51:AE53)/AD51 -> 0.55818257 | AG51: =N51*$AG$2 -> 409.6 | AH51: =VLOOKUP(D51,Forecast!B$1:N$27,13,FALSE) -> 0 | AI51: =SUM(AH51:AH53)/AG51 -> 0.43945312 | AJ51: Unique for Instrument
C52: SM | D52: 186015018 | E52: Acquity UPLC Binary Solvent Mgr | F52: TE82943 | G52: TE82943 | H52: 8 | I52: 3 | J52: 0.8 | K52: 1 | L52: 8 | M52: =H52*K52*L52 -> 64 | N52: =(M52/I52*J52) -> 17.066667 | O52: =N52*$O$2 -> 443.73333 | P52: =VLOOKUP(D52,Forecast!B$1:H$27,7,FALSE) -> 0 | R52: =N52*$R$2 -> 324.26667 | S52: =VLOOKUP(D52,Forecast!$B$1:$I$27,8,FALSE) -> 0 | U52: =N52*$U$2 -> 324.26667 | V52: =VLOOKUP(D52,Forecast!B$1:J$27,9,FALSE) -> 0 | X52: =N52*$X$2 -> 426.66667 | Y52: =VLOOKUP(D52,Forecast!B$1:K$27,10,FALSE) -> 0 | AA52: =N52*$AA$2 -> 341.33333 | AB52: =VLOOKUP(D52,Forecast!B$1:L$27,11,FALSE) -> 0 | AD52: =N52*$AD$2 -> 324.26667 | AE52: =VLOOKUP(D52,Forecast!B$1:M$27,12,FALSE) -> 0 | AG52: =N52*$AG$2 -> 409.6 | AH52: =VLOOKUP(D52,Forecast!B$1:N$27,13,FALSE) -> 0
C53: SM | D53: 186015080 | E53: Acquity UPLC Binary Solvent Mgr | F53: TE82943 | G53: TE82943 | H53: 8 | I53: 3 | J53: 0.8 | K53: 1 | L53: 8 | M53: =H53*K53*L53 -> 64 | N53: =(M53/I53*J53) -> 17.066667 | O53: =N53*$O$2 -> 443.73333 | P53: =VLOOKUP(D53,Forecast!B$1:H$27,7,FALSE) -> 180 | R53: =N53*$R$2 -> 324.26667 | S53: =VLOOKUP(D53,Forecast!$B$1:$I$27,8,FALSE) -> 288 | U53: =N53*$U$2 -> 324.26667 | V53: =VLOOKUP(D53,Forecast!B$1:J$27,9,FALSE) -> 150 | X53: =N53*$X$2 -> 426.66667 | Y53: =VLOOKUP(D53,Forecast!B$1:K$27,10,FALSE) -> 160 | AA53: =N53*$AA$2 -> 341.33333 | AB53: =VLOOKUP(D53,Forecast!B$1:L$27,11,FALSE) -> 181 | AD53: =N53*$AD$2 -> 324.26667 | AE53: =VLOOKUP(D53,Forecast!B$1:M$27,12,FALSE) -> 181 | AG53: =N53*$AG$2 -> 409.6 | AH53: =VLOOKUP(D53,Forecast!B$1:N$27,13,FALSE) -> 180
B54: Detectors - Clean Room TUV | C54: Detector | D54: 186002487 | E54: Preparation for main assy Preamp /LC/LH/FW/GB | H54: 1 | I54: 0.28 | J54: 0.95 | K54: 2 | L54: 7.25 | M54: =H54*K54*L54 -> 14.5 | N54: =(M54/I54)*J54 -> 49.196429 | O54: =N54*$O$2 -> 1279.1071 | P54: =VLOOKUP(D54,Forecast!B$1:H$27,7,FALSE) -> 95 | Q54: =SUM(P54:P66)/O54 -> 0.62778166 | R54: =N54*$R$2 -> 934.73214 | S54: =VLOOKUP(D54,Forecast!$B$1:$I$27,8,FALSE) -> 131 | T54: =SUM(S54:S66)/R54 -> 0.76599484 | U54: =N54*$U$2 -> 934.73214 | V54: =VLOOKUP(D54,Forecast!B$1:J$27,9,FALSE) -> 96 | W54: =SUM(V54:V66)/U54 -> 0.56914701 | X54: =N54*$X$2 -> 1229.9107 | Y54: =VLOOKUP(D54,Forecast!B$1:K$27,10,FALSE) -> 96 | Z54: =SUM(Y54:Y66)/X54 -> 0.41791652 | AA54: =N54*$AA$2 -> 983.92857 | AB54: =VLOOKUP(D54,Forecast!B$1:L$27,11,FALSE) -> 28 | AC54: =SUM(AB54:AB66)/AA54 -> 0.54475499 | AD54: =N54*$AD$2 -> 934.73214 | AE54: =VLOOKUP(D54,Forecast!B$1:M$27,12,FALSE) -> 28 | AF54: =SUM(AE54:AE66)/AD54 -> 0.56914701 | AG54: =N54*$AG$2 -> 1180.7143 | AH54: =VLOOKUP(D54,Forecast!B$1:N$27,13,FALSE) -> 28 | AI54: =SUM(AH54:AH66)/AG54 -> 0.45057471 | AJ54: Common with Spares
C55: Detector | D55: 186248900 | E55: Preparation for main assy Preamp /LC/LH/FW/GB | H55: 1 | I55: 0.28 | J55: 0.95 | K55: 2 | L55: 7.25 | M55: =H55*K55*L55 -> 14.5 | N55: =(M55/I55)*J55 -> 49.196429 | O55: =N55*$O$2 -> 1279.1071 | P55: =VLOOKUP(D55,Forecast!B$1:H$27,7,FALSE) -> 575 | R55: =N55*$R$2 -> 934.73214 | S55: =VLOOKUP(D55,Forecast!$B$1:$I$27,8,FALSE) -> 364 | U55: =N55*$U$2 -> 934.73214 | V55: =VLOOKUP(D55,Forecast!B$1:J$27,9,FALSE) -> 288 | X55: =N55*$X$2 -> 1229.9107 | Y55: =VLOOKUP(D55,Forecast!B$1:K$27,10,FALSE) -> 288 | AA55: =N55*$AA$2 -> 983.92857 | AB55: =VLOOKUP(D55,Forecast!B$1:L$27,11,FALSE) -> 325 | AD55: =N55*$AD$2 -> 934.73214 | AE55: =VLOOKUP(D55,Forecast!B$1:M$27,12,FALSE) -> 324 | AG55: =N55*$AG$2 -> 1180.7143 | AH55: =VLOOKUP(D55,Forecast!B$1:N$27,13,FALSE) -> 324
C56: Detector | D56: 186015031 | E56: Preparation for main assy Preamp /LC/LH/FW/GB | H56: 1 | I56: 0.28 | J56: 0.95 | K56: 2 | L56: 7.25 | M56: =H56*K56*L56 -> 14.5 | N56: =(M56/I56)*J56 -> 49.196429 | O56: =N56*$O$2 -> 1279.1071 | P56: =VLOOKUP(D56,Forecast!B$1:H$27,7,FALSE) -> 104 | R56: =N56*$R$2 -> 934.73214 | S56: =VLOOKUP(D56,Forecast!$B$1:$I$27,8,FALSE) -> 112 | U56: =N56*$U$2 -> 934.73214 | V56: =VLOOKUP(D56,Forecast!B$1:J$27,9,FALSE) -> 88 | X56: =N56*$X$2 -> 1229.9107 | Y56: =VLOOKUP(D56,Forecast!B$1:K$27,10,FALSE) -> 88 | AA56: =N56*$AA$2 -> 983.92857 | AB56: =VLOOKUP(D56,Forecast!B$1:L$27,11,FALSE) -> 98 | AD56: =N56*$AD$2 -> 934.73214 | AE56: =VLOOKUP(D56,Forecast!B$1:M$27,12,FALSE) -> 98 | AG56: =N56*$AG$2 -> 1180.7143 | AH56: =VLOOKUP(D56,Forecast!B$1:N$27,13,FALSE) -> 98
C57: Detector | D57: 186018006 | E57: Preparation for main assy Preamp /LC/LH/FW/GB | H57: 1 | I57: 0.28 | J57: 0.95 | K57: 2 | L57: 7.25 | M57: =H57*K57*L57 -> 14.5 | N57: =(M57/I57)*J57 -> 49.196429 | O57: =N57*$O$2 -> 1279.1071 | P57: =VLOOKUP(D57,Forecast!B$1:H$27,7,FALSE) -> 8 | R57: =N57*$R$2 -> 934.73214 | S57: =VLOOKUP(D57,Forecast!$B$1:$I$27,8,FALSE) -> 15 | U57: =N57*$U$2 -> 934.73214 | V57: =VLOOKUP(D57,Forecast!B$1:J$27,9,FALSE) -> 12 | X57: =N57*$X$2 -> 1229.9107 | Y57: =VLOOKUP(D57,Forecast!B$1:K$27,10,FALSE) -> 6 | AA57: =N57*$AA$2 -> 983.92857 | AB57: =VLOOKUP(D57,Forecast!B$1:L$27,11,FALSE) -> 14 | AD57: =N57*$AD$2 -> 934.73214 | AE57: =VLOOKUP(D57,Forecast!B$1:M$27,12,FALSE) -> 13 | AG57: =N57*$AG$2 -> 1180.7143 | AH57: =VLOOKUP(D57,Forecast!B$1:N$27,13,FALSE) -> 13
C58: Detector | D58: 186017002 | E58: Preparation for main assy Preamp /LC/LH/FW/GB | H58: 1 | I58: 0.28 | J58: 0.95 | K58: 2 | L58: 7.25 | M58: =H58*K58*L58 -> 14.5 | N58: =(M58/I58)*J58 -> 49.196429 | O58: =N58*$O$2 -> 1279.1071 | P58: =VLOOKUP(D58,Forecast!B$1:H$27,7,FALSE) -> 0 | R58: =N58*$R$2 -> 934.73214 | S58: =VLOOKUP(D58,Forecast!$B$1:$I$27,8,FALSE) -> 64 | U58: =N58*$U$2 -> 934.73214 | V58: =VLOOKUP(D58,Forecast!B$1:J$27,9,FALSE) -> 32 | X58: =N58*$X$2 -> 1229.9107 | Y58: =VLOOKUP(D58,Forecast!B$1:K$27,10,FALSE) -> 24 | AA58: =N58*$AA$2 -> 983.92857 | AB58: =VLOOKUP(D58,Forecast!B$1:L$27,11,FALSE) -> 42 | AD58: =N58*$AD$2 -> 934.73214 | AE58: =VLOOKUP(D58,Forecast!B$1:M$27,12,FALSE) -> 42 | AG58: =N58*$AG$2 -> 1180.7143 | AH58: =VLOOKUP(D58,Forecast!B$1:N$27,13,FALSE) -> 42
C59: Detector | D59: 186019007 | E59: Preparation for main assy Preamp /LC/LH/FW/GB | H59: 1 | I59: 0.28 | J59: 0.95 | K59: 2 | L59: 7.25 | M59: =H59*K59*L59 -> 14.5 | N59: =(M59/I59)*J59 -> 49.196429 | O59: =N59*$O$2 -> 1279.1071 | P59: =VLOOKUP(D59,Forecast!B$1:H$27,7,FALSE) -> 0 | R59: =N59*$R$2 -> 934.73214 | S59: =VLOOKUP(D59,Forecast!$B$1:$I$27,8,FALSE) -> 21 | U59: =N59*$U$2 -> 934.73214 | V59: =VLOOKUP(D59,Forecast!B$1:J$27,9,FALSE) -> 16 | X59: =N59*$X$2 -> 1229.9107 | Y59: =VLOOKUP(D59,Forecast!B$1:K$27,10,FALSE) -> 12 | AA59: =N59*$AA$2 -> 983.92857 | AB59: =VLOOKUP(D59,Forecast!B$1:L$27,11,FALSE) -> 25 | AD59: =N59*$AD$2 -> 934.73214 | AE59: =VLOOKUP(D59,Forecast!B$1:M$27,12,FALSE) -> 24 | AG59: =N59*$AG$2 -> 1180.7143 | AH59: =VLOOKUP(D59,Forecast!B$1:N$27,13,FALSE) -> 24
C60: Detector | D60: 186017012 | E60: Preparation for main assy Preamp /LC/LH/FW/GB | H60: 1 | I60: 0.28 | J60: 0.95 | K60: 2 | L60: 7.25 | M60: =H60*K60*L60 -> 14.5 | N60: =(M60/I60)*J60 -> 49.196429 | O60: =N60*$O$2 -> 1279.1071 | P60: =VLOOKUP(D60,Forecast!B$1:H$27,7,FALSE) -> 16 | R60: =N60*$R$2 -> 934.73214 | S60: =VLOOKUP(D60,Forecast!$B$1:$I$27,8,FALSE) -> 9 | U60: =N60*$U$2 -> 934.73214 | V60: =VLOOKUP(D60,Forecast!B$1:J$27,9,FALSE) -> 0 | X60: =N60*$X$2 -> 1229.9107 | Y60: =VLOOKUP(D60,Forecast!B$1:K$27,10,FALSE) -> 0 | AA60: =N60*$AA$2 -> 983.92857 | AB60: =VLOOKUP(D60,Forecast!B$1:L$27,11,FALSE) -> 4 | AD60: =N60*$AD$2 -> 934.73214 | AE60: =VLOOKUP(D60,Forecast!B$1:M$27,12,FALSE) -> 3 | AG60: =N60*$AG$2 -> 1180.7143 | AH60: =VLOOKUP(D60,Forecast!B$1:N$27,13,FALSE) -> 3
C61: Spares | D61: 700002554 | E61: Preparation for main assy Preamp /LC/LH/FW/GB | H61: 1 | I61: 0.28 | J61: 0.95 | K61: 2 | L61: 7.25 | M61: =H61*K61*L61 -> 14.5 | N61: =(M61/I61)*J61 -> 49.196429 | O61: =N61*$O$2 -> 1279.1071 | P61: 0 | R61: =N61*$R$2 -> 934.73214 | S61: 0 | U61: =N61*$U$2 -> 934.73214 | V61: 0 | X61: =N61*$X$2 -> 1229.9107 | Y61: 0 | AA61: =N61*$AA$2 -> 983.92857 | AB61: 0 | AD61: =N61*$AD$2 -> 934.73214 | AE61: 0 | AG61: =N61*$AG$2 -> 1180.7143 | AH61: 0
C62: Spares | D62: 700002880 | E62: Preparation for main assy Preamp /LC/LH/FW/GB | H62: 1 | I62: 0.28 | J62: 0.95 | K62: 2 | L62: 7.25 | M62: =H62*K62*L62 -> 14.5 | N62: =(M62/I62)*J62 -> 49.196429 | O62: =N62*$O$2 -> 1279.1071 | P62: 0 | R62: =N62*$R$2 -> 934.73214 | S62: 0 | U62: =N62*$U$2 -> 934.73214 | V62: 0 | X62: =N62*$X$2 -> 1229.9107 | Y62: 0 | AA62: =N62*$AA$2 -> 983.92857 | AB62: 0 | AD62: =N62*$AD$2 -> 934.73214 | AE62: 0 | AG62: =N62*$AG$2 -> 1180.7143 | AH62: 0
C63: Spares | D63: 700005245 | E63: Preparation for main assy Preamp /LC/LH/FW/GB | H63: 1 | I63: 0.28 | J63: 0.95 | K63: 2 | L63: 7.25 | M63: =H63*K63*L63 -> 14.5 | N63: =(M63/I63)*J63 -> 49.196429 | O63: =N63*$O$2 -> 1279.1071 | P63: 2 | R63: =N63*$R$2 -> 934.73214 | S63: 0 | U63: =N63*$U$2 -> 934.73214 | V63: 0 | X63: =N63*$X$2 -> 1229.9107 | Y63: 0 | AA63: =N63*$AA$2 -> 983.92857 | AB63: 0 | AD63: =N63*$AD$2 -> 934.73214 | AE63: 0 | AG63: =N63*$AG$2 -> 1180.7143 | AH63: 0
C64: Spares | D64: 700003550 | E64: Preparation for main assy Preamp /LC/LH/FW/GB | H64: 1 | I64: 0.28 | J64: 0.95 | K64: 2 | L64: 7.25 | M64: =H64*K64*L64 -> 14.5 | N64: =(M64/I64)*J64 -> 49.196429 | O64: =N64*$O$2 -> 1279.1071 | P64: 2 | R64: =N64*$R$2 -> 934.73214 | S64: 0 | U64: =N64*$U$2 -> 934.73214 | V64: 0 | X64: =N64*$X$2 -> 1229.9107 | Y64: 0 | AA64: =N64*$AA$2 -> 983.92857 | AB64: 0 | AD64: =N64*$AD$2 -> 934.73214 | AE64: 0 | AG64: =N64*$AG$2 -> 1180.7143 | AH64: 0
C65: Spares | D65: 700010507 | E65: Preparation for main assy Preamp /LC/LH/FW/GB | H65: 1 | I65: 0.28 | J65: 0.95 | K65: 2 | L65: 7.25 | M65: =H65*K65*L65 -> 14.5 | N65: =(M65/I65)*J65 -> 49.196429 | O65: =N65*$O$2 -> 1279.1071 | P65: 1 | R65: =N65*$R$2 -> 934.73214 | S65: 0 | U65: =N65*$U$2 -> 934.73214 | V65: 0 | X65: =N65*$X$2 -> 1229.9107 | Y65: 0 | AA65: =N65*$AA$2 -> 983.92857 | AB65: 0 | AD65: =N65*$AD$2 -> 934.73214 | AE65: 0 | AG65: =N65*$AG$2 -> 1180.7143 | AH65: 0
C66: Spares | D66: WAS081147 | E66: Preparation for main assy Preamp /LC/LH/FW/GB | H66: 1 | I66: 0.28 | J66: 0.95 | K66: 2 | L66: 7.25 | M66: =H66*K66*L66 -> 14.5 | N66: =(M66/I66)*J66 -> 49.196429 | O66: =N66*$O$2 -> 1279.1071 | P66: 0 | R66: =N66*$R$2 -> 934.73214 | S66: 0 | U66: =N66*$U$2 -> 934.73214 | V66: 0 | X66: =N66*$X$2 -> 1229.9107 | Y66: 0 | AA66: =N66*$AA$2 -> 983.92857 | AB66: 0 | AD66: =N66*$AD$2 -> 934.73214 | AE66: 0 | AG66: =N66*$AG$2 -> 1180.7143 | AH66: 0
C67: Detector | D67: 186002487 | E67: BS / WH / PD | H67: 1 | I67: 0.31 | J67: 0.95 | K67: 2 | L67: 7.25 | M67: =H67*K67*L67 -> 14.5 | N67: =(M67/I67)*J67 -> 44.435484 | O67: =N67*$O$2 -> 1155.3226 | P67: =VLOOKUP(D67,Forecast!B$1:H$27,7,FALSE) -> 95 | Q67: =SUM(P67:P79)/O67 -> 0.69504398 | R67: =N67*$R$2 -> 844.27419 | S67: =VLOOKUP(D67,Forecast!$B$1:$I$27,8,FALSE) -> 131 | T67: =SUM(S67:S79)/R67 -> 0.84806572 | U67: =N67*$U$2 -> 844.27419 | V67: =VLOOKUP(D67,Forecast!B$1:J$27,9,FALSE) -> 96 | W67: =SUM(V67:V79)/U67 -> 0.63012704 | X67: =N67*$X$2 -> 1110.8871 | Y67: =VLOOKUP(D67,Forecast!B$1:K$27,10,FALSE) -> 96 | Z67: =SUM(Y67:Y79)/X67 -> 0.46269328 | AA67: =N67*$AA$2 -> 888.70968 | AB67: =VLOOKUP(D67,Forecast!B$1:L$27,11,FALSE) -> 28 | AC67: =SUM(AB67:AB79)/AA67 -> 0.6031216 | AD67: =N67*$AD$2 -> 844.27419 | AE67: =VLOOKUP(D67,Forecast!B$1:M$27,12,FALSE) -> 28 | AF67: =SUM(AE67:AE79)/AD67 -> 0.63012704 | AG67: =N67*$AG$2 -> 1066.4516 | AH67: =VLOOKUP(D67,Forecast!B$1:N$27,13,FALSE) -> 28 | AI67: =SUM(AH67:AH79)/AG67 -> 0.49885057 | AJ67: Common with Spares
C68: Detector | D68: 186248900 | E68: BS / WH / PD | H68: 1 | I68: 0.31 | J68: 0.95 | K68: 2 | L68: 7.25 | M68: =H68*K68*L68 -> 14.5 | N68: =(M68/I68)*J68 -> 44.435484 | O68: =N68*$O$2 -> 1155.3226 | P68: =VLOOKUP(D68,Forecast!B$1:H$27,7,FALSE) -> 575 | R68: =N68*$R$2 -> 844.27419 | S68: =VLOOKUP(D68,Forecast!$B$1:$I$27,8,FALSE) -> 364 | U68: =N68*$U$2 -> 844.27419 | V68: =VLOOKUP(D68,Forecast!B$1:J$27,9,FALSE) -> 288 | X68: =N68*$X$2 -> 1110.8871 | Y68: =VLOOKUP(D68,Forecast!B$1:K$27,10,FALSE) -> 288 | AA68: =N68*$AA$2 -> 888.70968 | AB68: =VLOOKUP(D68,Forecast!B$1:L$27,11,FALSE) -> 325 | AD68: =N68*$AD$2 -> 844.27419 | AE68: =VLOOKUP(D68,Forecast!B$1:M$27,12,FALSE) -> 324 | AG68: =N68*$AG$2 -> 1066.4516 | AH68: =VLOOKUP(D68,Forecast!B$1:N$27,13,FALSE) -> 324
C69: Detector | D69: 186015031 | E69: BS / WH / PD | H69: 1 | I69: 0.31 | J69: 0.95 | K69: 2 | L69: 7.25 | M69: =H69*K69*L69 -> 14.5 | N69: =(M69/I69)*J69 -> 44.435484 | O69: =N69*$O$2 -> 1155.3226 | P69: =VLOOKUP(D69,Forecast!B$1:H$27,7,FALSE) -> 104 | R69: =N69*$R$2 -> 844.27419 | S69: =VLOOKUP(D69,Forecast!$B$1:$I$27,8,FALSE) -> 112 | U69: =N69*$U$2 -> 844.27419 | V69: =VLOOKUP(D69,Forecast!B$1:J$27,9,FALSE) -> 88 | X69: =N69*$X$2 -> 1110.8871 | Y69: =VLOOKUP(D69,Forecast!B$1:K$27,10,FALSE) -> 88 | AA69: =N69*$AA$2 -> 888.70968 | AB69: =VLOOKUP(D69,Forecast!B$1:L$27,11,FALSE) -> 98 | AD69: =N69*$AD$2 -> 844.27419 | AE69: =VLOOKUP(D69,Forecast!B$1:M$27,12,FALSE) -> 98 | AG69: =N69*$AG$2 -> 1066.4516 | AH69: =VLOOKUP(D69,Forecast!B$1:N$27,13,FALSE) -> 98
C70: Detector | D70: 186018006 | E70: BS / WH / PD | H70: 1 | I70: 0.31 | J70: 0.95 | K70: 2 | L70: 7.25 | M70: =H70*K70*L70 -> 14.5 | N70: =(M70/I70)*J70 -> 44.435484 | O70: =N70*$O$2 -> 1155.3226 | P70: =VLOOKUP(D70,Forecast!B$1:H$27,7,FALSE) -> 8 | R70: =N70*$R$2 -> 844.27419 | S70: =VLOOKUP(D70,Forecast!$B$1:$I$27,8,FALSE) -> 15 | U70: =N70*$U$2 -> 844.27419 | V70: =VLOOKUP(D70,Forecast!B$1:J$27,9,FALSE) -> 12 | X70: =N70*$X$2 -> 1110.8871 | Y70: =VLOOKUP(D70,Forecast!B$1:K$27,10,FALSE) -> 6 | AA70: =N70*$AA$2 -> 888.70968 | AB70: =VLOOKUP(D70,Forecast!B$1:L$27,11,FALSE) -> 14 | AD70: =N70*$AD$2 -> 844.27419 | AE70: =VLOOKUP(D70,Forecast!B$1:M$27,12,FALSE) -> 13 | AG70: =N70*$AG$2 -> 1066.4516 | AH70: =VLOOKUP(D70,Forecast!B$1:N$27,13,FALSE) -> 13
C71: Detector | D71: 186017002 | E71: BS / WH / PD | H71: 1 | I71: 0.31 | J71: 0.95 | K71: 2 | L71: 7.25 | M71: =H71*K71*L71 -> 14.5 | N71: =(M71/I71)*J71 -> 44.435484 | O71: =N71*$O$2 -> 1155.3226 | P71: =VLOOKUP(D71,Forecast!B$1:H$27,7,FALSE) -> 0 | R71: =N71*$R$2 -> 844.27419 | S71: =VLOOKUP(D71,Forecast!$B$1:$I$27,8,FALSE) -> 64 | U71: =N71*$U$2 -> 844.27419 | V71: =VLOOKUP(D71,Forecast!B$1:J$27,9,FALSE) -> 32 | X71: =N71*$X$2 -> 1110.8871 | Y71: =VLOOKUP(D71,Forecast!B$1:K$27,10,FALSE) -> 24 | AA71: =N71*$AA$2 -> 888.70968 | AB71: =VLOOKUP(D71,Forecast!B$1:L$27,11,FALSE) -> 42 | AD71: =N71*$AD$2 -> 844.27419 | AE71: =VLOOKUP(D71,Forecast!B$1:M$27,12,FALSE) -> 42 | AG71: =N71*$AG$2 -> 1066.4516 | AH71: =VLOOKUP(D71,Forecast!B$1:N$27,13,FALSE) -> 42
C72: Detector | D72: 186019007 | E72: BS / WH / PD | H72: 1 | I72: 0.31 | J72: 0.95 | K72: 2 | L72: 7.25 | M72: =H72*K72*L72 -> 14.5 | N72: =(M72/I72)*J72 -> 44.435484 | O72: =N72*$O$2 -> 1155.3226 | P72: =VLOOKUP(D72,Forecast!B$1:H$27,7,FALSE) -> 0 | R72: =N72*$R$2 -> 844.27419 | S72: =VLOOKUP(D72,Forecast!$B$1:$I$27,8,FALSE) -> 21 | U72: =N72*$U$2 -> 844.27419 | V72: =VLOOKUP(D72,Forecast!B$1:J$27,9,FALSE) -> 16 | X72: =N72*$X$2 -> 1110.8871 | Y72: =VLOOKUP(D72,Forecast!B$1:K$27,10,FALSE) -> 12 | AA72: =N72*$AA$2 -> 888.70968 | AB72: =VLOOKUP(D72,Forecast!B$1:L$27,11,FALSE) -> 25 | AD72: =N72*$AD$2 -> 844.27419 | AE72: =VLOOKUP(D72,Forecast!B$1:M$27,12,FALSE) -> 24 | AG72: =N72*$AG$2 -> 1066.4516 | AH72: =VLOOKUP(D72,Forecast!B$1:N$27,13,FALSE) -> 24
C73: Detector | D73: 186017012 | E73: BS / WH / PD | H73: 1 | I73: 0.31 | J73: 0.95 | K73: 2 | L73: 7.25 | M73: =H73*K73*L73 -> 14.5 | N73: =(M73/I73)*J73 -> 44.435484 | O73: =N73*$O$2 -> 1155.3226 | P73: =VLOOKUP(D73,Forecast!B$1:H$27,7,FALSE) -> 16 | R73: =N73*$R$2 -> 844.27419 | S73: =VLOOKUP(D73,Forecast!$B$1:$I$27,8,FALSE) -> 9 | U73: =N73*$U$2 -> 844.27419 | V73: =VLOOKUP(D73,Forecast!B$1:J$27,9,FALSE) -> 0 | X73: =N73*$X$2 -> 1110.8871 | Y73: =VLOOKUP(D73,Forecast!B$1:K$27,10,FALSE) -> 0 | AA73: =N73*$AA$2 -> 888.70968 | AB73: =VLOOKUP(D73,Forecast!B$1:L$27,11,FALSE) -> 4 | AD73: =N73*$AD$2 -> 844.27419 | AE73: =VLOOKUP(D73,Forecast!B$1:M$27,12,FALSE) -> 3 | AG73: =N73*$AG$2 -> 1066.4516 | AH73: =VLOOKUP(D73,Forecast!B$1:N$27,13,FALSE) -> 3
C74: Spares | D74: 700002554 | E74: BS / WH / PD | H74: 1 | I74: 0.31 | J74: 0.95 | K74: 2 | L74: 7.25 | M74: =H74*K74*L74 -> 14.5 | N74: =(M74/I74)*J74 -> 44.435484 | O74: =N74*$O$2 -> 1155.3226 | P74: 0 | R74: =N74*$R$2 -> 844.27419 | S74: 0 | U74: =N74*$U$2 -> 844.27419 | V74: 0 | X74: =N74*$X$2 -> 1110.8871 | Y74: 0 | AA74: =N74*$AA$2 -> 888.70968 | AB74: 0 | AD74: =N74*$AD$2 -> 844.27419 | AE74: 0 | AG74: =N74*$AG$2 -> 1066.4516 | AH74: 0
C75: Spares | D75: 700002880 | E75: BS / WH / PD | H75: 1 | I75: 0.31 | J75: 0.95 | K75: 2 | L75: 7.25 | M75: =H75*K75*L75 -> 14.5 | N75: =(M75/I75)*J75 -> 44.435484 | O75: =N75*$O$2 -> 1155.3226 | P75: 0 | R75: =N75*$R$2 -> 844.27419 | S75: 0 | U75: =N75*$U$2 -> 844.27419 | V75: 0 | X75: =N75*$X$2 -> 1110.8871 | Y75: 0 | AA75: =N75*$AA$2 -> 888.70968 | AB75: 0 | AD75: =N75*$AD$2 -> 844.27419 | AE75: 0 | AG75: =N75*$AG$2 -> 1066.4516 | AH75: 0
C76: Spares | D76: 700005245 | E76: BS / WH / PD | H76: 1 | I76: 0.31 | J76: 0.95 | K76: 2 | L76: 7.25 | M76: =H76*K76*L76 -> 14.5 | N76: =(M76/I76)*J76 -> 44.435484 | O76: =N76*$O$2 -> 1155.3226 | P76: 2 | R76: =N76*$R$2 -> 844.27419 | S76: 0 | U76: =N76*$U$2 -> 844.27419 | V76: 0 | X76: =N76*$X$2 -> 1110.8871 | Y76: 0 | AA76: =N76*$AA$2 -> 888.70968 | AB76: 0 | AD76: =N76*$AD$2 -> 844.27419 | AE76: 0 | AG76: =N76*$AG$2 -> 1066.4516 | AH76: 0
C77: Spares | D77: 700003550 | E77: BS / WH / PD | H77: 1 | I77: 0.31 | J77: 0.95 | K77: 2 | L77: 7.25 | M77: =H77*K77*L77 -> 14.5 | N77: =(M77/I77)*J77 -> 44.435484 | O77: =N77*$O$2 -> 1155.3226 | P77: 2 | R77: =N77*$R$2 -> 844.27419 | S77: 0 | U77: =N77*$U$2 -> 844.27419 | V77: 0 | X77: =N77*$X$2 -> 1110.8871 | Y77: 0 | AA77: =N77*$AA$2 -> 888.70968 | AB77: 0 | AD77: =N77*$AD$2 -> 844.27419 | AE77: 0 | AG77: =N77*$AG$2 -> 1066.4516 | AH77: 0
C78: Spares | D78: 700010507 | E78: BS / WH / PD | H78: 1 | I78: 0.31 | J78: 0.95 | K78: 2 | L78: 7.25 | M78: =H78*K78*L78 -> 14.5 | N78: =(M78/I78)*J78 -> 44.435484 | O78: =N78*$O$2 -> 1155.3226 | P78: 1 | R78: =N78*$R$2 -> 844.27419 | S78: 0 | U78: =N78*$U$2 -> 844.27419 | V78: 0 | X78: =N78*$X$2 -> 1110.8871 | Y78: 0 | AA78: =N78*$AA$2 -> 888.70968 | AB78: 0 | AD78: =N78*$AD$2 -> 844.27419 | AE78: 0 | AG78: =N78*$AG$2 -> 1066.4516 | AH78: 0
C79: Spares | D79: WAS081147 | E79: BS / WH / PD | H79: 1 | I79: 0.31 | J79: 0.95 | K79: 2 | L79: 7.25 | M79: =H79*K79*L79 -> 14.5 | N79: =(M79/I79)*J79 -> 44.435484 | O79: =N79*$O$2 -> 1155.3226 | P79: 0 | R79: =N79*$R$2 -> 844.27419 | S79: 0 | U79: =N79*$U$2 -> 844.27419 | V79: 0 | X79: =N79*$X$2 -> 1110.8871 | Y79: 0 | AA79: =N79*$AA$2 -> 888.70968 | AB79: 0 | AD79: =N79*$AD$2 -> 844.27419 | AE79: 0 | AG79: =N79*$AG$2 -> 1066.4516 | AH79: 0
C80: Detector | D80: 186002487 | E80: Grating Drive | H80: 1 | I80: 0.33 | J80: 0.95 | K80: 2 | L80: 7.25 | M80: =H80*K80*L80 -> 14.5 | N80: =(M80/I80)*J80 -> 41.742424 | O80: =N80*$O$2 -> 1085.303 | P80: =VLOOKUP(D80,Forecast!B$1:H$27,7,FALSE) -> 95 | Q80: =SUM(P80:P92)/O80 -> 0.73988552 | R80: =N80*$R$2 -> 793.10606 | S80: =VLOOKUP(D80,Forecast!$B$1:$I$27,8,FALSE) -> 131 | T80: =SUM(S80:S92)/R80 -> 0.90277964 | U80: =N80*$U$2 -> 793.10606 | V80: =VLOOKUP(D80,Forecast!B$1:J$27,9,FALSE) -> 96 | W80: =SUM(V80:V92)/U80 -> 0.6707804 | X80: =N80*$X$2 -> 1043.5606 | Y80: =VLOOKUP(D80,Forecast!B$1:K$27,10,FALSE) -> 96 | Z80: =SUM(Y80:Y92)/X80 -> 0.49254446 | AA80: =N80*$AA$2 -> 834.84848 | AB80: =VLOOKUP(D80,Forecast!B$1:L$27,11,FALSE) -> 28 | AC80: =SUM(AB80:AB92)/AA80 -> 0.64203267 | AD80: =N80*$AD$2 -> 793.10606 | AE80: =VLOOKUP(D80,Forecast!B$1:M$27,12,FALSE) -> 28 | AF80: =SUM(AE80:AE92)/AD80 -> 0.6707804 | AG80: =N80*$AG$2 -> 1001.8182 | AH80: =VLOOKUP(D80,Forecast!B$1:N$27,13,FALSE) -> 28 | AI80: =SUM(AH80:AH92)/AG80 -> 0.53103448 | AJ80: Common with Spares
C81: Detector | D81: 186248900 | E81: Grating Drive | H81: 1 | I81: 0.33 | J81: 0.95 | K81: 2 | L81: 7.25 | M81: =H81*K81*L81 -> 14.5 | N81: =(M81/I81)*J81 -> 41.742424 | O81: =N81*$O$2 -> 1085.303 | P81: =VLOOKUP(D81,Forecast!B$1:H$27,7,FALSE) -> 575 | R81: =N81*$R$2 -> 793.10606 | S81: =VLOOKUP(D81,Forecast!$B$1:$I$27,8,FALSE) -> 364 | U81: =N81*$U$2 -> 793.10606 | V81: =VLOOKUP(D81,Forecast!B$1:J$27,9,FALSE) -> 288 | X81: =N81*$X$2 -> 1043.5606 | Y81: =VLOOKUP(D81,Forecast!B$1:K$27,10,FALSE) -> 288 | AA81: =N81*$AA$2 -> 834.84848 | AB81: =VLOOKUP(D81,Forecast!B$1:L$27,11,FALSE) -> 325 | AD81: =N81*$AD$2 -> 793.10606 | AE81: =VLOOKUP(D81,Forecast!B$1:M$27,12,FALSE) -> 324 | AG81: =N81*$AG$2 -> 1001.8182 | AH81: =VLOOKUP(D81,Forecast!B$1:N$27,13,FALSE) -> 324
C82: Detector | D82: 186015031 | E82: Grating Drive | H82: 1 | I82: 0.33 | J82: 0.95 | K82: 2 | L82: 7.25 | M82: =H82*K82*L82 -> 14.5 | N82: =(M82/I82)*J82 -> 41.742424 | O82: =N82*$O$2 -> 1085.303 | P82: =VLOOKUP(D82,Forecast!B$1:H$27,7,FALSE) -> 104 | R82: =N82*$R$2 -> 793.10606 | S82: =VLOOKUP(D82,Forecast!$B$1:$I$27,8,FALSE) -> 112 | U82: =N82*$U$2 -> 793.10606 | V82: =VLOOKUP(D82,Forecast!B$1:J$27,9,FALSE) -> 88 | X82: =N82*$X$2 -> 1043.5606 | Y82: =VLOOKUP(D82,Forecast!B$1:K$27,10,FALSE) -> 88 | AA82: =N82*$AA$2 -> 834.84848 | AB82: =VLOOKUP(D82,Forecast!B$1:L$27,11,FALSE) -> 98 | AD82: =N82*$AD$2 -> 793.10606 | AE82: =VLOOKUP(D82,Forecast!B$1:M$27,12,FALSE) -> 98 | AG82: =N82*$AG$2 -> 1001.8182 | AH82: =VLOOKUP(D82,Forecast!B$1:N$27,13,FALSE) -> 98
C83: Detector | D83: 186018006 | E83: Grating Drive | H83: 1 | I83: 0.33 | J83: 0.95 | K83: 2 | L83: 7.25 | M83: =H83*K83*L83 -> 14.5 | N83: =(M83/I83)*J83 -> 41.742424 | O83: =N83*$O$2 -> 1085.303 | P83: =VLOOKUP(D83,Forecast!B$1:H$27,7,FALSE) -> 8 | R83: =N83*$R$2 -> 793.10606 | S83: =VLOOKUP(D83,Forecast!$B$1:$I$27,8,FALSE) -> 15 | U83: =N83*$U$2 -> 793.10606 | V83: =VLOOKUP(D83,Forecast!B$1:J$27,9,FALSE) -> 12 | X83: =N83*$X$2 -> 1043.5606 | Y83: =VLOOKUP(D83,Forecast!B$1:K$27,10,FALSE) -> 6 | AA83: =N83*$AA$2 -> 834.84848 | AB83: =VLOOKUP(D83,Forecast!B$1:L$27,11,FALSE) -> 14 | AD83: =N83*$AD$2 -> 793.10606 | AE83: =VLOOKUP(D83,Forecast!B$1:M$27,12,FALSE) -> 13 | AG83: =N83*$AG$2 -> 1001.8182 | AH83: =VLOOKUP(D83,Forecast!B$1:N$27,13,FALSE) -> 13
C84: Detector | D84: 186017002 | E84: Grating Drive | H84: 1 | I84: 0.33 | J84: 0.95 | K84: 2 | L84: 7.25 | M84: =H84*K84*L84 -> 14.5 | N84: =(M84/I84)*J84 -> 41.742424 | O84: =N84*$O$2 -> 1085.303 | P84: =VLOOKUP(D84,Forecast!B$1:H$27,7,FALSE) -> 0 | R84: =N84*$R$2 -> 793.10606 | S84: =VLOOKUP(D84,Forecast!$B$1:$I$27,8,FALSE) -> 64 | U84: =N84*$U$2 -> 793.10606 | V84: =VLOOKUP(D84,Forecast!B$1:J$27,9,FALSE) -> 32 | X84: =N84*$X$2 -> 1043.5606 | Y84: =VLOOKUP(D84,Forecast!B$1:K$27,10,FALSE) -> 24 | AA84: =N84*$AA$2 -> 834.84848 | AB84: =VLOOKUP(D84,Forecast!B$1:L$27,11,FALSE) -> 42 | AD84: =N84*$AD$2 -> 793.10606 | AE84: =VLOOKUP(D84,Forecast!B$1:M$27,12,FALSE) -> 42 | AG84: =N84*$AG$2 -> 1001.8182 | AH84: =VLOOKUP(D84,Forecast!B$1:N$27,13,FALSE) -> 42
C85: Detector | D85: 186019007 | E85: Grating Drive | H85: 1 | I85: 0.33 | J85: 0.95 | K85: 2 | L85: 7.25 | M85: =H85*K85*L85 -> 14.5 | N85: =(M85/I85)*J85 -> 41.742424 | O85: =N85*$O$2 -> 1085.303 | P85: =VLOOKUP(D85,Forecast!B$1:H$27,7,FALSE) -> 0 | R85: =N85*$R$2 -> 793.10606 | S85: =VLOOKUP(D85,Forecast!$B$1:$I$27,8,FALSE) -> 21 | U85: =N85*$U$2 -> 793.10606 | V85: =VLOOKUP(D85,Forecast!B$1:J$27,9,FALSE) -> 16 | X85: =N85*$X$2 -> 1043.5606 | Y85: =VLOOKUP(D85,Forecast!B$1:K$27,10,FALSE) -> 12 | AA85: =N85*$AA$2 -> 834.84848 | AB85: =VLOOKUP(D85,Forecast!B$1:L$27,11,FALSE) -> 25 | AD85: =N85*$AD$2 -> 793.10606 | AE85: =VLOOKUP(D85,Forecast!B$1:M$27,12,FALSE) -> 24 | AG85: =N85*$AG$2 -> 1001.8182 | AH85: =VLOOKUP(D85,Forecast!B$1:N$27,13,FALSE) -> 24
C86: Detector | D86: 186017012 | E86: Grating Drive | H86: 1 | I86: 0.33 | J86: 0.95 | K86: 2 | L86: 7.25 | M86: =H86*K86*L86 -> 14.5 | N86: =(M86/I86)*J86 -> 41.742424 | O86: =N86*$O$2 -> 1085.303 | P86: =VLOOKUP(D86,Forecast!B$1:H$27,7,FALSE) -> 16 | R86: =N86*$R$2 -> 793.10606 | S86: =VLOOKUP(D86,Forecast!$B$1:$I$27,8,FALSE) -> 9 | U86: =N86*$U$2 -> 793.10606 | V86: =VLOOKUP(D86,Forecast!B$1:J$27,9,FALSE) -> 0 | X86: =N86*$X$2 -> 1043.5606 | Y86: =VLOOKUP(D86,Forecast!B$1:K$27,10,FALSE) -> 0 | AA86: =N86*$AA$2 -> 834.84848 | AB86: =VLOOKUP(D86,Forecast!B$1:L$27,11,FALSE) -> 4 | AD86: =N86*$AD$2 -> 793.10606 | AE86: =VLOOKUP(D86,Forecast!B$1:M$27,12,FALSE) -> 3 | AG86: =N86*$AG$2 -> 1001.8182 | AH86: =VLOOKUP(D86,Forecast!B$1:N$27,13,FALSE) -> 3
C87: Spares | D87: 700002554 | E87: Grating Drive | H87: 1 | I87: 0.33 | J87: 0.95 | K87: 2 | L87: 7.25 | M87: =H87*K87*L87 -> 14.5 | N87: =(M87/I87)*J87 -> 41.742424 | O87: =N87*$O$2 -> 1085.303 | P87: 0 | R87: =N87*$R$2 -> 793.10606 | S87: 0 | U87: =N87*$U$2 -> 793.10606 | V87: 0 | X87: =N87*$X$2 -> 1043.5606 | Y87: 0 | AA87: =N87*$AA$2 -> 834.84848 | AB87: 0 | AD87: =N87*$AD$2 -> 793.10606 | AE87: 0 | AG87: =N87*$AG$2 -> 1001.8182 | AH87: 0
C88: Spares | D88: 700002880 | E88: Grating Drive | H88: 1 | I88: 0.33 | J88: 0.95 | K88: 2 | L88: 7.25 | M88: =H88*K88*L88 -> 14.5 | N88: =(M88/I88)*J88 -> 41.742424 | O88: =N88*$O$2 -> 1085.303 | P88: 0 | R88: =N88*$R$2 -> 793.10606 | S88: 0 | U88: =N88*$U$2 -> 793.10606 | V88: 0 | X88: =N88*$X$2 -> 1043.5606 | Y88: 0 | AA88: =N88*$AA$2 -> 834.84848 | AB88: 0 | AD88: =N88*$AD$2 -> 793.10606 | AE88: 0 | AG88: =N88*$AG$2 -> 1001.8182 | AH88: 0
C89: Spares | D89: 700005245 | E89: Grating Drive | H89: 1 | I89: 0.33 | J89: 0.95 | K89: 2 | L89: 7.25 | M89: =H89*K89*L89 -> 14.5 | N89: =(M89/I89)*J89 -> 41.742424 | O89: =N89*$O$2 -> 1085.303 | P89: 2 | R89: =N89*$R$2 -> 793.10606 | S89: 0 | U89: =N89*$U$2 -> 793.10606 | V89: 0 | X89: =N89*$X$2 -> 1043.5606 | Y89: 0 | AA89: =N89*$AA$2 -> 834.84848 | AB89: 0 | AD89: =N89*$AD$2 -> 793.10606 | AE89: 0 | AG89: =N89*$AG$2 -> 1001.8182 | AH89: 0
C90: Spares | D90: 700003550 | E90: Grating Drive | H90: 1 | I90: 0.33 | J90: 0.95 | K90: 2 | L90: 7.25 | M90: =H90*K90*L90 -> 14.5 | N90: =(M90/I90)*J90 -> 41.742424 | O90: =N90*$O$2 -> 1085.303 | P90: 2 | R90: =N90*$R$2 -> 793.10606 | S90: 0 | U90: =N90*$U$2 -> 793.10606 | V90: 0 | X90: =N90*$X$2 -> 1043.5606 | Y90: 0 | AA90: =N90*$AA$2 -> 834.84848 | AB90: 0 | AD90: =N90*$AD$2 -> 793.10606 | AE90: 0 | AG90: =N90*$AG$2 -> 1001.8182 | AH90: 0
C91: Spares | D91: 700010507 | E91: Grating Drive | H91: 1 | I91: 0.33 | J91: 0.95 | K91: 2 | L91: 7.25 | M91: =H91*K91*L91 -> 14.5 | N91: =(M91/I91)*J91 -> 41.742424 | O91: =N91*$O$2 -> 1085.303 | P91: 1 | R91: =N91*$R$2 -> 793.10606 | S91: 0 | U91: =N91*$U$2 -> 793.10606 | V91: 0 | X91: =N91*$X$2 -> 1043.5606 | Y91: 0 | AA91: =N91*$AA$2 -> 834.84848 | AB91: 0 | AD91: =N91*$AD$2 -> 793.10606 | AE91: 0 | AG91: =N91*$AG$2 -> 1001.8182 | AH91: 0
C92: Spares | D92: WAS081147 | E92: Grating Drive | H92: 1 | I92: 0.33 | J92: 0.95 | K92: 2 | L92: 7.25 | M92: =H92*K92*L92 -> 14.5 | N92: =(M92/I92)*J92 -> 41.742424 | O92: =N92*$O$2 -> 1085.303 | P92: 0 | R92: =N92*$R$2 -> 793.10606 | S92: 0 | U92: =N92*$U$2 -> 793.10606 | V92: 0 | X92: =N92*$X$2 -> 1043.5606 | Y92: 0 | AA92: =N92*$AA$2 -> 834.84848 | AB92: 0 | AD92: =N92*$AD$2 -> 793.10606 | AE92: 0 | AG92: =N92*$AG$2 -> 1001.8182 | AH92: 0
C93: Detector | D93: 186002487 | E93: 2489/TUV Bench 1 and 2 | H93: 2 | I93: 0.62 | J93: 0.95 | K93: 2 | L93: 7.25 | M93: =H93*K93*L93 -> 29 | N93: =(M93/I93)*J93 -> 44.435484 | O93: =N93*$O$2 -> 1155.3226 | P93: =VLOOKUP(D93,Forecast!B$1:H$27,7,FALSE) -> 95 | Q93: =SUM(P93:P105)/O93 -> 0.69504398 | R93: =N93*$R$2 -> 844.27419 | S93: =VLOOKUP(D93,Forecast!$B$1:$I$27,8,FALSE) -> 131 | T93: =SUM(S93:S105)/R93 -> 0.84806572 | U93: =N93*$U$2 -> 844.27419 | V93: =VLOOKUP(D93,Forecast!B$1:J$27,9,FALSE) -> 96 | W93: =SUM(V93:V105)/U93 -> 0.63012704 | X93: =N93*$X$2 -> 1110.8871 | Y93: =VLOOKUP(D93,Forecast!B$1:K$27,10,FALSE) -> 96 | Z93: =SUM(Y93:Y105)/X93 -> 0.46269328 | AA93: =N93*$AA$2 -> 888.70968 | AB93: =VLOOKUP(D93,Forecast!B$1:L$27,11,FALSE) -> 28 | AC93: =SUM(AB93:AB105)/AA93 -> 0.6031216 | AD93: =N93*$AD$2 -> 844.27419 | AE93: =VLOOKUP(D93,Forecast!B$1:M$27,12,FALSE) -> 28 | AF93: =SUM(AE93:AE105)/AD93 -> 0.63012704 | AG93: =N93*$AG$2 -> 1066.4516 | AH93: =VLOOKUP(D93,Forecast!B$1:N$27,13,FALSE) -> 28 | AI93: =SUM(AH93:AH105)/AG93 -> 0.49885057 | AJ93: Common with Spares
C94: Detector | D94: 186248900 | E94: 2489/TUV Bench 1 and 2 | H94: 2 | I94: 0.62 | J94: 0.95 | K94: 2 | L94: 7.25 | M94: =H94*K94*L94 -> 29 | N94: =(M94/I94)*J94 -> 44.435484 | O94: =N94*$O$2 -> 1155.3226 | P94: =VLOOKUP(D94,Forecast!B$1:H$27,7,FALSE) -> 575 | R94: =N94*$R$2 -> 844.27419 | S94: =VLOOKUP(D94,Forecast!$B$1:$I$27,8,FALSE) -> 364 | U94: =N94*$U$2 -> 844.27419 | V94: =VLOOKUP(D94,Forecast!B$1:J$27,9,FALSE) -> 288 | X94: =N94*$X$2 -> 1110.8871 | Y94: =VLOOKUP(D94,Forecast!B$1:K$27,10,FALSE) -> 288 | AA94: =N94*$AA$2 -> 888.70968 | AB94: =VLOOKUP(D94,Forecast!B$1:L$27,11,FALSE) -> 325 | AD94: =N94*$AD$2 -> 844.27419 | AE94: =VLOOKUP(D94,Forecast!B$1:M$27,12,FALSE) -> 324 | AG94: =N94*$AG$2 -> 1066.4516 | AH94: =VLOOKUP(D94,Forecast!B$1:N$27,13,FALSE) -> 324
C95: Detector | D95: 186015031 | E95: 2489/TUV Bench 1 and 2 | H95: 2 | I95: 0.62 | J95: 0.95 | K95: 2 | L95: 7.25 | M95: =H95*K95*L95 -> 29 | N95: =(M95/I95)*J95 -> 44.435484 | O95: =N95*$O$2 -> 1155.3226 | P95: =VLOOKUP(D95,Forecast!B$1:H$27,7,FALSE) -> 104 | R95: =N95*$R$2 -> 844.27419 | S95: =VLOOKUP(D95,Forecast!$B$1:$I$27,8,FALSE) -> 112 | U95: =N95*$U$2 -> 844.27419 | V95: =VLOOKUP(D95,Forecast!B$1:J$27,9,FALSE) -> 88 | X95: =N95*$X$2 -> 1110.8871 | Y95: =VLOOKUP(D95,Forecast!B$1:K$27,10,FALSE) -> 88 | AA95: =N95*$AA$2 -> 888.70968 | AB95: =VLOOKUP(D95,Forecast!B$1:L$27,11,FALSE) -> 98 | AD95: =N95*$AD$2 -> 844.27419 | AE95: =VLOOKUP(D95,Forecast!B$1:M$27,12,FALSE) -> 98 | AG95: =N95*$AG$2 -> 1066.4516 | AH95: =VLOOKUP(D95,Forecast!B$1:N$27,13,FALSE) -> 98
C96: Detector | D96: 186018006 | E96: 2489/TUV Bench 1 and 2 | H96: 2 | I96: 0.62 | J96: 0.95 | K96: 2 | L96: 7.25 | M96: =H96*K96*L96 -> 29 | N96: =(M96/I96)*J96 -> 44.435484 | O96: =N96*$O$2 -> 1155.3226 | P96: =VLOOKUP(D96,Forecast!B$1:H$27,7,FALSE) -> 8 | R96: =N96*$R$2 -> 844.27419 | S96: =VLOOKUP(D96,Forecast!$B$1:$I$27,8,FALSE) -> 15 | U96: =N96*$U$2 -> 844.27419 | V96: =VLOOKUP(D96,Forecast!B$1:J$27,9,FALSE) -> 12 | X96: =N96*$X$2 -> 1110.8871 | Y96: =VLOOKUP(D96,Forecast!B$1:K$27,10,FALSE) -> 6 | AA96: =N96*$AA$2 -> 888.70968 | AB96: =VLOOKUP(D96,Forecast!B$1:L$27,11,FALSE) -> 14 | AD96: =N96*$AD$2 -> 844.27419 | AE96: =VLOOKUP(D96,Forecast!B$1:M$27,12,FALSE) -> 13 | AG96: =N96*$AG$2 -> 1066.4516 | AH96: =VLOOKUP(D96,Forecast!B$1:N$27,13,FALSE) -> 13
C97: Detector | D97: 186017002 | E97: 2489/TUV Bench 1 and 2 | H97: 2 | I97: 0.62 | J97: 0.95 | K97: 2 | L97: 7.25 | M97: =H97*K97*L97 -> 29 | N97: =(M97/I97)*J97 -> 44.435484 | O97: =N97*$O$2 -> 1155.3226 | P97: =VLOOKUP(D97,Forecast!B$1:H$27,7,FALSE) -> 0 | R97: =N97*$R$2 -> 844.27419 | S97: =VLOOKUP(D97,Forecast!$B$1:$I$27,8,FALSE) -> 64 | U97: =N97*$U$2 -> 844.27419 | V97: =VLOOKUP(D97,Forecast!B$1:J$27,9,FALSE) -> 32 | X97: =N97*$X$2 -> 1110.8871 | Y97: =VLOOKUP(D97,Forecast!B$1:K$27,10,FALSE) -> 24 | AA97: =N97*$AA$2 -> 888.70968 | AB97: =VLOOKUP(D97,Forecast!B$1:L$27,11,FALSE) -> 42 | AD97: =N97*$AD$2 -> 844.27419 | AE97: =VLOOKUP(D97,Forecast!B$1:M$27,12,FALSE) -> 42 | AG97: =N97*$AG$2 -> 1066.4516 | AH97: =VLOOKUP(D97,Forecast!B$1:N$27,13,FALSE) -> 42
C98: Detector | D98: 186019007 | E98: 2489/TUV Bench 1 and 2 | H98: 2 | I98: 0.62 | J98: 0.95 | K98: 2 | L98: 7.25 | M98: =H98*K98*L98 -> 29 | N98: =(M98/I98)*J98 -> 44.435484 | O98: =N98*$O$2 -> 1155.3226 | P98: =VLOOKUP(D98,Forecast!B$1:H$27,7,FALSE) -> 0 | R98: =N98*$R$2 -> 844.27419 | S98: =VLOOKUP(D98,Forecast!$B$1:$I$27,8,FALSE) -> 21 | U98: =N98*$U$2 -> 844.27419 | V98: =VLOOKUP(D98,Forecast!B$1:J$27,9,FALSE) -> 16 | X98: =N98*$X$2 -> 1110.8871 | Y98: =VLOOKUP(D98,Forecast!B$1:K$27,10,FALSE) -> 12 | AA98: =N98*$AA$2 -> 888.70968 | AB98: =VLOOKUP(D98,Forecast!B$1:L$27,11,FALSE) -> 25 | AD98: =N98*$AD$2 -> 844.27419 | AE98: =VLOOKUP(D98,Forecast!B$1:M$27,12,FALSE) -> 24 | AG98: =N98*$AG$2 -> 1066.4516 | AH98: =VLOOKUP(D98,Forecast!B$1:N$27,13,FALSE) -> 24
C99: Detector | D99: 186017012 | E99: 2489/TUV Bench 1 and 2 | H99: 2 | I99: 0.62 | J99: 0.95 | K99: 2 | L99: 7.25 | M99: =H99*K99*L99 -> 29 | N99: =(M99/I99)*J99 -> 44.435484 | O99: =N99*$O$2 -> 1155.3226 | P99: =VLOOKUP(D99,Forecast!B$1:H$27,7,FALSE) -> 16 | R99: =N99*$R$2 -> 844.27419 | S99: =VLOOKUP(D99,Forecast!$B$1:$I$27,8,FALSE) -> 9 | U99: =N99*$U$2 -> 844.27419 | V99: =VLOOKUP(D99,Forecast!B$1:J$27,9,FALSE) -> 0 | X99: =N99*$X$2 -> 1110.8871 | Y99: =VLOOKUP(D99,Forecast!B$1:K$27,10,FALSE) -> 0 | AA99: =N99*$AA$2 -> 888.70968 | AB99: =VLOOKUP(D99,Forecast!B$1:L$27,11,FALSE) -> 4 | AD99: =N99*$AD$2 -> 844.27419 | AE99: =VLOOKUP(D99,Forecast!B$1:M$27,12,FALSE) -> 3 | AG99: =N99*$AG$2 -> 1066.4516 | AH99: =VLOOKUP(D99,Forecast!B$1:N$27,13,FALSE) -> 3
C100: Spares | D100: 700002554 | E100: 2489/TUV Bench 1 and 2 | H100: 2 | I100: 0.62 | J100: 0.95 | K100: 2 | L100: 7.25 | M100: =H100*K100*L100 -> 29 | N100: =(M100/I100)*J100 -> 44.435484 | O100: =N100*$O$2 -> 1155.3226 | P100: 0 | R100: =N100*$R$2 -> 844.27419 | S100: 0 | U100: =N100*$U$2 -> 844.27419 | V100: 0 | X100: =N100*$X$2 -> 1110.8871 | Y100: 0 | AA100: =N100*$AA$2 -> 888.70968 | AB100: 0 | AD100: =N100*$AD$2 -> 844.27419 | AE100: 0 | AG100: =N100*$AG$2 -> 1066.4516 | AH100: 0
C101: Spares | D101: 700002880 | E101: 2489/TUV Bench 1 and 2 | H101: 2 | I101: 0.62 | J101: 0.95 | K101: 2 | L101: 7.25 | M101: =H101*K101*L101 -> 29 | N101: =(M101/I101)*J101 -> 44.435484 | O101: =N101*$O$2 -> 1155.3226 | P101: 0 | R101: =N101*$R$2 -> 844.27419 | S101: 0 | U101: =N101*$U$2 -> 844.27419 | V101: 0 | X101: =N101*$X$2 -> 1110.8871 | Y101: 0 | AA101: =N101*$AA$2 -> 888.70968 | AB101: 0 | AD101: =N101*$AD$2 -> 844.27419 | AE101: 0 | AG101: =N101*$AG$2 -> 1066.4516 | AH101: 0
...

Sheet Forecast
A1: Product | B1: Forecast | C1: 44197 | D1: 44228 | E1: 44256 | F1: 44287 | G1: 44317 | H1: 44348 | I1: 44378 | J1: 44409 | K1: 44440 | L1: 44470 | M1: 44501 | N1: 44531 | O1: Total per year | P1: Total per Qtr | Q1: Total per month | R1: Total per week | S1: Total per day | T1: Unit price | U1: Annual amount | V1: 2 Oct customer PO
A2: Pump | B2: WAT207000 | C2: 12 | D2: 20 | E2: 4 | F2: 24 | G2: 22 | H2: 15 | I2: 38 | J2: 24 | K2: 0 | L2: 26 | M2: 26 | N2: 25 | O2: =SUM(C2:N2) -> 236 | P2: =O2/4 -> 59 | Q2: =P2/3 -> 19.666667 | R2: =P2/13 -> 4.5384615 | S2: =R2/5 -> 0.90769231 | T2: 1547.9 | U2: =T2*O2 -> 365304.4 | V2: Waters Calendar
B3: 186001515 | C3: 0 | D3: 10 | E3: 14 | F3: 15 | G3: 4 | H3: 0 | I3: 11 | J3: 0 | K3: 0 | L3: 7 | M3: 6 | N3: 6 | O3: =SUM(C3:N3) -> 73 | P3: =O3/4 -> 18.25 | Q3: =P3/3 -> 6.0833333 | R3: =P3/13 -> 1.4038462 | S3: =R3/5 -> 0.28076923 | T3: 2680.54 | U3: =T3*O3 -> 195679.42
B4: 186001525 | C4: 9 | D4: 9 | E4: 0 | F4: 20 | G4: 5 | H4: 0 | I4: 20 | J4: 3 | K4: 0 | L4: 12 | M4: 12 | N4: 11 | O4: =SUM(C4:N4) -> 101 | P4: =O4/4 -> 25.25 | Q4: =P4/3 -> 8.4166667 | R4: =P4/13 -> 1.9423077 | S4: =R4/5 -> 0.38846154 | T4: 3659.28 | U4: =T4*O4 -> 369587.28
B5: 186001825 | C5: 0 | D5: 0 | E5: 0 | F5: 0 | G5: 0 | H5: 0 | I5: 0 | J5: 0 | K5: 0 | L5: 0 | M5: 0 | N5: 0 | O5: =SUM(C5:N5) -> 0 | P5: =O5/4 -> 0 | Q5: =P5/3 -> 0 | R5: =P5/13 -> 0 | S5: =R5/5 -> 0 | U5: =T5*O5 -> 0
A6: Alliance | B6: 186269505 | C6: 53 | D6: 47 | E6: 32 | F6: 64 | G6: 48 | H6: 104 | I6: 64 | J6: 48 | K6: 44 | L6: 60 | M6: 59 | N6: 59 | O6: =SUM(C6:N6) -> 682 | P6: =O6/4 -> 170.5 | Q6: =P6/3 -> 56.833333 | R6: =P6/13 -> 13.115385 | S6: =R6/5 -> 2.6230769 | T6: 5848.29 | U6: =T6*O6 -> 3988533.8
B7: 186269506 | C7: 200 | D7: 208 | E7: 272 | F7: 265 | G7: 276 | H7: 515 | I7: 346 | J7: 274 | K7: 270 | L7: 305 | M7: 305 | N7: 304 | O7: =SUM(C7:N7) -> 3540 | P7: =O7/4 -> 885 | Q7: =P7/3 -> 295 | R7: =P7/13 -> 68.076923 | S7: =R7/5 -> 13.615385 | T7: 6129.01 | U7: =T7*O7 -> 21696695
A8: BSM/QSM | B8: 186015001 | C8: 12 | D8: 12 | E8: 36 | F8: 10 | G8: 0 | H8: 0 | I8: 0 | J8: 0 | K8: 0 | L8: 0 | M8: 0 | N8: 0 | O8: =SUM(C8:N8) -> 70 | P8: =O8/4 -> 17.5 | Q8: =P8/3 -> 5.8333333 | R8: =P8/13 -> 1.3461538 | S8: =R8/5 -> 0.26923077 | T8: 7072.62 | U8: =T8*O8 -> 495083.4
B9: 186015018 | C9: 0 | D9: 0 | E9: 0 | F9: 0 | G9: 0 | H9: 0 | I9: 0 | J9: 0 | K9: 0 | L9: 0 | M9: 0 | N9: 0 | O9: =SUM(C9:N9) -> 0 | P9: =O9/4 -> 0 | Q9: =P9/3 -> 0 | R9: =P9/13 -> 0 | S9: =R9/5 -> 0 | U9: =T9*O9 -> 0
B10: 186015080 | C10: 124 | D10: 180 | E10: 207 | F10: 176 | G10: 144 | H10: 180 | I10: 288 | J10: 150 | K10: 160 | L10: 181 | M10: 181 | N10: 180 | O10: =SUM(C10:N10) -> 2151 | P10: =O10/4 -> 537.75 | Q10: =P10/3 -> 179.25 | R10: =P10/13 -> 41.365385 | S10: =R10/5 -> 8.2730769 | T10: 4533.88 | U10: =T10*O10 -> 9752375.9
A11: TUV | B11: 186248900 | C11: 186 | D11: 272 | E11: 318 | F11: 288 | G11: 264 | H11: 575 | I11: 364 | J11: 288 | K11: 288 | L11: 325 | M11: 324 | N11: 324 | O11: =SUM(C11:N11) -> 3816 | P11: =O11/4 -> 954 | Q11: =P11/3 -> 318 | R11: =P11/13 -> 73.384615 | S11: =R11/5 -> 14.676923 | T11: 2113.26 | U11: =T11*O11 -> 8064200.2
B12: 186002487 | C12: 12 | D12: 24 | E12: 15 | F12: 34 | G12: 24 | H12: 95 | I12: 131 | J12: 96 | K12: 96 | L12: 28 | M12: 28 | N12: 28 | O12: =SUM(C12:N12) -> 611 | P12: =O12/4 -> 152.75 | Q12: =P12/3 -> 50.916667 | R12: =P12/13 -> 11.75 | S12: =R12/5 -> 2.35 | T12: 1985.4 | U12: =T12*O12 -> 1213079.4
B13: 186015031 | C13: 72 | D13: 80 | E13: 112 | F13: 88 | G13: 101 | H13: 104 | I13: 112 | J13: 88 | K13: 88 | L13: 98 | M13: 98 | N13: 98 | O13: =SUM(C13:N13) -> 1139 | P13: =O13/4 -> 284.75 | Q13: =P13/3 -> 94.916667 | R13: =P13/13 -> 21.903846 | S13: =R13/5 -> 4.3807692 | T13: 2076.89 | U13: =T13*O13 -> 2365577.7
B14: 186018006 | C14: 5 | D14: 0 | E14: 0 | F14: 13 | G14: 0 | H14: 8 | I14: 15 | J14: 12 | K14: 6 | L14: 14 | M14: 13 | N14: 13 | O14: 13 | P14: 13 | Q14: 13 | R14: 13 | S14: 13 | T14: 13 | U14: 13 | V14: 13
B15: 186017002 | C15: 40 | D15: 48 | E15: 16 | F15: 56 | G15: 60 | H15: 0 | I15: 64 | J15: 32 | K15: 24 | L15: 42 | M15: 42 | N15: 42 | O15: =SUM(C15:N15) -> 466 | P15: =O15/4 -> 116.5 | Q15: =P15/3 -> 38.833333 | R15: =P15/13 -> 8.9615385 | S15: =R15/5 -> 1.7923077 | T15: 2193.42 | U15: =T15*O15 -> 1022133.7
B16: 186019007 | C16: 0 | D16: 0 | E16: 0 | F16: 5 | G16: 0 | H16: 0 | I16: 21 | J16: 16 | K16: 12 | L16: 25 | M16: 24 | N16: 24 | O16: =SUM(C16:N16) -> 127 | P16: =O16/4 -> 31.75 | Q16: =P16/3 -> 10.583333 | R16: =P16/13 -> 2.4423077 | S16: =R16/5 -> 0.48846154
B17: 186017012 | C17: 0 | D17: 7 | E17: 5 | F17: 9 | G17: 0 | H17: 16 | I17: 9 | J17: 0 | K17: 0 | L17: 4 | M17: 3 | N17: 3 | O17: =SUM(C17:N17) -> 56 | P17: =O17/4 -> 14 | Q17: =P17/3 -> 4.6666667 | R17: =P17/13 -> 1.0769231 | S17: =R17/5 -> 0.21538462 | T17: 2751.82 | U17: =T17*O17 -> 154101.92
A18: PDA | B18: 186002998 | C18: 0 | D18: 16 | E18: 29 | F18: 12 | G18: 14 | H18: 38 | I18: 26 | J18: 16 | K18: 16 | L18: 22 | M18: 22 | N18: 22 | O18: =SUM(C18:N18) -> 233 | P18: =O18/4 -> 58.25 | Q18: =P18/3 -> 19.416667 | R18: =P18/13 -> 4.4807692 | S18: =R18/5 -> 0.89615385 | T18: 3007.95 | U18: =T18*O18 -> 700852.35
B19: 186299800 | C19: 148 | D19: 222 | E19: 150 | F19: 176 | G19: 168 | H19: 438 | I19: 232 | J19: 184 | K19: 184 | L19: 202 | M19: 202 | N19: 202 | O19: =SUM(C19:N19) -> 2508 | P19: =O19/4 -> 627 | Q19: =P19/3 -> 209 | R19: =P19/13 -> 48.230769 | S19: =R19/5 -> 9.6461538 | T19: 3032.4 | U19: =T19*O19 -> 7605259.2
B20: 186017003 | C20: 24 | D20: 33 | E20: 58 | F20: 41 | G20: 64 | H20: 8 | I20: 40 | J20: 32 | K20: 28 | L20: 40 | M20: 40 | N20: 39 | O20: =SUM(C20:N20) -> 447 | P20: =O20/4 -> 111.75 | Q20: =P20/3 -> 37.25 | R20: =P20/13 -> 8.5961538 | S20: =R20/5 -> 1.7192308 | T20: 3090.02 | U20: =T20*O20 -> 1381238.9
B21: 186019008 | C21: 0 | D21: 0 | E21: 0 | F21: 5 | G21: 0 | H21: 0 | I21: 17 | J21: 16 | K21: 16 | L21: 25 | M21: 24 | N21: 24 | O21: =SUM(C21:N21) -> 127 | P21: =O21/4 -> 31.75 | Q21: =P21/3 -> 10.583333 | R21: =P21/13 -> 2.4423077 | S21: =R21/5 -> 0.48846154
B22: 186015032 | C22: 48 | D22: 56 | E22: 112 | F22: 88 | G22: 76 | H22: 146 | I22: 112 | J22: 88 | K22: 72 | L22: 95 | M22: 95 | N22: 95 | O22: =SUM(C22:N22) -> 1083 | P22: =O22/4 -> 270.75 | Q22: =P22/3 -> 90.25 | R22: =P22/13 -> 20.826923 | S22: =R22/5 -> 4.1653846 | T22: 3066.66 | U22: =T22*O22 -> 3321192.8
B23: 186015033 | C23: 8 | D23: 112 | E23: 128 | F23: 72 | G23: 88 | H23: 212 | I23: 116 | J23: 88 | K23: 96 | L23: 94 | M23: 94 | N23: 93 | O23: =SUM(C23:N23) -> 1201 | P23: =O23/4 -> 300.25 | Q23: =P23/3 -> 100.08333 | R23: =P23/13 -> 23.096154 | S23: =R23/5 -> 4.6192308 | T23: 3063.67 | U23: =T23*O23 -> 3679467.7
B24: 186018007 | C24: 10 | D24: 0 | E24: 0 | F24: 32 | G24: 0 | H24: 34 | I24: 32 | J24: 24 | K24: 24 | L24: 28 | M24: 28 | N24: 28 | O24: =SUM(C24:N24) -> 240 | P24: =O24/4 -> 60 | R24: =P24/13 -> 4.6153846 | S24: =R24/5 -> 0.92307692 | T24: 3305.36 | U24: =T24*O24 -> 793286.4
B25: 186015034 | C25: 16 | D25: 7 | E25: 0 | F25: 20 | G25: 5 | H25: 6 | I25: 20 | J25: 0 | K25: 0 | L25: 8 | M25: 8 | N25: 7 | O25: =SUM(C25:N25) -> 97 | P25: =O25/4 -> 24.25 | Q25: =P25/3 -> 8.0833333 | R25: =P25/13 -> 1.8653846 | S25: =R25/5 -> 0.37307692 | T25: 2981.31 | U25: =T25*O25 -> 289187.07
B26: 186015053 | C26: 4 | D26: 0 | E26: 0 | F26: 7 | G26: 0 | H26: 0 | I26: 5 | J26: 0 | K26: 0 | L26: 4 | M26: 4 | N26: 4 | O26: =SUM(C26:N26) -> 28 | P26: =O26/4 -> 7 | Q26: =P26/3 -> 2.3333333 | R26: =P26/13 -> 0.53846154 | S26: =R26/5 -> 0.10769231 | T26: 3116.69 | U26: =T26*O26 -> 87267.32
B27: 186017013 | C27: 0 | D27: 0 | E27: 0 | F27: 0 | G27: 0 | H27: 7 | I27: 3 | J27: 0 | K27: 0 | L27: 1 | M27: 1 | N27: 1 | O27: =SUM(C27:N27) -> 13 | P27: =O27/4 -> 3.25 | Q27: =P27/3 -> 1.0833333 | R27: =P27/13 -> 0.25 | S27: =R27/5 -> 0.05 | T27: 3461.11 | U27: =T27*O27 -> 44994.43
C28: =SUM(C2:C27) -> 983 | D28: =SUM(D2:D27) -> 1363 | E28: =SUM(E2:E27) -> 1508 | F28: =SUM(F2:F27) -> 1520 | G28: =SUM(G2:G27) -> 1363 | H28: =SUM(H2:H27) -> 2501 | I28: =SUM(I2:I27) -> 2086 | J28: =SUM(J2:J27) -> 1479 | ... O28: =SUM(O2:O27) -> 19058
A32: WATERS INSTRUMENTS
A33: 44180 | C33: Jan'21 | G33: Feb'21 | K33: Mar'21 | P33: Apr'21 | T33: May'21 | Y33: Jun'21 | AD33: Jul'21 | AH33: Aug'21 | AL33: Sep'21 | AQ33: Oct'21 | AU33: Nov'21 | AY33: Dec'21 | BD33: Jan'22 | BH33: Feb'22 | BL33: Mar'22
B34: Waters PO due date | C34: 44202 | D34: =C34+7 -> 44209 | E34: =D34+7 -> 44216 | F34: =E34+7 -> 44223 | G34: =F34+7 -> 44230 | H34: =G34+7 -> 44237 | I34: =H34+7 -> 44244 | J34: =I34+7 -> 44251 | K34: =J34+7 -> 44258 | ... T34: =S34+7 -> 44321 | V34: =T34+7 -> 44328 | W34: =V34+7 -> 44335 | X34: =W34+7 -> 44342 | Y34: =X34+7 -> 44349 | Z34: =Y34+7 -> 44356 | AA34: =Z34+7 -> 44363 | AB34: =AA34+7 -> 44370 | AC34: =AB34+7 -> 44377 | AD34: =AC34+7 -> 44384 | ... BP34: =BO34+7 -> 44650
B35: Baan forecast date | C35: 44206 | D35: =C35+7 -> 44213 | E35: =D35+7 -> 44220 | F35: =E35+7 -> 44227 | G35: =F35+7 -> 44234 | H35: =G35+7 -> 44241 | I35: =H35+7 -> 44248 | J35: =I35+7 -> 44255 | K35: =J35+7 -> 44262 | ... T35: =S35+7 -> 44325 | V35: =T35+7 -> 44332 | W35: =V35+7 -> 44339 | X35: =W35+7 -> 44346 | Y35: =X35+7 -> 44353 | Z35: =Y35+7 -> 44360 | AA35: =Z35+7 -> 44367 | AB35: =AA35+7 -> 44374 | AC35: =AB35+7 -> 44381 | AD35: =AC35+7 -> 44388 | ... BP35: =BO35+7 -> 44654
A36: Ship Plan | B36: WAT-WAT207000 (515) | E36: 6 | F36: 6 | G36: 8 | H36: 6 | J36: 6 | K36: 6 | P36: 20 | T36: 19 | Y36: 19 | AD36: 19 | AH36: 19 | AL36: 18 | AQ36: 25 | AU36: 24 | AY36: 24 | BD36: 17 | BH36: 17 | BL36: 16
A37: Ship Plan | B37: WAT-186001515 (1515) | G37: 4 | H37: 3 | J37: 3 | K37: 3 | L37: 3 | M37: 3 | N37: 3 | O37: 2 | P37: 7 | T37: 6 | Y37: 6 | AD37: 7 | AH37: 6 | AL37: 6 | AQ37: 7 | AU37: 6 | AY37: 6 | BD37: 7 | BH37: 6 | BL37: 6
A38: Ship Plan | B38: WAT-186001525 (1525) | D38: 3 | E38: 3 | F38: 3 | G38: 3 | H38: 3 | J38: 3 | K38: 3 | L38: 3 | M38: 3 | N38: 3 | P38: 11 | T38: 10 | Y38: 10 | AD38: 10 | AH38: 10 | AL38: 10 | AQ38: 14 | AU38: 13 | AY38: 13 | BD38: 9 | BH38: 9 | BL38: 9
A39: Ship Plan | B39: WAT-186001825 (1525u) | BD39: 0 | BH39: 0 | BL39: 0
A40: Ship plan | B40: WAT-186269505 | C40: 10 | D40: 10 | E40: 17 | F40: 16 | G40: 13 | H40: 13 | I40: 8 | J40: 13 | K40: 13 | L40: 10 | M40: 10 | N40: 10 | O40: 10 | P40: 54 | T40: 54 | Y40: 54 | AD40: 55 | AH40: 55 | AL40: 54 | AQ40: 67 | AU40: 67 | AY40: 66 | BD40: 44 | BH40: 43 | BL40: 43
A41: Ship plan | B41: WAT-186269506 | C41: 35 | D41: 35 | E41: 70 | F41: 60 | G41: 57 | H41: 57 | I41: 39 | J41: 55 | K41: 55 | L41: 55 | M41: 55 | N41: 40 | O41: 40 | P41: 251 | T41: 251 | Y41: 251 | AD41: 267 | AH41: 267 | AL41: 266 | AQ41: 326 | AU41: 325 | AY41: 325 | BD41: 225 | BH41: 225 | BL41: 224
A42: Ship Plan | B42: WAT-186015001 (BSM) | D42: 6 | E42: 2 | F42: 4 | G42: 4 | H42: 4 | I42: 4 | L42: 4 | M42: 3 | N42: 2 | P42: 4 | T42: 4 | Y42: 3 | AD42: 5 | AH42: 5 | AL42: 4 | AQ42: 5 | AU42: 5 | AY42: 4 | BD42: 4 | BH42: 3 | BL42: 3
A43: Ship Plan | B43: WAT-186015018 (QSM)
A44: Ship Plan | B44: WAT-186015080 (QSM Plus) | C44: 20 | D44: 20 | E44: 40 | F44: 44 | G44: 50 | H44: 50 | I44: 32 | J44: 48 | K44: 48 | L44: 46 | M44: 45 | N44: 40 | O44: 28 | P44: 163 | T44: 163 | Y44: 162 | AD44: 147 | AH44: 147 | AL44: 147 | AQ44: 180 | AU44: 180 | AY44: 180 | BD44: 182 | BH44: 182 | BL44: 181
A45: Ship Plan | B45: WAT-186248900 (2489 Det X) | C45: 28 | D45: 28 | E45: 64 | F45: 64 | G45: 64 | H45: 72 | I45: 72 | J45: 64 | K45: 80 | L45: 64 | M45: 80 | N45: 64 | O45: 55 | P45: 282 | T45: 281 | Y45: 281 | AD45: 276 | AH45: 276 | AL45: 276 | AQ45: 319 | AU45: 319 | AY45: 319 | BD45: 217 | BH45: 217 | BL45: 217
A46: Ship Plan | B46: WAT-186002487 (2489) | E46: 12 | G46: 12 | J46: 12 | L46: 12 | N46: 6 | P46: 24 | T46: 23 | Y46: 23 | AD46: 28 | AH46: 28 | AL46: 27 | AQ46: 24 | AU46: 23 | AY46: 23 | BD46: 22 | BH46: 21 | BL46: 21
A47: Ship Plan | B47: WAT-186015031 (TUV Detector) | C47: 8 | D47: 16 | E47: 16 | F47: 32 | G47: 24 | H47: 24 | I47: 8 | J47: 24 | K47: 24 | L47: 24 | M47: 24 | N47: 24 | O47: 16 | P47: 85 | T47: 85 | Y47: 85 | AD47: 84 | AH47: 83 | AL47: 83 | AQ47: 98 | AU47: 98 | AY47: 98 | BD47: 67 | BH47: 67 | BL47: 67
A48: Ship Plan | B48: WAT-186018006 (TUV Premier Detector) | D48: 5 | P48: 5 | T48: 4 | Y48: 4 | AD48: 5 | AH48: 5 | AL48: 5 | AQ48: 6 | AU48: 6 | AY48: 5 | BD48: 0 | BH48: 0 | BL48: 0
A49: Ship Plan | B49: WAT-186017002 (Arc 2489) | D49: 16 | E49: 8 | F49: 16 | G49: 16 | H49: =16+2 -> 18 | I49: =8+18 -> 26 | J49: 13 | K49: 8 | L49: 8 | M49: 8 | N49: 8 | P49: 32 | T49: 31 | Y49: 31 | AD49: 26 | AH49: 25 | AL49: 25 | AQ49: 32 | AU49: 31 | AY49: 31 | BD49: 29 | BH49: 29 | BL49: 29
A50: Ship Plan | B50: WAT-186017012 (Arc Bio 2489) | I50: 7 | P50: 3 | T50: 3 | Y50: 2 | AD50: 4 | AH50: 3 | AL50: 3 | AQ50: 4 | AU50: 4 | AY50: 4 | BD50: 1 | BH50: 1 | BL50: 0
A51: Ship Plan | B51: WAT-186002998 (2998 Detector) | E51: 8 | F51: 8 | G51: 8 | L51: 8 | M51: 6 | P51: 17 | T51: 16 | Y51: 16 | AD51: 17 | AH51: 16 | AL51: 16 | AQ51: 22 | AU51: 22 | AY51: 22 | BD51: 14 | BH51: 14 | BL51: 13
A52: Ship Plan | B52: WAT-186299800 (2998 Det X) | C52: 10 | D52: 10 | E52: 64 | F52: 64 | G52: 72 | H52: 72 | I52: 46 | J52: 72 | K52: 64 | L52: 56 | M52: 72 | N52: 72 | O52: 48 | P52: 161 | T52: 161 | Y52: 161 | AD52: 171 | AH52: 171 | AL52: 170 | AQ52: 195 | AU52: 194 | AY52: 194 | BD52: 133 | BH52: 133 | BL52: 132
A53: Ship Plan | B53: WAT-186017003 (Velox/Arc 2998) | D53: 8 | E53: 8 | F53: 8 | G53: 8 | H53: =8+2 -> 10 | I53: =9+18 -> 27 | J53: 8 | K53: 16 | L53: 16 | M53: 16 | N53: 16 | O53: 16 | P53: 33 | T53: 32 | Y53: 32 | AD53: 27 | AH53: 26 | AL53: 26 | AQ53: 33 | AU53: 33 | AY53: 32 | BD53: 29 | BH53: 29 | BL53: 29
A54: Ship Plan | B54: WAT-186015032 (PDA Detector) | C54: 8 | D54: 8 | E54: 16 | F54: 16 | G54: 16 | H54: 16 | I54: 8 | J54: 16 | K54: 16 | L54: 16 | M54: 8 | N54: 8 | O54: 11 | P54: 76 | T54: 76 | Y54: 76 | AD54: 77 | AH54: 76 | AL54: 76 | AQ54: 101 | AU54: 101 | AY54: 100 | BD54: 59 | BH54: 59 | BL54: 59
A55: Ship Plan | B55: WAT-186015033 (eLambda) | C55: 4 | D55: 4 | E55: 16 | F55: 24 | G55: 16 | H55: 24 | I55: 16 | J55: 24 | K55: 24 | L55: 24 | M55: 16 | N55: 16 | O55: 10 | P55: 73 | T55: 73 | Y55: 72 | AD55: 92 | AH55: 92 | AL55: 92 | AQ55: 102 | AU55: 102 | AY55: 102 | BD55: 61 | BH55: 60 | BL55: 60
A56: Ship Plan | B56: WAT-186018007 (Premier eLambda) | D56: 10 | P56: 8 | T56: 8 | Y56: 8 | AD56: 9 | AH56: 9 | AL56: 9 | AQ56: 10 | AU56: 10 | AY56: 10 | BD56: 0 | BH56: 0 | BL56: 0
A57: Ship Plan | B57: WAT-186015034 (UPC2 Detector) | C57: 4 | D57: 4 | E57: 8 | I57: 9 | P57: 9 | T57: 8 | Y57: 8 | AD57: 8 | AH57: 8 | AL57: 7 | AQ57: 12 | AU57: 12 | AY57: 12 | BD57: 7 | BH57: 7 | BL57: 6
A58: Ship Plan | B58: WAT-186015053 (PDA w/ Taper slit) | D58: 4 | I58: 8 | N58: 5 | P58: 6 | T58: 5 | Y58: 5 | AD58: 3 | AH58: 3 | AL58: 2 | AQ58: 7 | AU58: 6 | AY58: 6 | BD58: 4 | BH58: 4 | BL58: 3
A59: Ship Plan | B59: WAT-186017013 (Arc Bio 2998) | AD59: 2 | AH59: 2 | AL59: 1 | AQ59: 3 | AU59: 2 | AY59: 2 | BD59: 1 | BH59: 1 | BL59: 0
A60: Ship Plan | B60: WAT-S-279001743 (TUV Detector w/o SU Kit & w/o Box) | C60: 4 | D60: 8 | G60: 4 | K60: 8 | O60: 8 | S60: 4 | Y60: 8 | AC60: 4 | AH60: 8 | AL60: 8 | AQ60: 4 | AU60: 4 | BD60: 0 | BH60: 0 | BL60: 0
C61: =SUM(C45:C60) -> 66 | D61: =SUM(D45:D60) -> 121 | E61: =SUM(E45:E60) -> 220 | F61: =SUM(F45:F60) -> 232 | G61: =SUM(G45:G60) -> 240 | H61: =SUM(H45:H60) -> 236 | I61: =SUM(I45:I60) -> 227 | J61: =SUM(J45:J60) -> 233 | ... T61: =SUM(T45:T60) -> 806 | V61: =SUM(V45:V60) -> 0 | W61: =SUM(W45:W60) -> 0 | X61: =SUM(X45:X60) -> 0 | Y61: =SUM(Y45:Y60) -> 812 | Z61: =SUM(Z45:Z60) -> 0 | AA61: =SUM(AA45:AA60) -> 0 | AB61: =SUM(AB45:AB60) -> 0 | AC61: =SUM(AC45:AC60) -> 4 | ... BC61: =SUM(BC45:BC60) -> 0
A62: Sum Pump shipment | C62: =C36+C37++C38+C39 -> 0 | D62: =D36+D37++D38+D39 -> 3 | E62: =E36+E37++E38+E39 -> 9 | F62: =F36+F37++F38+F39 -> 9 | G62: =G36+G37++G38+G39 -> 15 | H62: =H36+H37++H38+H39 -> 12 | I62: =I36+I37++I38+I39 -> 0 | J62: =J36+J37++J38+J39 -> 12 | ... T62: =T36+T37++T38+T39 -> 35 | V62: =V36+V37++V38+V39 -> 0 | W62: =W36+W37++W38+W39 -> 0 | X62: =X36+X37++X38+X39 -> 0 | Y62: =Y36+Y37++Y38+Y39 -> 35 | Z62: =Z36+Z37++Z38+Z39 -> 0 | AA62: =AA36+AA37++AA38+AA39 -> 0 | AB62: =AB36+AB37++AB38+AB39 -> 0 | AC62: =AC36+AC37++AC38+AC39 -> 0 | ... BO62: =BO36+BO37++BO38+BO39 -> 0
A63: Sum Alliance shipment | C63: =SUM(C40:C41) -> 45 | D63: =SUM(D40:D41) -> 45 | E63: =SUM(E40:E41) -> 87 | F63: =SUM(F40:F41) -> 76 | G63: =SUM(G40:G41) -> 70 | H63: =SUM(H40:H41) -> 70 | I63: =SUM(I40:I41) -> 47 | J63: =SUM(J40:J41) -> 68 | ... T63: =SUM(T40:T41) -> 305 | V63: =SUM(V40:V41) -> 0 | W63: =SUM(W40:W41) -> 0 | X63: =SUM(X40:X41) -> 0 | Y63: =SUM(Y40:Y41) -> 305 | Z63: =SUM(Z40:Z41) -> 0 | AA63: =SUM(AA40:AA41) -> 0 | AB63: =SUM(AB40:AB41) -> 0 | AC63: =SUM(AC40:AC41) -> 0 | ... BO63: =SUM(BO40:BO41) -> 0 | BP63: `
A64: Sum Detectors shipment | C64: =C46+C45+C49+C51+C52+C53+C47+C54+C55+C57+C58+C50+C59+C48+C61+C56 -> 128 | D64: =D46+D45+D49+D51+D52+D53+D47+D54+D55+D57+D58+D50+D59+D48+D61+D56 -> 234 | E64: =E46+E45+E49+E51+E52+E53+E47+E54+E55+E57+E58+E50+E59+E48+E61+E56 -> 440 | F64: =F46+F45+F49+F51+F52+F53+F47+F54+F55+F57+F58+F50+F59+F48+F61+F56 -> 464 | G64: =G46+G45+G49+G51+G52+G53+G47+G54+G55+G57+G58+G50+G59+G48+G61+G56 -> 476 | H64: =H46+H45+H49+H51+H52+H53+H47+H54+H55+H57+H58+H50+H59+H48+H61+H56 -> 472 | I64: =I46+I45+I49+I51+I52+I53+I47+I54+I55+I57+I58+I50+I59+I48+I61+I56 -> 454 | J64: =J46+J45+J49+J51+J52+J53+J47+J54+J55+J57+J58+J50+J59+J48+J61+J56 -> 466 | ... T64: =T46+T45+T49+T51+T52+T53+T47+T54+T55+T57+T58+T50+T59+T48+T61+T56 -> 1612 | V64: =V46+V45+V49+V51+V52+V53+V47+V54+V55+V57+V58+V50+V59+V48+V61+V56 -> 0 | W64: =W46+W45+W49+W51+W52+W53+W47+W54+W55+W57+W58+W50+W59+W48+W61+W56 -> 0 | X64: =X46+X45+X49+X51+X52+X53+X47+X54+X55+X57+X58+X50+X59+X48+X61+X56 -> 0 | Y64: =Y46+Y45+Y49+Y51+Y52+Y53+Y47+Y54+Y55+Y57+Y58+Y50+Y59+Y48+Y61+Y56 -> 1616 | Z64: =Z46+Z45+Z49+Z51+Z52+Z53+Z47+Z54+Z55+Z57+Z58+Z50+Z59+Z48+Z61+Z56 -> 0 | AA64: =AA46+AA45+AA49+AA51+AA52+AA53+AA47+AA54+AA55+AA57+AA58+AA50+AA59+AA48+AA61+AA56 -> 0 | AB64: =AB46+AB45+AB49+AB51+AB52+AB53+AB47+AB54+AB55+AB57+AB58+AB50+AB59+AB48+AB61+AB56 -> 0 | AC64: =AC46+AC45+AC49+AC51+AC52+AC53+AC47+AC54+AC55+AC57+AC58+AC50+AC59+AC48+AC61+AC56 -> 4 | ... BO64: =BO46+BO45+BO49+BO51+BO52+BO53+BO47+BO54+BO55+BO57+BO58+BO50+BO59+BO48+BO61+BO56 -> 0
A65: Sum BSM & QSM shipment | C65: =C42+C43+C44 -> 20 | D65: =D42+D43+D44 -> 26 | E65: =E42+E43+E44 -> 42 | F65: =F42+F43+F44 -> 48 | G65: =G42+G43+G44 -> 54 | H65: =H42+H43+H44 -> 54 | I65: =I42+I43+I44 -> 36 | J65: =J42+J43+J44 -> 48 | ... T65: =T42+T43+T44 -> 167 | V65: =V42+V43+V44 -> 0 | W65: =W42+W43+W44 -> 0 | X65: =X42+X43+X44 -> 0 | Y65: =Y42+Y43+Y44 -> 165 | Z65: =Z42+Z43+Z44 -> 0 | AA65: =AA42+AA43+AA44 -> 0 | AB65: =AB42+AB43+AB44 -> 0 | AC65: =AC42+AC43+AC44 -> 0 | ... BO65: =BO42+BO43+BO44 -> 0
B66: Sum weekly | C66: =SUM(C62:C65) -> 193 | D66: =SUM(D62:D65) -> 308 | E66: =SUM(E62:E65) -> 578 | F66: =SUM(F62:F65) -> 597 | G66: =SUM(G62:G65) -> 615 | H66: =SUM(H62:H65) -> 608 | I66: =SUM(I62:I65) -> 537 | J66: =SUM(J62:J65) -> 594 | ... T66: =SUM(T62:T65) -> 2119 | V66: =SUM(V62:V65) -> 0 | W66: =SUM(W62:W65) -> 0 | X66: =SUM(X62:X65) -> 0 | Y66: =SUM(Y62:Y65) -> 2121 | Z66: =SUM(Z62:Z65) -> 0 | AA66: =SUM(AA62:AA65) -> 0 | AB66: =SUM(AB62:AB65) -> 0 | AC66: =SUM(AC62:AC65) -> 4 | ... BO66: =SUM(BO62:BO65) -> 0
C68: 4 | D68: 4 | E68: 5 | F68: 4 | G68: 4 | H68: 5 | I68: 4 | J68: 4 | K68: 5 | L68: 4 | M68: 4 | N68: 5
C69: Jan | D69: Feb | E69: Mar | F69: Apr | G69: May | H69: Jun | I69: Jul | J69: Aug | K69: Sep | L69: Oct | M69: Nov | N69: Dec
B70: WAT207000 | C70: =SUM(C36:F36) -> 12 | D70: =SUM(G36:J36) -> 20 | E70: =SUM(K36:O36) -> 6 | F70: =SUM(P36) -> 20 | G70: =T36 -> 19 | H70: =Y36 -> 19 | I70: =AD36 -> 19 | J70: =AH36 -> 19 | K70: =AL36 -> 18 | L70: =AQ36 -> 25 | M70: =AU36 -> 24 | N70: =AY36 -> 24
B71: 186001515 | C71: =SUM(C37:F37) -> 0 | D71: =SUM(G37:J37) -> 10 | E71: =SUM(K37:O37) -> 14 | F71: =SUM(P37) -> 7 | G71: =T37 -> 6 | H71: =Y37 -> 6 | I71: =AD37 -> 7 | J71: =AH37 -> 6 | K71: =AL37 -> 6 | L71: =AQ37 -> 7 | M71: =AU37 -> 6 | N71: =AY37 -> 6
B72: 186001525 | C72: =SUM(C38:F38) -> 9 | D72: =SUM(G38:J38) -> 9 | E72: =SUM(K38:O38) -> 12 | F72: =SUM(P38) -> 11 | G72: =T38 -> 10 | H72: =Y38 -> 10 | I72: =AD38 -> 10 | J72: =AH38 -> 10 | K72: =AL38 -> 10 | L72: =AQ38 -> 14 | M72: =AU38 -> 13 | N72: =AY38 -> 13
B73: 186001825 | C73: =SUM(C39:F39) -> 0 | D73: =SUM(G39:J39) -> 0 | E73: =SUM(K39:O39) -> 0 | F73: =SUM(P39) -> 0 | G73: =T39 -> 0 | H73: =Y39 -> 0 | I73: =AD39 -> 0 | J73: =AH39 -> 0 | K73: =AL39 -> 0 | L73: =AQ39 -> 0 | M73: =AU39 -> 0 | N73: =AY39 -> 0
B74: 186269505 | C74: =SUM(C40:F40) -> 53 | D74: =SUM(G40:J40) -> 47 | E74: =SUM(K40:O40) -> 53 | F74: =SUM(P40) -> 54 | G74: =T40 -> 54 | H74: =Y40 -> 54 | I74: =AD40 -> 55 | J74: =AH40 -> 55 | K74: =AL40 -> 54 | L74: =AQ40 -> 67 | M74: =AU40 -> 67 | N74: =AY40 -> 66
B75: 186269506 | C75: =SUM(C41:F41) -> 200 | D75: =SUM(G41:J41) -> 208 | E75: =SUM(K41:O41) -> 245 | F75: =SUM(P41) -> 251 | G75: =T41 -> 251 | H75: =Y41 -> 251 | I75: =AD41 -> 267 | J75: =AH41 -> 267 | K75: =AL41 -> 266 | L75: =AQ41 -> 326 | M75: =AU41 -> 325 | N75: =AY41 -> 325
B76: 186015001 | C76: =SUM(C42:F42) -> 12 | D76: =SUM(G42:J42) -> 12 | E76: =SUM(K42:O42) -> 9 | F76: =SUM(P42) -> 4 | G76: =T42 -> 4 | H76: =Y42 -> 3 | I76: =AD42 -> 5 | J76: =AH42 -> 5 | K76: =AL42 -> 4 | L76: =AQ42 -> 5 | M76: =AU42 -> 5 | N76: =AY42 -> 4
B77: 186015018 | C77: =SUM(C43:F43) -> 0 | D77: =SUM(G43:J43) -> 0 | E77: =SUM(K43:O43) -> 0 | F77: =SUM(P43) -> 0 | G77: =T43 -> 0 | H77: =Y43 -> 0 | I77: =AD43 -> 0 | J77: =AH43 -> 0 | K77: =AL43 -> 0 | L77: =AQ43 -> 0 | M77: =AU43 -> 0 | N77: =AY43 -> 0
B78: 186015080 | C78: =SUM(C44:F44) -> 124 | D78: =SUM(G44:J44) -> 180 | E78: =SUM(K44:O44) -> 207 | F78: =SUM(P44) -> 163 | G78: =T44 -> 163 | H78: =Y44 -> 162 | I78: =AD44 -> 147 | J78: =AH44 -> 147 | K78: =AL44 -> 147 | L78: =AQ44 -> 180 | M78: =AU44 -> 180 | N78: =AY44 -> 180
B79: 186248900 | C79: =SUM(C45:F45) -> 184 | D79: =SUM(G45:J45) -> 272 | E79: =SUM(K45:O45) -> 343 | F79: =SUM(P45) -> 282 | G79: =T45 -> 281 | H79: =Y45 -> 281 | I79: =AD45 -> 276 | J79: =AH45 -> 276 | K79: =AL45 -> 276 | L79: =AQ45 -> 319 | M79: =AU45 -> 319 | N79: =AY45 -> 319
B80: 186002487 | C80: =SUM(C46:F46) -> 12 | D80: =SUM(G46:J46) -> 24 | E80: =SUM(K46:O46) -> 18 | F80: =SUM(P46) -> 24 | G80: =T46 -> 23 | H80: =Y46 -> 23 | I80: =AD46 -> 28 | J80: =AH46 -> 28 | K80: =AL46 -> 27 | L80: =AQ46 -> 24 | M80: =AU46 -> 23 | N80: =AY46 -> 23
B81: 186015031 | C81: =SUM(C47:F47) -> 72 | D81: =SUM(G47:J47) -> 80 | E81: =SUM(K47:O47) -> 112 | F81: =SUM(P47) -> 85 | G81: =T47 -> 85 | H81: =Y47 -> 85 | I81: =AD47 -> 84 | J81: =AH47 -> 83 | K81: =AL47 -> 83 | L81: =AQ47 -> 98 | M81: =AU47 -> 98 | N81: =AY47 -> 98
B82: 186018006 | C82: =SUM(C48:F48) -> 5 | D82: =SUM(G48:J48) -> 0 | E82: =SUM(K48:O48) -> 0 | F82: =SUM(P48) -> 5 | G82: =T48 -> 4 | H82: =Y48 -> 4 | I82: =AD48 -> 5 | J82: =AH48 -> 5 | K82: =AL48 -> 5 | L82: =AQ48 -> 6 | M82: =AU48 -> 6 | N82: =AY48 -> 5
... B93: 186017013 | C93: =SUM(C59:F59) -> 0 | D93: =SUM(G59:J59) -> 0 | E93: =SUM(K59:O59) -> 0 | F93: =SUM(P59) -> 0 | G93: =T59 -> 0 | H93: =Y59 -> 0 | I93: =AD59 -> 2 | J93: =AH59 -> 2 | K93: =AL59 -> 1 | L93: =AQ59 -> 3 | M93: =AU59 -> 2 | N93: =AY59 -> 2
B94: 279001743 | C94: =SUM(C60:F60) -> 12 | D94: =SUM(G60:J60) -> 4 | E94: =SUM(K60:O60) -> 16 | F94: 4 | G94: =T60 -> 0 | H94: =Y60+4 -> 12 | I94: =AD60 -> 0 | J94: =AH60 -> 8 | K94: =AL60 -> 8 | L94: =AQ60 -> 4 | M94: =AU60 -> 4 | N94: =AY60 -> 0
C95: =SUM(C61:F61) -> 639 | D95: =SUM(G61:J61) -> 936 | E95: =SUM(K61:O61) -> 1081 | F95: =SUM(P61)+4 -> 818 | G95: =T61 -> 806 | H95: =Y61+4 -> 816 | I95: =AD61 -> 829 | J95: =AH61 -> 831 | K95: =AL61 -> 826 | L95: =AQ61 -> 972 | M95: =AU61 -> 967 | N95: =AY61 -> 960
C96: =SUM(C79:C94) -> 639 | D96: =SUM(D79:D94) -> 936 | E96: =SUM(E79:E94) -> 1081 | F96: =SUM(F79:F94) -> 818 | G96: =SUM(G79:G94) -> 806 | H96: =SUM(H79:H94) -> 816 | I96: =SUM(I79:I94) -> 829 | J96: =SUM(J79:J94) -> 831 | ... N96: =SUM(N79:N94) -> 960
C97: 66 | D97: 121 | E97: 220 | F97: 232 | G97: 240 | H97: 236 | I97: 227 | J97: 233 | K97: 240 | L97: 228 | M97: 230 | N97: 219 | O97: 164 | P97: 814 | Q97: 4 | R97: 806 | S97: 0 | T97: 0 | V97: 0 | W97: 812 | X97: 0 | Y97: 0 | Z97: 0 | AA97: 4 | AB97: 829 | AC97: 0 | AD97: 0 | AE97: 0 | AF97: 831 | AG97: 0 | AH97: 0 | AI97: 0 | AJ97: 826 | AK97: 0 | AL97: 0 | AM97: 0 | AN97: 0 | AO97: 972 | AP97: 0 | AQ97: 0 | AR97: 0 | AS97: 967 | AT97: 0 | AU97: 0 | AV97: 0 | AW97: 960 | AX97: 0 | AY97: 0 | AZ97: 0 | BA97: 0
B99: 5031 | C99: 72 | D99: 80 | E99: 112 | F99: 85 | G99: 85 | H99: 85 | I99: 84 | J99: 83 | K99: 83 | L99: 98 | M99: 98 | N99: 98
B100: 1743 | C100: 12 | D100: 4 | E100: 16 | F100: 4 | G100: 0 | H100: 12 | I100: 0 | J100: 8 | K100: 8 | L100: 4 | M100: 4 | N100: 0
C101: =C99+C100 -> 84 | D101: =D99+D100 -> 84 | E101: =E99+E100 -> 128 | F101: =F99+F100 -> 89 | G101: =G99+G100 -> 85 | H101: =H99+H100 -> 97 | I101: =I99+I100 -> 84 | J101: =J99+J100 -> 91 | ... N101: =N99+N100 -> 98
C104: 44197 | D104: 44228 | E104: 44256 | F104: 44287 | G104: 44317 | H104: 44348 | I104: 44378 | J104: 44409 | K104: 44440 | L104: 44470 | M104: 44501 | N104: 44531 | O104: Total per year | P104: Total per Qtr
B105: Pumps | C105: =SUM(C2:C5) -> 21 | D105: =SUM(D2:D5) -> 39 | E105: =SUM(E2:E5) -> 18 | F105: =SUM(F2:F5) -> 59 | G105: =SUM(G2:G5) -> 31 | H105: =SUM(H2:H5) -> 15 | I105: =SUM(I2:I5) -> 69 | J105: =SUM(J2:J5) -> 27 | ... N105: =SUM(N2:N5) -> 42
B106: Alliance | C106: =SUM(C6:C7) -> 253 | D106: =SUM(D6:D7) -> 255 | E106: =SUM(E6:E7) -> 304 | F106: =SUM(F6:F7) -> 329 | G106: =SUM(G6:G7) -> 324 | H106: =SUM(H6:H7) -> 619 | I106: =SUM(I6:I7) -> 410 | J106: =SUM(J6:J7) -> 322 | ... N106: =SUM(N6:N7) -> 363
B107: BSM/QSM | C107: =SUM(C8:C10) -> 136 | D107: =SUM(D8:D10) -> 192 | E107: =SUM(E8:E10) -> 243 | F107: =SUM(F8:F10) -> 186 | G107: =SUM(G8:G10) -> 144 | H107: =SUM(H8:H10) -> 180 | I107: =SUM(I8:I10) -> 288 | J107: =SUM(J8:J10) -> 150 | ... N107: =SUM(N8:N10) -> 180
B108: Detector - Clean Room - 2498/TUV | C108: =SUM(C11:C17) -> 315 | D108: =SUM(D11:D17) -> 431 | E108: =SUM(E11:E17) -> 466 | F108: =SUM(F11:F17) -> 493 | G108: =SUM(G11:G17) -> 449 | H108: =SUM(H11:H17) -> 798 | I108: =SUM(I11:I17) -> 716 | J108: =SUM(J11:J17) -> 532 | ... N108: =SUM(N11:N17) -> 532
B109: Detector - Clean Room - 2988/PDA/Eλ | C109: =SUM(C18:C27) -> 258 | D109: =SUM(D18:D27) -> 446 | E109: =SUM(E18:E27) -> 477 | F109: =SUM(F18:F27) -> 453 | G109: =SUM(G18:G27) -> 415 | H109: =SUM(H18:H27) -> 889 | I109: =SUM(I18:I27) -> 603 | J109: =SUM(J18:J27) -> 448 | ... N109: =SUM(N18:N27) -> 515
B110: Detector - Main Line | C110: =SUM(C108:C109) -> 573 | D110: =SUM(D108:D109) -> 877 | E110: =SUM(E108:E109) -> 943 | F110: =SUM(F108:F109) -> 946 | G110: =SUM(G108:G109) -> 864 | H110: =SUM(H108:H109) -> 1687 | I110: =SUM(I108:I109) -> 1319 | J110: =SUM(J108:J109) -> 980 | ... N110: =SUM(N108:N109) -> 1047

Sheet Waters Calender
A1: WATERS CORPORATION
A2: 2021 FISCAL CALENDAR
B3: Cut off Wed
B4: Jan | C4: Feb | D4: Mar | E4: Apr | F4: May | G4: Jun | H4: Jul | I4: Aug | J4: Sep | K4: Oct | L4: Nov | M4: Dec
A5: Work days by month | B5: 20 | C5: =C6*5-2 -> 18 | D5: 24 | E5: 20 | F5: 17 | G5: =G6*5 -> 25 | H5: =H6*5-1 -> 19 | I5: =I6*5-1 -> 19 | J5: =J6*5 -> 25 | K5: =K6*5 -> 20 | L5: =L6*5-1 -> 19 | M5: =M6*5-1 -> 24
A6: Work week by month | B6: 4 | C6: 4 | D6: 5 | E6: 4 | F6: 4 | G6: 5 | H6: 4 | I6: 4 | J6: 5 | K6: 4 | L6: 4 | M6: 5
A7: Month-end date | B7: 44225 | C7: 44253 | D7: 44286 | E7: 44316 | F7: 44344 | G7: 44377 | H7: 44407 | I7: 44435 | J7: 44469 | K7: 44498 | L7: 44526 | M7: 44561
B9: WATERS CORPORATION PRELIM!
B10: 2021 FISCAL CALENDAR
B11: 2021 | C11: Qtr Wk | D11: Yr Wk | E11: S | F11: M | G11: T | H11: W | I11: T | J11: F | K11: S | M11: Qtr Wk | N11: Yr Wk | O11: S | P11: M | Q11: T | R11: W | S11: T | T11: F | U11: S
J12: 1 | K12: =+J12+1 -> 2 | M12: 1 | N12: 27 | O12: =K41+1 -> 4 | P12: =O12+1 -> 5 | Q12: =+P12+1 -> 6 | R12: =+Q12+1 -> 7 | S12: =+R12+1 -> 8 | T12: =+S12+1 -> 9 | U12: =+T12+1 -> 10
B13: JAN | C13: 1 | D13: 1 | E13: =+K12+1 -> 3 | F13: =+E13+1 -> 4 | G13: =+F13+1 -> 5 | H13: =+G13+1 -> 6 | I13: =+H13+1 -> 7 | J13: =+I13+1 -> 8 | K13: =+J13+1 -> 9 | L13: JUL | M13: 2 | N13: 28 | O13: =+U12+1 -> 11 | P13: =+O13+1 -> 12 | Q13: =+P13+1 -> 13 | R13: =+Q13+1 -> 14 | S13: =+R13+1 -> 15 | T13: =+S13+1 -> 16 | U13: =+T13+1 -> 17
C14: 2 | D14: 2 | E14: =+K13+1 -> 10 | F14: =+E14+1 -> 11 | G14: =+F14+1 -> 12 | H14: =+G14+1 -> 13 | I14: =+H14+1 -> 14 | J14: =+I14+1 -> 15 | K14: =+J14+1 -> 16 | M14: 3 | N14: 29 | O14: =+U13+1 -> 18 | P14: =+O14+1 -> 19 | Q14: =+P14+1 -> 20 | R14: =+Q14+1 -> 21 | S14: =+R14+1 -> 22 | T14: =+S14+1 -> 23 | U14: =T14+1 -> 24
C15: 3 | D15: 3 | E15: =+K14+1 -> 17 | F15: =E15+1 -> 18 | G15: =F15+1 -> 19 | H15: =+G15+1 -> 20 | I15: =+H15+1 -> 21 | J15: =+I15+1 -> 22 | K15: =+J15+1 -> 23 | M15: 4 | N15: 30 | O15: =U14+1 -> 25 | P15: =O15+1 -> 26 | Q15: =P15+1 -> 27 | R15: =+Q15+1 -> 28 | S15: =+R15+1 -> 29 | T15: =+S15+1 -> 30 | U15: =+T15+1 -> 31
C16: 4 | D16: 4 | E16: =+K15+1 -> 24 | F16: =E16+1 -> 25 | G16: =F16+1 -> 26 | H16: =+G16+1 -> 27 | I16: =+H16+1 -> 28 | J16: =+I16+1 -> 29 | K16: =+J16+1 -> 30
C17: 5 | D17: 5 | E17: =K16+1 -> 31 | F17: 1 | G17: =+F17+1 -> 2 | H17: =+G17+1 -> 3 | I17: =+H17+1 -> 4 | J17: =+I17+1 -> 5 | K17: =+J17+1 -> 6 | M17: 5 | N17: 31 | O17: 1 | P17: =+O17+1 -> 2 | Q17: =+P17+1 -> 3 | R17: =+Q17+1 -> 4 | S17: =+R17+1 -> 5 | T17: =+S17+1 -> 6 | U17: =T17+1 -> 7
B18: FEB | C18: 6 | D18: 6 | E18: =+K17+1 -> 7 | F18: =E18+1 -> 8 | G18: =+F18+1 -> 9 | H18: =+G18+1 -> 10 | I18: =+H18+1 -> 11 | J18: =+I18+1 -> 12 | K18: =+J18+1 -> 13 | L18: AUG | M18: 6 | N18: 32 | O18: =+U17+1 -> 8 | P18: =+O18+1 -> 9 | Q18: =+P18+1 -> 10 | R18: =+Q18+1 -> 11 | S18: =+R18+1 -> 12 | T18: =+S18+1 -> 13 | U18: =+T18+1 -> 14
C19: 7 | D19: 7 | E19: =+K18+1 -> 14 | F19: =+E19+1 -> 15 | G19: =+F19+1 -> 16 | H19: =+G19+1 -> 17 | I19: =+H19+1 -> 18 | J19: =+I19+1 -> 19 | K19: =+J19+1 -> 20 | M19: 7 | N19: 33 | O19: =+U18+1 -> 15 | P19: =+O19+1 -> 16 | Q19: =+P19+1 -> 17 | R19: =+Q19+1 -> 18 | S19: =+R19+1 -> 19 | T19: =+S19+1 -> 20 | U19: =+T19+1 -> 21
C20: 8 | D20: 8 | E20: =K19+1 -> 21 | F20: =E20+1 -> 22 | G20: =F20+1 -> 23 | H20: =G20+1 -> 24 | I20: =+H20+1 -> 25 | J20: =+I20+1 -> 26 | K20: =+J20+1 -> 27 | M20: 8 | N20: 34 | O20: =U19+1 -> 22 | P20: =O20+1 -> 23 | Q20: =+P20+1 -> 24 | R20: =Q20+1 -> 25 | S20: =R20+1 -> 26 | T20: =S20+1 -> 27 | U20: =+T20+1 -> 28
C22: 9 | D22: 9 | E22: =K20+1 -> 28 | F22: 1 | G22: =+F22+1 -> 2 | H22: =+G22+1 -> 3 | I22: =+H22+1 -> 4 | J22: =+I22+1 -> 5 | K22: =J22+1 -> 6 | M22: 9 | N22: 35 | O22: =U20+1 -> 29 | P22: =O22+1 -> 30 | Q22: =P22+1 -> 31 | R22: 1 | S22: =+R22+1 -> 2 | T22: =+S22+1 -> 3 | U22: =T22+1 -> 4
B23: MAR | C23: 10 | D23: 10 | E23: =+K22+1 -> 7 | F23: =+E23+1 -> 8 | G23: =+F23+1 -> 9 | H23: =+G23+1 -> 10 | I23: =+H23+1 -> 11 | J23: =+I23+1 -> 12 | K23: =+J23+1 -> 13 | L23: SEP | M23: 10 | N23: 36 | O23: =U22+1 -> 5 | P23: =+O23+1 -> 6 | Q23: =+P23+1 -> 7 | R23: =+Q23+1 -> 8 | S23: =+R23+1 -> 9 | T23: =+S23+1 -> 10 | U23: =+T23+1 -> 11
C24: 11 | D24: 11 | E24: =+K23+1 -> 14 | F24: =+E24+1 -> 15 | G24: =+F24+1 -> 16 | H24: =+G24+1 -> 17 | I24: =+H24+1 -> 18 | J24: =+I24+1 -> 19 | K24: =+J24+1 -> 20 | M24: 11 | N24: 37 | O24: =+U23+1 -> 12 | P24: =+O24+1 -> 13 | Q24: =+P24+1 -> 14 | R24: =+Q24+1 -> 15 | S24: =+R24+1 -> 16 | T24: =+S24+1 -> 17 | U24: =+T24+1 -> 18
C25: 12 | D25: 12 | E25: =+K24+1 -> 21 | F25: =+E25+1 -> 22 | G25: =+F25+1 -> 23 | H25: =G25+1 -> 24 | I25: =H25+1 -> 25 | J25: =I25+1 -> 26 | K25: =+J25+1 -> 27 | M25: 12 | N25: 38 | O25: =+U24+1 -> 19 | P25: =+O25+1 -> 20 | Q25: =+P25+1 -> 21 | R25: =+Q25+1 -> 22 | S25: =+R25+1 -> 23 | T25: =S25+1 -> 24 | U25: =T25+1 -> 25
C26: 13 | D26: 13 | E26: =+K25+1 -> 28 | F26: =E26+1 -> 29 | G26: =F26+1 -> 30 | H26: =G26+1 -> 31 | I26: 1 | J26: =I26+1 -> 2 | K26: =J26+1 -> 3 | M26: 13 | N26: 39 | O26: =U25+1 -> 26 | P26: =+O26+1 -> 27 | Q26: =+P26+1 -> 28 | R26: =+Q26+1 -> 29 | S26: =+R26+1 -> 30 | T26: 1 | U26: =T26+1 -> 2
C27: 1 | D27: 14 | E27: =K26+1 -> 4 | F27: =E27+1 -> 5 | G27: =F27+1 -> 6 | H27: =+G27+1 -> 7 | I27: =+H27+1 -> 8 | J27: =+I27+1 -> 9 | K27: =+J27+1 -> 10 | M27: 1 | N27: 40 | O27: =U26+1 -> 3 | P27: =O27+1 -> 4 | Q27: =P27+1 -> 5 | R27: =+Q27+1 -> 6 | S27: =+R27+1 -> 7 | T27: =+S27+1 -> 8 | U27: =+T27+1 -> 9
B28: APR | C28: 2 | D28: 15 | E28: =+K27+1 -> 11 | F28: =+E28+1 -> 12 | G28: =+F28+1 -> 13 | H28: =+G28+1 -> 14 | I28: =+H28+1 -> 15 | J28: =+I28+1 -> 16 | K28: =+J28+1 -> 17 | L28: OCT | M28: 2 | N28: 41 | O28: =+U27+1 -> 10 | P28: =+O28+1 -> 11 | Q28: =+P28+1 -> 12 | R28: =+Q28+1 -> 13 | S28: =+R28+1 -> 14 | T28: =+S28+1 -> 15 | U28: =+T28+1 -> 16
C29: 3 | D29: 16 | E29: =+K28+1 -> 18 | F29: =+E29+1 -> 19 | G29: =+F29+1 -> 20 | H29: =+G29+1 -> 21 | I29: =+H29+1 -> 22 | J29: =I29+1 -> 23 | K29: =J29+1 -> 24 | M29: 3 | N29: 42 | O29: =+U28+1 -> 17 | P29: =+O29+1 -> 18 | Q29: =+P29+1 -> 19 | R29: =+Q29+1 -> 20 | S29: =+R29+1 -> 21 | T29: =+S29+1 -> 22 | U29: =+T29+1 -> 23
C30: 4 | D30: 17 | E30: =K29+1 -> 25 | F30: =E30+1 -> 26 | G30: =+F30+1 -> 27 | H30: =+G30+1 -> 28 | I30: =+H30+1 -> 29 | J30: =+I30+1 -> 30 | K30: 1 | M30: 4 | N30: 43 | O30: =U29+1 -> 24 | P30: =O30+1 -> 25 | Q30: =P30+1 -> 26 | R30: =Q30+1 -> 27 | S30: =+R30+1 -> 28 | T30: =+S30+1 -> 29 | U30: =+T30+1 -> 30
C32: 5 | D32: 18 | E32: =K30+1 -> 2 | F32: =E32+1 -> 3 | G32: =F32+1 -> 4 | H32: =G32+1 -> 5 | I32: =H32+1 -> 6 | J32: =I32+1 -> 7 | K32: =J32+1 -> 8 | M32: 5 | N32: 44 | O32: =U30+1 -> 31 | P32: 1 | Q32: =+P32+1 -> 2 | R32: =+Q32+1 -> 3 | S32: =R32+1 -> 4 | T32: =S32+1 -> 5 | U32: =+T32+1 -> 6
B33: MAY | C33: 6 | D33: 19 | E33: =+K32+1 -> 9 | F33: =+E33+1 -> 10 | G33: =+F33+1 -> 11 | H33: =+G33+1 -> 12 | I33: =+H33+1 -> 13 | J33: =+I33+1 -> 14 | K33: =+J33+1 -> 15 | L33: NOV | M33: 6 | N33: 45 | O33: =+U32+1 -> 7 | P33: =+O33+1 -> 8 | Q33: =+P33+1 -> 9 | R33: =+Q33+1 -> 10 | S33: =+R33+1 -> 11 | T33: =+S33+1 -> 12 | U33: =+T33+1 -> 13
C34: 7 | D34: 20 | E34: =+K33+1 -> 16 | F34: =+E34+1 -> 17 | G34: =+F34+1 -> 18 | H34: =+G34+1 -> 19 | I34: =+H34+1 -> 20 | J34: =+I34+1 -> 21 | K34: =+J34+1 -> 22 | M34: 7 | N34: 46 | O34: =+U33+1 -> 14 | P34: =+O34+1 -> 15 | Q34: =+P34+1 -> 16 | R34: =+Q34+1 -> 17 | S34: =+R34+1 -> 18 | T34: =+S34+1 -> 19 | U34: =+T34+1 -> 20
C35: 8 | D35: 21 | E35: =K34+1 -> 23 | F35: =+E35+1 -> 24 | G35: =F35+1 -> 25 | H35: =G35+1 -> 26 | I35: =H35+1 -> 27 | J35: =+I35+1 -> 28 | K35: =+J35+1 -> 29 | M35: 8 | N35: 47 | O35: =U34+1 -> 21 | P35: =+O35+1 -> 22 | Q35: =+P35+1 -> 23 | R35: =Q35+1 -> 24 | S35: =R35+1 -> 25 | T35: =S35+1 -> 26 | U35: =+T35+1 -> 27
C37: 9 | D37: 22 | E37: =+K35+1 -> 30 | F37: =E37+1 -> 31 | G37: 1 | H37: =+G37+1 -> 2 | I37: =H37+1 -> 3 | J37: =I37+1 -> 4 | K37: =J37+1 -> 5 | M37: 9 | N37: 48 | O37: =U35+1 -> 28 | P37: =O37+1 -> 29 | Q37: =P37+1 -> 30 | R37: 1 | S37: =R37+1 -> 2 | T37: =S37+1 -> 3 | U37: =T37+1 -> 4
B38: JUN | C38: 10 | D38: 23 | E38: =K37+1 -> 6 | F38: =E38+1 -> 7 | G38: =F38+1 -> 8 | H38: =+G38+1 -> 9 | I38: =+H38+1 -> 10 | J38: =+I38+1 -> 11 | K38: =+J38+1 -> 12 | L38: DEC | M38: 10 | N38: 49 | O38: =U37+1 -> 5 | P38: =+O38+1 -> 6 | Q38: =+P38+1 -> 7 | R38: =+Q38+1 -> 8 | S38: =+R38+1 -> 9 | T38: =+S38+1 -> 10 | U38: =+T38+1 -> 11
C39: 11 | D39: 24 | E39: =+K38+1 -> 13 | F39: =+E39+1 -> 14 | G39: =+F39+1 -> 15 | H39: =+G39+1 -> 16 | I39: =+H39+1 -> 17 | J39: =+I39+1 -> 18 | K39: =+J39+1 -> 19 | M39: 11 | N39: 50 | O39: =+U38+1 -> 12 | P39: =+O39+1 -> 13 | Q39: =+P39+1 -> 14 | R39: =+Q39+1 -> 15 | S39: =+R39+1 -> 16 | T39: =+S39+1 -> 17 | U39: =+T39+1 -> 18
C40: 12 | D40: 25 | E40: =+K39+1 -> 20 | F40: =+E40+1 -> 21 | G40: =+F40+1 -> 22 | H40: =G40+1 -> 23 | I40: =H40+1 -> 24 | J40: =I40+1 -> 25 | K40: =J40+1 -> 26 | M40: 12 | N40: 51 | O40: =+U39+1 -> 19 | P40: =+O40+1 -> 20 | Q40: =+P40+1 -> 21 | R40: =+Q40+1 -> 22 | S40: =+R40+1 -> 23 | T40: =S40+1 -> 24 | U40: =T40+1 -> 25
C41: 13 | D41: 26 | E41: =K40+1 -> 27 | F41: =E41+1 -> 28 | G41: =F41+1 -> 29 | H41: =G41+1 -> 30 | I41: 1 | J41: =+I41+1 -> 2 | K41: =J41+1 -> 3 | M41: 13 | N41: 52 | O41: =U40+1 -> 26 | P41: =O41+1 -> 27 | Q41: =+P41+1 -> 28 | R41: =+Q41+1 -> 29 | S41: =+R41+1 -> 30 | T41: =+S41+1 -> 31
F44: 2021 | G44: 2020 | H44: 2019 | I44: 2018 | J44: 2017 | K44: 2016 | L44: 2015 | M44: 2014 | N44: 2013 | O44: 2012
D45: # days in Q1 | F45: 93 | G45: 88 | H45: 89 | I45: 90 | J45: 91 | K45: 93 | L45: 94 | M45: 88 | N45: 89 | O45: 91 | R45: = Official Waters U. S. Holiday (full day)
D46: # days in Q2 | F46: 91 | G46: 91 | H46: 91 | I46: 91 | J46: 91 | K46: 91 | L46: 91 | M46: 91 | N46: 91 | O46: 91
D47: # days in Q3 | F47: 91 | G47: 91 | H47: 91 | I47: 91 | J47: 91 | K47: 91 | L47: 91 | M47: 91 | N47: 91 | O47: 91 | R47: = Official Waters U. S. Holiday (1/2 day)
D48: # days in Q4 | F48: 90 | G48: 96 | H48: 94 | I48: 93 | J48: 92 | K48: 91 | L48: 89 | M48: 95 | N48: 94 | O48: 93
D49: # days in year | F49: =SUM(F45:F48) -> 365 | G49: =SUM(G45:G48) -> 366 | H49: =SUM(H45:H48) -> 365 | I49: =SUM(I45:I48) -> 365 | J49: =SUM(J45:J48) -> 365 | K49: =SUM(K45:K48) -> 366 | L49: =SUM(L45:L48) -> 365 | M49: =SUM(M45:M48) -> 365 | ... O49: =SUM(O45:O48) -> 366 | Q49: Day | R49: = Earnings Release
A64: 2020 | B64: Qtr Wk | C64: Yr Wk | D64: S | E64: M | F64: T | G64: W | H64: T | I64: F | J64: S | L64: Qtr Wk | M64: Yr Wk | N64: S | O64: M | P64: T | Q64: W | R64: T | S64: F | T64: S
B65: 1 | C65: 1 | G65: 1 | H65: =+G65+1 -> 2 | I65: =+H65+1 -> 3 | J65: =+I65+1 -> 4 | L65: 1 | M65: 27 | N65: =J95+1 -> 28 | O65: =N65+1 -> 29 | P65: =+O65+1 -> 30 | Q65: 1 | R65: =+Q65+1 -> 2 | S65: =+R65+1 -> 3 | T65: =+S65+1 -> 4
A66: JAN | B66: 2 | C66: 2 | D66: =+J65+1 -> 5 | E66: =+D66+1 -> 6 | F66: =+E66+1 -> 7 | G66: =+F66+1 -> 8 | H66: =+G66+1 -> 9 | I66: =+H66+1 -> 10 | J66: =+I66+1 -> 11 | K66: JUL | L66: 2 | M66: 28 | N66: =+T65+1 -> 5 | O66: =+N66+1 -> 6 | P66: =+O66+1 -> 7 | Q66: =+P66+1 -> 8 | R66: =+Q66+1 -> 9 | S66: =+R66+1 -> 10 | T66: =+S66+1 -> 11
B67: 3 | C67: 3 | D67: =+J66+1 -> 12 | E67: =+D67+1 -> 13 | F67: =+E67+1 -> 14 | G67: =+F67+1 -> 15 | H67: =+G67+1 -> 16 | I67: =+H67+1 -> 17 | J67: =+I67+1 -> 18 | L67: 3 | M67: 29 | N67: =+T66+1 -> 12 | O67: =+N67+1 -> 13 | P67: =+O67+1 -> 14 | Q67: =+P67+1 -> 15 | R67: =+Q67+1 -> 16 | S67: =+R67+1 -> 17 | T67: =S67+1 -> 18
B68: 4 | C68: 4 | D68: =+J67+1 -> 19 | E68: =D68+1 -> 20 | F68: =E68+1 -> 21 | G68: =+F68+1 -> 22 | H68: =+G68+1 -> 23 | I68: =+H68+1 -> 24 | J68: =+I68+1 -> 25 | L68: 4 | M68: 30 | N68: =T67+1 -> 19 | O68: =N68+1 -> 20 | P68: =O68+1 -> 21 | Q68: =+P68+1 -> 22 | R68: =+Q68+1 -> 23 | S68: =+R68+1 -> 24 | T68: =+S68+1 -> 25
B70: 5 | C70: 5 | D70: =J68+1 -> 26 | E70: =+D70+1 -> 27 | F70: =+E70+1 -> 28 | G70: =+F70+1 -> 29 | H70: =+G70+1 -> 30 | I70: =+H70+1 -> 31 | J70: 1 | L70: 5 | M70: 31 | N70: =+T68+1 -> 26 | O70: =+N70+1 -> 27 | P70: =+O70+1 -> 28 | Q70: =+P70+1 -> 29 | R70: =+Q70+1 -> 30 | S70: =+R70+1 -> 31 | T70: 1
A71: FEB | B71: 6 | C71: 6 | D71: =+J70+1 -> 2 | E71: =+D71+1 -> 3 | F71: =+E71+1 -> 4 | G71: =+F71+1 -> 5 | H71: =+G71+1 -> 6 | I71: =+H71+1 -> 7 | J71: =+I71+1 -> 8 | K71: AUG | L71: 6 | M71: 32 | N71: =+T70+1 -> 2 | O71: =+N71+1 -> 3 | P71: =+O71+1 -> 4 | Q71: =+P71+1 -> 5 | R71: =+Q71+1 -> 6 | S71: =+R71+1 -> 7 | T71: =+S71+1 -> 8
B72: 7 | C72: 7 | D72: =+J71+1 -> 9 | E72: =+D72+1 -> 10 | F72: =+E72+1 -> 11 | G72: =+F72+1 -> 12 | H72: =+G72+1 -> 13 | I72: =+H72+1 -> 14 | J72: =+I72+1 -> 15 | L72: 7 | M72: 33 | N72: =+T71+1 -> 9 | O72: =+N72+1 -> 10 | P72: =+O72+1 -> 11 | Q72: =+P72+1 -> 12 | R72: =+Q72+1 -> 13 | S72: =+R72+1 -> 14 | T72: =+S72+1 -> 15
B73: 8 | C73: 8 | D73: =J72+1 -> 16 | E73: =D73+1 -> 17 | F73: =E73+1 -> 18 | G73: =F73+1 -> 19 | H73: =+G73+1 -> 20 | I73: =+H73+1 -> 21 | J73: =+I73+1 -> 22 | L73: 8 | M73: 34 | N73: =T72+1 -> 16 | O73: =N73+1 -> 17 | P73: =+O73+1 -> 18 | Q73: =P73+1 -> 19 | R73: =Q73+1 -> 20 | S73: =R73+1 -> 21 | T73: =+S73+1 -> 22
B75: 9 | C75: 9 | D75: =J73+1 -> 23 | E75: =+D75+1 -> 24 | F75: =+E75+1 -> 25 | G75: =+F75+1 -> 26 | H75: =+G75+1 -> 27 | I75: =+H75+1 -> 28 | J75: =I75+1 -> 29 | L75: 9 | M75: 35 | N75: =T73+1 -> 23 | O75: =N75+1 -> 24 | P75: =O75+1 -> 25 | Q75: =+P75+1 -> 26 | R75: =+Q75+1 -> 27 | S75: =+R75+1 -> 28 | T75: =S75+1 -> 29
A76: MAR | B76: 10 | C76: 10 | D76: 1 | E76: =+D76+1 -> 2 | F76: =+E76+1 -> 3 | G76: =+F76+1 -> 4 | H76: =+G76+1 -> 5 | I76: =+H76+1 -> 6 | J76: =+I76+1 -> 7 | K76: SEP | L76: 10 | M76: 36 | N76: =T75+1 -> 30 | O76: =+N76+1 -> 31 | P76: 1 | Q76: =+P76+1 -> 2 | R76: =+Q76+1 -> 3 | S76: =+R76+1 -> 4 | T76: =+S76+1 -> 5
B77: 11 | C77: 11 | D77: =+J76+1 -> 8 | E77: =+D77+1 -> 9 | F77: =+E77+1 -> 10 | G77: =+F77+1 -> 11 | H77: =+G77+1 -> 12 | I77: =+H77+1 -> 13 | J77: =+I77+1 -> 14 | L77: 11 | M77: 37 | N77: =+T76+1 -> 6 | O77: =+N77+1 -> 7 | P77: =+O77+1 -> 8 | Q77: =+P77+1 -> 9 | R77: =+Q77+1 -> 10 | S77: =+R77+1 -> 11 | T77: =+S77+1 -> 12
B78: 12 | C78: 12 | D78: =+J77+1 -> 15 | E78: =+D78+1 -> 16 | F78: =+E78+1 -> 17 | G78: =F78+1 -> 18 | H78: =G78+1 -> 19 | I78: =H78+1 -> 20 | J78: =+I78+1 -> 21 | L78: 12 | M78: 38 | N78: =+T77+1 -> 13 | O78: =+N78+1 -> 14 | P78: =+O78+1 -> 15 | Q78: =+P78+1 -> 16 | R78: =+Q78+1 -> 17 | S78: =R78+1 -> 18 | T78: =S78+1 -> 19
B79: 13 | C79: 13 | D79: =+J78+1 -> 22 | E79: =D79+1 -> 23 | F79: =E79+1 -> 24 | G79: =F79+1 -> 25 | H79: =G79+1 -> 26 | I79: =H79+1 -> 27 | J79: =I79+1 -> 28 | L79: 13 | M79: 39 | N79: =T78+1 -> 20 | O79: =+N79+1 -> 21 | P79: =+O79+1 -> 22 | Q79: =+P79+1 -> 23 | R79: =+Q79+1 -> 24 | S79: =+R79+1 -> 25 | T79: =S79+1 -> 26
B81: 1 | C81: 14 | D81: =J79+1 -> 29 | E81: =D81+1 -> 30 | F81: =E81+1 -> 31 | G81: 1 | H81: =+G81+1 -> 2 | I81: =+H81+1 -> 3 | J81: =+I81+1 -> 4 | L81: 1 | M81: 40 | N81: =T79+1 -> 27 | O81: =N81+1 -> 28 | P81: =O81+1 -> 29 | Q81: =+P81+1 -> 30 | R81: 1 | S81: =+R81+1 -> 2 | T81: =+S81+1 -> 3
A82: APR | B82: 2 | C82: 15 | D82: =+J81+1 -> 5 | E82: =+D82+1 -> 6 | F82: =+E82+1 -> 7 | G82: =+F82+1 -> 8 | H82: =+G82+1 -> 9 | I82: =+H82+1 -> 10 | J82: =+I82+1 -> 11 | K82: OCT | L82: 2 | M82: 41 | N82: =+T81+1 -> 4 | O82: =+N82+1 -> 5 | P82: =+O82+1 -> 6 | Q82: =+P82+1 -> 7 | R82: =+Q82+1 -> 8 | S82: =+R82+1 -> 9 | T82: =+S82+1 -> 10
B83: 3 | C83: 16 | D83: =+J82+1 -> 12 | E83: =+D83+1 -> 13 | F83: =+E83+1 -> 14 | G83: =+F83+1 -> 15 | H83: =+G83+1 -> 16 | I83: =H83+1 -> 17 | J83: =I83+1 -> 18 | L83: 3 | M83: 42 | N83: =+T82+1 -> 11 | O83: =+N83+1 -> 12 | P83: =+O83+1 -> 13 | Q83: =+P83+1 -> 14 | R83: =+Q83+1 -> 15 | S83: =+R83+1 -> 16 | T83: =+S83+1 -> 17
B84: 4 | C84: 17 | D84: =J83+1 -> 19 | E84: =D84+1 -> 20 | F84: =+E84+1 -> 21 | G84: =+F84+1 -> 22 | H84: =+G84+1 -> 23 | I84: =+H84+1 -> 24 | J84: =I84+1 -> 25 | L84: 4 | M84: 43 | N84: =T83+1 -> 18 | O84: =N84+1 -> 19 | P84: =O84+1 -> 20 | Q84: =P84+1 -> 21 | R84: =+Q84+1 -> 22 | S84: =+R84+1 -> 23 | T84: =+S84+1 -> 24
B86: 5 | C86: 18 | D86: =J84+1 -> 26 | E86: =D86+1 -> 27 | F86: =E86+1 -> 28 | G86: =F86+1 -> 29 | H86: =G86+1 -> 30 | I86: 1 | J86: =+I86+1 -> 2 | L86: 5 | M86: 44 | N86: =T84+1 -> 25 | O86: =+N86+1 -> 26 | P86: =+O86+1 -> 27 | Q86: =+P86+1 -> 28 | R86: =Q86+1 -> 29 | S86: =R86+1 -> 30 | T86: =+S86+1 -> 31
A87: MAY | B87: 6 | C87: 19 | D87: =+J86+1 -> 3 | E87: =+D87+1 -> 4 | F87: =+E87+1 -> 5 | G87: =+F87+1 -> 6 | H87: =+G87+1 -> 7 | I87: =+H87+1 -> 8 | J87: =+I87+1 -> 9 | K87: NOV | L87: 6 | M87: 45 | N87: 1 | O87: =+N87+1 -> 2 | P87: =+O87+1 -> 3 | Q87: =+P87+1 -> 4 | R87: =+Q87+1 -> 5 | S87: =+R87+1 -> 6 | T87: =+S87+1 -> 7
B88: 7 | C88: 20 | D88: =+J87+1 -> 10 | E88: =+D88+1 -> 11 | F88: =+E88+1 -> 12 | G88: =+F88+1 -> 13 | H88: =+G88+1 -> 14 | I88: =+H88+1 -> 15 | J88: =+I88+1 -> 16 | L88: 7 | M88: 46 | N88: =+T87+1 -> 8 | O88: =+N88+1 -> 9 | P88: =+O88+1 -> 10 | Q88: =+P88+1 -> 11 | R88: =+Q88+1 -> 12 | S88: =+R88+1 -> 13 | T88: =+S88+1 -> 14
B89: 8 | C89: 21 | D89: =J88+1 -> 17 | E89: =+D89+1 -> 18 | F89: =E89+1 -> 19 | G89: =F89+1 -> 20 | H89: =G89+1 -> 21 | I89: =+H89+1 -> 22 | J89: =+I89+1 -> 23 | L89: 8 | M89: 47 | N89: =T88+1 -> 15 | O89: =+N89+1 -> 16 | P89: =+O89+1 -> 17 | Q89: =P89+1 -> 18 | R89: =Q89+1 -> 19 | S89: =R89+1 -> 20 | T89: =+S89+1 -> 21
B91: 9 | C91: 22 | D91: =+J89+1 -> 24 | E91: =D91+1 -> 25 | F91: =+E91+1 -> 26 | G91: =+F91+1 -> 27 | H91: =G91+1 -> 28 | I91: =H91+1 -> 29 | J91: =I91+1 -> 30 | L91: 9 | M91: 48 | N91: =T89+1 -> 22 | O91: =N91+1 -> 23 | P91: =O91+1 -> 24 | Q91: =+P91+1 -> 25 | R91: =Q91+1 -> 26 | S91: =R91+1 -> 27 | T91: =S91+1 -> 28
A92: JUN | B92: 10 | C92: 23 | D92: =J91+1 -> 31 | E92: 1 | F92: =+E92+1 -> 2 | G92: =+F92+1 -> 3 | H92: =+G92+1 -> 4 | I92: =+H92+1 -> 5 | J92: =+I92+1 -> 6 | K92: DEC | L92: 10 | M92: 49 | N92: =T91+1 -> 29 | O92: =+N92+1 -> 30 | P92: 1 | Q92: =+P92+1 -> 2 | R92: =+Q92+1 -> 3 | S92: =+R92+1 -> 4 | T92: =+S92+1 -> 5
B93: 11 | C93: 24 | D93: =+J92+1 -> 7 | E93: =+D93+1 -> 8 | F93: =+E93+1 -> 9 | G93: =+F93+1 -> 10 | H93: =+G93+1 -> 11 | I93: =+H93+1 -> 12 | J93: =+I93+1 -> 13 | L93: 11 | M93: 50 | N93: =+T92+1 -> 6 | O93: =+N93+1 -> 7 | P93: =+O93+1 -> 8 | Q93: =+P93+1 -> 9 | R93: =+Q93+1 -> 10 | S93: =+R93+1 -> 11 | T93: =+S93+1 -> 12
B94: 12 | C94: 25 | D94: =+J93+1 -> 14 | E94: =+D94+1 -> 15 | F94: =+E94+1 -> 16 | G94: =F94+1 -> 17 | H94: =G94+1 -> 18 | I94: =H94+1 -> 19 | J94: =I94+1 -> 20 | L94: 12 | M94: 51 | N94: =+T93+1 -> 13 | O94: =+N94+1 -> 14 | P94: =+O94+1 -> 15 | Q94: =+P94+1 -> 16 | R94: =+Q94+1 -> 17 | S94: =R94+1 -> 18 | T94: =S94+1 -> 19
B95: 13 | C95: 26 | D95: =J94+1 -> 21 | E95: =D95+1 -> 22 | F95: =E95+1 -> 23 | G95: =F95+1 -> 24 | H95: =+G95+1 -> 25 | I95: =+H95+1 -> 26 | J95: =I95+1 -> 27 | L95: 13 | M95: 52 | N95: =T94+1 -> 20 | O95: =N95+1 -> 21 | P95: =+O95+1 -> 22 | Q95: =+P95+1 -> 23 | R95: =+Q95+1 -> 24 | S95: =+R95+1 -> 25 | T95: =+S95+1 -> 26
N96: =T95+1 -> 27 | O96: =N96+1 -> 28 | P96: =O96+1 -> 29 | Q96: =P96+1 -> 30 | R96: =Q96+1 -> 31
E98: 2020 | F98: 2019 | G98: 2018 | H98: 2017 | I98: 2016 | J98: 2015 | K98: 2014 | L98: 2013 | M98: 2012
C99: # days in Q1 | E99: 88 | F99: 89 | G99: 90 | H99: 91 | I99: 93 | J99: 94 | K99: 88 | L99: 89 | M99: 91 | P99: = | R99: Official Waters U. S. Holiday (full day)
C100: # days in Q2 | E100: 91 | F100: 91 | G100: 91 | H100: 91 | I100: 91 | J100: 91 | K100: 91 | L100: 91 | M100: 91
C101: # days in Q3 | E101: 91 | F101: 91 | G101: 91 | H101: 91 | I101: 91 | J101: 91 | K101: 91 | L101: 91 | M101: 91 | P101: = | R101: Official Waters U. S. Holiday (1/2 day)
C102: # days in Q4 | E102: 96 | F102: 94 | G102: 93 | H102: 92 | I102: 91 | J102: 89 | K102: 95 | L102: 94 | M102: 93
C103: # days in year | E103: =SUM(E99:E102) -> 366 | F103: =SUM(F99:F102) -> 365 | G103: =SUM(G99:G102) -> 365 | H103: =SUM(H99:H102) -> 365 | I103: =SUM(I99:I102) -> 366 | J103: =SUM(J99:J102) -> 365 | K103: =SUM(K99:K102) -> 365 | L103: =SUM(L99:L102) -> 365 | M103: =SUM(M99:M102) -> 366 | O103: Day | P103: = | R103: Earnings Release
C106: Singapore Holidays
C107: 1 Jan 2020 | D107: : New Year’s Day | F107: Wednesday
C108: 25 Jan 2020 | D108: : Chinese New Year | F108: Saturday
C109: 26 Jan 2020* | D109: : Chinese New Year | F109: Sunday
C110: 10 Apr 2020 | D110: : Good Friday | F110: Friday
C111: 1 May 2020 | D111: : Labour Day | F111: Friday
C112: 7 May 2020 | D112: : Vesak Day | F112: Thursday
C113: 24 May 2020* | D113: : Hari Raya Puasa | F113: Sunday
C114: 31 July 2020 | D114: : Hari Raya Haji | F114: Friday
C115: 9 Aug 2020* | D115: : National Day | F115: Sunday
C116: 14 Nov 2020 | D116: : Deepavali | F116: Saturday
C117: 25 Dec 2020 | D117: : Christmas Day | F117: Friday
C118: *The following Monday will be a public holiday.
