Workbook

Sheet Weekly SS7 Data
A1: SS7 Data as of 04 Jul 2020 | B1: Date Start : 24 Apr 2020 - 02 May 2020 | C1: 03 May - 09 May 2020 | D1: Stop using TE82882- 8, 9 and 14 10-16 May 2020 | E1: 17-23 May 2020 | F1: Stop usage TE82882 10,11 and 13 24-27 May 20 | G1: Start using TE82882- 8, 9 and 14 28-30 May 20 | H1: 31 May - 06 Jun 2020 | I1: 07-13 Jun 2020 | J1: 14-20 Jun 2020 | K1: 21-27 Jun 2020 | L1: 28 Jun to 04 Jul 2020 | M1: SS7 Data as of 04 Jul 2020 | N1: Total Run (Loss Comm) | O1: FPY
A2: Tester per WW | B2: WW18 | C2: WW'19 | D2: WW'20 | E2: WW'21 | F2: WW'22 | G2: WW'22 | H2: WW23 | I2: WW'24 | J2: WW'25 | K2: WW'26 | L2: WW'27
A3: TE82882-8 | B3: 12 | C3: 0 | D3: 0 | E3: 0 | F3: 0 | G3: 0 | H3: 13 | I3: 8 | J3: 10 | K3: 6 | L3: 6 | M3: =SUM(B3:L3) -> 55 | N3: =1+4+4+5+4+1 -> 19 | O3: =1-(N3/M3) -> 0.65454545
A4: TE82882-9 | B4: 0 | C4: 15 | D4: 0 | E4: 0 | F4: 4 | G4: 9 | H4: 25 | I4: 14 | J4: 31 | K4: 3 | L4: 0 | M4: =SUM(B4:L4) -> 101 | N4: =3+2 -> 5 | O4: =1-(N4/M4) -> 0.95049505
A5: TE82882-10 | B5: 10 | C5: 18 | D5: 21 | E5: 20 | F5: 10 | G5: 0 | H5: 0 | I5: 0 | J5: 0 | K5: 7 | L5: 8 | M5: =SUM(B5:L5) -> 94 | N5: =3+1+2+1+1+2+3 -> 13 | O5: =1-(N5/M5) -> 0.86170213
A6: TE82882-11 | B6: 7 | C6: 8 | D6: 12 | E6: 8 | F6: 5 | G6: 0 | H6: 0 | I6: 0 | J6: 0 | K6: 0 | L6: 3 | M6: =SUM(B6:L6) -> 43 | N6: =3+3+4+2+4+2 -> 18 | O6: =1-(N6/M6) -> 0.58139535
A7: TE82882-13 | B7: 3 | C7: 3 | D7: 20 | E7: 7 | F7: 4 | G7: 0 | H7: 0 | I7: 0 | J7: 0 | K7: 0 | L7: 10 | M7: =SUM(B7:L7) -> 47 | N7: =2+8+3+2+3 -> 18 | O7: =1-(N7/M7) -> 0.61702128
A8: TE82882-14 | B8: 7 | C8: 14 | D8: 0 | E8: 0 | F8: 2 | G8: 11 | H8: 19 | I8: 18 | J8: 20 | K8: 12 | L8: 0 | M8: =SUM(B8:L8) -> 103 | N8: =2+2+4+2+2 -> 12 | O8: =1-(N8/M8) -> 0.88349515
A9: TESTED | B9: =SUM(B3:B8) -> 39 | C9: =SUM(C3:C8) -> 58 | D9: =SUM(D3:D8) -> 53 | E9: =SUM(E3:E8) -> 35 | F9: =SUM(F3:F8) -> 25 | G9: =SUM(G3:G8) -> 20 | H9: =SUM(H3:H8) -> 57 | I9: =SUM(I3:I8) -> 40 | ... L9: =SUM(L3:L8) -> 27 | M9: =SUM(B9:L9) -> 443 | N9: =SUM(N3:N8) -> 85 | O9: =1-(N9/M9) -> 0.80812641
A11: Tester per WW | B11: TE82882-8 | C11: TE82882-9 | D11: TE82882-10 | E11: TE82882-11 | F11: TE82882-14 | G11: TESTED
A12: WW18 | B12: 11 | C12: 10 | D12: 10 | E12: 7 | F12: 7 | G12: =SUM(B12:F12) -> 45
A13: WW'19 | B13: 0 | C13: 12 | D13: 10 | E13: 8 | F13: 10 | G13: =SUM(B13:F13) -> 40
A14: WW'20 | B14: 0 | C14: 0 | D14: 21 | E14: 12 | F14: 0 | G14: =SUM(B14:F14) -> 33
A15: WW'21 | B15: 0 | C15: 0 | D15: 20 | E15: 8 | F15: 0 | G15: =SUM(B15:F15) -> 28
A16: WW'22 | B16: 0 | C16: 13 | D16: 10 | E16: 5 | F16: 13 | G16: =SUM(B16:F16) -> 41
A17: WW'23
A18: WW'24 | G18: =SUM(B18:F18) -> 0
A19: TOTAL | B19: =SUM(B12:B18) -> 11 | C19: =SUM(C12:C18) -> 35 | D19: =SUM(D12:D18) -> 71 | E19: =SUM(E12:E18) -> 40 | F19: =SUM(F12:F18) -> 30 | G19: =SUM(G12:G18) -> 187
B20: 4
A21: Data as of 04 Jul 2020
A22: TE82882 | B22: TE82882-8 | C22: TE82882-9 | D22: TE82882-10 | E22: TE82882-11 | F22: TE82882-13 | G22: TE82882-14 | H22: Total
A23: TESTED | B23: =M3 -> 55 | C23: =M4 -> 101 | D23: =M5 -> 94 | E23: =M6 -> 43 | F23: =M7 -> 47 | G23: =M8 -> 103 | H23: =M9 -> 443
A24: LOSS COMM | B24: =N3 -> 19 | C24: =N4 -> 5 | D24: =N5 -> 13 | E24: =N6 -> 18 | F24: =N7 -> 18 | G24: =N8 -> 12 | H24: =SUM(B24:G24) -> 85
A25: FPY | B25: =1-(B24/B23) -> 0.65454545 | C25: =1-(C24/C23) -> 0.95049505 | D25: =1-(D24/D23) -> 0.86170213 | E25: =1-(E24/E23) -> 0.58139535 | F25: =1-(F24/F23) -> 0.61702128 | G25: =1-(G24/G23) -> 0.88349515 | H25: =1-(H24/H23) -> 0.80812641

Sheet Sheet2
A1: SS7 Data as of 04 Jul 2020 | B1: Date Start : 24 Apr 2020 - 02 May 2020 | C1: 03 May - 09 May 2020 | D1: Stop using TE82882- 8, 9 and 14 10-16 May 2020 | E1: 17-23 May 2020 | F1: Stop usage TE82882 10,11 and 13 24-27 May 20 | G1: Start using TE82882- 8, 9 and 14 28-30 May 20 | H1: 31 May - 06 Jun 2020 | I1: 07-13 Jun 2020 | J1: 14-20 Jun 2020 | K1: 21-27 Jun 2020 | L1: 28 Jun to 04 Jul 2020 | M1: SS7 Data as of 04 Jul 2020 | N1: Total Run (Loss Comm) | O1: FPY
A2: Tester per WW | B2: WW18 | C2: WW'19 | D2: WW'20 | E2: WW'21 | F2: WW'22 | G2: WW'22 | H2: WW23 | I2: WW'24 | J2: WW'25 | K2: WW'26 | L2: WW'27
A3: TE82882-8 | B3: 12 | C3: 0 | D3: 0 | E3: 0 | F3: 0 | G3: 0 | H3: 13 | I3: 9 | J3: 10 | K3: 6 | L3: 6 | M3: =SUM(B3:L3) -> 56 | N3: =1+4+4+5+4+1 -> 19 | O3: =1-(N3/M3) -> 0.66071429
A4: TE82882-9 | B4: 0 | C4: 15 | D4: 0 | E4: 0 | F4: 4 | G4: 9 | H4: 25 | I4: 24 | J4: 31 | K4: 3 | L4: 0 | M4: =SUM(B4:L4) -> 111 | N4: =3+4 -> 7 | O4: =1-(N4/M4) -> 0.93693694
A5: TE82882-10 | B5: 10 | C5: 18 | D5: 21 | E5: 20 | F5: 10 | G5: 0 | H5: 0 | I5: 0 | J5: 0 | K5: 7 | L5: 8 | M5: =SUM(B5:L5) -> 94 | N5: =3+1+2+1+1+2+3 -> 13 | O5: =1-(N5/M5) -> 0.86170213
A6: TE82882-11 | B6: 7 | C6: 8 | D6: 12 | E6: 8 | F6: 5 | G6: 0 | H6: 0 | I6: 0 | J6: 0 | K6: 0 | L6: 3 | M6: =SUM(B6:L6) -> 43 | N6: =3+3+4+2+4+2 -> 18 | O6: =1-(N6/M6) -> 0.58139535
A7: TE82882-13 | B7: 3 | C7: 3 | D7: 20 | E7: 7 | F7: 4 | G7: 0 | H7: 0 | I7: 0 | J7: 0 | K7: 0 | L7: 10 | M7: =SUM(B7:L7) -> 47 | N7: =2+8+3+2+3 -> 18 | O7: =1-(N7/M7) -> 0.61702128
A8: TE82882-14 | B8: 7 | C8: 14 | D8: 0 | E8: 0 | F8: 2 | G8: 11 | H8: 19 | I8: 18 | J8: 20 | K8: 12 | L8: 0 | M8: =SUM(B8:L8) -> 103 | N8: =2+2+4+2+2 -> 12 | O8: =1-(N8/M8) -> 0.88349515
A9: TESTED | B9: =SUM(B3:B8) -> 39 | C9: =SUM(C3:C8) -> 58 | D9: =SUM(D3:D8) -> 53 | E9: =SUM(E3:E8) -> 35 | F9: =SUM(F3:F8) -> 25 | G9: =SUM(G3:G8) -> 20 | H9: =SUM(H3:H8) -> 57 | I9: =SUM(I3:I8) -> 51 | ... L9: =SUM(L3:L8) -> 27 | M9: =SUM(B9:L9) -> 454 | N9: =SUM(N3:N8) -> 87 | O9: =1-(N9/M9) -> 0.80837004
A11: SS7 Data as of 04 Jul 2020 | B11: Date Start : 24 Apr 2020 - 02 May 2020 | C11: 03 May - 09 May 2020 | D11: Stop using TE82882- 8, 9 and 14 10-16 May 2020 | E11: 17-23 May 2020 | F11: Stop usage TE82882 10,11 and 13 24-27 May 20 | G11: Start using TE82882- 8, 9 and 14 28-30 May 20 | H11: 31 May - 06 Jun 2020 | I11: 07-13 Jun 2020 | J11: 14-20 Jun 2020 | K11: 21-27 Jun 2020 | L11: 28 Jun to 04 Jul 2020
A12: Tester per WW | B12: WW18 | C12: WW'19 | D12: WW'20 | E12: WW'21 | F12: WW'22 | G12: WW'22 | H12: WW23 | I12: WW'24 | J12: WW'25 | K12: WW'26 | L12: WW'27
A13: TE82882-8 | B13: =1-(1/12) -> 0.91666667 | C13: 0 | D13: 0 | E13: 0 | F13: 0 | G13: 0 | H13: =1-(6/13) -> 0.53846154 | I13: =1-(5/9) -> 0.44444444 | J13: =1-(7/10) -> 0.3 | K13: =1-(4/6) -> 0.33333333 | L13: =1-(1/6) -> 0.83333333
A14: TE82882-9 | C14: =1-(3/15) -> 0.8 | D14: 0 | E14: 0 | F14: =1-(1/4) -> 0.75 | G14: =1 -> 1 | H14: =1-(8/25) -> 0.68 | I14: =1-(6/24) -> 0.75 | J14: =1-(6/31) -> 0.80645161 | K14: =1-(2/3) -> 0.33333333 | L14: 0
A15: TE82882-10 | B15: =1-(4/10) -> 0.6 | C15: =1-(3/18) -> 0.83333333 | D15: =1-12/21 -> 0.42857143 | E15: =1-(4/20) -> 0.8 | F15: =1-(4/10) -> 0.6 | G15: 0 | H15: 0 | I15: 0 | J15: 0 | K15: =1-(3/7) -> 0.57142857 | L15: =1-(4/8) -> 0.5
A16: TE82882-11 | B16: =1-(3/7) -> 0.57142857 | C16: =1-(5/8) -> 0.375 | D16: =1-(5/12) -> 0.58333333 | E16: =1-(3/8) -> 0.625 | F16: =1-(4/5) -> 0.2 | G16: 0 | H16: 0 | I16: 0 | J16: 0 | K16: 0 | L16: =1-(3/3) -> 0
A17: TE82882-13 | B17: 1 | C17: =1-(2/3) -> 0.33333333 | D17: =1-(11/20) -> 0.45 | E17: =1-(3/8) -> 0.625 | F17: =1-(2/4) -> 0.5 | G17: 0 | H17: 0 | I17: 0 | J17: 0 | K17: 0 | L17: =1-(6/10) -> 0.4
A18: TE82882-14 | B18: =1-(1/7) -> 0.85714286 | C18: =1-(4/14) -> 0.71428571 | D18: 0 | E18: 0 | F18: =1-(1/1) -> 0 | G18: =1-(4/11) -> 0.63636364 | H18: =1-(4/19) -> 0.78947368 | I18: =1-(8/18) -> 0.55555556 | J18: =1-(1/20) -> 0.95 | K18: =1-(2/12) -> 0.83333333 | L18: 0

Sheet Data
B2: PDA Yield Improvement Project, Reduction of Loss Communication Failure (Total Runs)
B3: Total Units Tested Data : as of 31 Dec 2020 | AJ3: Check this tally | AR3: TE82882 | AT3: TE82882 | AV3: TE82882
B4: Tester | C4: Jan'20 | D4: Feb'20 | E4: Mar'20 | F4: Apr'20 | G4: May'20 | H4: Jun'20 | I4: Jul'20 | J4: 44044 | K4: 01 Sep 2020 to 23 Sep 2020 | L4: 24 Sep 2020 to 30 Sep 2020 | M4: 44075 | N4: 01 Oct 2020 to 12 Oct 2020 | O4: 13 Oct 2020 to 31 Oct 2020 | P4: 44105 | Q4: 44136 | R4: 44166 | T4: WW18 | U4: WW'19 | V4: WW'20 | W4: WW'21 | X4: WW'22 | Y4: WW'22 | Z4: WW23 | AA4: WW'24 | AB4: WW'25 | AC4: WW'26 | AD4: WW'27 | AE4: WW28 | AF4: WW29 | AG4: WW30 | AH4: WW31 | AI4: Total Tested | AJ4: Total Run (Loss Comm) | AK4: Loss Commn % | AR4: 9,10,14 | AS4: 8,11,13 | AT4: 9,10,14 | AU4: 8,11,13 | AV4: 9,10,14 | AW4: 8,11,13
B5: TE82882-8 | C5: 60 | D5: 67 | E5: 46 | F5: 19 | G5: 12 | H5: 44 | I5: 48 | J5: 25 | K5: 31 | L5: 7 | M5: =SUM(K5:L5) -> 38 | N5: 3 | O5: 35 | P5: =SUM(N5:O5) -> 38 | Q5: 19 | R5: 67 | T5: 12 | U5: 0 | V5: 0 | W5: 0 | X5: 0 | Y5: 0 | Z5: 13 | AA5: 9 | AB5: 10 | AC5: 6 | AD5: 6 | AE5: 12 | AF5: 19 | AI5: =SUM(T5:AH5) -> 87 | AJ5: =1+4+4+5+4+1+4+10 -> 33 | AK5: =AJ5/AI5 -> 0.37931034 | AR5: =1-G24 -> 0.85714286 | AS5: =1-G23 -> 0.91666667 | AT5: =1-H24 -> 0.91566265 | AU5: =1-H23 -> 0.61363636 | AV5: 0 | AW5: =1-32.21% -> 0.6779
B6: TE82882-9 | C6: 116 | D6: 107 | E6: 108 | F6: 35 | G6: 28 | H6: 83 | I6: 25 | J6: 85 | K6: 51 | L6: 28 | M6: =SUM(K6:L6) -> 79 | N6: 64 | O6: 96 | P6: =SUM(N6:O6) -> 160 | Q6: 156 | R6: 170 | T6: 0 | U6: 15 | V6: 0 | W6: 0 | X6: 4 | Y6: 9 | Z6: 25 | AA6: 24 | AB6: 31 | AC6: 3 | AD6: 0 | AE6: 0 | AI6: =SUM(T6:AH6) -> 111 | AJ6: =3+1+3+4 -> 11 | AK6: =AJ6/AI6 -> 0.099099099 | AR6: =1-G25 -> 0.89873418 | AS6: =1-G26 -> 0.575 | AT6: =1-H25 -> 0.86666667 | AU6: 0 | AV6: =1-19.17% -> 0.8083 | AW6: =1-60.86% -> 0.3914
B7: TE82882-10 | C7: 12 | D7: 27 | E7: 23 | F7: 23 | G7: 79 | H7: 15 | I7: 3 | J7: 6 | K7: 21 | L7: 5 | M7: =SUM(K7:L7) -> 26 | N7: 26 | O7: 25 | P7: =SUM(N7:O7) -> 51 | Q7: 49 | R7: 32 | T7: 10 | U7: 18 | V7: 21 | W7: 20 | X7: 10 | Y7: 0 | Z7: 0 | AA7: 0 | AB7: 0 | AC7: 7 | AD7: 8 | AE7: 5 | AF7: 1 | AI7: =SUM(T7:AH7) -> 100 | AJ7: =4+1+2+1+2+3+1 -> 14 | AK7: =AJ7/AI7 -> 0.14 | AR7: =1-G28 -> 0.73529412 | AS7: =1-G27 -> 0.59459459 | AT7: =1-H28 -> 0.94202899 | AU7: 0 | AV7: 0 | AW7: =1-28.82% -> 0.7118
B8: TE82882-11 | C8: 0 | D8: 3 | E8: 11 | F8: 41 | G8: 40 | H8: 0 | I8: 49 | J8: 40 | K8: 27 | L8: 15 | M8: =SUM(K8:L8) -> 42 | N8: 17 | O8: 43 | P8: =SUM(N8:O8) -> 60 | Q8: 60 | R8: 35 | T8: 7 | U8: 8 | V8: 12 | W8: 8 | X8: 5 | Y8: 0 | Z8: 0 | AA8: 0 | AB8: 0 | AC8: 0 | AD8: 3 | AE8: 11 | AF8: 16 | AI8: =SUM(T8:AH8) -> 70 | AJ8: =3+4+4+2+4+2+10+4 -> 33 | AK8: =AJ8/AI8 -> 0.47142857 | AQ8: Ave FPY | AR8: =AVERAGE(AR5:AR7) -> 0.83039038 | AS8: =AVERAGE(AS5:AS7) -> 0.69542042 | AT8: =AVERAGE(AT5:AT7) -> 0.90811943 | AU8: =AU5 -> 0.61363636 | AV8: =AV6 -> 0.8083 | AW8: =AVERAGE(AW5:AW7) -> 0.5937
B9: TE82882-13 | C9: 44 | D9: 65 | E9: 24 | F9: 27 | G9: 37 | H9: 1 | I9: 55 | J9: 9 | K9: 19 | L9: 7 | M9: =SUM(K9:L9) -> 26 | N9: 13 | O9: 30 | P9: =SUM(N9:O9) -> 43 | Q9: 53 | R9: 35 | T9: 3 | U9: 3 | V9: 20 | W9: 7 | X9: 4 | Y9: 0 | Z9: 0 | AA9: 0 | AB9: 0 | AC9: 0 | AD9: 10 | AE9: 11 | AF9: 19 | AI9: =SUM(T9:AH9) -> 77 | AJ9: =2+8+3+2+3+1+9 -> 28 | AK9: =AJ9/AI9 -> 0.36363636 | AQ9: Loss Comm | AR9: =1-AR8 -> 0.16960962 | AS9: =1-AS8 -> 0.30457958 | AT9: =1-AT8 -> 0.091880566 | AU9: =1-AU8 -> 0.38636364 | AV9: =1-AV8 -> 0.1917 | AW9: =1-AW8 -> 0.4063
B10: TE82882-14 | C10: 94 | D10: 140 | E10: 118 | F10: 60 | G10: 34 | H10: 69 | I10: 20 | J10: 116 | K10: 56 | L10: 28 | M10: =SUM(K10:L10) -> 84 | N10: 66 | O10: 107 | P10: =SUM(N10:O10) -> 173 | Q10: 173 | R10: 148 | T10: 7 | U10: 14 | V10: 0 | W10: 0 | X10: 2 | Y10: 11 | Z10: 19 | AA10: 18 | AB10: 20 | AC10: 12 | AD10: 0 | AI10: =SUM(T10:AH10) -> 103 | AJ10: =1+2+2+4+2+2 -> 13 | AK10: =AJ10/AI10 -> 0.12621359
B11: TESTED | C11: =SUM(C5:C10) -> 326 | D11: =SUM(D5:D10) -> 409 | E11: =SUM(E5:E10) -> 330 | F11: =SUM(F5:F10) -> 205 | G11: =SUM(G5:G10) -> 230 | H11: =SUM(H5:H10) -> 212 | I11: =SUM(I5:I10) -> 200 | J11: =SUM(J5:J10) -> 281 | ... L11: =SUM(L5:L10) -> 90 | M11: =SUM(K11:L11) -> 295 | N11: =SUM(N5:N10) -> 189 | O11: =SUM(O5:O10) -> 336 | P11: =SUM(N11:O11) -> 525 | Q11: =SUM(Q5:Q10) -> 510 | R11: =SUM(R5:R10) -> 487 | T11: =SUM(T5:T10) -> 39 | U11: =SUM(U5:U10) -> 58 | V11: =SUM(V5:V10) -> 53 | W11: =SUM(W5:W10) -> 35 | X11: =SUM(X5:X10) -> 25 | Y11: =SUM(Y5:Y10) -> 20 | Z11: =SUM(Z5:Z10) -> 57 | AA11: =SUM(AA5:AA10) -> 51 | ... AH11: =SUM(AH5:AH10) -> 0 | AI11: =SUM(T11:AH11) -> 548 | AJ11: =SUM(AJ5:AJ10) -> 132 | AK11: =AJ11/AI11 -> 0.24087591
B12: Total Units Loss Commn : | AJ12: Check this tally
B13: Tester | C13: Jan'20 | D13: Feb'20 | E13: Mar'20 | F13: Apr'20 | G13: May'20 | H13: Jun'20 | I13: Jul'20 | J13: 44044 | K13: 01 Sep 2020 to 23 Sep 2020 | L13: 24 Sep 2020 to 30 Sep 2020 | M13: 44075 | N13: 01 Oct 2020 to 12 Oct 2020 | O13: 13 Oct 2020 to 31 Oct 2020 | P13: 44105 | Q13: 44136 | R13: 44166 | T13: WW18 | U13: WW'19 | V13: WW'20 | W13: WW'21 | X13: WW'22 | Y13: WW'22 | Z13: WW23 | AA13: WW'24 | AB13: WW'25 | AC13: WW'26 | AD13: WW'27 | AE13: WW28 | AF13: WW29 | AG13: WW30 | AH13: WW31 | AI13: Total Tested | AJ13: Total Run (Loss Comm) | AK13: Loss Commn % | AL13: Summed Total Based on comments | AM13: Delta
B14: TE82882-8 | C14: 7 | D14: 8 | E14: 10 | F14: 1 | G14: 1 | H14: 17 | I14: 23 | J14: 5 | K14: 16 | L14: 7 | M14: =SUM(K14:L14) -> 23 | N14: 3 | O14: 10 | P14: =SUM(N14:O14) -> 13 | Q14: 3 | R14: 1 | T14: 1 | Z14: 4 | AA14: 4 | AB14: 5 | AC14: 4 | AD14: 1 | AE14: 4 | AF14: 10 | AI14: =AI5 -> 87 | AJ14: =SUM(T14:AH14) -> 33 | AK14: =1-(AJ14/AI14) -> 0.62068966 | AL14: =SUM(T14:AH14) -> 33 | AM14: =AL14-AJ14 -> 0 | AN14: Red ones to be checked
B15: TE82882-9 | C15: 13 | D15: 17 | E15: 8 | F15: 2 | G15: 4 | H15: 7 | I15: 1 | J15: 6 | K15: 0 | L15: 4 | M15: =SUM(K15:L15) -> 4 | N15: 9 | O15: 6 | P15: =SUM(N15:O15) -> 15 | Q15: 3 | R15: 8 | U15: 3 | X15: 1 | Y15: 0 | Z15: 3 | AA15: 4 | AB15: 0 | AC15: 0 | AI15: =AI6 -> 111 | AJ15: =SUM(T15:AH15) -> 11 | AK15: =1-(AJ15/AI15) -> 0.9009009 | AL15: =SUM(T15:AH15) -> 11 | AM15: =AL15-AJ15 -> 0
B16: TE82882-10 | C16: 5 | D16: 5 | E16: 9 | F16: 8 | G16: 8 | H16: 2 | I16: 3 | J16: 2 | K16: 10 | L16: 1 | M16: =SUM(K16:L16) -> 11 | N16: 8 | O16: 7 | P16: =SUM(N16:O16) -> 15 | Q16: 6 | R16: 10 | T16: 4 | U16: 1 | V16: 2 | W16: 1 | X16: 0 | AC16: 2 | AD16: 3 | AE16: 1 | AF16: 0 | AI16: =AI7 -> 100 | AJ16: =SUM(T16:AH16) -> 14 | AK16: =1-(AJ16/AI16) -> 0.86 | AL16: =SUM(T16:AH16) -> 14 | AM16: =AL16-AJ16 -> 0
B17: TE82882-11 | C17: 0 | D17: 1 | E17: 2 | F17: 24 | G17: 17 | H17: 0 | I17: 17 | J17: 9 | K17: 3 | L17: 5 | M17: =SUM(K17:L17) -> 8 | N17: 3 | O17: 14 | P17: =SUM(N17:O17) -> 17 | Q17: 5 | R17: 14 | T17: 3 | U17: 4 | V17: 4 | W17: 2 | X17: 4 | AD17: 2 | AE17: 10 | AF17: 4 | AI17: =AI8 -> 70 | AJ17: =SUM(T17:AH17) -> 33 | AK17: =1-(AJ17/AI17) -> 0.52857143 | AL17: =SUM(T17:AH17) -> 33 | AM17: =AL17-AJ17 -> 0
B18: TE82882-13 | C18: 14 | D18: 20 | E18: 5 | F18: 8 | G18: 15 | H18: 0 | I18: 24 | J18: 5 | K18: 13 | L18: 4 | M18: =SUM(K18:L18) -> 17 | N18: 5 | O18: 13 | P18: =SUM(N18:O18) -> 18 | Q18: 6 | R18: 8 | T18: 0 | U18: 2 | V18: 8 | W18: 3 | X18: 2 | AD18: 3 | AE18: 1 | AF18: 9 | AI18: =AI9 -> 77 | AJ18: =SUM(T18:AH18) -> 28 | AK18: =1-(AJ18/AI18) -> 0.63636364 | AL18: =SUM(T18:AH18) -> 28 | AM18: =AL18-AJ18 -> 0
B19: TE82882-14 | C19: 11 | D19: 14 | E19: 10 | F19: 1 | G19: 9 | H19: 4 | I19: 1 | J19: 4 | K19: 6 | L19: 8 | M19: =SUM(K19:L19) -> 14 | N19: 9 | O19: 13 | P19: =SUM(N19:O19) -> 22 | Q19: 9 | R19: 3 | T19: 1 | U19: 2 | X19: 2 | Y19: 4 | Z19: 2 | AA19: 2 | AB19: 0 | AC19: 0 | AI19: =AI10 -> 103 | AJ19: =SUM(T19:AH19) -> 13 | AK19: =1-(AJ19/AI19) -> 0.87378641 | AL19: =SUM(T19:AH19) -> 13 | AM19: =AL19-AJ19 -> 0
B20: TESTED | C20: =SUM(C14:C19) -> 50 | D20: =SUM(D14:D19) -> 65 | E20: =SUM(E14:E19) -> 44 | F20: =SUM(F14:F19) -> 44 | G20: =SUM(G14:G19) -> 54 | H20: =SUM(H14:H19) -> 30 | I20: =SUM(I14:I19) -> 69 | J20: =SUM(J14:J19) -> 31 | ... L20: =SUM(L14:L19) -> 29 | M20: =SUM(K20:L20) -> 77 | N20: =SUM(N14:N19) -> 37 | O20: =SUM(O14:O19) -> 63 | P20: =SUM(N20:O20) -> 100 | Q20: =SUM(Q14:Q19) -> 32 | R20: =SUM(R14:R19) -> 44 | T20: =SUM(T14:T19) -> 9 | U20: =SUM(U14:U19) -> 12 | V20: =SUM(V14:V19) -> 14 | W20: =SUM(W14:W19) -> 6 | X20: =SUM(X14:X19) -> 9 | Y20: =SUM(Y14:Y19) -> 4 | Z20: =SUM(Z14:Z19) -> 9 | AA20: =SUM(AA14:AA19) -> 10 | ... AH20: =SUM(AH14:AH19) -> 0 | AI20: =AI11 -> 548 | AJ20: =SUM(T20:AE20) -> 109 | AK20: =1-(AJ20/AI20) -> 0.80109489 | AL20: =SUM(T20:AH20) -> 132
B21: Communication Failure rate % :
B22: Tester | C22: Jan'20 | D22: Feb'20 | E22: Mar'20 | F22: Apr'20 | G22: May'20 | H22: Jun'20 | I22: Jul'20 | J22: 44044 | K22: 01 Sep 2020 to 23 Sep 2020 | L22: 24 Sep 2020 to 30 Sep 2020 | M22: 44075 | N22: 01 Oct 2020 to 12 Oct 2020 | O22: 13 Oct 2020 to 31 Oct 2020 | P22: 44105 | Q22: 44136 | R22: 44166 | T22: WW18 | U22: WW'19 | V22: WW'20 | W22: WW'21 | X22: WW'22 | Y22: WW'22 | Z22: WW23 | AA22: WW'24 | AB22: WW'25 | AC22: WW'26 | AD22: WW'27 | AE22: WW28 | AF22: WW29 | AG22: WW30 | AH22: WW31 | AJ22: Commn Failure %
B23: TE82882-8 | C23: =(C14/C5) -> 0.11666667 | D23: =(D14/D5) -> 0.11940299 | E23: =(E14/E5) -> 0.2173913 | F23: =(F14/F5) -> 0.052631579 | G23: =(G14/G5) -> 0.083333333 | H23: =(H14/H5) -> 0.38636364 | I23: =(I14/I5) -> 0.47916667 | J23: =(J14/J5) -> 0.2 | ... R23: =(R14/R5) -> 0.014925373 | T23: =(T14/T5) -> 0.083333333 | U23: =(U14/U5) -> #DIV/0! | V23: =(V14/V5) -> #DIV/0! | W23: =(W14/W5) -> #DIV/0! | X23: =(X14/X5) -> #DIV/0! | Y23: =(Y14/Y5) -> #DIV/0! | Z23: =(Z14/Z5) -> 0.30769231 | AA23: =(AA14/AA5) -> 0.44444444 | ... AH23: =(AH14/AH5) -> #DIV/0! | AJ23: =AJ14/AI5 -> 0.37931034
B24: TE82882-9 | C24: =(C15/C6) -> 0.11206897 | D24: =(D15/D6) -> 0.1588785 | E24: =(E15/E6) -> 0.074074074 | F24: =(F15/F6) -> 0.057142857 | G24: =(G15/G6) -> 0.14285714 | H24: =(H15/H6) -> 0.084337349 | I24: =(I15/I6) -> 0.04 | J24: =(J15/J6) -> 0.070588235 | ... R24: =(R15/R6) -> 0.047058824 | T24: =(T15/T6) -> #DIV/0! | U24: =(U15/U6) -> 0.2 | V24: =(V15/V6) -> #DIV/0! | W24: =(W15/W6) -> #DIV/0! | X24: =(X15/X6) -> 0.25 | Y24: =(Y15/Y6) -> 0 | Z24: =(Z15/Z6) -> 0.12 | AA24: =(AA15/AA6) -> 0.16666667 | ... AH24: =(AH15/AH6) -> #DIV/0! | AJ24: =AJ15/AI6 -> 0.099099099
B25: TE82882-10 | C25: =(C16/C7) -> 0.41666667 | D25: =(D16/D7) -> 0.18518519 | E25: =(E16/E7) -> 0.39130435 | F25: =(F16/F7) -> 0.34782609 | G25: =(G16/G7) -> 0.10126582 | H25: =(H16/H7) -> 0.13333333 | I25: =(I16/I7) -> 1 | J25: =(J16/J7) -> 0.33333333 | ... R25: =(R16/R7) -> 0.3125 | T25: =(T16/T7) -> 0.4 | U25: =(U16/U7) -> 0.055555556 | V25: =(V16/V7) -> 0.095238095 | W25: =(W16/W7) -> 0.05 | X25: =(X16/X7) -> 0 | Y25: =(Y16/Y7) -> #DIV/0! | Z25: =(Z16/Z7) -> #DIV/0! | AA25: =(AA16/AA7) -> #DIV/0! | ... AH25: =(AH16/AH7) -> #DIV/0! | AJ25: =AJ16/AI7 -> 0.14
B26: TE82882-11 | C26: =(C17/C8) -> #DIV/0! | D26: =(D17/D8) -> 0.33333333 | E26: =(E17/E8) -> 0.18181818 | F26: =(F17/F8) -> 0.58536585 | G26: =(G17/G8) -> 0.425 | H26: =(H17/H8) -> #DIV/0! | I26: =(I17/I8) -> 0.34693878 | J26: =(J17/J8) -> 0.225 | ... R26: =(R17/R8) -> 0.4 | T26: =(T17/T8) -> 0.42857143 | U26: =(U17/U8) -> 0.5 | V26: =(V17/V8) -> 0.33333333 | W26: =(W17/W8) -> 0.25 | X26: =(X17/X8) -> 0.8 | Y26: =(Y17/Y8) -> #DIV/0! | Z26: =(Z17/Z8) -> #DIV/0! | AA26: =(AA17/AA8) -> #DIV/0! | ... AH26: =(AH17/AH8) -> #DIV/0! | AJ26: =AJ17/AI8 -> 0.47142857 | AL26: 0.15
B27: TE82882-13 | C27: =(C18/C9) -> 0.31818182 | D27: =(D18/D9) -> 0.30769231 | E27: =(E18/E9) -> 0.20833333 | F27: =(F18/F9) -> 0.2962963 | G27: =(G18/G9) -> 0.40540541 | H27: =(H18/H9) -> 0 | I27: =(I18/I9) -> 0.43636364 | J27: =(J18/J9) -> 0.55555556 | ... R27: =(R18/R9) -> 0.22857143 | T27: =(T18/T9) -> 0 | U27: =(U18/U9) -> 0.66666667 | V27: =(V18/V9) -> 0.4 | W27: =(W18/W9) -> 0.42857143 | X27: =(X18/X9) -> 0.5 | Y27: =(Y18/Y9) -> #DIV/0! | Z27: =(Z18/Z9) -> #DIV/0! | AA27: =(AA18/AA9) -> #DIV/0! | ... AH27: =(AH18/AH9) -> #DIV/0! | AJ27: =AJ18/AI9 -> 0.36363636
B28: TE82882-14 | C28: =(C19/C10) -> 0.11702128 | D28: =(D19/D10) -> 0.1 | E28: =(E19/E10) -> 0.084745763 | F28: =(F19/F10) -> 0.016666667 | G28: =(G19/G10) -> 0.26470588 | H28: =(H19/H10) -> 0.057971014 | I28: =(I19/I10) -> 0.05 | J28: =(J19/J10) -> 0.034482759 | ... R28: =(R19/R10) -> 0.02027027 | T28: =(T19/T10) -> 0.14285714 | U28: =(U19/U10) -> 0.14285714 | V28: =(V19/V10) -> #DIV/0! | W28: =(W19/W10) -> #DIV/0! | X28: =(X19/X10) -> 1 | Y28: =(Y19/Y10) -> 0.36363636 | Z28: =(Z19/Z10) -> 0.10526316 | AA28: =(AA19/AA10) -> 0.11111111 | ... AH28: =(AH19/AH10) -> #DIV/0! | AJ28: =AJ19/AI10 -> 0.12621359
B29: TESTED | C29: =(C20/C11) -> 0.15337423 | D29: =(D20/D11) -> 0.15892421 | E29: =(E20/E11) -> 0.13333333 | F29: =(F20/F11) -> 0.21463415 | G29: =(G20/G11) -> 0.23478261 | H29: =(H20/H11) -> 0.14150943 | I29: =(I20/I11) -> 0.345 | J29: =(J20/J11) -> 0.11032028 | ... R29: =(R20/R11) -> 0.090349076 | T29: =(T20/T11) -> 0.23076923 | U29: =(U20/U11) -> 0.20689655 | V29: =(V20/V11) -> 0.26415094 | W29: =(W20/W11) -> 0.17142857 | X29: =(X20/X11) -> 0.36 | Y29: =(Y20/Y11) -> 0.2 | Z29: =(Z20/Z11) -> 0.15789474 | AA29: =(AA20/AA11) -> 0.19607843 | ... AH29: =(AH20/AH11) -> #DIV/0! | AJ29: =AJ20/AI11 -> 0.19890511
B30: FPY (without Loss Comm) | C30: =1-C29 -> 0.84662577 | D30: =1-D29 -> 0.84107579 | E30: =1-E29 -> 0.86666667 | F30: =1-F29 -> 0.78536585 | G30: =1-G29 -> 0.76521739 | H30: =1-H29 -> 0.85849057 | I30: =1-I29 -> 0.655 | J30: =1-J29 -> 0.88967972 | ... R30: =1-R29 -> 0.90965092
B31: DATE | V31: Status | W31: Date
B32: 43712 | V32: Close | W32: 43734
B33: 43816 | V33: Close | W33: 43819
B34: 43866 | V34: Close | W34: 43868
B35: 43894 | V35: Close | W35: 43888
B38: SS7 Data as of 04 Jul 2020 | T38: Date Start : 24 Apr 2020 - 02 May 2020 | U38: 03 May - 09 May 2020 | V38: Stop using TE82882- 8, 9 and 14 10-16 May 2020 | W38: 17-23 May 2020 | X38: Stop usage TE82882 10,11 and 13 24-27 May 20 | Y38: Start using TE82882- 8, 9 and 14 28-30 May 20 | Z38: 31 May - 06 Jun 2020 | AA38: 07-13 Jun 2020 | AB38: 14-20 Jun 2020 | AC38: 21-27 Jun 2020 | AD38: 28 Jun to 04 Jul 2020
B39: Tester per WW | T39: WW18 | U39: WW'19 | V39: WW'20 | W39: WW'21 | X39: WW'22 | Y39: WW'22 | Z39: WW23 | AA39: WW'24 | AB39: WW'25 | AC39: WW'26 | AD39: WW'27
B40: TE82882-8 | T40: =1-(1/12) -> 0.91666667 | U40: 0 | V40: 0 | W40: 0 | X40: 0 | Y40: 0 | Z40: =1-(6/13) -> 0.53846154 | AA40: =1-(5/9) -> 0.44444444 | AB40: =1-(7/10) -> 0.3 | AC40: =1-(4/6) -> 0.33333333 | AD40: =1-(1/6) -> 0.83333333
B41: TE82882-9 | U41: =1-(3/15) -> 0.8 | V41: 0 | W41: 0 | X41: =1-(1/4) -> 0.75 | Y41: =1 -> 1 | Z41: =1-(8/25) -> 0.68 | AA41: =1-(6/24) -> 0.75 | AB41: =1-(6/31) -> 0.80645161 | AC41: =1-(2/3) -> 0.33333333 | AD41: 0
B42: TE82882-10 | T42: =1-(4/10) -> 0.6 | U42: =1-(3/18) -> 0.83333333 | V42: =1-12/21 -> 0.42857143 | W42: =1-(4/20) -> 0.8 | X42: =1-(4/10) -> 0.6 | Y42: 0 | Z42: 0 | AA42: 0 | AB42: 0 | AC42: =1-(3/7) -> 0.57142857 | AD42: =1-(4/8) -> 0.5
B43: TE82882-11 | T43: =1-(3/7) -> 0.57142857 | U43: =1-(5/8) -> 0.375 | V43: =1-(5/12) -> 0.58333333 | W43: =1-(3/8) -> 0.625 | X43: =1-(4/5) -> 0.2 | Y43: 0 | Z43: 0 | AA43: 0 | AB43: 0 | AC43: 0 | AD43: =1-(3/3) -> 0
...

Sheet PN per Tester (2)
A1: Manual Data Collection from after Eric Turner suggestion Start: 24 Sep 2020 (Ref EVALS20033)
A2: TE82882 | B2: TE82882-8 | C2: TE82882-9 | D2: TE82882-10 | E2: TE82882-11 | F2: TE82882-13 | G2: TE82882-14 | H2: Total
A3: TESTED | B3: 16 | C3: 100 | D3: 35 | E3: 46 | F3: 22 | G3: 100 | H3: =SUM(B3:G3) -> 319 | I3: =B3+E3+F3 -> 84
A4: LOSS COMM | B4: 11 | C4: 10 | D4: 11 | E4: 12 | F4: 11 | G4: 17 | H4: =SUM(B4:G4) -> 72 | I4: =B4+E4+F4 -> 34
A5: FPY % | B5: =1-(B4/B3) -> 0.3125 | C5: =1-(C4/C3) -> 0.9 | D5: =1-(D4/D3) -> 0.68571429 | E5: =1-(E4/E3) -> 0.73913043 | F5: =1-(F4/F3) -> 0.5 | G5: =1-(G4/G3) -> 0.83 | H5: =1-(H4/H3) -> 0.77429467 | I5: =(B5+E5+F5)/3 -> 0.51721014
A6: Baseline (EVALS20015) | B6: =[1]EVALS20015!C5 -> 0.55 | C6: =[1]EVALS20015!D5 -> 0.91 | D6: =[1]EVALS20015!E5 -> 0.8 | E6: =[1]EVALS20015!F5 -> 0.58 | F6: =[1]EVALS20015!G5 -> 0.57 | G6: =[1]EVALS20015!H5 -> 0.88 | H6: =AVERAGE(B6:G6) -> 0.715 | I6: =(B6+E6+F6)/3 -> 0.56666667
A7: Target | B7: 0.8 | C7: 0.8 | D7: 0.8 | E7: 0.8 | F7: 0.8 | G7: 0.8 | H7: 0.8 | I7: =(B7+E7+F7)/3 -> 0.8
A8: PN/Tester | B8: =B2 -> TE82882-8 | C8: =C2 -> TE82882-9 | D8: =D2 -> TE82882-10 | E8: =E2 -> TE82882-11 | F8: =F2 -> TE82882-13 | G8: =G2 -> TE82882-14 | H8: =H2 -> Total
A9: 186002998 | B9: 1 | C9: 4 | D9: 0 | E9: 2 | F9: 2 | G9: 9 | H9: =SUM(B9:G9) -> 18
A10: 186015032 | B10: 2 | C10: 40 | D10: 19 | E10: 0 | F10: 0 | G10: 0 | H10: =SUM(B10:G10) -> 61
A11: 186015033 | B11: 5 | C11: 42 | D11: 13 | E11: 0 | F11: 0 | G11: 1 | H11: =SUM(B11:G11) -> 61
A12: 186015034 | B12: 0 | C12: 0 | D12: 0 | E12: 0 | F12: 0 | G12: 0 | H12: =SUM(B12:G12) -> 0
A13: 186015053 | B13: 0 | C13: 1 | D13: 0 | E13: 0 | F13: 0 | G13: 0 | H13: =SUM(B13:G13) -> 1
A14: 186017003 | B14: 1 | C14: 5 | D14: 0 | E14: 12 | F14: 6 | G14: 42 | H14: =SUM(B14:G14) -> 66
A15: 186018007 | B15: 0 | C15: 8 | D15: 0 | E15: 0 | F15: 0 | G15: 0 | H15: =SUM(B15:G15) -> 8
A16: 186299800 | B16: 7 | C16: 0 | D16: 3 | E16: 32 | F16: 14 | G16: 48 | H16: =SUM(B16:G16) -> 104
A17: Total | B17: =SUM(B9:B16) -> 16 | C17: =SUM(C9:C16) -> 100 | D17: =SUM(D9:D16) -> 35 | E17: =SUM(E9:E16) -> 46 | F17: =SUM(F9:F16) -> 22 | G17: =SUM(G9:G16) -> 100 | H17: =SUM(H9:H16) -> 319

Sheet Overall
A1: Manual Data Collection (EVALS20033 v01)
A2: TE82882 | B2: TE82882-8 | D2: TE82882-9 | F2: TE82882-10 | H2: TE82882-11 | J2: TE82882-13 | L2: TE82882-14 | N2: Total
B3: Before | C3: After | D3: Before | E3: After | F3: Before | G3: After | H3: Before | I3: After | J3: Before | K3: After | L3: Before | M3: After
B4: 24 Sep 2020 - 12 Oct 2020 | C4: 13 Oct 2020 - 02 Dec 2020 | D4: 24 Sep 2020 - 12 Oct 2020 | E4: 13 Oct 2020 - 02 Dec 2020 | F4: 24 Sep 2020 - 12 Oct 2020 | G4: 13 Oct 2020 - 02 Dec 2020 | H4: 24 Sep 2020 - 12 Oct 2020 | I4: 13 Oct 2020 - 02 Dec 2020 | J4: 24 Sep 2020 - 12 Oct 2020 | K4: 13 Oct 2020 - 27 Nov 2020 | L4: 24 Sep 2020 - 12 Oct 2020 | M4: 13 Oct 2020 - 27 Nov 2020
A5: TESTED | B5: =B19 -> 10 | C5: =C19 -> 58 | D5: =D19 -> 90 | E5: =E19 -> 269 | F5: =F19 -> 34 | G5: =G19 -> 75 | H5: =H19 -> 32 | I5: =I19 -> 109 | ... M5: =M19 -> 301 | N5: =SUM(B5:M5) -> 1171
A6: LOSS COMM | B6: 10 | C6: 12 | D6: 13 | E6: 9 | F6: 9 | G6: 11 | H6: 4 | I6: 19 | J6: 5 | K6: 18 | L6: 16 | M6: 23 | N6: =SUM(B6:M6) -> 149 | P6: TE82882 | Q6: TE82882-8 | R6: TE82882-11 | S6: TE82882-13 | T6: Total
A7: FPY % | B7: =1-(B6/B5) -> 0 | C7: =1-(C6/C5) -> 0.79310345 | D7: =1-(D6/D5) -> 0.85555556 | E7: =1-(E6/E5) -> 0.96654275 | F7: =1-(F6/F5) -> 0.73529412 | G7: =1-(G6/G5) -> 0.85333333 | H7: =1-(H6/H5) -> 0.875 | I7: =1-(I6/I5) -> 0.82568807 | ... N7: =1-(N6/N5) -> 0.87275833 | P7: FPY % | Q7: =C7 -> 0.79310345 | R7: =H7 -> 0.875 | S7: =K7 -> 0.78823529 | T7: =AVERAGE(Q7:S7) -> 0.81877958
A8: Baseline (EVALS20015) | B8: 0.55 | C8: 0.55 | D8: 0.91 | E8: 0.91 | F8: 0.8 | G8: 0.8 | H8: 0.58 | I8: 0.58 | J8: 0.57 | K8: 0.57 | L8: 0.88 | M8: 0.88 | N8: =AVERAGE(C8,D8,F8,H8,K8,L8) -> 0.715 | P8: Baseline (EVALS20015) | Q8: 0.55 | R8: 0.58 | S8: 0.57 | T8: 0.56666667
A9: Target | B9: 0.8 | C9: 0.8 | D9: 0.8 | E9: 0.8 | F9: 0.8 | G9: 0.8 | H9: 0.8 | I9: 0.8 | J9: 0.8 | K9: 0.8 | L9: 0.8 | M9: 0.8 | N9: 0.8 | P9: Target | Q9: 0.8 | R9: 0.8 | S9: 0.8 | T9: 0.8
A10: PN/Tester | B10: TE82882-8 | D10: TE82882-9 | F10: TE82882-10 | H10: TE82882-11 | J10: TE82882-13 | L10: TE82882-14 | N10: Total
A11: 186002998 | B11: 1 | C11: 2 | D11: 4 | E11: 0 | F11: 0 | G11: 0 | H11: 1 | I11: 10 | J11: 2 | K11: 11 | L11: 5 | M11: 21 | N11: =SUM(B11:M11) -> 57
A12: 186015032 | B12: 0 | C12: 19 | D12: 34 | E12: 150 | F12: 20 | G12: 19 | H12: 0 | I12: 0 | J12: 0 | K12: 3 | L12: 0 | M12: 0 | N12: =SUM(B12:M12) -> 245
A13: 186015033 | B13: 1 | C13: 22 | D13: 39 | E13: 111 | F13: 1 | G13: 41 | H13: 0 | I13: 8 | J13: 0 | K13: 2 | L13: 1 | M13: 0 | N13: =SUM(B13:M13) -> 226
A14: 186015034 | B14: 0 | C14: 4 | D14: 0 | E14: 1 | F14: 13 | G14: 7 | H14: 0 | I14: 4 | J14: 0 | K14: 0 | L14: 0 | M14: 0 | N14: =SUM(B14:M14) -> 29
A15: 186015053 | B15: 0 | C15: 0 | D15: 0 | E15: 0 | F15: 0 | G15: 0 | H15: 0 | I15: 0 | J15: 0 | K15: 0 | L15: 0 | M15: 0 | N15: =SUM(B15:M15) -> 0
A16: 186017003 | B16: 1 | C16: 2 | D16: 5 | E16: 1 | F16: 0 | G16: 4 | H16: 0 | I16: 12 | J16: 0 | K16: 21 | L16: 36 | M16: 53 | N16: =SUM(B16:M16) -> 135
A17: 186018007 | B17: 0 | C17: 0 | D17: 0 | E17: 0 | F17: 0 | G17: 0 | H17: 7 | I17: 0 | J17: 6 | K17: 0 | L17: 0 | M17: 0 | N17: =SUM(B17:M17) -> 13
A18: 186299800 | B18: 7 | C18: 9 | D18: 8 | E18: 6 | F18: 0 | G18: 4 | H18: 24 | I18: 75 | J18: 12 | K18: 48 | L18: 46 | M18: 227 | N18: =SUM(B18:M18) -> 466
A19: Total | B19: =SUM(B11:B18) -> 10 | C19: =SUM(C11:C18) -> 58 | D19: =SUM(D11:D18) -> 90 | E19: =SUM(E11:E18) -> 269 | F19: =SUM(F11:F18) -> 34 | G19: =SUM(G11:G18) -> 75 | H19: =SUM(H11:H18) -> 32 | I19: =SUM(I11:I18) -> 109 | ... N19: =SUM(N11:N18) -> 1171

Sheet Before
A1: Manual Data Collection (EVALS20033 24 Sep 2020 to 12 Oct 2020)
A2: TE82882 | B2: TE82882-8 | C2: TE82882-9 | D2: TE82882-10 | E2: TE82882-11 | F2: TE82882-13 | G2: TE82882-14 | H2: Total
A3: TESTED | B3: =B17 -> 10 | C3: =C17 -> 90 | D3: =D17 -> 34 | E3: =E17 -> 32 | F3: =F17 -> 20 | G3: =G17 -> 88 | H3: =SUM(B3:G3) -> 274
A4: LOSS COMM | B4: 10 | C4: 13 | D4: 9 | E4: 4 | F4: 5 | G4: 16 | H4: =SUM(B4:G4) -> 57 | J4: TE82882 | K4: TE82882-8 | L4: TE82882-11 | M4: TE82882-13 | N4: Total
A5: FPY % | B5: =1-(B4/B3) -> 0 | C5: =1-(C4/C3) -> 0.85555556 | D5: =1-(D4/D3) -> 0.73529412 | E5: =1-(E4/E3) -> 0.875 | F5: =1-(F4/F3) -> 0.75 | G5: =1-(G4/G3) -> 0.81818182 | H5: =1-(H4/H3) -> 0.7919708 | J5: FPY % | K5: =#REF! -> #REF! | L5: =E5 -> 0.875 | M5: =#REF! -> #REF! | N5: =AVERAGE(K5:M5) -> #REF!
A6: Baseline (EVALS20015) | B6: 0.55 | C6: 0.91 | D6: 0.8 | E6: 0.58 | F6: 0.57 | G6: 0.88 | H6: =AVERAGE(B6:G6) -> 0.715 | J6: Baseline (EVALS20015) | K6: 0.55 | L6: 0.58 | M6: 0.57 | N6: 0.56666667
A7: Target | B7: 0.8 | C7: 0.8 | D7: 0.8 | E7: 0.8 | F7: 0.8 | G7: 0.8 | H7: 0.8 | J7: Target | K7: 0.8 | L7: 0.8 | M7: 0.8 | N7: 0.8
A8: PN/Tester | B8: TE82882-8 | C8: TE82882-9 | D8: TE82882-10 | E8: TE82882-11 | F8: TE82882-13 | G8: TE82882-14 | H8: Total
A9: 186002998 | B9: 1 | C9: 4 | D9: 0 | E9: 1 | F9: 2 | G9: 5 | H9: =SUM(B9:G9) -> 13
A10: 186015032 | B10: 0 | C10: 34 | D10: 20 | E10: 0 | F10: 0 | G10: 0 | H10: =SUM(B10:G10) -> 54
A11: 186015033 | B11: 1 | C11: 39 | D11: 1 | E11: 0 | F11: 0 | G11: 1 | H11: =SUM(B11:G11) -> 42
A12: 186015034 | B12: 0 | C12: 0 | D12: 13 | E12: 0 | F12: 0 | G12: 0 | H12: =SUM(B12:G12) -> 13
A13: 186015053 | B13: 0 | C13: 0 | D13: 0 | E13: 0 | F13: 0 | G13: 0 | H13: =SUM(B13:G13) -> 0
A14: 186017003 | B14: 1 | C14: 5 | D14: 0 | E14: 0 | F14: 0 | G14: 36 | H14: =SUM(B14:G14) -> 42
A15: 186018007 | B15: 0 | C15: 0 | D15: 0 | E15: 7 | F15: 6 | G15: 0 | H15: =SUM(B15:G15) -> 13
A16: 186299800 | B16: 7 | C16: 8 | D16: 0 | E16: 24 | F16: 12 | G16: 46 | H16: =SUM(B16:G16) -> 97
A17: Total | B17: =SUM(B9:B16) -> 10 | C17: =SUM(C9:C16) -> 90 | D17: =SUM(D9:D16) -> 34 | E17: =SUM(E9:E16) -> 32 | F17: =SUM(F9:F16) -> 20 | G17: =SUM(G9:G16) -> 88 | H17: =SUM(H9:H16) -> 274

Sheet After
A1: Manual Data Collection (EVALS20033 13 Oct 2020 to 31 Dec 2020 )
A2: TE82882 | B2: TE82882-8 | C2: TE82882-9 | D2: TE82882-10 | E2: TE82882-11 | F2: TE82882-13 | G2: TE82882-14 | H2: Total | I2: TE82882 | Y2: Total
A3: TESTED | B3: =B17 -> 122 | C3: =C17 -> 423 | D3: =D17 -> 106 | E3: =E17 -> 139 | F3: =F17 -> 119 | G3: =G17 -> 438 | H3: =SUM(B3:G3) -> 1347 | I3: =B3+E3+F3 -> 380 | Y3: =B3+E3+F3 -> 380
A4: LOSS COMM | B4: 15 | C4: 17 | D4: 23 | E4: 33 | F4: 27 | G4: 26 | H4: =SUM(B4:G4) -> 141 | I4: =B4+E4+F4 -> 75 | J4: TE82882 | K4: TE82882-8 | L4: TE82882-11 | M4: TE82882-13 | N4: Total | Y4: =B4+E4+F4 -> 75
A5: FPY % | B5: =1-(B4/B3) -> 0.87704918 | C5: =1-(C4/C3) -> 0.95981087 | D5: =1-(D4/D3) -> 0.78301887 | E5: =1-(E4/E3) -> 0.76258993 | F5: =1-(F4/F3) -> 0.77310924 | G5: =1-(G4/G3) -> 0.94063927 | H5: =1-(H4/H3) -> 0.89532294 | I5: =1-(I4/I3) -> 0.80263158 | ... Y5: =1-(Y4/Y3) -> 0.80263158
A6: Baseline (EVALS20015) | B6: 0.55 | C6: 0.91 | D6: 0.8 | E6: 0.58 | F6: 0.57 | G6: 0.88 | H6: =AVERAGE(B6:G6) -> 0.715 | I6: =(B6+E6+F6)/3 -> 0.56666667 | J6: Baseline (EVALS20015) | K6: 0.55 | L6: 0.58 | M6: 0.57 | N6: 0.56666667 | Y6: =(B6+E6+F6)/3 -> 0.56666667
A7: Target | B7: 0.8 | C7: 0.8 | D7: 0.8 | E7: 0.8 | F7: 0.8 | G7: 0.8 | H7: 0.8 | I7: 0.8 | J7: Target | K7: 0.8 | L7: 0.8 | M7: 0.8 | N7: 0.8 | Y7: 0.8
A8: PN/Tester | H8: Total
A9: 186002998 | B9: 2 | C9: 0 | D9: 0 | E9: 14 | F9: 14 | G9: 30 | H9: =SUM(B9:G9) -> 60
A10: 186015032 | B10: 19 | C10: 208 | D10: 38 | E10: 0 | F10: 3 | G10: 0 | H10: =SUM(B10:G10) -> 268
A11: 186015033 | B11: 25 | C11: 197 | D11: 50 | E11: 8 | F11: 2 | G11: 0 | H11: =SUM(B11:G11) -> 282
A12: 186015034 | B12: 4 | C12: 1 | D12: 7 | E12: 4 | F12: 0 | G12: 0 | H12: =SUM(B12:G12) -> 16
A13: 186015053 | B13: 1 | C13: 4 | D13: 3 | E13: 0 | F13: 0 | G13: 0 | H13: =SUM(B13:G13) -> 8
A14: 186017003 | B14: 3 | C14: 1 | D14: 4 | E14: 17 | F14: 25 | G14: 67 | H14: =SUM(B14:G14) -> 117
A15: 186018007 | B15: 7 | C15: 6 | D15: 0 | E15: 3 | F15: 1 | G15: 0 | H15: =SUM(B15:G15) -> 17
A16: 186299800 | B16: 61 | C16: 6 | D16: 4 | E16: 93 | F16: 74 | G16: 341 | H16: =SUM(B16:G16) -> 579
A17: Total | B17: =SUM(B9:B16) -> 122 | C17: =SUM(C9:C16) -> 423 | D17: =SUM(D9:D16) -> 106 | E17: =SUM(E9:E16) -> 139 | F17: =SUM(F9:F16) -> 119 | G17: =SUM(G9:G16) -> 438 | H17: =SUM(H9:H16) -> 1347

Sheet Sheet1

Sheet PN per 13 Oct to 17 Nov
A1: Manual Data Collection (EVALS20033 v 01)
A2: TE82882 | B2: TE82882-8 | D2: TE82882-9 | E2: TE82882-10 | F2: TE82882-11 | G2: TE82882-13 | I2: TE82882-14 | J2: Total
B3: Before | C3: After | D3: Monitoring | E3: Monitoring | F3: Before | G3: Before | H3: After | I3: Monitoring
B4: 24 Sep 2020 - 12 Oct 2020 | C4: 13 Oct 2020 - 17 Nov 2020 | D4: 24 Sep 2020 - 17 Nov 2020 | E4: 24 Sep 2020 - 17 Nov 2020 | F4: 24 Sep 2020 - 17 Nov 2020 | G4: 24 Sep 2020 - 12 Oct 2020 | H4: 13 Oct 2020 - 17 Nov 2020 | I4: 24 Sep 2020 - 17 Nov 2020
A5: TESTED | B5: =B19 -> 10 | C5: =C19 -> 51 | D5: =D19 -> 249 | E5: =E19 -> 81 | F5: =F19 -> 95 | G5: =G19 -> 19 | H5: =H19 -> 50 | I5: =I19 -> 285 | J5: =C5+F5+G5 -> 165 | K5: =C5+F5+H5 -> 196
A6: LOSS COMM | B6: 10 | C6: 13 | D6: 21 | E6: 20 | F6: 22 | G6: 9 | H6: 18 | I6: 35 | J6: =B6+F6+G6 -> 41 | K6: =C6+F6+H6 -> 53 | M6: TE82882 | N6: TE82882-8 | O6: TE82882-11 | P6: TE82882-13 | Q6: Total
A7: FPY % | B7: =1-(B6/B5) -> 0 | C7: =1-(C6/C5) -> 0.74509804 | D7: =1-(D6/D5) -> 0.91566265 | E7: =1-(E6/E5) -> 0.75308642 | F7: =1-(F6/F5) -> 0.76842105 | G7: =1-(G6/G5) -> 0.52631579 | H7: =1-(H6/H5) -> 0.64 | I7: =1-(I6/I5) -> 0.87719298 | J7: =AVERAGE(C7,F7,H7) -> 0.7178397 | K7: =(B7+F7+G7)/3 -> 0.43157895 | M7: FPY % | N7: =C7 -> 0.74509804 | O7: =F7 -> 0.76842105 | P7: =H7 -> 0.64 | Q7: =AVERAGE(N7:P7) -> 0.7178397
A8: Baseline (EVALS20015) | B8: =[1]EVALS20015!C5 -> 0.55 | C8: 0.55 | D8: =[1]EVALS20015!D5 -> 0.91 | E8: =[1]EVALS20015!E5 -> 0.8 | F8: =[1]EVALS20015!F5 -> 0.58 | G8: =[1]EVALS20015!G5 -> 0.57 | H8: 0.57 | I8: =[1]EVALS20015!H5 -> 0.88 | J8: =AVERAGE(C8,D8,E8,H8,I8) -> 0.742 | K8: =(B8+F8+G8)/3 -> 0.56666667 | M8: Baseline (EVALS20015) | N8: 0.55 | O8: 0.58 | P8: 0.57 | Q8: 0.56666667
A9: Target | B9: 0.8 | C9: 0.8 | D9: 0.8 | E9: 0.8 | F9: 0.8 | G9: 0.8 | H9: 0.8 | I9: 0.8 | J9: 0.8 | K9: =(B9+F9+G9)/3 -> 0.8 | M9: Target | N9: 0.8 | O9: 0.8 | P9: 0.8 | Q9: 0.8
A10: PN/Tester | B10: TE82882-8 | D10: =D2 -> TE82882-9 | E10: =E2 -> TE82882-10 | F10: TE82882-11 | G10: TE82882-13 | I10: =I2 -> TE82882-14 | J10: =J2 -> Total
A11: 186002998 | B11: 1 | C11: 1 | D11: 4 | E11: 0 | F11: 10 | G11: 2 | H11: 10 | I11: 21 | J11: =SUM(B11+F11+G11) -> 13
A12: 186015032 | B12: 0 | C12: 19 | D12: 126 | E12: 33 | F12: 6 | G12: 0 | H12: 3 | I12: 0 | J12: =SUM(B12+F12+G12) -> 6
A13: 186015033 | B13: 1 | C13: 22 | D13: 104 | E13: 35 | F13: 4 | G13: 0 | H13: 2 | I13: 1 | J13: =SUM(B13+F13+G13) -> 5
A14: 186015034 | B14: 0 | C14: 4 | D14: 1 | E14: 7 | F14: 0 | G14: 0 | H14: 0 | I14: 0 | J14: =SUM(B14+F14+G14) -> 0
A15: 186015053 | B15: 0 | C15: 0 | D15: 1 | E15: 0 | F15: 0 | G15: 0 | H15: 0 | I15: 0 | J15: =SUM(B15+F15+G15) -> 0
A16: 186017003 | B16: 1 | C16: 3 | D16: 5 | E16: 3 | F16: 16 | G16: 6 | H16: 12 | I16: 76 | J16: =SUM(B16+F16+G16) -> 23
A17: 186018007 | B17: 0 | C17: 0 | D17: 0 | E17: 0 | F17: 0 | G17: 0 | H17: 0 | I17: 0 | J17: =SUM(B17+F17+G17) -> 0
A18: 186299800 | B18: 7 | C18: 2 | D18: 8 | E18: 3 | F18: 59 | G18: 11 | H18: 23 | I18: 187 | J18: =SUM(B18+F18+G18) -> 77
A19: Total | B19: =SUM(B11:B18) -> 10 | C19: =SUM(C11:C18) -> 51 | D19: =SUM(D11:D18) -> 249 | E19: =SUM(E11:E18) -> 81 | F19: =SUM(F11:F18) -> 95 | G19: =SUM(G11:G18) -> 19 | H19: =SUM(H11:H18) -> 50 | I19: =SUM(I11:I18) -> 285 | J19: =SUM(B19+F19+G19) -> 124
F22: =32+63 -> 95
F23: =8+14 -> 22
F24: =1-(F23/F22) -> 0.76842105

Sheet Tester Configuration
H1: Tester config/ components
B2: Tester | C2: Date of installation | D2: TRF | E2: Transfer Tester/ New Tester | F2: Last Upgrade | G2: Upgrade ? | H2: Data switch | I2: Cables.. | J2: … | K2: …
B3: TE82882-8 | C3: 41968 | D3: ETUR-0PAPCT | E3: New Tester | F3: 43644 | G3: Final Test ver 4.2 | H3: Yes | I3: CAT 6
B4: TE82882-9 | C4: 41968 | D4: ETUR-0PAPCT | E4: New Tester | F4: 43644 | G4: Final Test ver 4.2 | H4: Yes | I4: CAT 5e
B5: TE82882-10 | C5: 41968 | D5: ETUR-0PAPCT | E5: New Tester | F5: 43650 | G5: Final Test ver 4.2 | H5: Yes | I5: CAT 5e
B6: TE82882-11 | C6: 41968 | D6: ETUR-0PAPCT | E6: New Tester | F6: 43647 | G6: Final Test ver 4.2 | H6: Yes | I6: CAT 5e
B7: TE82882-13 | C7: 42429 | D7: ETUR-A5VRM8 | E7: New Tester | F7: 43675 | G7: Final Test ver 4.2 | H7: NA | I7: CAT 6
B8: TE82882-14 | C8: 42429 | D8: ETUR-A5VRM8 | E8: New Tester | F8: 43647 | G8: Final Test ver 4.2 | H8: NA | I8: CAT 6

Sheet MTR FPY
B1: 43831 | C1: 43862 | D1: 43891 | E1: 43922 | F1: 43952 | G1: 43983 | H1: 44013 | I1: 44044 | J1: 44075 | K1: 44105 | L1: 44136 | M1: 44166
A2: PDA (Actual) | B2: 0.749 | C2: 0.752 | D2: 0.79 | E2: 0.695 | F2: 0.623 | G2: 0.646 | H2: 0.508 | I2: 0.799 | J2: 0.652 | K2: 0.714 | L2: 0.8274
A3: PDA Target | B3: 0.774 | C3: 0.774 | D3: 0.774 | E3: 0.774 | F3: 0.774 | G3: 0.774 | H3: 0.774 | I3: 0.774 | J3: 0.774 | K3: 0.774 | L3: 0.774 | M3: 0.774

Sheet EVALS20015
A1: Manual Data Collection (EVALS20015) (as of 29 Jul 2020)
A2: TE82882 | B2: TE82882-8 | C2: TE82882-9 | D2: TE82882-10 | E2: TE82882-11 | F2: TE82882-13 | G2: TE82882-14 | H2: TOTAL
A3: TESTED | B3: 100 | C3: 100 | D3: 100 | E3: 100 | F3: 100 | G3: 100 | H3: =SUM(B3:G3) -> 600
A4: LOSS COMM | B4: 45 | C4: 9 | D4: 20 | E4: 42 | F4: 43 | G4: 12 | H4: =SUM(B4:G4) -> 171
A5: LOSS COMM | B5: =B4/B3 -> 0.45 | C5: =C4/C3 -> 0.09 | D5: =D4/D3 -> 0.2 | E5: =E4/E3 -> 0.42 | F5: =F4/F3 -> 0.43 | G5: =G4/G3 -> 0.12 | H5: =H4/H3 -> 0.285
A6: Baseline FPY (EVALS20015) | B6: =1-B5 -> 0.55 | C6: =1-C5 -> 0.91 | D6: =1-D5 -> 0.8 | E6: =1-E5 -> 0.58 | F6: =1-F5 -> 0.57 | G6: =1-G5 -> 0.88 | H6: =1-H5 -> 0.715
A7: Target | B7: 0.8 | C7: 0.8 | D7: 0.8 | E7: 0.8 | F7: 0.8 | G7: 0.8 | H7: 0.8

Sheet Shunt Energy
B2: PDA Shunt Energy
B4: Total Units Tested Data : as of 31 Dec 2020
B6: Tester | C6: Jan'20 | D6: Feb'20 | E6: Mar'20 | F6: Apr'20 | G6: May'20 | H6: Jun'20 | I6: Jul'20 | J6: 44044 | K6: 44075 | L6: 44105 | M6: 44136 | N6: 44166
B7: TE82882-8 | C7: 60 | D7: 67 | E7: 46 | F7: 19 | G7: 12 | H7: 44 | I7: 48 | J7: 25 | K7: 46 | L7: 38 | M7: 15 | N7: =Data!R5 -> 67
B8: TE82882-9 | C8: 116 | D8: 107 | E8: 108 | F8: 35 | G8: 28 | H8: 83 | I8: 25 | J8: 85 | K8: 108 | L8: 164 | M8: 61 | N8: =Data!R6 -> 170
B9: TE82882-10 | C9: 12 | D9: 27 | E9: 23 | F9: 23 | G9: 79 | H9: 15 | I9: 3 | J9: 6 | K9: 32 | L9: 54 | M9: 23 | N9: =Data!R7 -> 32
B10: TE82882-11 | C10: 0 | D10: 3 | E10: 11 | F10: 41 | G10: 40 | H10: 0 | I10: 49 | J10: 40 | K10: 39 | L10: 64 | M10: 19 | N10: =Data!R8 -> 35
B11: TE82882-13 | C11: 44 | D11: 65 | E11: 24 | F11: 27 | G11: 37 | H11: 1 | I11: 55 | J11: 9 | K11: 27 | L11: 43 | M11: 19 | N11: =Data!R9 -> 35
B12: TE82882-14 | C12: 94 | D12: 140 | E12: 118 | F12: 60 | G12: 34 | H12: 69 | I12: 20 | J12: 116 | K12: 103 | L12: 179 | M12: 83 | N12: =Data!R10 -> 148
B13: TESTED | C13: =SUM(C7:C12) -> 326 | D13: =SUM(D7:D12) -> 409 | E13: =SUM(E7:E12) -> 330 | F13: =SUM(F7:F12) -> 205 | G13: =SUM(G7:G12) -> 230 | H13: =SUM(H7:H12) -> 212 | I13: =SUM(I7:I12) -> 200 | J13: =SUM(J7:J12) -> 281 | ... N13: =SUM(N7:N12) -> 487
B15: Total Units Shunt Energy
B16: Tester | C16: Jan'20 | D16: Feb'20 | E16: Mar'20 | F16: Apr'20 | G16: May'20 | H16: Jun'20 | I16: Jul'20 | J16: 44044 | K16: 44075 | L16: 44105 | M16: 44136 | N16: 44166
B17: TE82882-8 | C17: 0 | D17: 1 | E17: 0 | F17: 0 | G17: 0 | H17: 1 | I17: 2 | J17: 0 | K17: 2 | L17: 0 | M17: 1 | N17: 1
B18: TE82882-9 | C18: 1 | D18: 0 | E18: 0 | F18: 0 | G18: 0 | H18: 6 | I18: 2 | J18: 2 | K18: 7 | L18: 1 | M18: 0 | N18: 5
B19: TE82882-10 | C19: 0 | D19: 0 | E19: 1 | F19: 0 | G19: 7 | H19: 0 | I19: 0 | J19: 0 | K19: 2 | L19: 0 | M19: 0 | N19: 0
B20: TE82882-11 | C20: 0 | D20: 0 | E20: 0 | F20: 0 | G20: 1 | H20: 0 | I20: 1 | J20: 0 | K20: 0 | L20: 0 | M20: 0 | N20: 0
B21: TE82882-13 | C21: 0 | D21: 0 | E21: 0 | F21: 0 | G21: 0 | H21: 0 | I21: 5 | J21: 0 | K21: 0 | L21: 0 | M21: 0 | N21: 1
B22: TE82882-14 | C22: 1 | D22: 0 | E22: 0 | F22: 1 | G22: 0 | H22: 1 | I22: 0 | J22: 0 | K22: 0 | L22: 1 | M22: 0 | N22: 2
B23: TESTED | C23: =SUM(C17:C22) -> 2 | D23: =SUM(D17:D22) -> 1 | E23: =SUM(E17:E22) -> 1 | F23: =SUM(F17:F22) -> 1 | G23: =SUM(G17:G22) -> 8 | H23: =SUM(H17:H22) -> 8 | I23: =SUM(I17:I22) -> 10 | J23: =SUM(J17:J22) -> 2 | ... N23: =SUM(N17:N22) -> 9
B25: Shunt Energy %
B26: Tester | C26: Jan'20 | D26: Feb'20 | E26: Mar'20 | F26: Apr'20 | G26: May'20 | H26: Jun'20 | I26: Jul'20 | J26: 44044 | K26: 44075 | L26: 44105 | M26: 44136 | N26: 44166
B27: TE82882-8 | C27: =(C17/C7) -> 0 | D27: =(D17/D7) -> 0.014925373 | E27: =(E17/E7) -> 0 | F27: =(F17/F7) -> 0 | G27: =(G17/G7) -> 0 | H27: =(H17/H7) -> 0.022727273 | I27: =(I17/I7) -> 0.041666667 | J27: =(J17/J7) -> 0 | ... N27: =(N17/N7) -> 0.014925373
B28: TE82882-9 | C28: =(C18/C8) -> 0.0086206897 | D28: =(D18/D8) -> 0 | E28: =(E18/E8) -> 0 | F28: =(F18/F8) -> 0 | G28: =(G18/G8) -> 0 | H28: =(H18/H8) -> 0.072289157 | I28: =(I18/I8) -> 0.08 | J28: =(J18/J8) -> 0.023529412 | ... N28: =(N18/N8) -> 0.029411765
B29: TE82882-10 | C29: =(C19/C9) -> 0 | D29: =(D19/D9) -> 0 | E29: =(E19/E9) -> 0.043478261 | F29: =(F19/F9) -> 0 | G29: =(G19/G9) -> 0.088607595 | H29: =(H19/H9) -> 0 | I29: =(I19/I9) -> 0 | J29: =(J19/J9) -> 0 | ... N29: =(N19/N9) -> 0
B30: TE82882-11 | C30: =(C20/C10) -> #DIV/0! | D30: =(D20/D10) -> 0 | E30: =(E20/E10) -> 0 | F30: =(F20/F10) -> 0 | G30: =(G20/G10) -> 0.025 | H30: =(H20/H10) -> #DIV/0! | I30: =(I20/I10) -> 0.020408163 | J30: =(J20/J10) -> 0 | ... N30: =(N20/N10) -> 0
B31: TE82882-13 | C31: =(C21/C11) -> 0 | D31: =(D21/D11) -> 0 | E31: =(E21/E11) -> 0 | F31: =(F21/F11) -> 0 | G31: =(G21/G11) -> 0 | H31: =(H21/H11) -> 0 | I31: =(I21/I11) -> 0.090909091 | J31: =(J21/J11) -> 0 | ... N31: =(N21/N11) -> 0.028571429
B32: TE82882-14 | C32: =(C22/C12) -> 0.010638298 | D32: =(D22/D12) -> 0 | E32: =(E22/E12) -> 0 | F32: =(F22/F12) -> 0.016666667 | G32: =(G22/G12) -> 0 | H32: =(H22/H12) -> 0.014492754 | I32: =(I22/I12) -> 0 | J32: =(J22/J12) -> 0 | ... N32: =(N22/N12) -> 0.013513514
B33: TESTED | C33: =(C23/C13) -> 0.0061349693 | D33: =(D23/D13) -> 0.0024449878 | E33: =(E23/E13) -> 0.003030303 | F33: =(F23/F13) -> 0.0048780488 | G33: =(G23/G13) -> 0.034782609 | H33: =(H23/H13) -> 0.037735849 | I33: =(I23/I13) -> 0.05 | J33: =(J23/J13) -> 0.0071174377 | ... N33: =(N23/N13) -> 0.018480493
B35: DATE | C35: OESR | D35: DESCRIPTION
B36: 43712 | C36: S190130 | D36: TE82882 PDA Final Test System Missing Spare OB PN 700011652 26-Sep-19 - TE82882-10SEP19-VAF_Approved and released tester for usage.
B37: 43816 | C37: S190195 193814 | D37: 17-Dec-19: Concall between JMD and HZL to inform E Turner if OK 20-Dec-19: Waters Milford Matt Brule and Eric Turner awar
B38: 43866 | C38: S20011 | D38: - PDA Final Test System TE82882-11 Not able to login from Empower using username "system' and password "metsys". - It is showing Database Connection Failure - both “tester” and admin account “te-1” not able to use the username and password 07 Feb 2020 - Reinstalled image and able to login to Empower. Test 1 unit and able to pass test
B39: 43894 | C39: S20020 | D39: -PDA Final Test System TE82882-11 Not able too into WinOS due to corrupted WinOS (pls refer to attached photo) - tried to used the back-up from Acronis Imaging software but not able to activate the image. 27-Feb -2020: Re-run the back-up and ren disk defragmentation and Check Disk Error, re-image and install back
B42: SS7 Data as of 04 Jul 2020
B43: Tester per WW
B44: TE82882-8
B45: TE82882-9
B46: TE82882-10
B47: TE82882-11
B48: TE82882-13
...
