Workbook

Sheet WPPL SC PO List
A1: For work from home usage only
A3: PO Date | B3: PO# | C3: Raised By | D3: Supplier | E3: PO Amount (USD) | F3: Details | G3: Account Code
A4: 43892 | B4: WPPL-SC-001 | C4: Yin Ying | D4: GVT | E4: 4305.27 | F4: HTL - 3 sets of manufactured parts | G4: WP20 615100
A5: 43914 | B5: WPPL-SC-002 | C5: Yin Ying | D5: Venture | E5: 10548.29 | F5: BSM Packaging Test | G5: WP20 615100
A6: 43914 | B6: WPPL-SC-003 | C6: Bethany | D6: Oneida | E6: 22815 | F6: Dummy PO. Vnture to issue PO to supersede once date is due | G6: NA
A7: 43914 | B7: WPPL-SC-004 | C7: Bethany | D7: CEI | E7: 464.9 | F7: Deplete Technimetal Inventory | G7: WP21 750125
A8: 43915 | B8: WPPL-SC-005 | C8: Bethany | D8: Flex | E8: 57865.229 | F8: JPY FX claim for Q1'2020 | G8: NA
A9: 43915 | B9: WPPL-SC-005 | C9: Bethany | D9: Flex | E9: 193.5 | F9: Q1'2020 expediting cost | G9: WP20 615100
A10: 43915 | B10: WPPL-SC-006 | C10: Soo Chin | D10: Venture | E10: 3376.36 | F10: Feb'20 Tariff Surcharge | G10: WP20 750125
A11: 43922 | B11: WPPL-SC-007 | C11: Bethany | D11: GVT | E11: 3537.5 | F11: NRE & FA Cost for switching allocation from ETLA to GVT | G11: WP20 615100
A12: 43934 | B12: WPPL-SC-008 | C12: Soo Chin | D12: Venture | E12: 4061.4124 | F12: Q1'2020 Hamamatsu JPY Claim | G12: WP20 750125
A13: 43936 | B13: WPPL-SC-009 | C13: Soo Chin | D13: Venture | E13: 2760.64 | F13: Mar'20 Tariff Surcharge | G13: WP20 750125
A14: 43937 | B14: WPPL-SC-010 | C14: Bethany | D14: ETLA | E14: 2600 | F14: Purchase 10 sets of raw material for 3 machining part# 405003295, 405006788 & 405002568. | G14: WP20 615100
A15: 43942 | B15: WPPL-SC-011 | C15: Yin Ying | D15: Flex | E15: 10168.37 | F15: Packaging Test - QSM chassis (PEM Nut) | G15: WP20 615100
A16: 43943 | B16: WPPL-SC-012 | C16: Bethany | D16: GVT | E16: 5550 | F16: NRE & FA Cost for switching allocation from ETLA to GVT for Part# NRE cost for Part# 405002568, 405003295 & 405006788 | G16: WP20 615100

Sheet WP20 615100
A1: POs under Project Expense: WP20 615100 | E1: Approver: | F1: Yin Ying
E2: Budget | F2: 61000
E3: 2020 YTD Spend | F3: =SUM(F10:F57) -> 38171.68
C4: HTL bal b/fwd from 2019 | D4: =F61+F62-1655-863.7 -> 24321.6 | E4: Bal b/fwd from 2019 | F4: =D5+F8+F9 -> 17602.66 | G4: GVT - Mar invoices = $10,421.87
C5: 70% to be expensed | D5: =D4*0.7 -> 17025.12 | E5: Balance | F5: =F2-F3-F4 -> 5225.66 | L5: Scrap - 750120
L6: Rework - 625200
A7: S/N | B7: PO Date | C7: PO# | D7: Raised By | E7: Supplier | F7: PO Amount (USD) | G7: Details | H7: Group | I7: Invoice | J7: Remarks | L7: Spend Breakdown | M7: USD
A8: 1 | B8: 43816 | C8: 2019-564 | D8: Yin Ying | E8: 3D Metal Forge | F8: 577.54 | G8: Retirement Souvenir (SGD782) | H8: 8 | I8: 43862 | K8: 1 | L8: NRE & Tool Cost | M8: =SUMIF($H$8:$H$57,K8,$F$8:$F$57) -> 3950
A9: 2 | B9: 43833 | C9: 2020-003 | D9: Yin Ying | E9: Flex | G9: 186015032 - for 210000415 PCBA investigation | H9: NA | J9: PO#2020-003 is replaced by PO#2020-057 | K9: 2 | L9: FA Sample / Evaluation Run Cost | M9: =SUMIF($H$8:$H$57,K9,$F$8:$F$57) -> 6306.25
A10: 3 | B10: 43843 | C10: 2020-020 | D10: Bethany | E10: Unpackt | F10: 100 | G10: Deposit ECO-Anzyme Workshop (Q2 inclusive workshop) | H10: 8 | I10: 43862 | K10: 3 | L10: Material Purchase Cost | M10: =SUMIF($H$8:$H$57,K10,$F$8:$F$57) -> 2600
A11: 4 | B11: 43853 | C11: 2020-040 | D11: Bethany | E11: B&E | F11: 150 | G11: FA sample for 405011266 Light Pipe, Col Mgr | H11: 2 | I11: 43891 | K11: 4 | L11: Packaging Eval Cost | M11: =SUMIF($H$8:$H$57,K11,$F$8:$F$57) -> 20716.66
A12: 5 | B12: 43853 | C12: 2020-040 | D12: Bethany | E12: B&E | F12: 300 | G12: Tooling cost for 405011266 Light Pipe, Col Mgr | H12: 1 | I12: 43891 | K12: 5 | L12: PACT Project | M12: =SUMIF($H$8:$H$57,K12,$F$8:$F$57) -> 4305.27
A13: 6 | B13: 43892 | C13: WPPL-SC-001 | D13: Yin Ying | E13: GVT | F13: 4305.27 | G13: HTL - 3 sets of manufactured parts | H13: 5 | K13: 6 | L13: TBA | M13: =SUMIF($H$8:$H$57,K13,$F$8:$F$57) -> 0
A14: 7 | B14: 43899 | C14: 2020-092 | D14: Bethany | E14: EPE PACKAGING PTE LTD | F14: 168.75 | G14: FA SAMPLE COST FOR 290000443 (5 SET) | H14: 2 | K14: 7 | L14: TBA | M14: =SUMIF($H$8:$H$57,K14,$F$8:$F$57) -> 0
A15: 8 | B15: 43899 | C15: 2020-092 | D15: Bethany | E15: EPE PACKAGING PTE LTD | F15: 550 | G15: TOOLING COST FOR 290000443 | H15: 1 | K15: 8 | L15: Miscellaneous / etc | M15: =SUMIF($H$8:$H$57,K15,$F$8:$F$57) -> 871.04
A16: 9 | B16: 43914 | C16: WPPL-SC-002 | D16: Yin Ying | E16: Venture | F16: 10548.29 | G16: BSM Packaging Test | H16: 4 | K16: 9 | L16: Training | M16: =SUMIF($H$8:$H$57,K16,$F$8:$F$57) -> 0
A17: 10 | B17: 43915 | C17: WPPL-SC-005 | D17: Bethany | E17: Flex | F17: 193.5 | G17: Q1'2020 expediting cost | H17: 8 | K17: 10 | L17: Cross Charge | M17: =SUMIF($H$8:$H$57,K17,$F$8:$F$57) -> 0
A18: 11 | B18: 43922 | C18: WPPL-SC-007 | D18: Bethany | E18: GVT | F18: 800 | G18: NRE Cost for switching allocation from ETLA to GVT | H18: 1 | L18: Total | M18: =SUBTOTAL(109,Table22[USD]) -> 38749.22
A19: 12 | B19: 43922 | C19: WPPL-SC-007 | D19: Bethany | E19: GVT | F19: 2737.5 | G19: FA Cost for switching allocation from ETLA to GVT | H19: 2
A20: 13 | B20: 43937 | C20: WPPL-SC-010 | D20: Bethany | E20: ETLA | F20: 2600 | G20: Purchase 10 sets of raw material for 3 machining part# 405003295, 405006788 & 405002568. | H20: 3
A21: 14 | B21: 43942 | C21: WPPL-SC-011 | D21: Yin Ying | E21: Flex | F21: 10168.37 | G21: Packaging Test - QSM chassis (PEM Nut) | H21: 4
A22: 15 | B22: 43943 | C22: WPPL-SC-012 | D22: Bethany | E22: GVT | F22: 2300 | G22: NRE Cost for switching allocation from ETLA to GVT for Part# NRE cost for Part# 405002568, 405003295 & 405006788 | H22: 1
A23: 16 | B23: 43943 | C23: WPPL-SC-012 | D23: Bethany | E23: GVT | F23: 3250 | G23: FA Cost for switching allocation from ETLA to GVT for Part# 405002568, 405003295 & 405006788 | H23: 2
A24: 17
A25: 18
A26: 19
A27: 20
A28: 21
A29: 22
A30: 23
A31: 24
A32: 25
A33: 26
A34: 27
A35: 28
... A57: 50
B60: PO Date | C60: PO# | D60: Raised By | E60: Supplier | F60: PO Amount (USD) | G60: Details | H60: Group | I60: Invoice | J60: Remarks
A61: HTL | B61: 43207 | C61: 2018-153 | D61: Yu Xue | E61: GVT | F61: 24825 | G61: EDB PACT - Transferline Assy, 279003623 Heater X10 | H61: 5 | I61: Partial | J61: Feb 2019 - $1,655
A62: HTL | B62: 43711 | C62: 2019-398 | D62: Yin Ying | E62: GVT | F62: 2015.3 | G62: Material purchase for PACT - purchase parts | H62: 5 | I62: Partial | J62: Dec 2019 - $863.70

Sheet WP20 170100
A1: POs under CEA: WP21 170100 | F1: Approver: | G1: Yin Ying
F2: Budget | G2: 97000
F3: 2020 YTD Spend | G3: =SUM(G6:G56) -> 0
A5: S/N | B5: PO Date | C5: PO# | D5: CEA # | E5: Raised By | F5: Supplier | G5: PO Amount | H5: Details | I5: Remarks
A6: 1
A7: 2 | I7: NA
A8: 3
A9: 4
A10: 5
A11: 6
A12: 7
A13: 8
A14: 9
A15: 10
A16: 11
A17: 12
A18: 13
A19: 14
... A56: 51

Sheet WP21 750125
A1: POs under Manual PPV: WP21 750125 | F1: Approver: | G1: Yin Ying
E3: 2020 YTD Spend | F3: =SUM(F6:F48) -> 23397.11
A5: S/N | B5: PO Date | C5: PO# | D5: Raised By | E5: Supplier | F5: PO Amount | G5: Details | H5: Remarks
A6: 1 | B6: 43815 | C6: 2019-560 | D6: Soo Chin | E6: Venture | F6: 7505.5 | G6: PPV Claim - LCOM Parts | H6: Hit 2020 PPV
A7: 2 | B7: 43878 | C7: 2020-069 | D7: Bethany | E7: Flex | F7: 15426.71 | G7: Instrument retro claim for Q1'2020
A8: 3 | B8: 43914 | C8: WPPL-SC-004 | D8: Bethany | E8: CEI | F8: 464.9 | G8: Deplete Technimetal Inventory
A9: 4
A10: 5
A11: 6
A12: 7
A13: 8
A14: 9
A15: 10
A16: 11
A17: 12
A18: 13
A19: 14
A20: 15
... A56: 51

Sheet MP30 615100
G1: Approver: | H1: Edwin | M1: USD
A2: POs under Project / Tooling Expense: MP30 615100 (Mass Spec) | F2: SGD | G2: USD | L2: CEA | M2: =SUM(G30,G33,G34,G35,G48) -> 0
E3: Budget | G3: 34000 | L3: without CEA | M3: =SUM(F4-M2) -> 24705.76
E4: 2020 YTD Spend | F4: =SUM(F8:F105) -> 24705.76 | G4: =SUM(G8:G99) -> 18158.57
E5: Difference | G5: =G3-G4 -> 15841.43 | L5: Scrap - 750120
L6: Rework - 625200
A7: S/N | B7: PO Date | C7: PO# | D7: Raised By | E7: Supplier | F7: PO Amount (SGD) | G7: PO Amount (USD) | H7: Details | I7: Group | J7: GROUPING | L7: Spend Breakdown | M7: USD | N7: Grouping | O7: Spend breakdown2 | P7: USD2
A8: 1 | B8: 43865 | C8: 2020-051 | D8: Siddharth | E8: Aik Moh Paints and Chemicals Pte Ltd | F8: 930.9 | G8: 679.1 | H8: 6 Bottles of Acetonitrile | I8: 3 | K8: 1 | L8: NRE & Tool Cost
A9: 2 | B9: 43867 | C9: 2020-054 | D9: Siddharth | E9: Sigma Aldrich | F9: 4194.4 | G9: 3029.3 | H9: Leucine Enkephaline (Qty-10) | I9: 3 | K9: 2 | L9: FA Sample / Evaluation Run Cost
A10: 3 | B10: 43865 | C10: 2020-053 | D10: Siddharth | E10: Venture | F10: 5259.69 | G10: 3792 | H10: Beacon HTL Rework | I10: 7 | K10: 3 | L10: Material Purchase Cost
A11: 4 | B11: 43888 | C11: 2020-081 | D11: Siddharth | E11: UniCal Pte Ltd | F11: 428 | G11: 306.81 | H11: Calibration Data Logger (4pcs) | I11: 8 | K11: 4 | L11: ECO Change Impact Cost
A12: 5 | B12: 43900 | C12: 2020-097 | D12: Siddharth | E12: Chemoscience | F12: 6851.26 | G12: 4946.24 | H12: PM Consummable for ELGA DI Water (Annual) | I12: 8 | K12: 5 | L12: Supplier Development Project
A13: 6 | B13: 43906 | C13: MRO | D13: Siddharth | E13: Waters | F13: 807.69 | G13: 569.25 | H13: 1L glass bottle (15pcs) | I13: 8 | K13: 6 | L13: SQT Testing
A14: 7 | B14: 43915 | C14: 2020-110 | D14: Siddharth | E14: Aik Moh Paints and Chemicals Pte Ltd | F14: 1241.2 | G14: 856.84 | H14: Acetonitrile (8 bottles x4L) | K14: 7 | L14: Rework
A15: 8 | B15: 43915 | C15: 2020-111 | D15: Siddharth | E15: VWR | F15: 798.22 | G15: 551.03 | H15: Formic Acid (100ml x2) | K15: 8 | L15: Miscellaneous / etc
A16: 9 | B16: 43915 | C16: 2020-112 | D16: Siddharth | E16: Sigma Aldrich | F16: 4194.4 | G16: 3029.3 | H16: Leucine Enkephaline (Qty-10) | K16: 9 | L16: Training
A17: 10 | B17: 43844 | C17: 2020-023 | D17: Yee Hwa | E17: Micro Precision | G17: 398.7 | H17: In house equipment calibration (Reclass under MP30) | K17: 10 | L17: Cross Charge
A18: 11
A19: 12
A20: 13
A21: 14
A22: 15
A23: 16
A24: 17
A25: 18
A26: 19
A27: 20
A28: 21
A29: 22
... A102: 95

Sheet WP21 615100
A1: POs under Project / Tooling Expense: WP21 615100 | G1: Approvers: | H1: Kevin | I1: Edwin
E2: Budget | F2: 38000
C3: SIT bal b/fwd from 2019 | D3: =F61+F62-1530 -> 16455 | E3: 2020 YTD Spend | F3: =SUM(F8:F57) -> 117.2
E4: 2020 YTD exclude SIT | F4: =F3-M18 -> 117.2
E5: Bal b/fwd from 2019 | F5: =F61 -> 985 | L5: Scrap - 750120
E6: Balance | F6: =F2-F4-F5 -> 36897.8 | L6: Rework - 625200
A7: S/N | B7: PO Date | C7: PO# | D7: Raised By | E7: Supplier | F7: PO Amount (USD) | G7: Details | H7: Group | I7: Invoice | J7: Remarks | L7: Spend Breakdown | M7: USD
A8: 1 | B8: 43935 | C8: WPPL-PP-002 | D8: Benjamin | E8: Flex | F8: 60.82 | G8: Rework cost for eReturn Day 1 failure (Claim # 120887) | H8: 7 | K8: 1 | L8: NRE & Tool Cost | M8: =SUMIF($H$8:$H$57,K8,$F$8:$F$57) -> 0
A9: 2 | B9: 43935 | C9: WPPL-PP-003 | D9: Benjamin | E9: Flex | F9: 56.38 | G9: Rework cost for eReturn Day 1 failure (Claim # 118446) | H9: 7 | K9: 2 | L9: FA Sample / Evaluation Run Cost | M9: =SUMIF($H$8:$H$57,K9,$F$8:$F$57) -> 0
A10: 3 | K10: 3 | L10: Material Purchase Cost | M10: =SUMIF($H$8:$H$57,K10,$F$8:$F$57) -> 0
A11: 4 | K11: 4 | L11: ECO Change Impact Cost | M11: =SUMIF($H$8:$H$57,K11,$F$8:$F$57) -> 0
A12: 5 | K12: 5 | L12: PACT Project | M12: =SUMIF($H$8:$H$57,K12,$F$8:$F$57) -> 0
A13: 6 | K13: 6 | L13: SQT Testing | M13: =SUMIF($H$8:$H$57,K13,$F$8:$F$57) -> 0
A14: 7 | K14: 7 | L14: Rework | M14: =SUMIF($H$8:$H$57,K14,$F$8:$F$57) -> 117.2
A15: 8 | K15: 8 | L15: Miscellaneous / etc | M15: =SUMIF($H$8:$H$57,K15,$F$8:$F$57) -> 0
A16: 9 | K16: 9 | L16: Training | M16: =SUMIF($H$8:$H$57,K16,$F$8:$F$57) -> 0
A17: 10 | K17: 10 | L17: Cross Charge | M17: =SUMIF($H$8:$H$57,K17,$F$8:$F$57) -> 0
A18: 11 | K18: 11 | L18: SIT project | M18: =SUMIF($H$8:$H$57,K18,$F$8:$F$57) -> 0
A19: 12 | L19: Total | M19: =SUBTOTAL(109,Table2[USD]) -> 117.2
A20: 13
A21: 14
A22: 15
A23: 16
A24: 17
A25: 18
A26: 19
A27: 20
A28: 21
A29: 22
A30: 23
A31: 24
... A57: 50
B60: PO Date | C60: PO# | D60: Raised By | E60: Supplier | F60: PO Amount (USD) | G60: Details | H60: Group | I60: Invoice | J60: Remarks
A61: SIT | B61: 43578 | C61: 2019-201 | D61: Yu Xue | E61: Fagerdala | F61: 985 | G61: 290002213 Packaging NRE cost | H61: 11 | I61: 43862
A62: SIT | B62: 43703 | C62: 2019-381 | D62: Bethany | E62: Fagerdala | F62: 17000 | G62: Packaging for SIT project | H62: 11 | I62: Partial | J62: Oct 2019 - $1,530 Feb 2020 - $$510

Sheet WP23 615100
A1: POs under Project Tooling Expense: WP23 615100 (Arc FTN) | G1: Approvers: | H1: Desmond | I1: Yin Ying
F2: Budget | G2: 8550
F3: 2020 YTD Spend | G3: =SUM(G7:G130) -> 0
F4: Difference | G4: =G3-G2 -> -8550
A6: S/N | B6: PO Date | C6: PO# | D6: MRO PO No | E6: Raised By | F6: Supplier | G6: PO Amount (USD) | H6: Details | I6: Group | J6: GROUPING | K6: CM | L6: Invoice

Sheet WP21 615150
A1: POs under Project Tooling Expense: WP21 615150 | G1: Approvers: | H1: Desmond | I1: Edwin
F2: Budget | G2: 175000
F3: 2020 YTD Spend | G3: =SUM(G7:G129) -> 80041.603
F4: Difference | G4: =G3-G2 -> -94958.397 | N4: Scrap - 750120
N5: Rework - 625200
A6: S/N | B6: PO Date | C6: PO# | D6: MRO PO No | E6: Raised By | F6: Supplier | G6: PO Amount (USD) | H6: Details | I6: Group | J6: GROUPING | K6: CM | L6: Invoice | N6: Spend Breakdown | O6: USD | P6: Grouping | Q6: Spend breakdown2 | R6: USD2
A7: 1 | B7: 43839 | C7: MRO | D7: TBA | E7: Edwin | F7: Waters | G7: 3443.68 | H7: Qda ESI Probes and Aperture Disk for production | I7: 5 | M7: 1 | N7: Calibration cost | O7: =SUMIF($I$7:$I$286,M7,$G$7:$G$286) -> 55198.898
A8: 2 | B8: 43838 | C8: 2020-012 | E8: Sufern | F8: Venture | G8: 0 | H8: Venture Nov 19 Calibration Claim - Calibration Cost (Instrument) (LC) | I8: 4 | M8: 2 | N8: Spares replacement | O8: =SUMIF($I$7:$I$286,M8,$G$7:$G$286) -> 2236.918
G9: 0 | H9: Venture Nov 19 Calibration Claim - Calibration Cost (Instrument) (MS) | I9: 4 | M9: 3 | N9: Others | O9: =SUMIF($I$7:$I$286,M9,$G$7:$G$286) -> 9975.03
G10: 0 | H10: Venture Nov 19 Calibration Claim - Miscellaneous | I10: 4 | M10: 4 | N10: Accural calibrations | O10: =SUMIF($I$7:$I$286,M10,$G$7:$G$286) -> 0
A11: 3 | B11: 43838 | C11: 2020-013 | E11: Sufern | F11: Flex | G11: 0 | H11: Flex Nov 19 Calibration Claim - Calibration cost (Kallang) | I11: 4 | M11: 5 | N11: Consumables | O11: =SUMIF($I$7:$I$286,M11,$G$7:$G$286) -> 9907.6571
G12: 0 | H12: Flex Nov 19 Calibration Claim - Repair cost (spare parts in Kallang) | I12: 4 | M12: 6 | N12: Calibration Cost PCBA 2018 | O12: =SUMIF($I$7:$I$286,M12,$G$7:$G$286) -> 0
A13: 4 | B13: 43838 | C13: 2020-015 | E13: Sufern | F13: CEI | G13: 0 | H13: Racal Calibration | I13: 4 | M13: 7 | N13: Toolings | O13: =SUMIF($I$7:$I$286,M13,$G$7:$G$286) -> 202.5
A14: 5 | B14: 43844 | C14: 2020-023 | E14: Yee Hwa | F14: Micro Precision | G14: 0 | H14: In house equipment calibration (Reclass under MP30) | I14: 1
A15: 6 | B15: 43844 | C15: 2020-024 | E15: Yee Hwa | F15: Autopack | G15: 1190 | H15: Printer service contract
A16: 7 | B16: 43851 | C16: 2020-034 | E16: Sufern | F16: Venture | G16: 0 | H16: Venture Nov 19 Calibration Claim - Miscellaneous (Accrual) | I16: 4
G17: 0 | H17: Venture Nov 19 Calibration Claim - Miscellaneous (Accrual) | I17: 4
A18: 7.5945946 | B18: 43851 | C18: 2020-036 | E18: Siddharth | F18: Venture | G18: 3.89 | H18: Needle Carriage Assy | I18: 3
A19: 9 | B19: 43854 | C19: 2020-039 | E19: Guan Yee | F19: Flex | G19: 2084.5 | H19: 1 unit TUV Detector for Drop Test | I19: 3
A20: 10 | B20: 43854 | C20: MRO | D20: TBA | E20: Yee Hwa | F20: Venture | H20: To support SIT, will be cross charged to be complete | N20: Subtotal | O20: =SUBTOTAL(109,Table2459[USD]) -> 77521.003
A21: 11 | B21: 43865 | C21: 2020-053 | E21: Siddharth | F21: Venture | G21: 0 | H21: Beacon HTL Rework (under MP30) | I21: 3
A22: 12 | B22: 43867 | C22: 2020-057 | E22: Guan Yee | F22: Flex | G22: 202.5 | H22: PCBA 210000415 (S/N 091118045M) Failure - shipment to Milford for evaluation | I22: 7
A23: 13 | B23: 43867 | C23: 2020-055 | E23: Siddharth | F23: Venture | G23: 3560.47 | H23: Needle Carriage Assy Rework (Qty-56) | I23: 3
A24: 14 | B24: 43868 | C24: 2020-056 | E24: Yee Hwa | F24: Aik Moh | G24: 267 | H24: SGD $360 -> USD 267. Chemicals for SIT | I24: 5
A25: 15 | B25: 43864 | C25: 2020-046 | E25: Yee Hwa | F25: Flex | H25: To support SIT, will be cross charged to be complete
A26: 16 | B26: 43873 | C26: MRO | E26: Yee Hwa | F26: Waters | G26: 178.29 | H26: APH for SIT troubleshooting (SIT related) | I26: 2
A27: 17 | B27: 43885 | C27: 2020-075 | E27: Yee Hwa | F27: Crest | G27: 17500 | H27: PM service for Crest system at RichPort and KeyPoint (original amount=SGD24500, 1USD=1.4 SGD) | I27: 1
A28: 18 | B28: 43885 | C28: MRO | E28: HuaZhen | F28: Waters | G28: 434.66 | H28: Flex Q1 consumable request | I28: 5
A29: 19 | B29: 43885 | C29: 2020-070 | E29: HuaZhen | F29: Flex | G29: 1481.03 | H29: Flex Jan20 Calibration Claim - Calibration cost (Kallang) | I29: 1
G30: 449.2 | H30: Flex Jan20 Calibration Claim - Repair cost (spare parts in Kallang) | I30: 2
A31: 20 | B31: 43895 | C31: MRO | E31: Mandy | F31: Venture | G31: 1330.6 | H31: QDA PM test bay 5&6
A32: 21 | B32: 43903 | C32: MRO | E32: HuaZhen | F32: Venture | G32: 1645.06 | H32: Venture Q1 PM parts | I32: 5
A33: 22 | B33: 43903 | C33: 2020-100 | E33: HuaZhen | F33: Venture | G33: 807.84 | H33: Venture Jan Calibration Cost (Instrument) | I33: 1
G34: 179.88 | H34: Venture Jan Ad hoc-spare and Misc | I34: 2
A35: 23 | B35: 43903 | C35: 2020-101 | E35: HuaZhen | F35: Micro Precision | G35: 17621.8 | H35: Micro Precision GTS onsite calibration 5x systems 2020 | I35: 1
A36: 24 | B36: 43903 | C36: 2020-102 | E36: HuaZhen | F36: Micro Precision | G36: 13240.74 | H36: Micro Precision Bracket PO for listed equipment 2020 | I36: 1
A37: 25 | B37: 43906 | C37: MRO | E37: Yee Hwa | F37: Waters | G37: 287.3 | H37: Certified Container Kit | I37: 2
A38: 26 | B38: 43915 | C38: WPPL-OP-001 | E38: Desmond | F38: JL Components | G38: 342.86 | H38: Fabricate Of Stainless Steel Blind Flange (original amount SGD480, 1USD=a.4SGD) | I38: 5
A39: 27 | B39: 43920 | C39: WPPL-OP-003 | E39: Yee Hwa | F39: Aik Moh | G39: =736/1.4 -> 525.71429 | H39: Chemical for SIT testing (original amount SGD736, 1USD=1.4SGD) | I39: 5
A40: 28 | B40: 43920 | C40: WPPL-OP-004 | E40: Yee Hwa | F40: Aik Moh | G40: =290/1.4 -> 207.14286 | H40: Chemical for SIT testing (original amount SGD290, 1USD=1.4SGD) | I40: 5
...

Sheet WP21 170100
A1: POs under CEA: WP21 170100 | G1: Approver: | H1: Edwin
F3: 2020 YTD Spend | G3: =SUM(G6:G56) -> 520
A5: S/N | B5: PO Date | C5: PO# | D5: CEA # | E5: Raised By | F5: Supplier | G5: PO Amount | H5: Details | I5: Remarks
A6: 1 | B6: 43916 | C6: 2020-OP-002 | D6: WP20001 | E6: YEE HWA | F6: Genesis Networks Pte Ltd | G6: 520 | H6: MONITOR FOR TE-84054 used for SIT
A7: 2
A8: 3
A9: 4
A10: 5
A11: 6
A12: 7
A13: 8
A14: 9
A15: 10
A16: 11
A17: 12
A18: 13
... A56: 51

Sheet MP30 170100
A1: POs under CEA: MP30 170100 | G1: Approver: | H1: Edwin
G2: (USD)
F3: 2020 YTD Spend | G3: =SUM(G6:G55) -> 0
A5: S/N | B5: PO Date | C5: PO# | D5: CEA # | E5: Raised By | F5: Supplier | G5: PO Amount (USD) | H5: Details | I5: Remarks
A6: 1
A7: 2
A8: 3
A9: 4
A10: 5
A11: 6
A12: 7
A13: 8
A14: 9
A15: 10
A16: 11
A17: 12
... A55: 50

Sheet WP21 750120
A1: POs under Manual Scrap / Material Obsolecence: WP21 750120 | F1: Approver: | G1: Kevin
E2: Budget | F2: 21000
E3: 2020 YTD Spend | F3: =SUM(F6:F55) -> 691.495
A5: S/N | B5: PO Date | C5: PO# | D5: Raised By | E5: Supplier | F5: PO Amount | G5: Details | H5: Remarks
A6: 1 | B6: 43833 | C6: 2020-002 | D6: Jie Hui | E6: Flex | F6: 567.3 | G6: Scrap PN#2890005242 - Q4'19 plan to convert 186015018 to 186015080 - RMA-SKW-00000139 - drip tray cost was not included
A7: 2 | B7: 43900 | C7: 2020-095 | D7: Bethany | E7: Venture | F7: 27.135 | G7: Scarp of excess material for Part# 290000443
A8: 3 | B8: 43900 | C8: 2020-096 | D8: Bethany | E8: CEI | F8: 37.32 | G8: Scarp f polybag which is not in Waters BOM. ECO 9233608 to release new Part# 290002303
A9: 4 | B9: 43929 | C9: WPPL-OP-008 | D9: Siddharth | E9: Venture | F9: 59.74 | G9: Scrap 1 unit of 700005225
A10: 5
A11: 6
A12: 7
A13: 8
A14: 9
A15: 10
A16: 11
A17: 12
A18: 13
A19: 14
A20: 15
A21: 16
... A55: 50

Sheet Other
A1: POs under Other Account #: | F1: Approver: | G1: Ee ling
E3: 2020 YTD Spend | F3: =SUM(F5:F53) -> 903.92
A5: S/N | B5: PO Date | C5: PO# | D5: Raised By | E5: Supplier | F5: PO Amount (USD) | G5: Details | H5: Remarks
A6: 1 | B6: 43833 | C6: 2020-004 | D6: Jie Hui | E6: Neo Garden Catering Pte Ltd | F6: 903.92 | G6: PROSPERITY MENU for Francis, Jim visit (SGD$1,219.59)
A7: 2
A8: 3
A9: 4
A10: 5
A11: 6
A12: 7
A13: 8
A14: 9
A15: 11
A16: 20
A17: 12
A18: 13
... A55: 50

Sheet Chart - WP21 615150
B17: ** Fill in orange cells only
B18: Category | C18: Q1 | D18: Q2 | E18: Q3 | F18: Q4 | G18: FY2016 | J18: Spend Breakdown (2016) | K18: USD
B19: Budget | C19: =87000/4 -> 21750 | D19: =87000/4 -> 21750 | E19: =87000/4 -> 21750 | F19: =87000/4 -> 21750 | G19: =SUM(C19:F19) -> 87000 | J19: Calibration Instrument Cost 2016 | K19: ='WP21 615150'!#REF! -> #REF!
B20: Cumm Budget | C20: =C19 -> 21750 | D20: =C20+D19 -> 43500 | E20: =D20+E19 -> 65250 | F20: =E20+F19 -> 87000 | G20: =G19 -> 87000 | J20: Repair cost | K20: ='WP21 615150'!#REF! -> #REF!
B21: YTD - Tooling | C21: 26925.45 | D21: 8281 | E21: =K27-D22 -> #REF! | G21: =SUM(C21:F21) -> #REF! | J21: Spares | K21: ='WP21 615150'!#REF! -> #REF!
B22: Cumm YTD Expense | C22: =C21 -> 26925.45 | D22: =C22+D21 -> 35206.45 | E22: =D22+E21 -> #REF! | F22: =E22+F21 -> #REF! | J22: Chemicals (Consumables) | K22: ='WP21 615150'!#REF! -> #REF!
J23: Asset Replacement | K23: ='WP21 615150'!#REF! -> #REF!
A24: Q1 | B24: YTD - Tooling | C24: =C21 -> 26925.45 | D24: =C24 -> 26925.45 | E24: =D24 -> 26925.45 | F24: =E24 -> 26925.45 | J24: Msc | K24: ='WP21 615150'!O7 -> 55198.898
A25: Q2 | B25: YTD - Tooling | D25: =D21 -> 8281 | E25: =D25 -> 8281 | F25: =E25 -> 8281 | J25: Calibration PCBA Cost 2016 | K25: ='WP21 615150'!O10 -> 0
A26: Q3 | B26: YTD - Tooling | E26: =E21 -> #REF! | F26: =E26 -> #REF! | J26: Repair cost PCBA | K26: ='WP21 615150'!O11 -> 9907.6571
A27: Q4 | B27: YTD - Tooling | F27: =F21 -> 0 | J27: Subtotal | K27: =SUBTOTAL(109,K19:K24)+K25+K26 -> #REF!
A28: FY2015 | B28: YTD - Tooling | G28: =G21 -> #REF! | J28: Spend Breakdown (2015) | K28: USD
J29: Calibration Cost 2015 | K29: ='WP21 615150'!#REF! -> #REF!
D30: =K27-D24 -> #REF! | F30: =K27-E22 -> #REF! | J30: Spares 2015 | K30: ='WP21 615150'!O9 -> 9975.03

Sheet Chart - WP21 615100
B17: ** Fill in orange cells only
B18: Category | C18: Q1 | D18: Q2 | E18: Q3 | F18: Q4 | G18: FY2017 | J18: Spend Breakdown | K18: USD
B19: Budget | C19: =43598/4 -> 10899.5 | D19: =43598/4 -> 10899.5 | E19: =43598/4 -> 10899.5 | F19: =43598/4 -> 10899.5 | G19: =SUM(C19:F19) -> 43598 | J19: NRE & Tool Cost | K19: ='WP21 615100'!M8 -> 0
B20: Cumm Budget | C20: =C19 -> 10899.5 | D20: =C20+D19 -> 21799 | E20: =D20+E19 -> 32698.5 | F20: =E20+F19 -> 43598 | G20: =G19 -> 43598 | J20: FA Sample / Evaluation Run Cost | K20: ='WP21 615100'!M9 -> 0
B21: YTD - Project | C21: 18541.55 | D21: 12389.84 | E21: 21525.71 | F21: 3214.65 | G21: =SUM(C21:F21) -> 55671.75 | J21: Material Purchase Cost | K21: ='WP21 615100'!M10 -> 0
B22: Cumm YTD Expense | C22: =C21 -> 18541.55 | D22: =C22+D21 -> 30931.39 | E22: =D22+E21 -> 52457.1 | F22: =E22+F21 -> 55671.75 | J22: ECO Change Impact Cost | K22: ='WP21 615100'!M11 -> 0
J23: Supplier Development Project | K23: ='WP21 615100'!M12 -> 0
A24: Q1 | B24: YTD - Project | C24: =C21 -> 18541.55 | D24: =C24 -> 18541.55 | E24: =D24 -> 18541.55 | F24: =E24 -> 18541.55 | J24: SQT Testing | K24: ='WP21 615100'!M13 -> 0
A25: Q2 | B25: YTD - Project | D25: =D21 -> 12389.84 | E25: =D25 -> 12389.84 | F25: =E25 -> 12389.84 | J25: Rework | K25: ='WP21 615100'!M14 -> 117.2
A26: Q3 | B26: YTD - Project | E26: =E21 -> 21525.71 | F26: =E26 -> 21525.71 | J26: Miscellaneous / etc | K26: ='WP21 615100'!M15 -> 0
A27: Q4 | B27: YTD - Project | F27: =F21 -> 3214.65 | J27: Training | K27: ='WP21 615100'!M16 -> 0
A28: FY2017 | B28: YTD - Project | G28: =G21 -> 55671.75 | K28: ='WP21 615100'!M17 -> 0
J29: Total | K29: =SUBTOTAL(109,K19:K28) -> 117.2
K30: =G21+K28-K29 -> 55554.55
