Workbook

Sheet System
A1: Project: | B1: CPSM Final Test System | H1: Test Equipment # | I1: TE0084050
A2: CEA # | H2: Revision: | I2: 1
A3: G/L # | H3: Date: | I3: 43654
A4: Engineer: | B4: Davis | H4: Sheet 1 of 4
A6: Item | B6: Quantity | C6: Description | H6: Manufacturer | I6: Part Number | J6: Unit Price | K6: Total | L6: Ordered | M6: Due | N6: Received
A7: 1 | B7: 1 | C7: TUV Detector | H7: Waters | I7: 186015022 | J7: 2830 | K7: 2830 | M7: * | N7: * | P7: =J7/2 -> 1415
A8: 2 | B8: 1 | C8: TUV Flowcell | H8: Waters | I8: 205015016 | J8: 1062 | K8: 1062
A9: 3 | B9: 1 | C9: Acquity Solvent Delivery System (I-Class) | H9: Waters | I9: 186015000 | J9: 9989 | K9: 9989 | P9: =J9/2 -> 4994.5
A10: 4 | B10: 1 | C10: Acquity UPLC BEH, C18 1.7um 2.1x50mm column | H10: Waters | I10: 186002350 | J10: 140 | K10: 140
A11: 5 | B11: 1 | C11: XBridge BEH C8 2.5µm 4.6x50mm XP col | H11: Waters | I11: 186006049 | J11: 172.98 | K11: =PRODUCT(B11,J11) -> 172.98
A12: 6 | B12: 1 | C12: Acquity Column Manager (CM-A) | H12: Waters | I12: 186015043 | J12: 2549.13 | K12: =PRODUCT(B12,J12) -> 2549.13 | P12: =J12/2 -> 1274.565
A13: 7 | B13: 1 | C13: Assy, Bottle Tray | H13: Waters | I13: 289001680 | J13: 163.29 | K13: =PRODUCT(B13,J13) -> 163.29
A14: 8 | B14: 1 | C14: Ethernet, active hub, 5 port | H14: newegg | J14: 13.99 | K14: =PRODUCT(B14,J14) -> 13.99
A15: 9 | B15: a/r | C15: Peek tubing .040 x .062, 36 inches | H15: Waters | I15: WAT027-08 | J15: 0 | K15: =PRODUCT(B15,J15) -> 0
A16: 10 | B16: a/r | C16: peek tubing .005 x .062, 36 inches | H16: Waters | I16: WAT027-01 | J16: 0 | K16: =PRODUCT(B16,J16) -> 0
A17: 11 | B17: 2 | C17: Well Plate 384 positions | H17: Waters | I17: 186002631 | J17: 0 | K17: =PRODUCT(B17,J17) -> 0
A18: 12 | B18: 1 | C18: 48 Vial Plate | H18: Waters | I18: 405003743 | K18: =PRODUCT(B18,J18) -> 1
A19: 13 | B19: 2 | C19: Assy, Cart, 9 Port CM, 18 KPSI, Dome | H19: Waters | I19: 289006760 | J19: 334.4 | K19: =PRODUCT(B19,J19) -> 668.8
A20: 14 | B20: 2 | C20: 384 Well Plate, 100uL Square well | H20: Waters | I20: 186002631 | K20: =PRODUCT(B20,J20) -> 2
A21: 15 | K21: =PRODUCT(B21,J21) -> 0
A22: 16 | K22: =PRODUCT(B22,J22) -> 0
A23: 17 | K23: 0
A24: 18 | K24: =PRODUCT(B24,J24) -> 0
A25: 19 | K25: =PRODUCT(B25,J25) -> 0
A26: 20 | K26: =PRODUCT(B26,J26) -> 0
A27: 21 | K27: 0
A28: 22 | K28: 0
A29: 23 | K29: =PRODUCT(B29,J29) -> 0
A30: 24 | K30: =PRODUCT(B30,J30) -> 0
A31: 25 | K31: =PRODUCT(B31,J31) -> 0
K32: =PRODUCT(B32,J32) -> 0
A33: 26 | K33: =PRODUCT(B33,J33) -> 0
A34: 27 | K34: =PRODUCT(B34,J34) -> 0
A35: 28 | K35: =PRODUCT(B35,J35) -> 0
K36: =PRODUCT(B36,J36) -> 0
K37: =SUM(K7:K36) -> 17592.19 | P37: =SUM(P7:P35) -> 7684.065

Sheet PC
A1: Project: | B1: CPSM Final Test System | H1: Test Equipment # | I1: TE0084050
A2: CEA # | H2: Revision: | I2: 1
A3: G/L # | H3: Date: | I3: 43655
A4: Engineer: | B4: Davis | H4: Sheet 2 of 4
A6: Item | B6: Quantity | C6: Description | H6: Manufacturer | I6: Part Number | J6: Unit Price | K6: Total | L6: Ordered | M6: Due | N6: Received
A7: 1 | B7: 1 | C7: 1U, Rack Mount, Long life, Industrial PC | H7: Superlogics | I7: SL-1U-LLQ370M-LA | J7: 1365 | K7: =PRODUCT(B7,J7) -> 1365 | M7: * | N7: *
A8: 2 | K8: =PRODUCT(B8,J8) -> 0
A9: 3 | K9: =PRODUCT(B9,J9) -> 0
A10: 4 | K10: =PRODUCT(B10,J10) -> 0
A11: 5 | B11: 1 | C11: Optical Mouse & Keyboard | H11: Labstock | J11: 0 | K11: =PRODUCT(B11,J11) -> 0
A12: 6 | B12: 1 | C12: 17" flat Panel touchscreen Display | H12: Generic | J12: 400 | K12: =PRODUCT(B12,J12) -> 400
A13: 7 | K13: =PRODUCT(B13,J13) -> 0
A14: 8 | K14: =PRODUCT(B14,J14) -> 0
A15: 9 | B15: 1 | C15: Barcode scanner | H15: Advanced Data Capture | I15: BTL-80 custom | J15: 360 | K15: 360
A16: 10 | K16: 0
A17: 11 | B17: 1 | C17: 2U 22in Vented Rack Mount Shelf | H17: StarTech | I17: CABSHELF22V | J17: 71.99 | K17: =PRODUCT(B17,J17) -> 71.99
A18: 12 | K18: =PRODUCT(B18,J18) -> 0
A19: 13 | K19: =B19*J19 -> 0
A20: 14 | K20: 0
A21: 15 | K21: =PRODUCT(B21,J21) -> 0
A22: 16 | K22: =PRODUCT(B22,J22) -> 0
A23: 17 | K23: 0
A24: 18 | K24: =PRODUCT(B24,J24) -> 0
A25: 19 | K25: =PRODUCT(B25,J25) -> 0
A26: 20 | K26: =PRODUCT(B26,J26) -> 0
A27: 21 | K27: 0
A28: 22 | K28: 0
A29: 23 | K29: =PRODUCT(B29,J29) -> 0
A30: 24 | K30: =PRODUCT(B30,J30) -> 0
A31: 25 | K31: =PRODUCT(B31,J31) -> 0
K32: =PRODUCT(B32,J32) -> 0
A33: 26 | K33: =PRODUCT(B33,J33) -> 0
A34: 27 | K34: =PRODUCT(B34,J34) -> 0
A35: 28 | K35: =PRODUCT(B35,J35) -> 0
K36: =PRODUCT(B36,J36) -> 0
K37: =SUM(K7:K36) -> 2196.99

Sheet Cable Interface Box
A1: Project: | B1: CPSM Final Test System | H1: Test Equipment # | I1: TE0084050
A2: CEA # | H2: Revision: | I2: 1
A3: G/L # | H3: Date: | I3: 43655
A4: Engineer: | B4: Davis | H4: Sheet 3 of 4
A6: Item | B6: Quantity | C6: Description | H6: Manufacturer | I6: Part Number | J6: Unit Price | K6: Total | L6: Ordered | M6: Due | N6: Received
A7: 1 | K7: =B7*J7 -> 0 | M7: * | N7: *
A8: 2 | B8: 1 | C8: Power Entry Module | H8: labstock | K8: 0
A9: 3 | B9: 1 | C9: fuse, 250VAC/8amp | H9: labstock | K9: 0
A10: 4 | B10: 1 | C10: PCB, HTCH-A | H10: Waters | I10: 210000412 | J10: 81.11 | K10: =B10*J10 -> 81.11
A11: 5 | B11: 1 | C11: Relay socket, Potter & Brumfield #27E121 | H11: Newark | I11: 57F3430 | J11: 8.44 | K11: 8.44
A12: 6 | B12: 1 | C12: Relay, Potter & Brumfield KUP_11D15-5 | H12: Newark | I12: 77B2999 | J12: 9.19 | K12: 9.19
A13: 7 | B13: 1 | C13: AC Plug receptical, round | H13: Hubbel | I13: HBL5258 | J13: 12.45 | K13: 12.45
A14: 8 | B14: 1 | C14: IC, relay driver UDN2981A, Allegro | H14: Newark | I14: 09F1706 | J14: 1.83 | K14: 1.83
A15: 9 | B15: 1 | C15: CPC, 16 pin,panel mount,male | H15: labstock | K15: 0
A16: 10 | K16: =PRODUCT(B16,J16) -> 0
A17: 11 | B17: 14 | C17: Sheet metal & machine shop | H17: Waters | J17: 52 | K17: =PRODUCT(B17,J17) -> 728
A18: 12 | K18: =PRODUCT(B18,J18) -> 0
A19: 13 | C19: paint | H19: Jaco | I19: Lot Charge | J19: 300 | K19: =PRODUCT(B19,J19) -> 300
A20: 14 | B20: 1 | C20: Power Supply, 24V 50W | H20: Astrodyne | I20: RS50-24 | J20: 43.05 | K20: =PRODUCT(B20,J20) -> 43.05
A21: 15 | K21: =PRODUCT(B21,J21) -> 0
A22: 16 | B22: 2 | C22: Cable, USB A-B, .3 meters | H22: LCOM | I22: CAUABHFX-03M | J22: 14.19 | K22: =PRODUCT(B22,J22) -> 28.38
A23: 17 | K23: 0
A24: 18 | B24: 1 | C24: ASSY, CABLE, PROBE, I-BUTTON CM | I24: 279002200 | J24: 31.78 | K24: =PRODUCT(B24,J24) -> 31.78
A25: 19 | K25: =PRODUCT(B25,J25) -> 0
A26: 20 | B26: 1 | C26: Startech,4 Port USB to DB9 RS232 Serial Adapter Hub | H26: Startech | I26: ICUSB2324I | J26: 115.99 | K26: =PRODUCT(B26,J26) -> 115.99
A27: 21 | K27: 0
A28: 22 | B28: 1 | C28: NI USB-6501 | H28: National Instruments | J28: 110 | K28: =PRODUCT(B28,J28) -> 110
A29: 23 | K29: =PRODUCT(B29,J29) -> 0
A30: 24 | B30: 2 | C30: USB Adapter B-A, shielded | H30: LCOM | I30: ECF504-BAS | J30: 8.61 | K30: =PRODUCT(B30,J30) -> 17.22
A31: 25 | K31: =PRODUCT(B31,J31) -> 0
K32: =PRODUCT(B32,J32) -> 0
A33: 26 | B33: 1 | C33: Shadow Board | J33: 400 | K33: =PRODUCT(B33,J33) -> 400
A34: 27 | K34: =PRODUCT(B34,J34) -> 0
A35: 28 | K35: =PRODUCT(B35,J35) -> 0
K36: =PRODUCT(B36,J36) -> 0
K37: =SUM(K7:K36) -> 1887.44
K47: =K28+K26 -> 225.99 | L47: 447 | M47: =K47+L47 -> 672.99

Sheet Cables
A1: Project: | B1: CPSM Final Test System | H1: Test Equipment # | I1: TE0084050
A2: CEA # | H2: Revision: | I2: 1
A3: G/L # | H3: Date: | I3: 43655
A4: Engineer: | B4: Davis | H4: Sheet 4 of 4
A6: Item | B6: Quantity | C6: Description | H6: Manufacturer | I6: Part Number | J6: Unit Price | K6: Total | L6: Ordered | M6: Due | N6: Received
A7: 1 | K7: =B7*J7 -> 0 | M7: * | N7: *
A8: 2 | K8: =PRODUCT(B8,J8) -> 0
A9: 3 | B9: 4 | C9: 9-pin Serial port cables, 10ft | H9: L-Com | I9: CSMN9MF-10 | J9: 11.25 | K9: =B9*J9 -> 45
A10: 4 | K10: =PRODUCT(B10,J10) -> 0
A11: 5 | B11: 1 | C11: 26-pin HD connector cable | H11: L-Com | I11: CSM25MF-10 | J11: 14 | K11: =B11*J11 -> 14
A12: 6 | K12: =PRODUCT(B12,J12) -> 0
A13: 7 | K13: =B13*J13 -> 0
A14: 8 | K14: =PRODUCT(B14,J14) -> 0
A15: 9 | B15: 6 | C15: Ethernet standard cables 6-10 ft | H15: L-Com | I15: TRD855SCR-10 | J15: 11.09 | K15: =B15*J15 -> 66.54
A16: 10 | K16: =PRODUCT(B16,J16) -> 0
A17: 11 | B17: 1 | C17: Event I/O cable | H17: custom made | I17: see wiring diagram | K17: 0
A18: 12 | K18: =PRODUCT(B18,J18) -> 0
A19: 13 | B19: 1 | C19: Solvent Select Valve Cable | H19: custom made | I19: see wiring diagram | K19: 0
A20: 14 | K20: =PRODUCT(B20,J20) -> 0
A21: 15 | K21: =PRODUCT(B21,J21) -> 0
A22: 16 | K22: =PRODUCT(B22,J22) -> 0
A23: 17 | K23: 0
A24: 18 | K24: =PRODUCT(B24,J24) -> 0
A25: 19 | K25: =PRODUCT(B25,J25) -> 0
A26: 20 | K26: =PRODUCT(B26,J26) -> 0
A27: 21 | K27: 0
A28: 22 | K28: 0
A29: 23 | K29: =PRODUCT(B29,J29) -> 0
A30: 24 | K30: =PRODUCT(B30,J30) -> 0
A31: 25 | K31: 0
K32: =PRODUCT(B32,J32) -> 0
A33: 26 | K33: =PRODUCT(B33,J33) -> 0
A34: 27 | K34: =PRODUCT(B34,J34) -> 0
A35: 28 | K35: =PRODUCT(B35,J35) -> 0
K36: =PRODUCT(B36,J36) -> 0
K37: =SUM(K7:K36) -> 125.54

Sheet Auto Solvent Select
A1: Project: | B1: CPSM Final Test System | H1: Test Equipment # | I1: TE0084050
A2: CEA # | H2: Revision: | I2: 1
A3: G/L # | H3: Date: | I3: 43655
A4: Engineer: | B4: Davis | H4: Sheet 4 of 4
A6: Item | B6: Quantity | C6: Description | H6: Manufacturer | I6: Part Number | J6: Unit Price | K6: Total | L6: Ordered | M6: Due | N6: Received
A7: 1 | B7: 1 | C7: Cheminert 4 position Rotary Valve & Actuation System | H7: Valco Instruments | I7: C25-6484EMH | J7: 906.5 | K7: =PRODUCT(B7,J7) -> 906.5 | M7: * | N7: *
A8: 2 | B8: 2 | C8: FITTING | H8: PARKER | I8: 1MSEL2N SS | J8: 0 | K8: =PRODUCT(B8,J8) -> 0
A9: 3 | B9: 1 | C9: FITTING | H9: " | I9: 2MSEL2NSS | J9: 0 | K9: =PRODUCT(B9,J9) -> 0
A10: 4 | B10: 2 | C10: FITTING | H10: " | I10: 1MSC2NSS | J10: 0 | K10: =PRODUCT(B10,J10) -> 0
A11: 5 | B11: 2 | C11: FITTING | H11: " | I11: 2-2-2STSS | J11: 0 | K11: =PRODUCT(B11,J11) -> 0
A12: 6 | B12: 1 | C12: FITTING | H12: " | I12: 2PHSS | J12: 0 | K12: =PRODUCT(B12,J12) -> 0
A13: 7 | B13: 2 | C13: FITTING | H13: " | I13: 2-2SESS | J13: 0 | K13: =PRODUCT(B13,J13) -> 0
A14: 8 | B14: 2 | C14: FITTING | H14: " | I14: 2-2MHNSS | J14: 0 | K14: =PRODUCT(B14,J14) -> 0
A15: 9 | B15: 1 | C15: FITTING | H15: " | I15: 2-2FESS | J15: 0 | K15: =PRODUCT(B15,J15) -> 0
A16: 10 | B16: 4 | C16: FITTING,.040 BULKHEAD | H16: Waters | I16: WAT70194 | J16: 0 | K16: =PRODUCT(B16,J16) -> 0
A17: 11 | B17: 1 | C17: FILTER,10uM | H17: Waters | I17: WAT25531 | J17: 0 | K17: =PRODUCT(B17,J17) -> 0
A18: 12 | B18: A/R | C18: SCR,1/16 COMP. | H18: Waters | I18: WAT25313 | J18: 0 | K18: =PRODUCT(B18,J18) -> 0
A19: 13 | B19: A/R | C19: FERRULE,1/16 | H19: Waters | I19: WAT22330 | J19: 0 | K19: =PRODUCT(B19,J19) -> 0
A20: 14 | B20: A/R | C20: TUBING,.040 X .062 PEEK | H20: Waters | I20: WAT027-08 | J20: 0 | K20: =PRODUCT(B20,J20) -> 0
A21: 15 | J21: 0 | K21: =PRODUCT(B21,J21) -> 0
A22: 16 | J22: 0 | K22: =PRODUCT(B22,J22) -> 0
A23: 17 | J23: 0 | K23: =PRODUCT(B23,J23) -> 0
A24: 18 | J24: 0 | K24: =PRODUCT(B24,J24) -> 0
A25: 19 | J25: 0 | K25: =PRODUCT(B25,J25) -> 0
A26: 20 | J26: 0 | K26: =PRODUCT(B26,J26) -> 0
A27: 21 | J27: 0 | K27: =PRODUCT(B27,J27) -> 0
A28: 22 | J28: 0 | K28: =PRODUCT(B28,J28) -> 0
A29: 23 | J29: 0 | K29: =PRODUCT(B29,J29) -> 0
A30: 24 | J30: 0 | K30: =PRODUCT(B30,J30) -> 0
A31: 25 | J31: 0 | K31: =PRODUCT(B31,J31) -> 0
A32: 26 | J32: 0 | K32: =PRODUCT(B32,J32) -> 0
A33: 27 | K33: =PRODUCT(B33,J33) -> 0
A34: 28 | K34: =PRODUCT(B34,J34) -> 0
K35: =PRODUCT(B35,J35) -> 0
K36: =SUM(K7:K35) -> 906.5

Sheet Upgrade
D1: wp68 615100 | F1: email approved 3/30
A3: Item | B3: Quantity | C3: Description | H3: Manufacturer | I3: Part Number | J3: Unit Price | K3: Total | L3: VC | M3: PO#
A4: 1 | B4: 1 | C4: 1U, Rack Mount, Long life, Industrial PC | H4: SuperLogics | I4: SL-1U-LLQ370M-LA Configuration ID#3867780 | J4: 1365 | K4: =PRODUCT(B4,J4) -> 1365 | L4: 27031 | M4: 4502495813 | N4: =K4 -> 1365
A5: 2 | K5: =PRODUCT(B5,J5) -> 0
A6: 3 | K6: =PRODUCT(B6,J6) -> 0
A7: 4 | K7: =PRODUCT(B7,J7) -> 0
A8: 5 | K8: =PRODUCT(B8,J8) -> 0
A9: 6 | B9: 1 | C9: 17" flat Panel touchscreen Display | H9: ELO | I9: ET1715L | J9: 400 | N9: =J9 -> 400
A10: 7 | H10: ViewSonic | I10: TD1711/ CDW5201210 | J10: 299.99 | K10: =PRODUCT(B10,J10) -> 299.99 | L10: 7474
A11: 8 | K11: =PRODUCT(B11,J11) -> 0
A12: 9 | B12: 1 | C12: Cable Interface Box (3 panels, 2 w/ Paint) | H12: Model Shop | J12: 447 | K12: =PRODUCT(B12,J12) -> 447 | L12: No | N12: =K12 -> 447
A13: 10 | K13: 0
A14: 11 | B14: 1 | C14: USB-6501 | H14: National Instruments | I14: 779205-01 | J14: 114 | K14: =PRODUCT(B14,J14) -> 114 | L14: 12281 | M14: 4502495814 | N14: =K14 -> 114
A15: 12 | K15: =PRODUCT(B15,J15) -> 0
A16: 13 | B16: 1 | C16: USB 4 port serial converter | H16: StarTech | I16: ICUSB2324I | J16: 115 | K16: =PRODUCT(B16,J16) -> 115 | L16: 7474 CDW | M16: 4502496093 | N16: =K16 -> 115
A17: 14 | K17: 0
A18: 15 | B18: 2 | C18: Cable, USB A-B, .3 meters | H18: LCOM | I18: CAUABHFX-03M | J18: 14.19 | K18: =PRODUCT(B18,J18) -> 28.38 | L18: 9251 | M18: 4502495820
A19: 16 | K19: =PRODUCT(B19,J19) -> 0
A20: 17 | B20: 2 | C20: USB Adapter B-A, shielded | H20: LCOM | I20: ECF504-BAS | J20: 8.61 | K20: =PRODUCT(B20,J20) -> 17.22 | L20: 9251 | M20: 4502495820
A21: 18 | K21: =PRODUCT(B21,J21) -> 0
A22: 19 | B22: 1 | C22: 2U 16in Universal Vented Rack Mount Cantilever Shelf | H22: StarTech | I22: CABSHELFV | J22: 47.99 | K22: =PRODUCT(B22,J22) -> 47.99 | L22: 7474 | M22: 4502496093 | N22: =K22 -> 47.99
A23: 20 | K23: =PRODUCT(B23,J23) -> 0
A24: 21 | B24: 1 | C24: Shadow Board Asembly | H24: TE | J24: 400 | K24: =PRODUCT(B24,J24) -> 400
A25: 22 | K25: 0
A26: 23 | C26: Sheet metal | H26: Model Shop | J26: 820 | K26: =PRODUCT(B26,J26) -> 820
A27: 24 | C27: Paint ($300 lot charge) | J27: 300 | K27: =PRODUCT(B27,J27) -> 300
A28: 25 | K28: =PRODUCT(B28,J28) -> 0
A29: 26 | K29: =PRODUCT(B29,J29) -> 0
A30: 27 | K30: =PRODUCT(B30,J30) -> 0
A31: 28 | K31: =PRODUCT(B31,J31) -> 0
K32: =PRODUCT(B32,J32) -> 0
K33: =SUM(K4:K32) -> 3954.58 | N33: =SUM(N4:N32) -> 2488.99

Sheet Systems
B3: Location | D3: Systems | F3: Costs
B5: Clean Room | D5: 6 | F5: =D5*Upgrade!K33 -> 23727.48
B7: NPI | D7: 4 | F7: =D7*Upgrade!K33 -> 15818.32
B9: Repair/Refurb | D9: 2 | F9: =D9*Upgrade!K33 -> 7909.16
B11: RDEL | D11: 1 | F11: =D11*Upgrade!K33 -> 3954.58
B13: GES, Singapore | D13: 8 | F13: =D13*Upgrade!K33 -> 31636.64
B16: Total | D16: =SUM(D5:D14) -> 21 | F16: =SUM(F5:F13) -> 83046.18

Sheet Totals
E1: New Tester
A3: System | E3: =System!K37 -> 17592.19
A5: PC | E5: =PC!K37 -> 2196.99
A7: Cable Interface Box | E7: ='Cable Interface Box'!K37 -> 1887.44
A9: Cables | E9: =Cables!K37 -> 125.54
A11: Auto Solvent Select | E11: ='Auto Solvent Select'!K36 -> 906.5
E15: =SUM(E3:E13) -> 22708.66
