Workbook

Sheet Upgrade
A3: Item | B3: Quantity | C3: Description | H3: Manufacturer | I3: Part Number | J3: Unit Price | K3: Total
A4: 1 | B4: 1 | C4: 1U, Rack Mount, Long life, Industrial PC | H4: SuperLogics | I4: SL-1U-LLQ370M-LA Configuration ID#3867780 | J4: 1365 | K4: =PRODUCT(B4,J4) -> 1365
A5: 2 | K5: =PRODUCT(B5,J5) -> 0
A6: 3 | K6: =PRODUCT(B6,J6) -> 0
A7: 4 | K7: =PRODUCT(B7,J7) -> 0
A8: 5 | B8: 1 | C8: ViewSonic TD1711, touchscreen Display | H8: CDW | I8: 5201210 | J8: 299 | K8: =PRODUCT(B8,J8) -> 299
A9: 6 | K9: =PRODUCT(B9,J9) -> 0
A10: 7 | B10: 1 | C10: Relay, Potter & Brumfield KUP_11D15-24 | H10: Newark | I10: 17M0256 | J10: 18.22 | K10: =PRODUCT(B10,J10) -> 18.22
A11: 8 | K11: =PRODUCT(B11,J11) -> 0
A12: 9 | B12: 1 | C12: Cable Interface Box (3 panels, 2 w/ Paint) | H12: Model Shop | J12: 447 | K12: =PRODUCT(B12,J12) -> 447
A13: 10 | K13: 0
A14: 11 | B14: 1 | C14: USB-6501 | H14: National Instruments | I14: 779205-01 | J14: 114 | K14: =PRODUCT(B14,J14) -> 114
A15: 12 | K15: =PRODUCT(B15,J15) -> 0
A16: 13 | B16: 1 | C16: USB 4 port serial converter | H16: StarTech | I16: ICUSB2324I | J16: 115 | K16: =PRODUCT(B16,J16) -> 115
A17: 14 | K17: 0
A18: 15 | B18: 2 | C18: Cable, USB A-B, .3 meters | H18: LCOM | I18: CAUABHFX-03M | J18: 14.19 | K18: =PRODUCT(B18,J18) -> 28.38
A19: 16 | K19: =PRODUCT(B19,J19) -> 0
A20: 17 | B20: 2 | C20: USB Adapter B-A, shielded | H20: LCOM | I20: ECF504-BAS | J20: 8.61 | K20: =PRODUCT(B20,J20) -> 17.22
A21: 18 | K21: =PRODUCT(B21,J21) -> 0
A22: 19 | B22: 1 | C22: 2U 16in Universal Vented Rack Mount Cantilever Shelf | H22: StarTech | I22: CABSHELFV | J22: 47.99 | K22: =PRODUCT(B22,J22) -> 47.99
A23: 20 | K23: =PRODUCT(B23,J23) -> 0
A24: 21 | B24: 1 | C24: CPSM Cross Bar, 3Dprinted ABS-ESD7, Solid Infill, .010 Slice Height | H24: R&D Technology | I24: 999047233_swp | J24: 75 | K24: =PRODUCT(B24,J24) -> 75
A25: 22 | B25: 1 | C25: CPSM Main Panel, 3Dprinted ABS-ESD7, Solid Infill, .010 Slice Height | H25: R&D Technology | I25: 999047232_swp | J25: 125 | K25: =PRODUCT(B25,J25) -> 125
A26: 25 | B26: 1 | C26: CPSM Fluidic Docking Block, ABS-ESD7, Solid Infill, .010 Slice Height | H26: R&D Technology | I26: 999047123_swp | J26: 75 | K26: =PRODUCT(B26,J26) -> 75
A27: 26 | B27: 1 | C27: CPSM Fluidic Docking Cap, ABS-ESD7, Solid Infill, .010 Slice Height | H27: R&D Technology | I27: 999047136_swp | J27: 125 | K27: =PRODUCT(B27,J27) -> 125
A28: 23 | B28: 1 | C28: CPSM L Bracket, Aluminum 0.190" thick | H28: Model Shop | I28: 999047221 | J28: 225 | K28: =PRODUCT(B28,J28) -> 225
A29: 27 | K29: =PRODUCT(B29,J29) -> 0
A30: 24 | B30: 0 | C30: Paint ($300 lot charge) 2 of 3 panels only | J30: 300 | K30: =PRODUCT(B30,J30) -> 0
A31: 28 | K31: =PRODUCT(B31,J31) -> 0
K32: =PRODUCT(B32,J32) -> 0
K33: =SUM(K4:K32) -> 3076.81

Sheet Systems
B3: Location | D3: Systems | F3: Costs
B5: Clean Room | D5: 6 | F5: =D5*Upgrade!K33 -> 18460.86
B7: NPI | D7: 4 | F7: =D7*Upgrade!K33 -> 12307.24
B9: Repair/Refurb | D9: 2 | F9: =D9*Upgrade!K33 -> 6153.62
B11: RDEL | D11: 1 | F11: =D11*Upgrade!K33 -> 3076.81
B13: GES, Singapore | D13: 8 | F13: =D13*Upgrade!K33 -> 24614.48
B16: Total | D16: =SUM(D5:D14) -> 21 | F16: =SUM(F5:F13) -> 64613.01
