Workbook

Sheet Summary 2021
A1: Location | B1: Part # | C1: Deccription | D1: TE/Tool | E1: Ownership | F1: Remarks | G1: Need to order | H1: Safety Stock | I1: Balance | J1: Date in/out | K1: Quantity | L1: Date in/out | M1: Quantity | N1: Date in/out | O1: Quantity | P1: Date in/out | Q1: Quantity | R1: Date in/out | S1: Quantity | T1: Date in/out | U1: Quantity | V1: Date in/out | W1: Quantity | X1: Date in/out | Y1: Quantity | Z1: Date in/out | AA1: Quantity | AB1: Date in/out | AC1: Quantity | AD1: Date in/out | AE1: Quantity | AF1: Date in/out | AG1: Quantity | AH1: Date in/out | AI1: Quantity | AJ1: Date in/out | AK1: Quantity | AL1: Date in/out | AM1: Quantity | AN1: Date in/out | AO1: Quantity | AP1: Date in/out | AQ1: Quantity
A2: L1 | B2: 999027952-3 | C2: Dogpoint Screw tool | D2: Tool | E2: Guan Yee | I2: 14
A3: L1 | B3: 999028283 | C3: Fork Tool | D3: Tool | E3: Guan Yee | I3: 9
A4: L1 | B4: 999028283-1 | C4: Spare Fork | D4: Tool | E4: Guan Yee | I4: 8
A5: L1 | B5: 999029341 | C5: Fitting Tool | D5: Tool | E5: Guan Yee | I5: 6
A6: L1 | B6: 119646 | C6: Insertion Tool | D6: Tool | E6: Guan Yee | I6: 1
A7: L1 | B7: 999028048 | C7: Sleeve (Retaining ring press set) | D7: Tool | E7: Guan Yee | I7: 2
A8: L1 | B8: 999027952-2 | C8: Spanner Wrench | D8: Tool | E8: Guan Yee | I8: 1
A9: L1 | B9: 999026375-1 | C9: Torque Driver Fitting Tool | D9: Tool | E9: Guan Yee | I9: 1
A10: L1 | B10: 999027063 | C10: LED Holder Assy Tool | D10: Tool | E10: Guan Yee | I10: 1
A11: L1 | B11: 999029850 | C11: Check Valve Cable Assy Tool | D11: Tool | E11: Guan Yee | I11: 1
A12: L1 | B12: 999120050 | C12: Encoder Lock Tool | D12: Tool | E12: Guan Yee | I12: 2
A13: L1 | B13: 999039080 | C13: Clean Plate | D13: Tool | E13: Guan Yee | I13: 6
A14: L1 | B14: 119652 | C14: Press Tooling (Punch Pin Bearing Assy) | D14: Tool | E14: Guan Yee | I14: 1
A15: L1 | B15: P-299 | C15: Fitting Wrench (Extender Tool-Flangeless Nut ) | D15: Tool | E15: Guan Yee | I15: 2
A16: L1 | B16: 999027845 | C16: Plunger Asst Fix -Vista- | D16: Tool | E16: Guan Yee | I16: 1
A17: L1 | B17: 999026329 | C17: Encoder Alignment Tool | D17: Tool | E17: Guan Yee | I17: 2
A18: L1 | B18: 999026419 | C18: PCB Standoff Tool | D18: Tool | E18: Guan Yee | I18: 1
A19: L1 | B19: 888004188 | C19: Spacer | D19: Tool | E19: Guan Yee | I19: 1
A20: L1 | B20: WAT070216 | C20: BULK Head Fitting, 0.020 ID | D20: TE | E20: Huazhen | I20: 4
A21: L1 | B21: KR-515 | C21: Reticle 12 concentric circles 0.06 - 0.72 inch, frosted substrate, regular top, 27mm diameter | D21: TE | E21: Huazhen | I21: 1
A22: L1 | B22: KR-525 | C22: Reticle 30 concentric circles, frosted substrate, regular top, 30mm diameter | D22: TE | E22: Huazhen | I22: 1
A23: L1 | B23: 999038140 | C23: WRENCH FOR KNURLED NUT 405015874 | D23: Tool | E23: Guan Yee | I23: 2
A24: L1 | B24: WAT027629 | C24: Syringe Assembly 10ml Safety | D24: TE | E24: Huazhen | F24: ? Check physically | I24: 1
A25: L1 | B25: 201000197 | C25: I2V IBSM PM Kit (Incomplete set) | D25: TE | E25: Huazhen | G25: =IF(H25="","",I25-H25) | I25: 1
A26: L1 | B26: 201000197 | C26: ACQUITY I2V BSM PERFORMANCE MAINT KIT | D26: TE | E26: Huazhen | G26: =IF(I26-H26>0,0,I26-H26) -> 0 | H26: 1 | I26: 1
A27: L1 | B27: 201000260 | C27: IBSM PM Kit | D27: TE | E27: Huazhen | G27: =IF(H27="","",I27-H27) | I27: 1
A28: L1 | B28: 201000160 | C28: 1525 EF PM Kit (Incomplete set) | D28: TE | E28: Huazhen | G28: =IF(H28="","",I28-H28) | I28: 1
A29: L1 | B29: 201000160 | C29: 1525 EF PM Kit | D29: TE | E29: Huazhen | G29: =IF(H29="","",I29-H29) | I29: 1
A30: L1 | B30: 201000174 | C30: ACQUITY SAMPLE MGR PERFORM MAINT KIT | D30: TE | E30: Huazhen | G30: =IF(I30-H30>0,0,I30-H30) -> 0 | H30: 1 | I30: 1
A31: L1 | B31: 201000281 | C31: ACQUITY PDA/TUV 2489/2998 PERF MAINT KIT | D31: TE | E31: Huazhen | G31: =IF(I31-H31>0,0,I31-H31) -> 0 | H31: 1 | I31: 1
A32: L2 | B32: OTO2016 | C32: OTO2016 | D32: TE | E32: Huazhen | F32: Restrictor for tester | G32: =IF(H32="","",I32-H32) | I32: 15
A33: L2 | B33: 430001208 | C33: Vent valve P2 to Tee/ filter | D33: TE | E33: Huazhen | G33: =IF(H33="","",I33-H33) | I33: 8
A34: L2 | B34: 9513K18 | C34: color coded 0.0075" plastic shim for FTN | D34: Tool | E34: Guan Yee | G34: =IF(H34="","",I34-H34) | I34: 7
A35: L2 | B35: 9513K19 | C35: color coded 0.010" plastic shim for FTN | D35: Tool | E35: Guan Yee | G35: =IF(H35="","",I35-H35) | I35: 7
A36: L2 | B36: WAT053502 | C36: PM Sticker | D36: TE | E36: Huazhen | G36: =IF(H36="","",I36-H36) | I36: 190
A37: L2 | B37: RZZ pin | C37: RZZ pin for FTN | D37: TE | E37: Huazhen | G37: =IF(H37="","",I37-H37) | I37: 2
A38: L2 | B38: PSL613315 | C38: fingertight ferrule | D38: TE | E38: Huazhen | G38: =IF(H38="","",I38-H38) | I38: 5
A39: L2 | B39: 405008767 | C39: Cap valve for FTN line to cap for dust | D39: TE | E39: Huazhen | G39: =IF(H39="","",I39-H39) | I39: 5
A40: L2 | B40: ULN2003A | C40: FTN Sensor | D40: TE | E40: Huazhen | G40: =IF(H40="","",I40-H40) | I40: 12
...

Sheet TE
A1: Location | B1: Part # | C1: Deccription | D1: TE/Tool | E1: Ownership | F1: Remarks | G1: Need to order | H1: Safety Stock | I1: Balance | J1: Date in/out | K1: Quantity | L1: Date in/out | M1: Quantity | N1: Date in/out | O1: Quantity | P1: Date in/out | Q1: Quantity | R1: Date in/out | S1: Quantity | T1: Date in/out | U1: Quantity | V1: Date in/out | W1: Quantity | X1: Date in/out | Y1: Quantity | Z1: Date in/out | AA1: Quantity | AB1: Date in/out | AC1: Quantity | AD1: Date in/out | AE1: Quantity | AF1: Date in/out | AG1: Quantity | AH1: Date in/out | AI1: Quantity | AJ1: Date in/out | AK1: Quantity | AL1: Date in/out | AM1: Quantity | AN1: Date in/out | AO1: Quantity | AP1: Date in/out | AQ1: Quantity
A2: L1 | B2: 999027952-3 | C2: Dogpoint Screw tool | D2: Tool | E2: Guan Yee | I2: 14
A3: L1 | B3: 999028283 | C3: Fork Tool | D3: Tool | E3: Guan Yee | I3: 9
A4: L1 | B4: 999028283-1 | C4: Spare Fork | D4: Tool | E4: Guan Yee | I4: 8
A5: L1 | B5: 999029341 | C5: Fitting Tool | D5: Tool | E5: Guan Yee | I5: 6
A6: L1 | B6: 119646 | C6: Insertion Tool | D6: Tool | E6: Guan Yee | I6: 1
A7: L1 | B7: 999028048 | C7: Sleeve (Retaining ring press set) | D7: Tool | E7: Guan Yee | I7: 2
A8: L1 | B8: 999027952-2 | C8: Spanner Wrench | D8: Tool | E8: Guan Yee | I8: 1
A9: L1 | B9: 999026375-1 | C9: Torque Driver Fitting Tool | D9: Tool | E9: Guan Yee | I9: 1
A10: L1 | B10: 999027063 | C10: LED Holder Assy Tool | D10: Tool | E10: Guan Yee | I10: 1
A11: L1 | B11: 999029850 | C11: Check Valve Cable Assy Tool | D11: Tool | E11: Guan Yee | I11: 1
A12: L1 | B12: 999120050 | C12: Encoder Lock Tool | D12: Tool | E12: Guan Yee | I12: 2
A13: L1 | B13: 999039080 | C13: Clean Plate | D13: Tool | E13: Guan Yee | I13: 6
A14: L1 | B14: 119652 | C14: Press Tooling (Punch Pin Bearing Assy) | D14: Tool | E14: Guan Yee | I14: 1
A15: L1 | B15: P-299 | C15: Fitting Wrench (Extender Tool-Flangeless Nut ) | D15: Tool | E15: Guan Yee | I15: 2
A16: L1 | B16: 999027845 | C16: Plunger Asst Fix -Vista- | D16: Tool | E16: Guan Yee | I16: 1
A17: L1 | B17: 999026329 | C17: Encoder Alignment Tool | D17: Tool | E17: Guan Yee | I17: 2
A18: L1 | B18: 999026419 | C18: PCB Standoff Tool | D18: Tool | E18: Guan Yee | I18: 1
A19: L1 | B19: 888004188 | C19: Spacer | D19: Tool | E19: Guan Yee | I19: 1
A20: L1 | B20: WAT070216 | C20: BULK Head Fitting, 0.020 ID | D20: TE | E20: Huazhen | I20: 4
A21: L1 | B21: KR-515 | C21: Reticle 12 concentric circles 0.06 - 0.72 inch, frosted substrate, regular top, 27mm diameter | D21: TE | E21: Huazhen | I21: 1
A22: L1 | B22: KR-525 | C22: Reticle 30 concentric circles, frosted substrate, regular top, 30mm diameter | D22: TE | E22: Huazhen | I22: 1
A23: L1 | B23: WAT027629 | C23: Syringe Assembly 10ml Safety | D23: TE | E23: Huazhen | F23: ? Check physically | I23: 1
A24: L1 | B24: 201000197 | C24: I2V IBSM PM Kit (Incomplete set) | D24: TE | E24: Huazhen | I24: 1
A25: L1 | B25: 201000197 | C25: ACQUITY I2V BSM PERFORMANCE MAINT KIT | D25: TE | E25: Huazhen | G25: 0 | H25: 1 | I25: 1
A26: L1 | B26: 201000260 | C26: IBSM PM Kit | D26: TE | E26: Huazhen | I26: 1
A27: L1 | B27: 201000160 | C27: 1525 EF PM Kit (Incomplete set) | D27: TE | E27: Huazhen | I27: 1
A28: L1 | B28: 201000160 | C28: 1525 EF PM Kit | D28: TE | E28: Huazhen | I28: 1
A29: L1 | B29: 201000174 | C29: ACQUITY SAMPLE MGR PERFORM MAINT KIT | D29: TE | E29: Huazhen | G29: 0 | H29: 1 | I29: 1
A30: L1 | B30: 201000281 | C30: ACQUITY PDA/TUV 2489/2998 PERF MAINT KIT | D30: TE | E30: Huazhen | G30: 0 | H30: 1 | I30: 1
A31: L2 | B31: OTO2016 | C31: OTO2016 | D31: TE | E31: Huazhen | F31: Restrictor for tester | I31: 15
A32: L2 | B32: 430001208 | C32: Vent valve P2 to Tee/ filter | D32: TE | E32: Huazhen | I32: 8
A33: L2 | B33: WAT053502 | C33: PM Sticker | D33: TE | E33: Huazhen | I33: 190
A34: L2 | B34: RZZ pin | C34: RZZ pin for FTN | D34: TE | E34: Huazhen | I34: 2
A35: L2 | B35: PSL613315 | C35: fingertight ferrule | D35: TE | E35: Huazhen | I35: 5
A36: L2 | B36: 405008767 | C36: Cap valve for FTN line to cap for dust | D36: TE | E36: Huazhen | I36: 5
A37: L2 | B37: ULN2003A | C37: FTN Sensor | D37: TE | E37: Huazhen | I37: 12
A38: L2 | B38: 430003154 | C38: ASSY, WELDED TUBE, SS, .003 ID X 14.5 LG (Order at PN 700008869) | D38: TE | E38: Huazhen | G38: 0 | H38: 4 | I38: 6 | J38: 43844 | K38: -1
A39: L2 | B39: 430001101 | C39: Tubing assy for FTN | D39: TE | E39: Huazhen | F39: Is it necessary? Sell back to Venture | I39: 48
A40: L2 | B40: WAT026804 | C40: Tubing assy For FTN | D40: TE | E40: Huazhen | F40: Is it necessary? Sell back to Venture | I40: 7
...

Sheet Tool
A1: Location | B1: Part # | C1: Deccription | D1: TE/Tool | E1: Ownership | F1: Remarks | G1: Need to order | H1: Safety Stock | I1: Balance | J1: Date in/out | K1: Quantity | L1: Date in/out | M1: Quantity | N1: Date in/out | O1: Quantity | P1: Date in/out | Q1: Quantity | R1: Date in/out | S1: Quantity | T1: Date in/out | U1: Quantity | V1: Date in/out | W1: Quantity | X1: Date in/out | Y1: Quantity | Z1: Date in/out | AA1: Quantity | AB1: Date in/out | AC1: Quantity | AD1: Date in/out | AE1: Quantity | AF1: Date in/out | AG1: Quantity | AH1: Date in/out | AI1: Quantity | AJ1: Date in/out | AK1: Quantity | AL1: Date in/out | AM1: Quantity | AN1: Date in/out | AO1: Quantity | AP1: Date in/out | AQ1: Quantity
A2: L1 | B2: 999027952-3 | C2: Dogpoint Screw tool | D2: Tool | E2: Guan Yee | I2: 14
A3: L1 | B3: 999028283 | C3: Fork Tool | D3: Tool | E3: Guan Yee | I3: 9
A4: L1 | B4: 999028283-1 | C4: Spare Fork | D4: Tool | E4: Guan Yee | I4: 8
A5: L1 | B5: 999029341 | C5: Fitting Tool | D5: Tool | E5: Guan Yee | I5: 6
A6: L1 | B6: 119646 | C6: Insertion Tool | D6: Tool | E6: Guan Yee | I6: 1
A7: L1 | B7: 999028048 | C7: Sleeve (Retaining ring press set) | D7: Tool | E7: Guan Yee | I7: 2
A8: L1 | B8: 999027952-2 | C8: Spanner Wrench | D8: Tool | E8: Guan Yee | I8: 1
A9: L1 | B9: 999026375-1 | C9: Torque Driver Fitting Tool | D9: Tool | E9: Guan Yee | I9: 1
A10: L1 | B10: 999027063 | C10: LED Holder Assy Tool | D10: Tool | E10: Guan Yee | I10: 1
A11: L1 | B11: 999029850 | C11: Check Valve Cable Assy Tool | D11: Tool | E11: Guan Yee | I11: 1
A12: L1 | B12: 999120050 | C12: Encoder Lock Tool | D12: Tool | E12: Guan Yee | I12: 2
A13: L1 | B13: 999039080 | C13: Clean Plate | D13: Tool | E13: Guan Yee | I13: 6
A14: L1 | B14: 119652 | C14: Press Tooling (Punch Pin Bearing Assy) | D14: Tool | E14: Guan Yee | I14: 1
A15: L1 | B15: P-299 | C15: Fitting Wrench (Extender Tool-Flangeless Nut ) | D15: Tool | E15: Guan Yee | I15: 2
A16: L1 | B16: 999027845 | C16: Plunger Asst Fix -Vista- | D16: Tool | E16: Guan Yee | I16: 1
A17: L1 | B17: 999026329 | C17: Encoder Alignment Tool | D17: Tool | E17: Guan Yee | I17: 2
A18: L1 | B18: 999026419 | C18: PCB Standoff Tool | D18: Tool | E18: Guan Yee | I18: 1
A19: L1 | B19: 888004188 | C19: Spacer | D19: Tool | E19: Guan Yee | I19: 1
A20: L1 | B20: WAT070216 | C20: BULK Head Fitting, 0.020 ID | D20: TE | E20: Huazhen | I20: 4
A21: L1 | B21: KR-515 | C21: Reticle 12 concentric circles 0.06 - 0.72 inch, frosted substrate, regular top, 27mm diameter | D21: TE | E21: Huazhen | I21: 1
A22: L1 | B22: KR-525 | C22: Reticle 30 concentric circles, frosted substrate, regular top, 30mm diameter | D22: TE | E22: Huazhen | I22: 1
A23: L1 | B23: 999038140 | C23: WRENCH FOR KNURLED NUT 405015874 | D23: Tool | E23: Guan Yee | I23: 2
A24: L1 | B24: WAT027629 | C24: Syringe Assembly 10ml Safety | D24: TE | E24: Huazhen | F24: ? Check physically | I24: 1
A25: L1 | B25: 201000197 | C25: I2V IBSM PM Kit (Incomplete set) | D25: TE | E25: Huazhen | G25: =IF(H25="","",I25-H25) | I25: 1
A26: L1 | B26: 201000197 | C26: ACQUITY I2V BSM PERFORMANCE MAINT KIT | D26: TE | E26: Huazhen | G26: =IF(I26-H26>0,0,I26-H26) -> 0 | H26: 1 | I26: 1
A27: L1 | B27: 201000260 | C27: IBSM PM Kit | D27: TE | E27: Huazhen | G27: =IF(H27="","",I27-H27) | I27: 1
A28: L1 | B28: 201000160 | C28: 1525 EF PM Kit (Incomplete set) | D28: TE | E28: Huazhen | G28: =IF(H28="","",I28-H28) | I28: 1
A29: L1 | B29: 201000160 | C29: 1525 EF PM Kit | D29: TE | E29: Huazhen | G29: =IF(H29="","",I29-H29) | I29: 1
A30: L1 | B30: 201000174 | C30: ACQUITY SAMPLE MGR PERFORM MAINT KIT | D30: TE | E30: Huazhen | G30: =IF(I30-H30>0,0,I30-H30) -> 0 | H30: 1 | I30: 1
A31: L1 | B31: 201000281 | C31: ACQUITY PDA/TUV 2489/2998 PERF MAINT KIT | D31: TE | E31: Huazhen | G31: =IF(I31-H31>0,0,I31-H31) -> 0 | H31: 1 | I31: 1
A32: L2 | B32: OTO2016 | C32: OTO2016 | D32: TE | E32: Huazhen | F32: Restrictor for tester | G32: =IF(H32="","",I32-H32) | I32: 15
A33: L2 | B33: 430001208 | C33: Vent valve P2 to Tee/ filter | D33: TE | E33: Huazhen | G33: =IF(H33="","",I33-H33) | I33: 8
A34: L2 | B34: 9513K18 | C34: color coded 0.0075" plastic shim for FTN | D34: Tool | E34: Guan Yee | G34: =IF(H34="","",I34-H34) | I34: 7
A35: L2 | B35: 9513K19 | C35: color coded 0.010" plastic shim for FTN | D35: Tool | E35: Guan Yee | G35: =IF(H35="","",I35-H35) | I35: 7
A36: L2 | B36: WAT053502 | C36: PM Sticker | D36: TE | E36: Huazhen | G36: =IF(H36="","",I36-H36) | I36: 190
A37: L2 | B37: RZZ pin | C37: RZZ pin for FTN | D37: TE | E37: Huazhen | G37: =IF(H37="","",I37-H37) | I37: 2
A38: L2 | B38: PSL613315 | C38: fingertight ferrule | D38: TE | E38: Huazhen | G38: =IF(H38="","",I38-H38) | I38: 5
A39: L2 | B39: 405008767 | C39: Cap valve for FTN line to cap for dust | D39: TE | E39: Huazhen | G39: =IF(H39="","",I39-H39) | I39: 5
A40: L2 | B40: ULN2003A | C40: FTN Sensor | D40: TE | E40: Huazhen | G40: =IF(H40="","",I40-H40) | I40: 12
...

Sheet Measuring equipment
A1: Location | B1: Part # | C1: Deccription | D1: TE/Tool/Consumable | E1: Ownership | F1: Remarks | G1: Need to order | H1: Safety Stock | I1: Balance | J1: Date in/out | K1: Quantity | L1: Date in/out | M1: Quantity | N1: Date in/out | O1: Quantity | P1: Date in/out | Q1: Quantity | R1: Date in/out | S1: Quantity | T1: Date in/out | U1: Quantity | V1: Date in/out | W1: Quantity | X1: Date in/out | Y1: Quantity | Z1: Date in/out | AA1: Quantity | AB1: Date in/out | AC1: Quantity | AD1: Date in/out | AE1: Quantity | AF1: Date in/out | AG1: Quantity | AH1: Date in/out | AI1: Quantity | AJ1: Date in/out | AK1: Quantity | AL1: Date in/out | AM1: Quantity | AN1: Date in/out | AO1: Quantity | AP1: Date in/out | AQ1: Quantity
A2: L1 | B2: 999027952-3 | C2: Dogpoint Screw tool | D2: Tool | E2: Guan Yee | I2: 14
A3: L1 | B3: 999028283 | C3: Fork Tool | D3: Tool | E3: Guan Yee | I3: 9
A4: L1 | B4: 999028283-1 | C4: Spare Fork | D4: Tool | E4: Guan Yee | I4: 8
A5: L1 | B5: 999029341 | C5: Fitting Tool | D5: Tool | E5: Guan Yee | I5: 6
A6: L1 | B6: 119646 | C6: Insertion Tool | D6: Tool | E6: Guan Yee | I6: 1
A7: L1 | B7: 999028048 | C7: Sleeve (Retaining ring press set) | D7: Tool | E7: Guan Yee | I7: 2
A8: L1 | B8: 999027952-2 | C8: Spanner Wrench | D8: Tool | E8: Guan Yee | I8: 1
A9: L1 | B9: 999026375-1 | C9: Torque Driver Fitting Tool | D9: Tool | E9: Guan Yee | I9: 1
A10: L1 | B10: 999027063 | C10: LED Holder Assy Tool | D10: Tool | E10: Guan Yee | I10: 1
A11: L1 | B11: 999029850 | C11: Check Valve Cable Assy Tool | D11: Tool | E11: Guan Yee | I11: 1
A12: L1 | B12: 999120050 | C12: Encoder Lock Tool | D12: Tool | E12: Guan Yee | I12: 2
A13: L1 | B13: 999039080 | C13: Clean Plate | D13: Tool | E13: Guan Yee | I13: 6
A14: L1 | B14: 119652 | C14: Press Tooling (Punch Pin Bearing Assy) | D14: Tool | E14: Guan Yee | I14: 1
A15: L1 | B15: P-299 | C15: Fitting Wrench (Extender Tool-Flangeless Nut ) | D15: Tool | E15: Guan Yee | I15: 2
A16: L1 | B16: 999027845 | C16: Plunger Asst Fix -Vista- | D16: Tool | E16: Guan Yee | I16: 1
A17: L1 | B17: 999026329 | C17: Encoder Alignment Tool | D17: Tool | E17: Guan Yee | I17: 2
A18: L1 | B18: 999026419 | C18: PCB Standoff Tool | D18: Tool | E18: Guan Yee | I18: 1
A19: L1 | B19: 888004188 | C19: Spacer | D19: Tool | E19: Guan Yee | I19: 1
A20: L1 | B20: WAT070216 | C20: BULK Head Fitting, 0.020 ID | D20: TE | E20: Huazhen | I20: 4
A21: L1 | B21: KR-515 | C21: Reticle 12 concentric circles 0.06 - 0.72 inch, frosted substrate, regular top, 27mm diameter | D21: TE | E21: Huazhen | I21: 1
A22: L1 | B22: KR-525 | C22: Reticle 30 concentric circles, frosted substrate, regular top, 30mm diameter | D22: TE | E22: Huazhen | I22: 1
A23: L1 | B23: 999038140 | C23: WRENCH FOR KNURLED NUT 405015874 | D23: Tool | E23: Guan Yee | I23: 2
A24: L1 | B24: WAT027629 | C24: Syringe Assembly 10ml Safety | D24: TE | E24: Huazhen | F24: ? Check physically | I24: 1
A25: L1 | B25: 201000197 | C25: I2V IBSM PM Kit (Incomplete set) | D25: TE | E25: Huazhen | G25: =IF(H25="","",I25-H25) | I25: 1
A26: L1 | B26: 201000197 | C26: ACQUITY I2V BSM PERFORMANCE MAINT KIT | D26: TE | E26: Huazhen | G26: =IF(I26-H26>0,0,I26-H26) -> 0 | H26: 1 | I26: 1
A27: L1 | B27: 201000260 | C27: IBSM PM Kit | D27: TE | E27: Huazhen | G27: =IF(H27="","",I27-H27) | I27: 1
A28: L1 | B28: 201000160 | C28: 1525 EF PM Kit (Incomplete set) | D28: TE | E28: Huazhen | G28: =IF(H28="","",I28-H28) | I28: 1
A29: L1 | B29: 201000160 | C29: 1525 EF PM Kit | D29: TE | E29: Huazhen | G29: =IF(H29="","",I29-H29) | I29: 1
A30: L1 | B30: 201000174 | C30: ACQUITY SAMPLE MGR PERFORM MAINT KIT | D30: TE | E30: Huazhen | G30: =IF(I30-H30>0,0,I30-H30) -> 0 | H30: 1 | I30: 1
A31: L1 | B31: 201000281 | C31: ACQUITY PDA/TUV 2489/2998 PERF MAINT KIT | D31: TE | E31: Huazhen | G31: =IF(I31-H31>0,0,I31-H31) -> 0 | H31: 1 | I31: 1
A32: L2 | B32: OTO2016 | C32: OTO2016 | D32: TE | E32: Huazhen | F32: Restrictor for tester | G32: =IF(H32="","",I32-H32) | I32: 15
A33: L2 | B33: 430001208 | C33: Vent valve P2 to Tee/ filter | D33: TE | E33: Huazhen | G33: =IF(H33="","",I33-H33) | I33: 8
A34: L2 | B34: 9513K18 | C34: color coded 0.0075" plastic shim for FTN | D34: Tool | E34: Guan Yee | G34: =IF(H34="","",I34-H34) | I34: 7
A35: L2 | B35: 9513K19 | C35: color coded 0.010" plastic shim for FTN | D35: Tool | E35: Guan Yee | G35: =IF(H35="","",I35-H35) | I35: 7
A36: L2 | B36: WAT053502 | C36: PM Sticker | D36: TE | E36: Huazhen | G36: =IF(H36="","",I36-H36) | I36: 190
A37: L2 | B37: RZZ pin | C37: RZZ pin for FTN | D37: TE | E37: Huazhen | G37: =IF(H37="","",I37-H37) | I37: 2
A38: L2 | B38: PSL613315 | C38: fingertight ferrule | D38: TE | E38: Huazhen | G38: =IF(H38="","",I38-H38) | I38: 5
A39: L2 | B39: 405008767 | C39: Cap valve for FTN line to cap for dust | D39: TE | E39: Huazhen | G39: =IF(H39="","",I39-H39) | I39: 5
A40: L2 | B40: ULN2003A | C40: FTN Sensor | D40: TE | E40: Huazhen | G40: =IF(H40="","",I40-H40) | I40: 12
...

Sheet Summary 2020 Backup
A1: Location | B1: Part # | C1: Deccription | D1: TE/Tool/Consumable | E1: Ownership | F1: Remarks | G1: Need to order | H1: Safety Stock | I1: Balance | J1: Date in/out | K1: Quantity | L1: Date in/out | M1: Quantity | N1: Date in/out | O1: Quantity | P1: Date in/out | Q1: Quantity | R1: Date in/out | S1: Quantity | T1: Date in/out | U1: Quantity | V1: Date in/out | W1: Quantity | X1: Date in/out | Y1: Quantity | Z1: Date in/out | AA1: Quantity | AB1: Date in/out | AC1: Quantity | AD1: Date in/out | AE1: Quantity | AF1: Date in/out | AG1: Quantity | AH1: Date in/out | AI1: Quantity | AJ1: Date in/out | AK1: Quantity | AL1: Date in/out | AM1: Quantity | AN1: Date in/out | AO1: Quantity | AP1: Date in/out | AQ1: Quantity
A2: L1 | B2: 999027952-3 | C2: Dogpoint Screw tool | D2: Tool | E2: Guan Yee | I2: 14
A3: L1 | B3: 999028283 | C3: Fork Tool | D3: Tool | E3: Guan Yee | I3: 9
A4: L1 | B4: 999028283-1 | C4: Spare Fork | D4: Tool | E4: Guan Yee | I4: 8
A5: L1 | B5: 999029341 | C5: Fitting Tool | D5: Tool | E5: Guan Yee | I5: 6
A6: L1 | B6: 119646 | C6: Insertion Tool | D6: Tool | E6: Guan Yee | I6: 1
A7: L1 | B7: 999028048 | C7: Sleeve (Retaining ring press set) | D7: Tool | E7: Guan Yee | I7: 2
A8: L1 | B8: 999027952-2 | C8: Spanner Wrench | D8: Tool | E8: Guan Yee | I8: 1
A9: L1 | B9: 999026375-1 | C9: Torque Driver Fitting Tool | D9: Tool | E9: Guan Yee | I9: 1
A10: L1 | B10: 999027063 | C10: LED Holder Assy Tool | D10: Tool | E10: Guan Yee | I10: 1
A11: L1 | B11: 999029850 | C11: Check Valve Cable Assy Tool | D11: Tool | E11: Guan Yee | I11: 1
A12: L1 | B12: 999120050 | C12: Encoder Lock Tool | D12: Tool | E12: Guan Yee | I12: 2
A13: L1 | B13: 999039080 | C13: Clean Plate | D13: Tool | E13: Guan Yee | I13: 6
A14: L1 | B14: 119652 | C14: Press Tooling (Punch Pin Bearing Assy) | D14: Tool | E14: Guan Yee | I14: 1
A15: L1 | B15: P-299 | C15: Fitting Wrench (Extender Tool-Flangeless Nut ) | D15: Tool | E15: Guan Yee | I15: 2
A16: L1 | B16: 999027845 | C16: Plunger Asst Fix -Vista- | D16: Tool | E16: Guan Yee | I16: 1
A17: L1 | B17: 999026329 | C17: Encoder Alignment Tool | D17: Tool | E17: Guan Yee | I17: 2
A18: L1 | B18: 999026419 | C18: PCB Standoff Tool | D18: Tool | E18: Guan Yee | I18: 1
A19: L1 | B19: 888004188 | C19: Spacer | D19: Tool | E19: Guan Yee | I19: 1
A20: L1 | B20: WAT070216 | C20: BULK Head Fitting, 0.020 ID | D20: TE | E20: Huazhen | I20: 4
A21: L1 | B21: KR-515 | C21: Reticle 12 concentric circles 0.06 - 0.72 inch, frosted substrate, regular top, 27mm diameter | D21: TE | E21: Huazhen | I21: 1
A22: L1 | B22: KR-525 | C22: Reticle 30 concentric circles, frosted substrate, regular top, 30mm diameter | D22: TE | E22: Huazhen | I22: 1
A23: L1 | B23: 999038140 | C23: WRENCH FOR KNURLED NUT 405015874 | D23: Tool | E23: Guan Yee | I23: 2
A24: L1 | B24: WAT027629 | C24: Syringe Assembly 10ml Safety | D24: TE | E24: Huazhen | F24: ? Check physically | I24: 1
A25: L1 | B25: 201000197 | C25: I2V IBSM PM Kit (Incomplete set) | D25: PM | E25: Huazhen | G25: =IF(H25="","",I25-H25) | I25: 1
A26: L1 | B26: 201000197 | C26: ACQUITY I2V BSM PERFORMANCE MAINT KIT | D26: PM | E26: Huazhen | G26: =IF(I26-H26>0,0,I26-H26) -> 0 | H26: 1 | I26: 1
A27: L1 | B27: 201000260 | C27: IBSM PM Kit | D27: PM | E27: Huazhen | G27: =IF(H27="","",I27-H27) | I27: 1
A28: L1 | B28: 201000160 | C28: 1525 EF PM Kit (Incomplete set) | D28: PM | E28: Huazhen | G28: =IF(H28="","",I28-H28) | I28: 1
A29: L1 | B29: 201000160 | C29: 1525 EF PM Kit | D29: PM | E29: Huazhen | G29: =IF(H29="","",I29-H29) | I29: 1
A30: L1 | B30: 201000174 | C30: ACQUITY SAMPLE MGR PERFORM MAINT KIT | D30: PM | E30: Huazhen | F30: Pass to CM | G30: =IF(I30-H30>0,0,I30-H30) -> 0 | H30: 1 | I30: 1
A31: L1 | B31: 201000281 | C31: ACQUITY PDA/TUV 2489/2998 PERF MAINT KIT | D31: PM | E31: Huazhen | F31: Pass to CM | G31: =IF(I31-H31>0,0,I31-H31) -> 0 | H31: 1 | I31: 1
A32: L1 | B32: 700002642 | C32: ACQUITY UPLC ABSORBANCE 10MM TEST SOL | D32: Consumable | F32: YH request for Q32020 MRO; It's part of column manager tester PM | G32: 0 | H32: 1 | I32: 1 | J32: 44019 | K32: -1
A33: L2 | B33: OTO2016 | C33: OTO2016 | D33: TE | E33: Huazhen | F33: Restrictor for tester | G33: =IF(H33="","",I33-H33) | I33: 15
A34: L2 | B34: 430001208 | C34: Vent valve P2 to Tee/ filter | D34: TE | E34: Huazhen | G34: =IF(H34="","",I34-H34) | I34: 8
A35: L2 | B35: 9513K18 | C35: color coded 0.0075" plastic shim for FTN | D35: Tool | E35: Guan Yee | G35: =IF(H35="","",I35-H35) | I35: 7
A36: L2 | B36: 9513K19 | C36: color coded 0.010" plastic shim for FTN | D36: Tool | E36: Guan Yee | G36: =IF(H36="","",I36-H36) | I36: 7
A37: L2 | B37: WAT053502 | C37: PM Sticker | D37: TE | E37: Huazhen | G37: =IF(H37="","",I37-H37) | I37: 190
A38: L2 | B38: RZZ pin | C38: RZZ pin for FTN | D38: TE | E38: Huazhen | G38: =IF(H38="","",I38-H38) | I38: 2
A39: L2 | B39: PSL613315 | C39: fingertight ferrule | D39: TE | E39: Huazhen | G39: =IF(H39="","",I39-H39) | I39: 5
A40: L2 | B40: 405008767 | C40: Cap valve for FTN line to cap for dust | D40: TE | E40: Huazhen | G40: =IF(H40="","",I40-H40) | I40: 5
...

Sheet Consumable
A1: Location | B1: Part # | C1: Deccription | D1: TE/Tool/Consumable | E1: Remarks | F1: Need to order | G1: Safety Stock | H1: Balance | I1: Date in/out | J1: Quantity | K1: Date in/out | L1: Quantity | M1: Date in/out | N1: Quantity | O1: Date in/out | P1: Quantity | Q1: Date in/out | R1: Quantity | S1: Date in/out | T1: Quantity | U1: Date in/out | V1: Quantity | W1: Date in/out | X1: Quantity | Y1: Date in/out | Z1: Quantity | AA1: Date in/out | AB1: Quantity | AC1: Date in/out | AD1: Quantity | AE1: Date in/out | AF1: Quantity | AG1: Date in/out | AH1: Quantity | AI1: Date in/out | AJ1: Quantity | AK1: Date in/out | AL1: Quantity | AM1: Date in/out | AN1: Quantity | AO1: Date in/out | AP1: Quantity
A2: L1 | B2: 201000197 | C2: I2V IBSM PM Kit (Incomplete set) | D2: PM | H2: 1
A3: L1 | B3: 201000197 | C3: ACQUITY I2V BSM PERFORMANCE MAINT KIT | D3: PM | F3: 0 | G3: 1 | H3: 1
A4: L1 | B4: 201000260 | C4: IBSM PM Kit | D4: PM | H4: 1
A5: L1 | B5: 201000160 | C5: 1525 EF PM Kit (Incomplete set) | D5: PM | H5: 1
A6: L1 | B6: 201000160 | C6: 1525 EF PM Kit | D6: PM | H6: 1
A7: L1 | B7: 201000174 | C7: ACQUITY SAMPLE MGR PERFORM MAINT KIT | D7: PM | F7: 0 | G7: 1 | H7: 1
A8: L1 | B8: 201000281 | C8: ACQUITY PDA/TUV 2489/2998 PERF MAINT KIT | D8: PM | F8: 0 | G8: 1 | H8: 1
A9: L1 | B9: 700002642 | C9: ACQUITY UPLC ABSORBANCE 10MM TEST SOL | D9: Consumable | E9: YH request for Q32020 MRO; It's part of column manager tester PM | F9: 0 | G9: 1 | H9: 1 | I9: 44019 | J9: -1
A10: L2 | B10: 205000610 | C10: Acquity UPLC TUV 5mm SS FC | D10: TE | H10: 1
A11: L3 | B11: WAT097323 | C11: WAT097323 lamp assy | D11: TE | H11: 4
A12: L3 | B12: 700004156 | C12: Cuvette Set | D12: Consumable | F12: 0 | G12: 3 | H12: 6
A13: L3 | B13: 186002350 | C13: ACQUITY UPLC BEH C18 1.7µm 2.1x50mm Colv | D13: Consumable | E13: 1x used for ColMg PM @L1; YH requested for 2020Q3 MRO | F13: -2 | G13: 9 | H13: 7 | I13: 44019 | J13: -7
A14: L2 | B14: 186006049 | C14: XBridgeR BEH C8 2.5um | D14: Consumable | E14: YH requested for 2020Q3 MRO | F14: 0 | G14: 8 | H14: 8 | I14: 44019 | J14: -8
A15: L3 | B15: WAS207069 | C15: 515 PLUNGER | D15: PM | F15: 0 | G15: 4 | H15: 4
A16: L3 | B16: WAT022934 | C16: Seal, Clear-100 | D16: PM | F16: 0 | G16: 4 | H16: 4
A17: R6 | B17: 205015016 | C17: ACQUITY UPLC ID Cell TUV, Analytical (TUV Flowcell) | D17: PM | E17: Reusable after PM done by Milford | F17: -3 | G17: 8 | H17: 5
A18: L4 | B18: 700005269 | C18: PERFORMANCE PLUS HB DEUTERIUM LAMP ASSY | D18: PM | F18: -6 | G18: 6 | H18: 0
A19: L5 | B19: 700009641 | C19: ESI PROBE ASSEMBLY 250mm Qda | D19: Consumable | E19: YH requested for 2020Q3 MRO | H19: 22 | I19: 44019 | J19: -22 | AD19: -1 | AE19: 43732 | AF19: 16 | AG19: 43733 | AH19: -16 | AI19: 43770 | AJ19: 14 | AK19: 43805 | AL19: -1
A20: L5 | B20: 700009768 | C20: Aperture Disk Assembly P Qda | D20: Consumable | E20: YH requested for 2020Q3 MRO | H20: 21 | I20: 44019 | J20: -21
A21: R3 | B21: 700000254 | C21: Performance Plus Sapphire CV CART (2) | D21: PM | F21: -6 | G21: 8 | H21: 2
A22: R3 | B22: WAT025531 | C22: Assy, Solvent Filter | D22: PM | F22: 0 | G22: 2 | H22: 2
A23: R3 | B23: 186003031 | C23: XBridge C18 3.5 um 4.6 x 50 mm Column | D23: Consumable | F23: 0 | G23: 12 | H23: 22 | I23: 43844 | J23: -1 | K23: 43906 | L23: -1 | M23: 44019 | N23: -10
A24: R4 | B24: 186002457 | C24: White, 9mm Screw Cap w/Bonded pre-slit P | D24: Consumable | E24: Passed to Flex as discussion 2020Q3 | F24: 0 | G24: 2 | H24: 2 | I24: 44019 | J24: -2
A25: R4 | B25: 186005827 | C25: Blk Cap 12x32mm vial PSlt PTFE Sil Sept | D25: Consumable | E25: Passed to Flex as discussion 2020Q3 | F25: -1 | G25: 2 | H25: 1 | I25: 44019 | J25: -1
A26: R4 | B26: 186002127 | C26: Green Screw Cap (9mm) w/Bonded Pre-Slit | D26: Consumable | E26: Passed to Flex as discussion 2020Q3 | F26: -1 | G26: 2 | H26: 1 | I26: 44019 | J26: -1
A27: R4 | B27: 186002128 | C27: Red Screw Cap (9mm) w/Bonded Pre-Slit PT | D27: Consumable | E27: Passed to Flex as discussion 2020Q3 | F27: -1 | G27: 2 | H27: 1 | I27: 44019 | J27: -1
A28: R4 | B28: 700003741 | C28: HPLC System UV Test Solutions (Ampules 1, 3, 7, 8 & 9) | D28: Consumable | E28: Passed to Flex as discussion 2020Q3 | F28: 0 | G28: 6 | H28: 6 | I28: 44019 | J28: -6
A29: R4 | B29: 700009330 | C29: PERFORMANCE PLUS HB DEUTERIUM LAMP ASSY | D29: TE | H29: 4
C33: Passed to YH/Venture
C34: Passed to DA/Flex

Sheet Cannot find in cabinet
A1: Location | B1: Part # | C1: Deccription | D1: TE/Tool/Consumable | E1: Remarks | F1: Need to order | G1: Safety Stock | H1: Balance | I1: Date in/out | J1: Quantity | K1: Date in/out | L1: Quantity | M1: Date in/out | N1: Quantity | O1: Date in/out | P1: Quantity | Q1: Date in/out | R1: Quantity | S1: Date in/out | T1: Quantity | U1: Date in/out | V1: Quantity | W1: Date in/out | X1: Quantity | Y1: Date in/out | Z1: Quantity | AA1: Date in/out | AB1: Quantity | AC1: Date in/out | AD1: Quantity | AE1: Date in/out | AF1: Quantity | AG1: Date in/out | AH1: Quantity | AI1: Date in/out | AJ1: Quantity | AK1: Date in/out | AL1: Quantity | AM1: Date in/out | AN1: Quantity | AO1: Date in/out | AP1: Quantity
A2: L3 | B2: WAT046-12 | C2: COMP SCREW 1/8 PEEK | H2: 5
A3: L3 | B3: 002261-BJ-BA-00 | C3: Filament Assembly | H3: 1
A4: L4 | B4: 999041977-04 | C4: Backpressure Verification Sample, Assembly | H4: 0
A5: L6 | B5: RCDDT320-EN-BS | C5: Tester, RCD | H5: 1
A6: L6 | B6: 222563 | C6: ESD Personnel Test Station | H6: 0
A7: R2 | B7: TE82996 Driver | C7: Adapter Control Board (For CEI GTS1 test fixture TE82994-2) | H7: 4
A8: R3 | B8: G14F06201 | C8: Bar Code Scanner QW2100 | H8: 0
B9: 667004297 | C9: SQT Option for Systems on Emp 3 | H9: 0
B10: BVHVU6 | C10: HAND VALVES | H10: 4
B11: BVU60-1212 | C11: MANUAL | H11: 4
