Workbook

Sheet Summary 2021
A1: Location | B1: Part # | C1: Deccription | D1: TE/Tool | E1: Ownership | F1: Remarks | G1: Need to order | H1: Safety Stock | I1: Balance | J1: Date in/out | K1: Quantity | L1: Date in/out | M1: Quantity | N1: Date in/out | O1: Quantity | P1: Date in/out | Q1: Quantity | R1: Date in/out | S1: Quantity | T1: Date in/out | U1: Quantity | V1: Date in/out | W1: Quantity | X1: Date in/out | Y1: Quantity | Z1: Date in/out | AA1: Quantity | AB1: Date in/out | AC1: Quantity | AD1: Date in/out | AE1: Quantity | AF1: Date in/out | AG1: Quantity | AH1: Date in/out | AI1: Quantity | AJ1: Date in/out | AK1: Quantity | AL1: Date in/out | AM1: Quantity | AN1: Date in/out | AO1: Quantity | AP1: Date in/out | AQ1: Quantity
A2: L1 | B2: 999027952-3 | C2: Dogpoint Screw tool | D2: Tool | E2: Guan Yee | I2: 14
A3: L1 | B3: 999028283 | C3: Fork Tool | D3: Tool | E3: Guan Yee | I3: 9
A4: L1 | B4: 999028283-1 | C4: Spare Fork | D4: Tool | E4: Guan Yee | I4: 8
A5: L1 | B5: 999029341 | C5: Fitting Tool | D5: Tool | E5: Guan Yee | I5: 6
A6: L1 | B6: 119646 | C6: Insertion Tool | D6: Tool | E6: Guan Yee | I6: 1
A7: L1 | B7: 999028048 | C7: Sleeve (Retaining ring press set) | D7: Tool | E7: Guan Yee | I7: 2
A8: L1 | B8: 999027952-2 | C8: Spanner Wrench | D8: Tool | E8: Guan Yee | I8: 1
A9: L1 | B9: 999026375-1 | C9: Torque Driver Fitting Tool | D9: Tool | E9: Guan Yee | I9: 1
A10: L1 | B10: 999027063 | C10: LED Holder Assy Tool | D10: Tool | E10: Guan Yee | I10: 1
A11: L1 | B11: 999029850 | C11: Check Valve Cable Assy Tool | D11: Tool | E11: Guan Yee | I11: 1
A12: L1 | B12: 999120050 | C12: Encoder Lock Tool | D12: Tool | E12: Guan Yee | I12: 2
A13: L1 | B13: 999039080 | C13: Clean Plate | D13: Tool | E13: Guan Yee | I13: 6
A14: L1 | B14: 119652 | C14: Press Tooling (Punch Pin Bearing Assy) | D14: Tool | E14: Guan Yee | I14: 1
A15: L1 | B15: P-299 | C15: Fitting Wrench (Extender Tool-Flangeless Nut ) | D15: Tool | E15: Guan Yee | I15: 2
A16: L1 | B16: 999027845 | C16: Plunger Asst Fix -Vista- | D16: Tool | E16: Guan Yee | I16: 1
A17: L1 | B17: 999026329 | C17: Encoder Alignment Tool | D17: Tool | E17: Guan Yee | I17: 2
A18: L1 | B18: 999026419 | C18: PCB Standoff Tool | D18: Tool | E18: Guan Yee | I18: 1
A19: L1 | B19: 888004188 | C19: Spacer | D19: Tool | E19: Guan Yee | I19: 1
A20: L1 | B20: WAT070216 | C20: BULK Head Fitting, 0.020 ID | D20: TE | E20: Huazhen | I20: 4
A21: L1 | B21: KR-515 | C21: Reticle 12 concentric circles 0.06 - 0.72 inch, frosted substrate, regular top, 27mm diameter | D21: TE | E21: Huazhen | I21: 1
A22: L1 | B22: KR-525 | C22: Reticle 30 concentric circles, frosted substrate, regular top, 30mm diameter | D22: TE | E22: Huazhen | I22: 1
A23: L1 | B23: 999038140 | C23: WRENCH FOR KNURLED NUT 405015874 | D23: Tool | E23: Guan Yee | I23: 2
A24: L1 | B24: WAT027629 | C24: Syringe Assembly 10ml Safety | D24: TE | E24: Huazhen | F24: ? Check physically | I24: 1
A25: L1 | B25: 201000197 | C25: I2V IBSM PM Kit (Incomplete set) | D25: TE | E25: Huazhen | G25: =IF(H25="","",I25-H25) | I25: 1
A26: L1 | B26: 201000197 | C26: ACQUITY I2V BSM PERFORMANCE MAINT KIT | D26: TE | E26: Huazhen | G26: =IF(I26-H26>0,0,I26-H26) -> 0 | H26: 1 | I26: 1
A27: L1 | B27: 201000260 | C27: IBSM PM Kit | D27: TE | E27: Huazhen | G27: =IF(H27="","",I27-H27) | I27: 1
A28: L1 | B28: 201000160 | C28: 1525 EF PM Kit (Incomplete set) | D28: TE | E28: Huazhen | G28: =IF(H28="","",I28-H28) | I28: 1
A29: L1 | B29: 201000160 | C29: 1525 EF PM Kit | D29: TE | E29: Huazhen | G29: =IF(H29="","",I29-H29) | I29: 1
A30: L1 | B30: 201000174 | C30: ACQUITY SAMPLE MGR PERFORM MAINT KIT | D30: TE | E30: Huazhen | G30: =IF(I30-H30>0,0,I30-H30) -> 0 | H30: 1 | I30: 1
A31: L1 | B31: 201000281 | C31: ACQUITY PDA/TUV 2489/2998 PERF MAINT KIT | D31: TE | E31: Huazhen | G31: =IF(I31-H31>0,0,I31-H31) -> 0 | H31: 1 | I31: 1
A32: L2 | B32: OTO2016 | C32: OTO2016 | D32: TE | E32: Huazhen | F32: Restrictor for tester | G32: =IF(H32="","",I32-H32) | I32: 15
A33: L2 | B33: 430001208 | C33: Vent valve P2 to Tee/ filter | D33: TE | E33: Huazhen | G33: =IF(H33="","",I33-H33) | I33: 8
A34: L2 | B34: 9513K18 | C34: color coded 0.0075" plastic shim for FTN | D34: Tool | E34: Guan Yee | G34: =IF(H34="","",I34-H34) | I34: 7
A35: L2 | B35: 9513K19 | C35: color coded 0.010" plastic shim for FTN | D35: Tool | E35: Guan Yee | G35: =IF(H35="","",I35-H35) | I35: 7
A36: L2 | B36: WAT053502 | C36: PM Sticker | D36: TE | E36: Huazhen | G36: =IF(H36="","",I36-H36) | I36: 190
A37: L2 | B37: RZZ pin | C37: RZZ pin for FTN | D37: TE | E37: Huazhen | G37: =IF(H37="","",I37-H37) | I37: 2
A38: L2 | B38: PSL613315 | C38: fingertight ferrule | D38: TE | E38: Huazhen | G38: =IF(H38="","",I38-H38) | I38: 5
A39: L2 | B39: 405008767 | C39: Cap valve for FTN line to cap for dust | D39: TE | E39: Huazhen | G39: =IF(H39="","",I39-H39) | I39: 5
A40: L2 | B40: ULN2003A | C40: FTN Sensor | D40: TE | E40: Huazhen | G40: =IF(H40="","",I40-H40) | I40: 12
A41: L2 | B41: 430003154 | C41: ASSY, WELDED TUBE, SS, .003 ID X 14.5 LG (Order at PN 700008869) | D41: TE | E41: Huazhen | G41: =IF(I41-H41>0,0,I41-H41) -> 0 | H41: 4 | I41: =7+K41 -> 6 | J41: 43844 | K41: -1
A42: L2 | B42: 430001101 | C42: Tubing assy for FTN | D42: TE | E42: Huazhen | F42: Is it necessary? Sell back to Venture | G42: =IF(H42="","",I42-H42) | I42: 48
A43: L2 | B43: WAT026804 | C43: Tubing assy For FTN | D43: TE | E43: Huazhen | F43: Is it necessary? Sell back to Venture | G43: =IF(H43="","",I43-H43) | I43: 7
A44: L2 | B44: 430001102 | C44: Tubing assy for FTN | D44: TE | E44: Huazhen | F44: Is it necessary? Sell back to Venture | G44: =IF(H44="","",I44-H44) | I44: 48
A45: L2 | B45: 323000639 | C45: Connector HDR RA 1x15P B | D45: TE | E45: Huazhen | G45: =IF(H45="","",I45-H45) | I45: 25
A46: L2 | B46: ULN2064B | C46: For FTN | D46: TE | E46: Huazhen | G46: =IF(H46="","",I46-H46) | I46: 4
A47: L2 | B47: MC74HC14ANG | C47: For FTN | D47: TE | E47: Huazhen | G47: =IF(H47="","",I47-H47) | I47: 4
A48: L2 | B48: 205000730 | C48: APH for FTN tester | D48: TE | E48: Huazhen | G48: =IF(H48="","",I48-H48) -> 1 | H48: 2 | I48: 3
A49: L2 | B49: 205000894 | C49: ACQ. I-Class APH, SS, 12.5 LG, .003 ID (Tubing assy with Pre-heater for FTN Tester (Valve to column)) | D49: TE | E49: Huazhen | G49: =IF(I49-H49>0,0,I49-H49) -> 0 | H49: 2 | I49: 2
A50: L2 | B50: 700006052 | C50: ASSY, CART, VENT, DOGLEG, 18 KPSI, DOM (EVent valve for FTN, PN 289006541) | D50: TE | E50: Huazhen | G50: =IF(I50-H50>0,0,I50-H50) -> 0 | H50: 3 | I50: 3
A51: L2 | B51: 700010979 | C51: Netgear 5 port switch | D51: TE | E51: Huazhen | G51: =IF(H51="","",I51-H51) | I51: 1
A52: L2 | B52: 999032368 | C52: Socket Weldment, Upchurch SG HS: 82055900 | D52: Tool | E52: Guan Yee | G52: =IF(H52="","",I52-H52) | I52: 5
A53: L2 | B53: 430003141 | C53: Samp Needle, 20uL(Order PN: 700005928) | D53: TE | E53: Huazhen | G53: =IF(H53="","",I53-H53) | I53: 1
A54: L2 | B54: 999038882 | C54: Modified Nut Driver | D54: Tool | E54: Guan Yee | G54: =IF(H54="","",I54-H54) | I54: 1
A55: L2 | B55: 999041596 | C55: Gage for 50ML wand | D55: Tool | E55: Guan Yee | G55: =IF(H55="","",I55-H55) | I55: 1
A56: L2 | B56: 999041597 | C56: Gage for 100ML wand | D56: Tool | E56: Guan Yee | G56: =IF(H56="","",I56-H56) | I56: 1
A57: L2 | B57: 205000610 | C57: Acquity UPLC TUV 5mm SS FC | D57: TE | E57: Huazhen | I57: 1
A58: L2 | B58: CL-66-CTK | C58: CL-66-CTK | D58: Tool | I58: 4
A59: L3 | B59: 187805-01 | C59: IMAQ - A6804 NI Cable for detector | D59: TE | E59: Huazhen | G59: =IF(H59="","",I59-H59) | I59: 1
A60: L3 | B60: 779168-01 | C60: NI Connector and backshell for PXI-258x switches | D60: TE | E60: Huazhen | I60: 1
A61: L3 | B61: CF25048M312590 | C61: light pipe for detector | D61: TE | E61: Huazhen | G61: =IF(H61="","",I61-H61) | I61: 1
A62: L3 | B62: WAT097323 | C62: WAT097323 lamp assy | D62: TE | E62: Huazhen | G62: =IF(H62="","",I62-H62) | I62: 4
A63: L3 | B63: 700001722 | C63: 15V @ 1.5A power supply (725000541) | D63: TE | E63: Huazhen | G63: =IF(H63="","",I63-H63) | I63: 1
A64: L3 | B64: WAT027-08 | C64: Peek tubing .062OD x .040ID | D64: TE | E64: Huazhen | G64: =IF(H64="","",I64-H64) | I64: 3
A65: L3 | B65: PCBA for TE82888 | C65: Interface PCBA for Rough Alignment Tester TE82888 | D65: TE | E65: Huazhen | G65: =IF(H65="","",I65-H65) | I65: 1
A66: L3 | B66: WAT011042 | C66: BSM PM Plunger tool | D66: Tool | E66: Guan Yee | G66: =IF(H66="","",I66-H66) | I66: 1
A67: L3 | B67: 700004156 | C67: Cuvette Set | D67: TE | E67: Huazhen | G67: =IF(I67-H67>0,0,I67-H67) -> 0 | H67: 3 | I67: 6
A68: L3 | B68: WAS081324 | C68: 2487 lamp power supply | D68: TE | E68: Huazhen | G68: =IF(H68="","",I68-H68) | I68: 2
A69: L3 | B69: 700003639 | C69: 160GB Harddisk | D69: TE | E69: Huazhen | G69: =IF(H69="","",I69-H69) | I69: 2
A70: L3 | B70: 700008988 | C70: 250GB Harddisk | D70: TE | E70: Huazhen | G70: =IF(H70="","",I70-H70) | I70: 4
A71: L3 | B71: Harddisk for Richport | C71: Harddisk for Richport | D71: TE | E71: Huazhen | F71: HDD for PC | G71: =IF(H71="","",I71-H71) | I71: 1
A72: R3 | B72: 700003090 | C72: Lace Power Supply 350W | D72: TE | E72: Huazhen | G72: =IF(I72-H72>0,0,I72-H72) -> -1 | H72: 3 | I72: =3+K72 -> 2 | J72: 44169 | K72: -1
A73: L3 | B73: 999028048 | C73: NA | D73: Tool | E73: Guan Yee | G73: =IF(H73="","",I73-H73) | I73: 3
A74: L3 | B74: WAT035190 | C74: Inline Filter Assy | D74: Tool | E74: Guan Yee | G74: =IF(H74="","",I74-H74) | I74: =1+K74+M74+O74 -> 2 | J74: 44353 | K74: -1 | L74: 44370 | M74: 5 | N74: 44376 | O74: -3
A75: L3 | B75: 9027905430 | C75: Pin hole aperture tool | D75: Tool | E75: Guan Yee | G75: =IF(H75="","",I75-H75) | I75: 4
A76: L3 | B76: 289001438 | C76: Aperture hole | D76: TE | E76: Huazhen | I76: 1
A77: L3 | B77: WAS207069 | C77: 515 PLUNGER | D77: TE | E77: Huazhen | G77: =IF(I77-H77>0,0,I77-H77) -> 0 | H77: 4 | I77: 4
A78: L3 | B78: WAT022934 | C78: Seal, Clear-100 | D78: TE | E78: Huazhen | G78: =IF(I78-H78>0,0,I78-H78) -> 0 | H78: 4 | I78: 4
A79: L3 | B79: 210000520 | C79: 2 CPU'S for 210000478 | D79: TE | E79: Huazhen | G79: =IF(H79="","",I79-H79) | I79: 1
A80: L3 | B80: 289006760 | C80: ASSY, CARTRIDGE, CM, 18 KPSI (Order at PN 205000877 (2 per), KIT, VALVE CARTRIDGES, SS I-Class CM-A) | D80: TE | E80: Huazhen | G80: =IF(I80-H80>0,0,I80-H80) -> -2 | H80: 2 | I80: =2+K80 -> 0 | J80: 43950 | K80: -2
A81: =Tool!A77 -> L3 | B81: =Tool!B77 -> 999038868 | C81: =Tool!C77 -> 0.030 Thick Setting Gage for 279001950 | D81: =Tool!D77 -> Tool | E81: =Tool!E77 -> Kwan | F81: =Tool!F77 -> Comes in packs of 20 | G81: =Tool!G77 -> 0 | H81: =Tool!H77 -> 0 | ... K81: =Tool!K77 -> -20
A82: L4 | B82: QW2120 | C82: QW2120 barcode scanner | D82: TE | E82: Huazhen | G82: =IF(H82="","",I82-H82) | I82: 3
A83: L4 | B83: Mesur Matic PCBA | C83: NA | D83: TE | E83: Huazhen | G83: =IF(H83="","",I83-H83) | I83: 2
A84: L4 | B84: TBI SN-1X | C84: SHIM | D84: Tool | E84: Guan Yee | G84: =IF(H84="","",I84-H84) | I84: 2
A85: R6 | B85: 205015016 | C85: ACQUITY UPLC ID Cell TUV, Analytical (TUV Flowcell) | D85: TE | E85: Huazhen | F85: Reusable after PM done by Milford | G85: =IF(I89-H89>0,0,I89-H89) -> 0 | H85: 8 | I85: =5+K85 -> 1 | J85: 44169 | K85: -4
A86: L4 | B86: 779065-01 (NI-6220) | C86: NI PCI-6220 M series DAQ | D86: TE | E86: Huazhen | G86: =IF(I90-H90>0,0,I90-H90) -> 0 | I86: 1
A87: L4 | B87: 1P301-1001-11 (Edgeport) | C87: Edgeport USB to Serial Converter (SN:E40672141) | D87: TE | E87: Huazhen | I87: 4
A88: L4 | B88: 289002450 | C88: TUV Shunts | D88: TE | E88: Huazhen | G88: =IF(I94-H94>0,0,I94-H94) -> 0 | H88: 2 | I88: 3
A89: L4 | B89: 289002226 | C89: Shunt cell, Acquity PDA (PDA Medium Shunts. Order at PN 700002874) | D89: TE | E89: Huazhen | G89: =IF(I95-H95>0,0,I95-H95) -> 0 | H89: =3 -> 3 | I89: =3+K89+M89 -> 4 | J89: 44013 | K89: 3 | L89: 44152 | M89: -2
A90: L4 | B90: 289002149 | C90: PDA Large Shunts | D90: TE | E90: Huazhen | G90: =IF(H90="","",I90-H90) -> 1 | H90: 2 | I90: 3
A91: L4 | B91: 289002219 | C91: PDA Linearity Shunts | D91: TE | E91: Huazhen | G91: =IF(H91="","",I91-H91) -> 0 | H91: 1 | I91: 1
A92: L4 | B92: 289002227 | C92: Assy, Shunt Cell LG Small | D92: TE | E92: Huazhen | G92: =IF(H92="","",I92-H92) -> 0 | H92: 1 | I92: 1 | J92: 44013 | K92: 1
A93: L4 | B93: 700002825 | C93: Shunt Cell, Acquity TUV > K05UPT700 | D93: TE | E93: Huazhen | G93: =IF(H93="","",I93-H93) -> 1 | H93: 2 | I93: 3 | J93: 44013 | K93: 3
A94: L4 | B94: 01038-65 | C94: Weighing Balance Adapter 220V (Adapter only) | D94: TE | E94: Huazhen | G94: =IF(H94="","",I94-H94) | I94: 2
A95: L4 | B95: FA-24PS | C95: 24 Volt Powersupply | D95: TE | E95: Huazhen | G95: =IF(H95="","",I95-H95) | I95: 3
A96: L4 | B96: 71216SN2BL00, C111Q3 | C96: Parker Fluid Control DIV | D96: TE | E96: Huazhen | G96: =IF(H96="","",I96-H96) | I96: 2
A97: L4 | B97: 210000399 | C97: 2414 Front End Controller (Order at PN 700001116, ASSY, PCB, 2414 FRONT END BOARD) | D97: TE | E97: Huazhen | G97: =IF(I97-H97>0,0,I97-H97) -> -2 | H97: 2 | I97: =1+K97 -> 0 | J97: 44078 | K97: -1
A98: L4 | B98: 999041977-03 | C98: Backpressure Verification Sample, Assembly | D98: Tool | E98: Guan Yee | G98: =IF(H98="","",I98-H98) | I98: 1
A99: L4 | B99: 700005250 | C99: PCB, HTCH-A ACTIVE COL HEATER | D99: TE | E99: Huazhen | G99: =IF(H99="","",I99-H99) | I99: 1
A100: L5 | B100: 2510A2A17BNBN | C100: Brooks 2510 Flow Meter | D100: TE | E100: Huazhen | F100: QDA test bay | G100: =IF(H100="","",I100-H100) | I100: 2
...

Sheet TE
A1: Location | B1: Part # | C1: Deccription | D1: TE/Tool | E1: Ownership | F1: Remarks | G1: Need to order | H1: Safety Stock | I1: Balance | J1: Date in/out | K1: Quantity | L1: Date in/out | M1: Quantity | N1: Date in/out | O1: Quantity | P1: Date in/out | Q1: Quantity | R1: Date in/out | S1: Quantity | T1: Date in/out | U1: Quantity | V1: Date in/out | W1: Quantity | X1: Date in/out | Y1: Quantity | Z1: Date in/out | AA1: Quantity | AB1: Date in/out | AC1: Quantity | AD1: Date in/out | AE1: Quantity | AF1: Date in/out | AG1: Quantity | AH1: Date in/out | AI1: Quantity | AJ1: Date in/out | AK1: Quantity | AL1: Date in/out | AM1: Quantity | AN1: Date in/out | AO1: Quantity | AP1: Date in/out | AQ1: Quantity
A2: L1 | B2: 999027952-3 | C2: Dogpoint Screw tool | D2: Tool | E2: Guan Yee | I2: 14
A3: L1 | B3: 999028283 | C3: Fork Tool | D3: Tool | E3: Guan Yee | I3: 9
A4: L1 | B4: 999028283-1 | C4: Spare Fork | D4: Tool | E4: Guan Yee | I4: 8
A5: L1 | B5: 999029341 | C5: Fitting Tool | D5: Tool | E5: Guan Yee | I5: 6
A6: L1 | B6: 119646 | C6: Insertion Tool | D6: Tool | E6: Guan Yee | I6: 1
A7: L1 | B7: 999028048 | C7: Sleeve (Retaining ring press set) | D7: Tool | E7: Guan Yee | I7: 2
A8: L1 | B8: 999027952-2 | C8: Spanner Wrench | D8: Tool | E8: Guan Yee | I8: 1
A9: L1 | B9: 999026375-1 | C9: Torque Driver Fitting Tool | D9: Tool | E9: Guan Yee | I9: 1
A10: L1 | B10: 999027063 | C10: LED Holder Assy Tool | D10: Tool | E10: Guan Yee | I10: 1
A11: L1 | B11: 999029850 | C11: Check Valve Cable Assy Tool | D11: Tool | E11: Guan Yee | I11: 1
A12: L1 | B12: 999120050 | C12: Encoder Lock Tool | D12: Tool | E12: Guan Yee | I12: 2
A13: L1 | B13: 999039080 | C13: Clean Plate | D13: Tool | E13: Guan Yee | I13: 6
A14: L1 | B14: 119652 | C14: Press Tooling (Punch Pin Bearing Assy) | D14: Tool | E14: Guan Yee | I14: 1
A15: L1 | B15: P-299 | C15: Fitting Wrench (Extender Tool-Flangeless Nut ) | D15: Tool | E15: Guan Yee | I15: 2
A16: L1 | B16: 999027845 | C16: Plunger Asst Fix -Vista- | D16: Tool | E16: Guan Yee | I16: 1
A17: L1 | B17: 999026329 | C17: Encoder Alignment Tool | D17: Tool | E17: Guan Yee | I17: 2
A18: L1 | B18: 999026419 | C18: PCB Standoff Tool | D18: Tool | E18: Guan Yee | I18: 1
A19: L1 | B19: 888004188 | C19: Spacer | D19: Tool | E19: Guan Yee | I19: 1
A20: L1 | B20: WAT070216 | C20: BULK Head Fitting, 0.020 ID | D20: TE | E20: Huazhen | I20: 4
A21: L1 | B21: KR-515 | C21: Reticle 12 concentric circles 0.06 - 0.72 inch, frosted substrate, regular top, 27mm diameter | D21: TE | E21: Huazhen | I21: 1
A22: L1 | B22: KR-525 | C22: Reticle 30 concentric circles, frosted substrate, regular top, 30mm diameter | D22: TE | E22: Huazhen | I22: 1
A23: L1 | B23: WAT027629 | C23: Syringe Assembly 10ml Safety | D23: TE | E23: Huazhen | F23: ? Check physically | I23: 1
A24: L1 | B24: 201000197 | C24: I2V IBSM PM Kit (Incomplete set) | D24: TE | E24: Huazhen | I24: 1
A25: L1 | B25: 201000197 | C25: ACQUITY I2V BSM PERFORMANCE MAINT KIT | D25: TE | E25: Huazhen | G25: 0 | H25: 1 | I25: 1
A26: L1 | B26: 201000260 | C26: IBSM PM Kit | D26: TE | E26: Huazhen | I26: 1
A27: L1 | B27: 201000160 | C27: 1525 EF PM Kit (Incomplete set) | D27: TE | E27: Huazhen | I27: 1
A28: L1 | B28: 201000160 | C28: 1525 EF PM Kit | D28: TE | E28: Huazhen | I28: 1
A29: L1 | B29: 201000174 | C29: ACQUITY SAMPLE MGR PERFORM MAINT KIT | D29: TE | E29: Huazhen | G29: 0 | H29: 1 | I29: 1
A30: L1 | B30: 201000281 | C30: ACQUITY PDA/TUV 2489/2998 PERF MAINT KIT | D30: TE | E30: Huazhen | G30: 0 | H30: 1 | I30: 1
A31: L2 | B31: OTO2016 | C31: OTO2016 | D31: TE | E31: Huazhen | F31: Restrictor for tester | I31: 15
A32: L2 | B32: 430001208 | C32: Vent valve P2 to Tee/ filter | D32: TE | E32: Huazhen | I32: 8
A33: L2 | B33: WAT053502 | C33: PM Sticker | D33: TE | E33: Huazhen | I33: 190
A34: L2 | B34: RZZ pin | C34: RZZ pin for FTN | D34: TE | E34: Huazhen | I34: 2
A35: L2 | B35: PSL613315 | C35: fingertight ferrule | D35: TE | E35: Huazhen | I35: 5
A36: L2 | B36: 405008767 | C36: Cap valve for FTN line to cap for dust | D36: TE | E36: Huazhen | I36: 5
A37: L2 | B37: ULN2003A | C37: FTN Sensor | D37: TE | E37: Huazhen | I37: 12
A38: L2 | B38: 430003154 | C38: ASSY, WELDED TUBE, SS, .003 ID X 14.5 LG (Order at PN 700008869) | D38: TE | E38: Huazhen | G38: 0 | H38: 4 | I38: 6 | J38: 43844 | K38: -1
A39: L2 | B39: 430001101 | C39: Tubing assy for FTN | D39: TE | E39: Huazhen | F39: Is it necessary? Sell back to Venture | I39: 48
A40: L2 | B40: WAT026804 | C40: Tubing assy For FTN | D40: TE | E40: Huazhen | F40: Is it necessary? Sell back to Venture | I40: 7
A41: L2 | B41: 430001102 | C41: Tubing assy for FTN | D41: TE | E41: Huazhen | F41: Is it necessary? Sell back to Venture | I41: 48
A42: L2 | B42: 323000639 | C42: Connector HDR RA 1x15P B | D42: TE | E42: Huazhen | I42: 25
A43: L2 | B43: ULN2064B | C43: For FTN | D43: TE | E43: Huazhen | I43: 4
A44: L2 | B44: MC74HC14ANG | C44: For FTN | D44: TE | E44: Huazhen | I44: 4
A45: L2 | B45: 205000730 | C45: APH for FTN tester | D45: TE | E45: Huazhen | G45: 1 | H45: 2 | I45: 3
A46: L2 | B46: 205000894 | C46: ACQ. I-Class APH, SS, 12.5 LG, .003 ID (Tubing assy with Pre-heater for FTN Tester (Valve to column)) | D46: TE | E46: Huazhen | G46: 0 | H46: 2 | I46: 2
A47: L2 | B47: 700006052 | C47: ASSY, CART, VENT, DOGLEG, 18 KPSI, DOM (EVent valve for FTN, PN 289006541) | D47: TE | E47: Huazhen | G47: 0 | H47: 3 | I47: 3
A48: L2 | B48: 700010979 | C48: Netgear 5 port switch | D48: TE | E48: Huazhen | I48: 1
A49: L2 | B49: 430003141 | C49: Samp Needle, 20uL(Order PN: 700005928) | D49: TE | E49: Huazhen | I49: 1
A50: L2 | B50: 205000610 | C50: Acquity UPLC TUV 5mm SS FC | D50: TE | E50: Huazhen | I50: 1
A51: L3 | B51: 187805-01 | C51: IMAQ - A6804 NI Cable for detector | D51: TE | E51: Huazhen | I51: 1
A52: L3 | B52: 779168-01 | C52: NI Connector and backshell for PXI-258x switches | D52: TE | E52: Huazhen | I52: 1
A53: L3 | B53: CF25048M312590 | C53: light pipe for detector | D53: TE | E53: Huazhen | I53: 1
A54: L3 | B54: WAT097323 | C54: WAT097323 lamp assy | D54: TE | E54: Huazhen | I54: 4
A55: L3 | B55: 700001722 | C55: 15V @ 1.5A power supply (725000541) | D55: TE | E55: Huazhen | I55: 1
A56: L3 | B56: WAT027-08 | C56: Peek tubing .062OD x .040ID | D56: TE | E56: Huazhen | I56: 3
A57: L3 | B57: PCBA for TE82888 | C57: Interface PCBA for Rough Alignment Tester TE82888 | D57: TE | E57: Huazhen | I57: 1
A58: L3 | B58: 700004156 | C58: Cuvette Set | D58: TE | E58: Huazhen | G58: 0 | H58: 3 | I58: 6
A59: L3 | B59: WAS081324 | C59: 2487 lamp power supply | D59: TE | E59: Huazhen | I59: 2
A60: L3 | B60: 700003639 | C60: 160GB Harddisk | D60: TE | E60: Huazhen | I60: 2
A61: L3 | B61: 700008988 | C61: 250GB Harddisk | D61: TE | E61: Huazhen | I61: 4
A62: L3 | B62: Harddisk for Richport | C62: Harddisk for Richport | D62: TE | E62: Huazhen | F62: HDD for PC | I62: 1
A63: R3 | B63: 700003090 | C63: Lace Power Supply 350W | D63: TE | E63: Huazhen | G63: -1 | H63: 3 | I63: 2 | J63: 44169 | K63: -1
A64: L3 | B64: 289001438 | C64: Aperture hole | D64: TE | E64: Huazhen | I64: 1
A65: L3 | B65: WAS207069 | C65: 515 PLUNGER | D65: TE | E65: Huazhen | G65: 0 | H65: 4 | I65: 4
A66: L3 | B66: WAT022934 | C66: Seal, Clear-100 | D66: TE | E66: Huazhen | G66: 0 | H66: 4 | I66: 4
A67: L3 | B67: 210000520 | C67: 2 CPU'S for 210000478 | D67: TE | E67: Huazhen | I67: 1
A68: L3 | B68: 289006760 | C68: ASSY, CARTRIDGE, CM, 18 KPSI (Order at PN 205000877 (2 per), KIT, VALVE CARTRIDGES, SS I-Class CM-A) | D68: TE | E68: Huazhen | G68: -2 | H68: 2 | I68: 0 | J68: 43950 | K68: -2
A69: L4 | B69: QW2120 | C69: QW2120 barcode scanner | D69: TE | E69: Huazhen | I69: 3
A70: L4 | B70: Mesur Matic PCBA | C70: NA | D70: TE | E70: Huazhen | I70: 2
A71: R6 | B71: 205015016 | C71: ACQUITY UPLC ID Cell TUV, Analytical (TUV Flowcell) | D71: TE | E71: Huazhen | F71: Reusable after PM done by Milford | G71: 0 | H71: 8 | I71: 1 | J71: 44169 | K71: -4
A72: L4 | B72: 779065-01 (NI-6220) | C72: NI PCI-6220 M series DAQ | D72: TE | E72: Huazhen | G72: 0 | I72: 1
A73: L4 | B73: 1P301-1001-11 (Edgeport) | C73: Edgeport USB to Serial Converter (SN:E40672141) | D73: TE | E73: Huazhen | I73: 4
A74: L4 | B74: 289002450 | C74: TUV Shunts | D74: TE | E74: Huazhen | G74: 0 | H74: 2 | I74: 3
A75: L4 | B75: 289002226 | C75: Shunt cell, Acquity PDA (PDA Medium Shunts. Order at PN 700002874) | D75: TE | E75: Huazhen | G75: 0 | H75: 3 | I75: 4 | J75: 44013 | K75: 3 | L75: 44152 | M75: -2
A76: L4 | B76: 289002149 | C76: PDA Large Shunts | D76: TE | E76: Huazhen | G76: 1 | H76: 2 | I76: 3
A77: L4 | B77: 289002219 | C77: PDA Linearity Shunts | D77: TE | E77: Huazhen | G77: 0 | H77: 1 | I77: 1
A78: L4 | B78: 289002227 | C78: Assy, Shunt Cell LG Small | D78: TE | E78: Huazhen | G78: 0 | H78: 1 | I78: 1 | J78: 44013 | K78: 1
A79: L4 | B79: 700002825 | C79: Shunt Cell, Acquity TUV > K05UPT700 | D79: TE | E79: Huazhen | G79: 1 | H79: 2 | I79: 3 | J79: 44013 | K79: 3
A80: L4 | B80: 01038-65 | C80: Weighing Balance Adapter 220V (Adapter only) | D80: TE | E80: Huazhen | I80: 2
A81: L4 | B81: FA-24PS | C81: 24 Volt Powersupply | D81: TE | E81: Huazhen | I81: 3
A82: L4 | B82: 71216SN2BL00, C111Q3 | C82: Parker Fluid Control DIV | D82: TE | E82: Huazhen | I82: 2
A83: L4 | B83: 210000399 | C83: 2414 Front End Controller (Order at PN 700001116, ASSY, PCB, 2414 FRONT END BOARD) | D83: TE | E83: Huazhen | G83: -2 | H83: 2 | I83: 0 | J83: 44078 | K83: -1
A84: L4 | B84: 700005250 | C84: PCB, HTCH-A ACTIVE COL HEATER | D84: TE | E84: Huazhen | I84: 1
A85: L5 | B85: 2510A2A17BNBN | C85: Brooks 2510 Flow Meter | D85: TE | E85: Huazhen | F85: QDA test bay | I85: 2
A86: R1 | B86: 779647-30 | C86: National Instruments PXI-4130 Power SMU (SN 160B96F For GTS) | D86: TE | E86: Huazhen | I86: 1
A87: R1 | B87: 779630-01 | C87: National Instruments PXI-6229 M Series Multifunction DAQ (For GTS (S/N: 164D2A9 & 164D2B4)) | D87: TE | E87: Huazhen | I87: 2
A88: R1 | B88: TJ36-CPSS-18U-2 | C88: Omega for Alliance/ Velox Column Heater for GES | D88: TE | E88: Huazhen | I88: 3
A89: R1 | B89: 778032-01 | C89: PCI-GPIB, NI 488.2 for Windows | D89: TE | E89: Huazhen | I89: 1
A90: R1 | B90: 763061-02 | C90: NI Type X2, GPIB 2 meter calbe | D90: TE | E90: Huazhen | I90: 1
A91: R2 | B91: P-L-1/10-1/8-2-0-T-3 | C91: Omega for 5042 | D91: TE | E91: Huazhen | G91: 1 | H91: 2 | I91: 3 | J91: 43990 | K91: -1
A92: R1 | B92: 442000135 | C92: UK Power Cord | D92: TE | E92: Huazhen | I92: 8
A93: R2 | B93: 441001128 | C93: Home/ Away latch sensor for ASO | D93: TE | E93: Huazhen | I93: 3
A94: R2 | B94: spare CPU connector | C94: spare CPU connector for FCT fixture | D94: TE | E94: Huazhen | I94: 6
A95: R2 | B95: 700001351 | C95: ASSY, PCB, DEGASSER AF for CEI PCBA | D95: TE | E95: Huazhen | I95: 3
A96: R2 | B96: 725000459 | C96: ASSY, PCB, DEGASSER, QSPI MULTI-PERS (Order at PN# 700002511) | D96: TE | E96: Huazhen | G96: 0 | H96: 2 | I96: 3 | J96: 44078 | K96: -1 | L96: 44117 | M96: -2
A97: R2 | B97: 21000552 | C97: Tray Latch sensor for CEI ASO | D97: TE | E97: Huazhen | I97: 2
A98: R2 | B98: 210000190 | C98: PCB Column Heater/Cooler | D98: TE | E98: Huazhen | I98: 3
A99: R2 | B99: 7078-TRX-5 (Keithley) | C99: 7078-TRX-5 CABLE, TRIAX, 3 SLOT LOW NOISE, 1.5M | D99: TE | E99: Huazhen | I99: 1
A100: R2 | B100: WAT056370 | C100: PCB CPU (Old Version) for Pump tray tester | D100: TE | E100: Huazhen | G100: 0 | H100: 1 | I100: 1 | J100: 44172 | K100: -1 | L100: 44264 | M100: 2 | N100: 44266 | O100: -1
...

Sheet Tool
A1: Location | B1: Part # | C1: Deccription | D1: TE/Tool | E1: Ownership | F1: Remarks | G1: Need to order | H1: Safety Stock | I1: Balance | J1: Date in/out | K1: Quantity | L1: Date in/out | M1: Quantity | N1: Date in/out | O1: Quantity | P1: Date in/out | Q1: Quantity | R1: Date in/out | S1: Quantity | T1: Date in/out | U1: Quantity | V1: Date in/out | W1: Quantity | X1: Date in/out | Y1: Quantity | Z1: Date in/out | AA1: Quantity | AB1: Date in/out | AC1: Quantity | AD1: Date in/out | AE1: Quantity | AF1: Date in/out | AG1: Quantity | AH1: Date in/out | AI1: Quantity | AJ1: Date in/out | AK1: Quantity | AL1: Date in/out | AM1: Quantity | AN1: Date in/out | AO1: Quantity | AP1: Date in/out | AQ1: Quantity
A2: L1 | B2: 999027952-3 | C2: Dogpoint Screw tool | D2: Tool | E2: Guan Yee | I2: 14
A3: L1 | B3: 999028283 | C3: Fork Tool | D3: Tool | E3: Guan Yee | I3: 9
A4: L1 | B4: 999028283-1 | C4: Spare Fork | D4: Tool | E4: Guan Yee | I4: 8
A5: L1 | B5: 999029341 | C5: Fitting Tool | D5: Tool | E5: Guan Yee | I5: 6
A6: L1 | B6: 119646 | C6: Insertion Tool | D6: Tool | E6: Guan Yee | I6: 1
A7: L1 | B7: 999028048 | C7: Sleeve (Retaining ring press set) | D7: Tool | E7: Guan Yee | I7: 2
A8: L1 | B8: 999027952-2 | C8: Spanner Wrench | D8: Tool | E8: Guan Yee | I8: 1
A9: L1 | B9: 999026375-1 | C9: Torque Driver Fitting Tool | D9: Tool | E9: Guan Yee | I9: 1
A10: L1 | B10: 999027063 | C10: LED Holder Assy Tool | D10: Tool | E10: Guan Yee | I10: 1
A11: L1 | B11: 999029850 | C11: Check Valve Cable Assy Tool | D11: Tool | E11: Guan Yee | I11: 1
A12: L1 | B12: 999120050 | C12: Encoder Lock Tool | D12: Tool | E12: Guan Yee | I12: 2
A13: L1 | B13: 999039080 | C13: Clean Plate | D13: Tool | E13: Guan Yee | I13: 6
A14: L1 | B14: 119652 | C14: Press Tooling (Punch Pin Bearing Assy) | D14: Tool | E14: Guan Yee | I14: 1
A15: L1 | B15: P-299 | C15: Fitting Wrench (Extender Tool-Flangeless Nut ) | D15: Tool | E15: Guan Yee | I15: 2
A16: L1 | B16: 999027845 | C16: Plunger Asst Fix -Vista- | D16: Tool | E16: Guan Yee | I16: 1
A17: L1 | B17: 999026329 | C17: Encoder Alignment Tool | D17: Tool | E17: Guan Yee | I17: 2
A18: L1 | B18: 999026419 | C18: PCB Standoff Tool | D18: Tool | E18: Guan Yee | I18: 1
A19: L1 | B19: 888004188 | C19: Spacer | D19: Tool | E19: Guan Yee | I19: 1
A20: L1 | B20: WAT070216 | C20: BULK Head Fitting, 0.020 ID | D20: TE | E20: Huazhen | I20: 4
A21: L1 | B21: KR-515 | C21: Reticle 12 concentric circles 0.06 - 0.72 inch, frosted substrate, regular top, 27mm diameter | D21: TE | E21: Huazhen | I21: 1
A22: L1 | B22: KR-525 | C22: Reticle 30 concentric circles, frosted substrate, regular top, 30mm diameter | D22: TE | E22: Huazhen | I22: 1
A23: L1 | B23: 999038140 | C23: WRENCH FOR KNURLED NUT 405015874 | D23: Tool | E23: Guan Yee | I23: 2
A24: L1 | B24: WAT027629 | C24: Syringe Assembly 10ml Safety | D24: TE | E24: Huazhen | F24: ? Check physically | I24: 1
A25: L1 | B25: 201000197 | C25: I2V IBSM PM Kit (Incomplete set) | D25: TE | E25: Huazhen | G25: =IF(H25="","",I25-H25) | I25: 1
A26: L1 | B26: 201000197 | C26: ACQUITY I2V BSM PERFORMANCE MAINT KIT | D26: TE | E26: Huazhen | G26: =IF(I26-H26>0,0,I26-H26) -> 0 | H26: 1 | I26: 1
A27: L1 | B27: 201000260 | C27: IBSM PM Kit | D27: TE | E27: Huazhen | G27: =IF(H27="","",I27-H27) | I27: 1
A28: L1 | B28: 201000160 | C28: 1525 EF PM Kit (Incomplete set) | D28: TE | E28: Huazhen | G28: =IF(H28="","",I28-H28) | I28: 1
A29: L1 | B29: 201000160 | C29: 1525 EF PM Kit | D29: TE | E29: Huazhen | G29: =IF(H29="","",I29-H29) | I29: 1
A30: L1 | B30: 201000174 | C30: ACQUITY SAMPLE MGR PERFORM MAINT KIT | D30: TE | E30: Huazhen | G30: =IF(I30-H30>0,0,I30-H30) -> 0 | H30: 1 | I30: 1
A31: L1 | B31: 201000281 | C31: ACQUITY PDA/TUV 2489/2998 PERF MAINT KIT | D31: TE | E31: Huazhen | G31: =IF(I31-H31>0,0,I31-H31) -> 0 | H31: 1 | I31: 1
A32: L2 | B32: OTO2016 | C32: OTO2016 | D32: TE | E32: Huazhen | F32: Restrictor for tester | G32: =IF(H32="","",I32-H32) | I32: 15
A33: L2 | B33: 430001208 | C33: Vent valve P2 to Tee/ filter | D33: TE | E33: Huazhen | G33: =IF(H33="","",I33-H33) | I33: 8
A34: L2 | B34: 9513K18 | C34: color coded 0.0075" plastic shim for FTN | D34: Tool | E34: Guan Yee | G34: =IF(H34="","",I34-H34) | I34: 7
A35: L2 | B35: 9513K19 | C35: color coded 0.010" plastic shim for FTN | D35: Tool | E35: Guan Yee | G35: =IF(H35="","",I35-H35) | I35: 7
A36: L2 | B36: WAT053502 | C36: PM Sticker | D36: TE | E36: Huazhen | G36: =IF(H36="","",I36-H36) | I36: 190
A37: L2 | B37: RZZ pin | C37: RZZ pin for FTN | D37: TE | E37: Huazhen | G37: =IF(H37="","",I37-H37) | I37: 2
A38: L2 | B38: PSL613315 | C38: fingertight ferrule | D38: TE | E38: Huazhen | G38: =IF(H38="","",I38-H38) | I38: 5
A39: L2 | B39: 405008767 | C39: Cap valve for FTN line to cap for dust | D39: TE | E39: Huazhen | G39: =IF(H39="","",I39-H39) | I39: 5
A40: L2 | B40: ULN2003A | C40: FTN Sensor | D40: TE | E40: Huazhen | G40: =IF(H40="","",I40-H40) | I40: 12
A41: L2 | B41: 430003154 | C41: ASSY, WELDED TUBE, SS, .003 ID X 14.5 LG (Order at PN 700008869) | D41: TE | E41: Huazhen | G41: =IF(I41-H41>0,0,I41-H41) -> 0 | H41: 4 | I41: =7+K41 -> 6 | J41: 43844 | K41: -1
A42: L2 | B42: 430001101 | C42: Tubing assy for FTN | D42: TE | E42: Huazhen | F42: Is it necessary? Sell back to Venture | G42: =IF(H42="","",I42-H42) | I42: 48
A43: L2 | B43: WAT026804 | C43: Tubing assy For FTN | D43: TE | E43: Huazhen | F43: Is it necessary? Sell back to Venture | G43: =IF(H43="","",I43-H43) | I43: 7
A44: L2 | B44: 430001102 | C44: Tubing assy for FTN | D44: TE | E44: Huazhen | F44: Is it necessary? Sell back to Venture | G44: =IF(H44="","",I44-H44) | I44: 48
A45: L2 | B45: 323000639 | C45: Connector HDR RA 1x15P B | D45: TE | E45: Huazhen | G45: =IF(H45="","",I45-H45) | I45: 25
A46: L2 | B46: ULN2064B | C46: For FTN | D46: TE | E46: Huazhen | G46: =IF(H46="","",I46-H46) | I46: 4
A47: L2 | B47: MC74HC14ANG | C47: For FTN | D47: TE | E47: Huazhen | G47: =IF(H47="","",I47-H47) | I47: 4
A48: L2 | B48: 205000730 | C48: APH for FTN tester | D48: TE | E48: Huazhen | G48: =IF(H48="","",I48-H48) -> 1 | H48: 2 | I48: 3
A49: L2 | B49: 205000894 | C49: ACQ. I-Class APH, SS, 12.5 LG, .003 ID (Tubing assy with Pre-heater for FTN Tester (Valve to column)) | D49: TE | E49: Huazhen | G49: =IF(I49-H49>0,0,I49-H49) -> 0 | H49: 2 | I49: 2
A50: L2 | B50: 700006052 | C50: ASSY, CART, VENT, DOGLEG, 18 KPSI, DOM (EVent valve for FTN, PN 289006541) | D50: TE | E50: Huazhen | G50: =IF(I50-H50>0,0,I50-H50) -> 0 | H50: 3 | I50: 3
A51: L2 | B51: 700010979 | C51: Netgear 5 port switch | D51: TE | E51: Huazhen | G51: =IF(H51="","",I51-H51) | I51: 1
A52: L2 | B52: 999032368 | C52: Socket Weldment, Upchurch SG HS: 82055900 | D52: Tool | E52: Guan Yee | G52: =IF(H52="","",I52-H52) | I52: 5
A53: L2 | B53: 430003141 | C53: Samp Needle, 20uL(Order PN: 700005928) | D53: TE | E53: Huazhen | G53: =IF(H53="","",I53-H53) | I53: 1
A54: L2 | B54: 999038882 | C54: Modified Nut Driver | D54: Tool | E54: Guan Yee | G54: =IF(H54="","",I54-H54) | I54: 1
A55: L2 | B55: 999041596 | C55: Gage for 50ML wand | D55: Tool | E55: Guan Yee | G55: =IF(H55="","",I55-H55) | I55: 1
A56: L2 | B56: 999041597 | C56: Gage for 100ML wand | D56: Tool | E56: Guan Yee | G56: =IF(H56="","",I56-H56) | I56: 1
A57: L2 | B57: 205000610 | C57: Acquity UPLC TUV 5mm SS FC | D57: TE | E57: Huazhen | I57: 1
A58: L2 | B58: CL-66-CTK | C58: CL-66-CTK | D58: Tool | E58: Guan Yee | I58: 4
A59: L3 | B59: 187805-01 | C59: IMAQ - A6804 NI Cable for detector | D59: TE | E59: Huazhen | G59: =IF(H59="","",I59-H59) | I59: 1
A60: L3 | B60: 779168-01 | C60: NI Connector and backshell for PXI-258x switches | D60: TE | E60: Huazhen | I60: 1
A61: L3 | B61: WAT046-12 | C61: COMP SCREW 1/8 PEEK | G61: =IF(H61="","",I61-H61) | I61: 5
A62: L3 | B62: CF25048M312590 | C62: light pipe for detector | D62: TE | E62: Huazhen | G62: =IF(H62="","",I62-H62) | I62: 1
A63: L3 | B63: WAT097323 | C63: WAT097323 lamp assy | D63: TE | E63: Huazhen | G63: =IF(H63="","",I63-H63) | I63: 4
A64: L3 | B64: 700001722 | C64: 15V @ 1.5A power supply (725000541) | D64: TE | E64: Huazhen | G64: =IF(H64="","",I64-H64) | I64: 1
A65: L3 | B65: WAT027-08 | C65: Peek tubing .062OD x .040ID | D65: TE | E65: Huazhen | G65: =IF(H65="","",I65-H65) | I65: 3
A66: L3 | B66: PCBA for TE82888 | C66: Interface PCBA for Rough Alignment Tester TE82888 | D66: TE | E66: Huazhen | G66: =IF(H66="","",I66-H66) | I66: 1
A67: L3 | B67: WAT011042 | C67: BSM PM Plunger tool | D67: Tool | E67: Guan Yee | G67: =IF(H67="","",I67-H67) | I67: 1
A68: L3 | B68: 700004156 | C68: Cuvette Set | D68: TE | E68: Huazhen | G68: =IF(I68-H68>0,0,I68-H68) -> 0 | H68: 3 | I68: 6
A69: L3 | B69: WAS081324 | C69: 2487 lamp power supply | D69: TE | E69: Huazhen | G69: =IF(H69="","",I69-H69) | I69: 2
A70: L3 | B70: 700003639 | C70: 160GB Harddisk | D70: TE | E70: Huazhen | G70: =IF(H70="","",I70-H70) | I70: 2
A71: L3 | B71: 700008988 | C71: 250GB Harddisk | D71: TE | E71: Huazhen | G71: =IF(H71="","",I71-H71) | I71: 4
A72: L3 | B72: Harddisk for Richport | C72: Harddisk for Richport | D72: TE | E72: Huazhen | F72: HDD for PC | G72: =IF(H72="","",I72-H72) | I72: 1
A73: R3 | B73: 700003090 | C73: Lace Power Supply 350W | D73: TE | E73: Huazhen | G73: =IF(I73-H73>0,0,I73-H73) -> 0 | H73: 3 | I73: 3
A74: L3 | B74: 999028048 | C74: NA | D74: Tool | E74: Guan Yee | G74: =IF(H74="","",I74-H74) | I74: 3
A75: L3 | B75: WAT035190 | C75: Inline Filter Assy | D75: Tool | E75: Guan Yee | G75: =IF(H75="","",I75-H75) | I75: 1
A76: L3 | B76: 9027905430 | C76: Pin hole aperture tool | D76: Tool | E76: Guan Yee | G76: =IF(H76="","",I76-H76) | I76: 4
A77: L3 | B77: 999038868 | C77: 0.030 Thick Setting Gage for 279001950 | D77: Tool | E77: Kwan | F77: Comes in packs of 20 | I77: =240+K77 -> 220 | J77: 44225 | K77: -20
A78: L3 | B78: 289001438 | C78: Aperture hole | D78: TE | E78: Huazhen | I78: 1
A79: L3 | B79: WAS207069 | C79: 515 PLUNGER | D79: TE | E79: Huazhen | G79: =IF(I79-H79>0,0,I79-H79) -> 0 | H79: 4 | I79: 4
A80: L3 | B80: WAT022934 | C80: Seal, Clear-100 | D80: TE | E80: Huazhen | G80: =IF(I80-H80>0,0,I80-H80) -> 0 | H80: 4 | I80: 4
A81: L3 | B81: 210000520 | C81: 2 CPU'S for 210000478 | D81: TE | E81: Huazhen | G81: =IF(H81="","",I81-H81) | I81: 1
A82: L3 | B82: 289006760 | C82: ASSY, CARTRIDGE, CM, 18 KPSI (Order at PN 205000877 (2 per), KIT, VALVE CARTRIDGES, SS I-Class CM-A) | D82: TE | E82: Huazhen | G82: =IF(I82-H82>0,0,I82-H82) -> 0 | H82: 2 | I82: 2
A83: L3 | B83: 002261-BJ-BA-00 | C83: Filament Assembly | G83: =IF(H83="","",I83-H83) | I83: 1
A84: L4 | B84: QW2120 | C84: QW2120 barcode scanner | D84: TE | E84: Huazhen | G84: =IF(H84="","",I84-H84) | I84: 3
A85: L4 | B85: Mesur Matic PCBA | C85: NA | D85: TE | E85: Huazhen | G85: =IF(H85="","",I85-H85) | I85: 2
A86: L4 | B86: TBI SN-1X | C86: SHIM | D86: Tool | E86: Guan Yee | G86: =IF(H86="","",I86-H86) | I86: 2
A87: R6 | B87: 205015016 | C87: ACQUITY UPLC ID Cell TUV, Analytical (TUV Flowcell) | D87: TE | E87: Huazhen | F87: Reusable after PM done by Milford | G87: =IF(I91-H91>0,0,I91-H91) -> 0 | H87: 8 | I87: 5
A88: L4 | B88: 779065-01 (NI-6220) | C88: NI PCI-6220 M series DAQ | D88: TE | E88: Huazhen | G88: =IF(I92-H92>0,0,I92-H92) -> 0 | I88: 1
A89: L4 | B89: 1P301-1001-11 (Edgeport) | C89: Edgeport USB to Serial Converter (SN:E40672141) | D89: TE | E89: Huazhen | I89: 4
A90: L4 | B90: 289002450 | C90: TUV Shunts | D90: TE | G90: =IF(I96-H96>0,0,I96-H96) -> 0 | H90: 2 | I90: 3
A91: L4 | B91: 289002226 | C91: Shunt cell, Acquity PDA (PDA Medium Shunts. Order at PN 700002874) | D91: TE | E91: Huazhen | G91: =IF(I97-H97>0,0,I97-H97) -> 0 | H91: =3 -> 3 | I91: =3+K91+M91 -> 4 | J91: 44013 | K91: 3 | L91: 44152 | M91: -2
A92: L4 | B92: 289002149 | C92: PDA Large Shunts | D92: TE | G92: =IF(H92="","",I92-H92) -> 1 | H92: 2 | I92: 3
A93: L4 | B93: 289002219 | C93: PDA Linearity Shunts | D93: TE | G93: =IF(H93="","",I93-H93) -> 0 | H93: 1 | I93: 1
A94: L4 | B94: 289002227 | C94: Assy, Shunt Cell LG Small | D94: TE | G94: =IF(H94="","",I94-H94) -> 0 | H94: 1 | I94: 1 | J94: 44013 | K94: 1
A95: L4 | B95: 700002825 | C95: Shunt Cell, Acquity TUV > K05UPT700 | D95: TE | G95: =IF(H95="","",I95-H95) -> 1 | H95: 2 | I95: 3 | J95: 44013 | K95: 3
A96: L4 | B96: 01038-65 | C96: Weighing Balance Adapter 220V (Adapter only) | D96: TE | E96: Huazhen | G96: =IF(H96="","",I96-H96) | I96: 2
A97: L4 | B97: FA-24PS | C97: 24 Volt Powersupply | D97: TE | E97: Huazhen | G97: =IF(H97="","",I97-H97) | I97: 3
A98: L4 | B98: 71216SN2BL00, C111Q3 | C98: Parker Fluid Control DIV | D98: TE | E98: Huazhen | G98: =IF(H98="","",I98-H98) | I98: 2
A99: L4 | B99: 210000399 | C99: 2414 Front End Controller (Order at PN 700001116, ASSY, PCB, 2414 FRONT END BOARD) | D99: TE | E99: Huazhen | G99: =IF(I99-H99>0,0,I99-H99) -> -2 | H99: 2 | I99: =1+K99 -> 0 | J99: 44078 | K99: -1
A100: L4 | B100: 999041977-03 | C100: Backpressure Verification Sample, Assembly | D100: Tool | E100: Guan Yee | G100: =IF(H100="","",I100-H100) | I100: 1
...

Sheet Measuring equipment
A1: Location | B1: Part # | C1: Deccription | D1: TE/Tool/Consumable | E1: Ownership | F1: Remarks | G1: Need to order | H1: Safety Stock | I1: Balance | J1: Date in/out | K1: Quantity | L1: Date in/out | M1: Quantity | N1: Date in/out | O1: Quantity | P1: Date in/out | Q1: Quantity | R1: Date in/out | S1: Quantity | T1: Date in/out | U1: Quantity | V1: Date in/out | W1: Quantity | X1: Date in/out | Y1: Quantity | Z1: Date in/out | AA1: Quantity | AB1: Date in/out | AC1: Quantity | AD1: Date in/out | AE1: Quantity | AF1: Date in/out | AG1: Quantity | AH1: Date in/out | AI1: Quantity | AJ1: Date in/out | AK1: Quantity | AL1: Date in/out | AM1: Quantity | AN1: Date in/out | AO1: Quantity | AP1: Date in/out | AQ1: Quantity
A2: L1 | B2: 999027952-3 | C2: Dogpoint Screw tool | D2: Tool | E2: Guan Yee | I2: 14
A3: L1 | B3: 999028283 | C3: Fork Tool | D3: Tool | E3: Guan Yee | I3: 9
A4: L1 | B4: 999028283-1 | C4: Spare Fork | D4: Tool | E4: Guan Yee | I4: 8
A5: L1 | B5: 999029341 | C5: Fitting Tool | D5: Tool | E5: Guan Yee | I5: 6
A6: L1 | B6: 119646 | C6: Insertion Tool | D6: Tool | E6: Guan Yee | I6: 1
A7: L1 | B7: 999028048 | C7: Sleeve (Retaining ring press set) | D7: Tool | E7: Guan Yee | I7: 2
A8: L1 | B8: 999027952-2 | C8: Spanner Wrench | D8: Tool | E8: Guan Yee | I8: 1
A9: L1 | B9: 999026375-1 | C9: Torque Driver Fitting Tool | D9: Tool | E9: Guan Yee | I9: 1
A10: L1 | B10: 999027063 | C10: LED Holder Assy Tool | D10: Tool | E10: Guan Yee | I10: 1
A11: L1 | B11: 999029850 | C11: Check Valve Cable Assy Tool | D11: Tool | E11: Guan Yee | I11: 1
A12: L1 | B12: 999120050 | C12: Encoder Lock Tool | D12: Tool | E12: Guan Yee | I12: 2
A13: L1 | B13: 999039080 | C13: Clean Plate | D13: Tool | E13: Guan Yee | I13: 6
A14: L1 | B14: 119652 | C14: Press Tooling (Punch Pin Bearing Assy) | D14: Tool | E14: Guan Yee | I14: 1
A15: L1 | B15: P-299 | C15: Fitting Wrench (Extender Tool-Flangeless Nut ) | D15: Tool | E15: Guan Yee | I15: 2
A16: L1 | B16: 999027845 | C16: Plunger Asst Fix -Vista- | D16: Tool | E16: Guan Yee | I16: 1
A17: L1 | B17: 999026329 | C17: Encoder Alignment Tool | D17: Tool | E17: Guan Yee | I17: 2
A18: L1 | B18: 999026419 | C18: PCB Standoff Tool | D18: Tool | E18: Guan Yee | I18: 1
A19: L1 | B19: 888004188 | C19: Spacer | D19: Tool | E19: Guan Yee | I19: 1
A20: L1 | B20: WAT070216 | C20: BULK Head Fitting, 0.020 ID | D20: TE | E20: Huazhen | I20: 4
A21: L1 | B21: KR-515 | C21: Reticle 12 concentric circles 0.06 - 0.72 inch, frosted substrate, regular top, 27mm diameter | D21: TE | E21: Huazhen | I21: 1
A22: L1 | B22: KR-525 | C22: Reticle 30 concentric circles, frosted substrate, regular top, 30mm diameter | D22: TE | E22: Huazhen | I22: 1
A23: L1 | B23: 999038140 | C23: WRENCH FOR KNURLED NUT 405015874 | D23: Tool | E23: Guan Yee | I23: 2
A24: L1 | B24: WAT027629 | C24: Syringe Assembly 10ml Safety | D24: TE | E24: Huazhen | F24: ? Check physically | I24: 1
A25: L1 | B25: 201000197 | C25: I2V IBSM PM Kit (Incomplete set) | D25: TE | E25: Huazhen | G25: =IF(H25="","",I25-H25) | I25: 1
A26: L1 | B26: 201000197 | C26: ACQUITY I2V BSM PERFORMANCE MAINT KIT | D26: TE | E26: Huazhen | G26: =IF(I26-H26>0,0,I26-H26) -> 0 | H26: 1 | I26: 1
A27: L1 | B27: 201000260 | C27: IBSM PM Kit | D27: TE | E27: Huazhen | G27: =IF(H27="","",I27-H27) | I27: 1
A28: L1 | B28: 201000160 | C28: 1525 EF PM Kit (Incomplete set) | D28: TE | E28: Huazhen | G28: =IF(H28="","",I28-H28) | I28: 1
A29: L1 | B29: 201000160 | C29: 1525 EF PM Kit | D29: TE | E29: Huazhen | G29: =IF(H29="","",I29-H29) | I29: 1
A30: L1 | B30: 201000174 | C30: ACQUITY SAMPLE MGR PERFORM MAINT KIT | D30: TE | E30: Huazhen | G30: =IF(I30-H30>0,0,I30-H30) -> 0 | H30: 1 | I30: 1
A31: L1 | B31: 201000281 | C31: ACQUITY PDA/TUV 2489/2998 PERF MAINT KIT | D31: TE | E31: Huazhen | G31: =IF(I31-H31>0,0,I31-H31) -> 0 | H31: 1 | I31: 1
A32: L2 | B32: OTO2016 | C32: OTO2016 | D32: TE | E32: Huazhen | F32: Restrictor for tester | G32: =IF(H32="","",I32-H32) | I32: 15
A33: L2 | B33: 430001208 | C33: Vent valve P2 to Tee/ filter | D33: TE | E33: Huazhen | G33: =IF(H33="","",I33-H33) | I33: 8
A34: L2 | B34: 9513K18 | C34: color coded 0.0075" plastic shim for FTN | D34: Tool | E34: Guan Yee | G34: =IF(H34="","",I34-H34) | I34: 7
A35: L2 | B35: 9513K19 | C35: color coded 0.010" plastic shim for FTN | D35: Tool | E35: Guan Yee | G35: =IF(H35="","",I35-H35) | I35: 7
A36: L2 | B36: WAT053502 | C36: PM Sticker | D36: TE | E36: Huazhen | G36: =IF(H36="","",I36-H36) | I36: 190
A37: L2 | B37: RZZ pin | C37: RZZ pin for FTN | D37: TE | E37: Huazhen | G37: =IF(H37="","",I37-H37) | I37: 2
A38: L2 | B38: PSL613315 | C38: fingertight ferrule | D38: TE | E38: Huazhen | G38: =IF(H38="","",I38-H38) | I38: 5
A39: L2 | B39: 405008767 | C39: Cap valve for FTN line to cap for dust | D39: TE | E39: Huazhen | G39: =IF(H39="","",I39-H39) | I39: 5
A40: L2 | B40: ULN2003A | C40: FTN Sensor | D40: TE | E40: Huazhen | G40: =IF(H40="","",I40-H40) | I40: 12
A41: L2 | B41: 430003154 | C41: ASSY, WELDED TUBE, SS, .003 ID X 14.5 LG (Order at PN 700008869) | D41: TE | E41: Huazhen | G41: =IF(I41-H41>0,0,I41-H41) -> 0 | H41: 4 | I41: =7+K41 -> 6 | J41: 43844 | K41: -1
A42: L2 | B42: 430001101 | C42: Tubing assy for FTN | D42: TE | E42: Huazhen | F42: Is it necessary? Sell back to Venture | G42: =IF(H42="","",I42-H42) | I42: 48
A43: L2 | B43: WAT026804 | C43: Tubing assy For FTN | D43: TE | E43: Huazhen | F43: Is it necessary? Sell back to Venture | G43: =IF(H43="","",I43-H43) | I43: 7
A44: L2 | B44: 430001102 | C44: Tubing assy for FTN | D44: TE | E44: Huazhen | F44: Is it necessary? Sell back to Venture | G44: =IF(H44="","",I44-H44) | I44: 48
A45: L2 | B45: 323000639 | C45: Connector HDR RA 1x15P B | D45: TE | E45: Huazhen | G45: =IF(H45="","",I45-H45) | I45: 25
A46: L2 | B46: ULN2064B | C46: For FTN | D46: TE | E46: Huazhen | G46: =IF(H46="","",I46-H46) | I46: 4
A47: L2 | B47: MC74HC14ANG | C47: For FTN | D47: TE | E47: Huazhen | G47: =IF(H47="","",I47-H47) | I47: 4
A48: L2 | B48: 205000730 | C48: APH for FTN tester | D48: TE | E48: Huazhen | G48: =IF(H48="","",I48-H48) -> 1 | H48: 2 | I48: 3
A49: L2 | B49: 205000894 | C49: ACQ. I-Class APH, SS, 12.5 LG, .003 ID (Tubing assy with Pre-heater for FTN Tester (Valve to column)) | D49: TE | E49: Huazhen | G49: =IF(I49-H49>0,0,I49-H49) -> 0 | H49: 2 | I49: 2
A50: L2 | B50: 700006052 | C50: ASSY, CART, VENT, DOGLEG, 18 KPSI, DOM (EVent valve for FTN, PN 289006541) | D50: TE | E50: Huazhen | G50: =IF(I50-H50>0,0,I50-H50) -> 0 | H50: 3 | I50: 3
A51: L2 | B51: 700010979 | C51: Netgear 5 port switch | D51: TE | E51: Huazhen | G51: =IF(H51="","",I51-H51) | I51: 1
A52: L2 | B52: 999032368 | C52: Socket Weldment, Upchurch SG HS: 82055900 | D52: Tool | E52: Guan Yee | G52: =IF(H52="","",I52-H52) | I52: 5
A53: L2 | B53: 430003141 | C53: Samp Needle, 20uL(Order PN: 700005928) | D53: TE | E53: Huazhen | G53: =IF(H53="","",I53-H53) | I53: 1
A54: L2 | B54: 999038882 | C54: Modified Nut Driver | D54: Tool | E54: Guan Yee | G54: =IF(H54="","",I54-H54) | I54: 1
A55: L2 | B55: 999041596 | C55: Gage for 50ML wand | D55: Tool | E55: Guan Yee | G55: =IF(H55="","",I55-H55) | I55: 1
A56: L2 | B56: 999041597 | C56: Gage for 100ML wand | D56: Tool | E56: Guan Yee | G56: =IF(H56="","",I56-H56) | I56: 1
A57: L2 | B57: 205000610 | C57: Acquity UPLC TUV 5mm SS FC | D57: TE | E57: Huazhen | I57: 1
A58: L2 | B58: CL-66-CTK | C58: CL-66-CTK | D58: Tool | I58: 4
A59: L3 | B59: 187805-01 | C59: IMAQ - A6804 NI Cable for detector | D59: TE | E59: Huazhen | G59: =IF(H59="","",I59-H59) | I59: 1
A60: L3 | B60: 779168-01 | C60: NI Connector and backshell for PXI-258x switches | D60: TE | E60: Huazhen | I60: 1
A61: L3 | B61: WAT046-12 | C61: COMP SCREW 1/8 PEEK | G61: =IF(H61="","",I61-H61) | I61: 5
A62: L3 | B62: CF25048M312590 | C62: light pipe for detector | D62: TE | E62: Huazhen | G62: =IF(H62="","",I62-H62) | I62: 1
A63: L3 | B63: WAT097323 | C63: WAT097323 lamp assy | D63: TE | E63: Huazhen | G63: =IF(H63="","",I63-H63) | I63: 4
A64: L3 | B64: 700001722 | C64: 15V @ 1.5A power supply (725000541) | D64: TE | E64: Huazhen | G64: =IF(H64="","",I64-H64) | I64: 1
A65: L3 | B65: WAT027-08 | C65: Peek tubing .062OD x .040ID | D65: TE | E65: Huazhen | G65: =IF(H65="","",I65-H65) | I65: 3
A66: L3 | B66: PCBA for TE82888 | C66: Interface PCBA for Rough Alignment Tester TE82888 | D66: TE | E66: Huazhen | G66: =IF(H66="","",I66-H66) | I66: 1
A67: L3 | B67: WAT011042 | C67: BSM PM Plunger tool | D67: Tool | E67: Guan Yee | G67: =IF(H67="","",I67-H67) | I67: 1
A68: L3 | B68: 700004156 | C68: Cuvette Set | D68: TE | E68: Huazhen | G68: =IF(I68-H68>0,0,I68-H68) -> 0 | H68: 3 | I68: 6
A69: L3 | B69: WAS081324 | C69: 2487 lamp power supply | D69: TE | E69: Huazhen | G69: =IF(H69="","",I69-H69) | I69: 2
A70: L3 | B70: 700003639 | C70: 160GB Harddisk | D70: TE | E70: Huazhen | G70: =IF(H70="","",I70-H70) | I70: 2
A71: L3 | B71: 700008988 | C71: 250GB Harddisk | D71: TE | E71: Huazhen | G71: =IF(H71="","",I71-H71) | I71: 4
A72: L3 | B72: Harddisk for Richport | C72: Harddisk for Richport | D72: TE | E72: Huazhen | F72: HDD for PC | G72: =IF(H72="","",I72-H72) | I72: 1
A73: R3 | B73: 700003090 | C73: Lace Power Supply 350W | D73: TE | E73: Huazhen | G73: =IF(I73-H73>0,0,I73-H73) -> 0 | H73: 3 | I73: 3
A74: L3 | B74: 999028048 | C74: NA | D74: Tool | E74: Guan Yee | G74: =IF(H74="","",I74-H74) | I74: 3
A75: L3 | B75: WAT035190 | C75: Inline Filter Assy | D75: Tool | E75: Guan Yee | G75: =IF(H75="","",I75-H75) | I75: 1
A76: L3 | B76: 9027905430 | C76: Pin hole aperture tool | D76: Tool | E76: Guan Yee | G76: =IF(H76="","",I76-H76) | I76: 4
A77: L3 | B77: 289001438 | C77: Aperture hole | D77: TE | E77: Huazhen | I77: 1
A78: L3 | B78: WAS207069 | C78: 515 PLUNGER | D78: TE | E78: Huazhen | G78: =IF(I78-H78>0,0,I78-H78) -> 0 | H78: 4 | I78: 4
A79: L3 | B79: WAT022934 | C79: Seal, Clear-100 | D79: TE | E79: Huazhen | G79: =IF(I79-H79>0,0,I79-H79) -> 0 | H79: 4 | I79: 4
A80: L3 | B80: 210000520 | C80: 2 CPU'S for 210000478 | D80: TE | E80: Huazhen | G80: =IF(H80="","",I80-H80) | I80: 1
A81: L3 | B81: 289006760 | C81: ASSY, CARTRIDGE, CM, 18 KPSI (Order at PN 205000877 (2 per), KIT, VALVE CARTRIDGES, SS I-Class CM-A) | D81: TE | E81: Huazhen | G81: =IF(I81-H81>0,0,I81-H81) -> 0 | H81: 2 | I81: 2
A82: L3 | B82: 002261-BJ-BA-00 | C82: Filament Assembly | G82: =IF(H82="","",I82-H82) | I82: 1
A83: L4 | B83: QW2120 | C83: QW2120 barcode scanner | D83: TE | E83: Huazhen | G83: =IF(H83="","",I83-H83) | I83: 3
A84: L4 | B84: Mesur Matic PCBA | C84: NA | D84: TE | E84: Huazhen | G84: =IF(H84="","",I84-H84) | I84: 2
A85: L4 | B85: TBI SN-1X | C85: SHIM | D85: Tool | E85: Guan Yee | G85: =IF(H85="","",I85-H85) | I85: 2
A86: R6 | B86: 205015016 | C86: ACQUITY UPLC ID Cell TUV, Analytical (TUV Flowcell) | D86: TE | E86: Huazhen | F86: Reusable after PM done by Milford | G86: =IF(I90-H90>0,0,I90-H90) -> 0 | H86: 8 | I86: 5
A87: L4 | B87: 779065-01 (NI-6220) | C87: NI PCI-6220 M series DAQ | D87: TE | E87: Huazhen | G87: =IF(I91-H91>0,0,I91-H91) -> 0 | I87: 1
A88: L4 | B88: 1P301-1001-11 (Edgeport) | C88: Edgeport USB to Serial Converter (SN:E40672141) | D88: TE | E88: Huazhen | I88: 4
A89: L4 | B89: 289002450 | C89: TUV Shunts | D89: TE | G89: =IF(I95-H95>0,0,I95-H95) -> 0 | H89: 2 | I89: 3
A90: L4 | B90: 289002226 | C90: Shunt cell, Acquity PDA (PDA Medium Shunts. Order at PN 700002874) | D90: TE | E90: Huazhen | G90: =IF(I96-H96>0,0,I96-H96) -> 0 | H90: =3 -> 3 | I90: =3+K90+M90 -> 4 | J90: 44013 | K90: 3 | L90: 44152 | M90: -2
A91: L4 | B91: 289002149 | C91: PDA Large Shunts | D91: TE | G91: =IF(H91="","",I91-H91) -> 1 | H91: 2 | I91: 3
A92: L4 | B92: 289002219 | C92: PDA Linearity Shunts | D92: TE | G92: =IF(H92="","",I92-H92) -> 0 | H92: 1 | I92: 1
A93: L4 | B93: 289002227 | C93: Assy, Shunt Cell LG Small | D93: TE | G93: =IF(H93="","",I93-H93) -> 0 | H93: 1 | I93: 1 | J93: 44013 | K93: 1
A94: L4 | B94: 700002825 | C94: Shunt Cell, Acquity TUV > K05UPT700 | D94: TE | G94: =IF(H94="","",I94-H94) -> 1 | H94: 2 | I94: 3 | J94: 44013 | K94: 3
A95: L4 | B95: 01038-65 | C95: Weighing Balance Adapter 220V (Adapter only) | D95: TE | E95: Huazhen | G95: =IF(H95="","",I95-H95) | I95: 2
A96: L4 | B96: FA-24PS | C96: 24 Volt Powersupply | D96: TE | E96: Huazhen | G96: =IF(H96="","",I96-H96) | I96: 3
A97: L4 | B97: 71216SN2BL00, C111Q3 | C97: Parker Fluid Control DIV | D97: TE | E97: Huazhen | G97: =IF(H97="","",I97-H97) | I97: 2
A98: L4 | B98: 210000399 | C98: 2414 Front End Controller (Order at PN 700001116, ASSY, PCB, 2414 FRONT END BOARD) | D98: TE | E98: Huazhen | G98: =IF(I98-H98>0,0,I98-H98) -> -2 | H98: 2 | I98: =1+K98 -> 0 | J98: 44078 | K98: -1
A99: L4 | B99: 999041977-03 | C99: Backpressure Verification Sample, Assembly | D99: Tool | E99: Guan Yee | G99: =IF(H99="","",I99-H99) | I99: 1
A100: L4 | B100: 999041977-04 | C100: Backpressure Verification Sample, Assembly | G100: =IF(H100="","",I100-H100) | I100: 0
...

Sheet Summary 2020 Backup
A1: Location | B1: Part # | C1: Deccription | D1: TE/Tool/Consumable | E1: Ownership | F1: Remarks | G1: Need to order | H1: Safety Stock | I1: Balance | J1: Date in/out | K1: Quantity | L1: Date in/out | M1: Quantity | N1: Date in/out | O1: Quantity | P1: Date in/out | Q1: Quantity | R1: Date in/out | S1: Quantity | T1: Date in/out | U1: Quantity | V1: Date in/out | W1: Quantity | X1: Date in/out | Y1: Quantity | Z1: Date in/out | AA1: Quantity | AB1: Date in/out | AC1: Quantity | AD1: Date in/out | AE1: Quantity | AF1: Date in/out | AG1: Quantity | AH1: Date in/out | AI1: Quantity | AJ1: Date in/out | AK1: Quantity | AL1: Date in/out | AM1: Quantity | AN1: Date in/out | AO1: Quantity | AP1: Date in/out | AQ1: Quantity
A2: L1 | B2: 999027952-3 | C2: Dogpoint Screw tool | D2: Tool | E2: Guan Yee | I2: 14
A3: L1 | B3: 999028283 | C3: Fork Tool | D3: Tool | E3: Guan Yee | I3: 9
A4: L1 | B4: 999028283-1 | C4: Spare Fork | D4: Tool | E4: Guan Yee | I4: 8
A5: L1 | B5: 999029341 | C5: Fitting Tool | D5: Tool | E5: Guan Yee | I5: 6
A6: L1 | B6: 119646 | C6: Insertion Tool | D6: Tool | E6: Guan Yee | I6: 1
A7: L1 | B7: 999028048 | C7: Sleeve (Retaining ring press set) | D7: Tool | E7: Guan Yee | I7: 2
A8: L1 | B8: 999027952-2 | C8: Spanner Wrench | D8: Tool | E8: Guan Yee | I8: 1
A9: L1 | B9: 999026375-1 | C9: Torque Driver Fitting Tool | D9: Tool | E9: Guan Yee | I9: 1
A10: L1 | B10: 999027063 | C10: LED Holder Assy Tool | D10: Tool | E10: Guan Yee | I10: 1
A11: L1 | B11: 999029850 | C11: Check Valve Cable Assy Tool | D11: Tool | E11: Guan Yee | I11: 1
A12: L1 | B12: 999120050 | C12: Encoder Lock Tool | D12: Tool | E12: Guan Yee | I12: 2
A13: L1 | B13: 999039080 | C13: Clean Plate | D13: Tool | E13: Guan Yee | I13: 6
A14: L1 | B14: 119652 | C14: Press Tooling (Punch Pin Bearing Assy) | D14: Tool | E14: Guan Yee | I14: 1
A15: L1 | B15: P-299 | C15: Fitting Wrench (Extender Tool-Flangeless Nut ) | D15: Tool | E15: Guan Yee | I15: 2
A16: L1 | B16: 999027845 | C16: Plunger Asst Fix -Vista- | D16: Tool | E16: Guan Yee | I16: 1
A17: L1 | B17: 999026329 | C17: Encoder Alignment Tool | D17: Tool | E17: Guan Yee | I17: 2
A18: L1 | B18: 999026419 | C18: PCB Standoff Tool | D18: Tool | E18: Guan Yee | I18: 1
A19: L1 | B19: 888004188 | C19: Spacer | D19: Tool | E19: Guan Yee | I19: 1
A20: L1 | B20: WAT070216 | C20: BULK Head Fitting, 0.020 ID | D20: TE | E20: Huazhen | I20: 4
A21: L1 | B21: KR-515 | C21: Reticle 12 concentric circles 0.06 - 0.72 inch, frosted substrate, regular top, 27mm diameter | D21: TE | E21: Huazhen | I21: 1
A22: L1 | B22: KR-525 | C22: Reticle 30 concentric circles, frosted substrate, regular top, 30mm diameter | D22: TE | E22: Huazhen | I22: 1
A23: L1 | B23: 999038140 | C23: WRENCH FOR KNURLED NUT 405015874 | D23: Tool | E23: Guan Yee | I23: 2
A24: L1 | B24: WAT027629 | C24: Syringe Assembly 10ml Safety | D24: TE | E24: Huazhen | F24: ? Check physically | I24: 1
A25: L1 | B25: 201000197 | C25: I2V IBSM PM Kit (Incomplete set) | D25: PM | E25: Huazhen | G25: =IF(H25="","",I25-H25) | I25: 1
A26: L1 | B26: 201000197 | C26: ACQUITY I2V BSM PERFORMANCE MAINT KIT | D26: PM | E26: Huazhen | G26: =IF(I26-H26>0,0,I26-H26) -> 0 | H26: 1 | I26: 1
A27: L1 | B27: 201000260 | C27: IBSM PM Kit | D27: PM | E27: Huazhen | G27: =IF(H27="","",I27-H27) | I27: 1
A28: L1 | B28: 201000160 | C28: 1525 EF PM Kit (Incomplete set) | D28: PM | E28: Huazhen | G28: =IF(H28="","",I28-H28) | I28: 1
A29: L1 | B29: 201000160 | C29: 1525 EF PM Kit | D29: PM | E29: Huazhen | G29: =IF(H29="","",I29-H29) | I29: 1
A30: L1 | B30: 201000174 | C30: ACQUITY SAMPLE MGR PERFORM MAINT KIT | D30: PM | E30: Huazhen | F30: Pass to CM | G30: =IF(I30-H30>0,0,I30-H30) -> 0 | H30: 1 | I30: 1
A31: L1 | B31: 201000281 | C31: ACQUITY PDA/TUV 2489/2998 PERF MAINT KIT | D31: PM | E31: Huazhen | F31: Pass to CM | G31: =IF(I31-H31>0,0,I31-H31) -> 0 | H31: 1 | I31: 1
A32: L1 | B32: 700002642 | C32: ACQUITY UPLC ABSORBANCE 10MM TEST SOL | D32: Consumable | F32: YH request for Q32020 MRO; It's part of column manager tester PM | G32: 0 | H32: 1 | I32: 1 | J32: 44019 | K32: -1
A33: L2 | B33: OTO2016 | C33: OTO2016 | D33: TE | E33: Huazhen | F33: Restrictor for tester | G33: =IF(H33="","",I33-H33) | I33: 15
A34: L2 | B34: 430001208 | C34: Vent valve P2 to Tee/ filter | D34: TE | E34: Huazhen | G34: =IF(H34="","",I34-H34) | I34: 8
A35: L2 | B35: 9513K18 | C35: color coded 0.0075" plastic shim for FTN | D35: Tool | E35: Guan Yee | G35: =IF(H35="","",I35-H35) | I35: 7
A36: L2 | B36: 9513K19 | C36: color coded 0.010" plastic shim for FTN | D36: Tool | E36: Guan Yee | G36: =IF(H36="","",I36-H36) | I36: 7
A37: L2 | B37: WAT053502 | C37: PM Sticker | D37: TE | E37: Huazhen | G37: =IF(H37="","",I37-H37) | I37: 190
A38: L2 | B38: RZZ pin | C38: RZZ pin for FTN | D38: TE | E38: Huazhen | G38: =IF(H38="","",I38-H38) | I38: 2
A39: L2 | B39: PSL613315 | C39: fingertight ferrule | D39: TE | E39: Huazhen | G39: =IF(H39="","",I39-H39) | I39: 5
A40: L2 | B40: 405008767 | C40: Cap valve for FTN line to cap for dust | D40: TE | E40: Huazhen | G40: =IF(H40="","",I40-H40) | I40: 5
A41: L2 | B41: ULN2003A | C41: FTN Sensor | D41: TE | E41: Huazhen | G41: =IF(H41="","",I41-H41) | I41: 12
A42: L2 | B42: 430003154 | C42: ASSY, WELDED TUBE, SS, .003 ID X 14.5 LG (Order at PN 700008869) | D42: TE | E42: Huazhen | G42: =IF(I42-H42>0,0,I42-H42) -> 0 | H42: 4 | I42: =7+K42 -> 6 | J42: 43844 | K42: -1
A43: L2 | B43: 430001101 | C43: Tubing assy for FTN | D43: TE | E43: Huazhen | F43: Is it necessary? Sell back to Venture | G43: =IF(H43="","",I43-H43) | I43: 48
A44: L2 | B44: WAT026804 | C44: Tubing assy For FTN | D44: TE | E44: Huazhen | F44: Is it necessary? Sell back to Venture | G44: =IF(H44="","",I44-H44) | I44: 7
A45: L2 | B45: 430001102 | C45: Tubing assy for FTN | D45: TE | E45: Huazhen | F45: Is it necessary? Sell back to Venture | G45: =IF(H45="","",I45-H45) | I45: 48
A46: L2 | B46: 323000639 | C46: Connector HDR RA 1x15P B | D46: TE | E46: Huazhen | G46: =IF(H46="","",I46-H46) | I46: 25
A47: L2 | B47: ULN2064B | C47: For FTN | D47: TE | E47: Huazhen | G47: =IF(H47="","",I47-H47) | I47: 4
A48: L2 | B48: MC74HC14ANG | C48: For FTN | D48: TE | E48: Huazhen | G48: =IF(H48="","",I48-H48) | I48: 4
A49: L2 | B49: 205000730 | C49: APH for FTN tester | D49: TE | E49: Huazhen | G49: =IF(H49="","",I49-H49) -> 1 | H49: 2 | I49: 3
A50: L2 | B50: 205000894 | C50: ACQ. I-Class APH, SS, 12.5 LG, .003 ID (Tubing assy with Pre-heater for FTN Tester (Valve to column)) | D50: TE | E50: Huazhen | G50: =IF(I50-H50>0,0,I50-H50) -> 0 | H50: 2 | I50: 2
A51: L2 | B51: 700006052 | C51: ASSY, CART, VENT, DOGLEG, 18 KPSI, DOM (EVent valve for FTN, PN 289006541) | D51: TE | E51: Huazhen | G51: =IF(I51-H51>0,0,I51-H51) -> 0 | H51: 3 | I51: 3
A52: L2 | B52: 700010979 | C52: Netgear 5 port switch | D52: TE | E52: Huazhen | G52: =IF(H52="","",I52-H52) | I52: 1
A53: L2 | B53: 999032368 | C53: Socket Weldment, Upchurch SG HS: 82055900 | D53: Tool | E53: Guan Yee | G53: =IF(H53="","",I53-H53) | I53: 5
A54: L2 | B54: 430003141 | C54: Samp Needle, 20uL(Order PN: 700005928) | D54: TE | E54: Huazhen | G54: =IF(H54="","",I54-H54) | I54: 1
A55: L2 | B55: 999038882 | C55: Modified Nut Driver | D55: Tool | E55: Guan Yee | G55: =IF(H55="","",I55-H55) | I55: 1
A56: L2 | B56: 999041596 | C56: Gage for 50ML wand | D56: Tool | E56: Guan Yee | G56: =IF(H56="","",I56-H56) | I56: 1
A57: L2 | B57: 999041597 | C57: Gage for 100ML wand | D57: Tool | E57: Guan Yee | G57: =IF(H57="","",I57-H57) | I57: 1
A58: L2 | B58: 205000610 | C58: Acquity UPLC TUV 5mm SS FC | D58: TE | E58: Huazhen | I58: 1
A59: L2 | B59: CL-66-CTK | C59: CL-66-CTK | D59: Tool | I59: 4
A60: L3 | B60: 187805-01 | C60: IMAQ - A6804 NI Cable for detector | D60: TE | E60: Huazhen | G60: =IF(H60="","",I60-H60) | I60: 1
A61: L3 | B61: 779168-01 | C61: NI Connector and backshell for PXI-258x switches | D61: TE | E61: Huazhen | I61: 1
A62: L3 | B62: WAT046-12 | C62: COMP SCREW 1/8 PEEK | G62: =IF(H62="","",I62-H62) | I62: 5
A63: L3 | B63: CF25048M312590 | C63: light pipe for detector | D63: TE | E63: Huazhen | G63: =IF(H63="","",I63-H63) | I63: 1
A64: L3 | B64: WAT097323 | C64: WAT097323 lamp assy | D64: TE | E64: Huazhen | G64: =IF(H64="","",I64-H64) | I64: 4
A65: L3 | B65: 700001722 | C65: 15V @ 1.5A power supply (725000541) | D65: TE | E65: Huazhen | G65: =IF(H65="","",I65-H65) | I65: 1
A66: L3 | B66: WAT027-08 | C66: Peek tubing .062OD x .040ID | D66: TE | E66: Huazhen | G66: =IF(H66="","",I66-H66) | I66: 3
A67: L3 | B67: PCBA for TE82888 | C67: Interface PCBA for Rough Alignment Tester TE82888 | D67: TE | E67: Huazhen | G67: =IF(H67="","",I67-H67) | I67: 1
A68: L3 | B68: WAT011042 | C68: BSM PM Plunger tool | D68: Tool | E68: Guan Yee | G68: =IF(H68="","",I68-H68) | I68: 1
A69: L3 | B69: 700004156 | C69: Cuvette Set | D69: TE | E69: Huazhen | G69: =IF(I69-H69>0,0,I69-H69) -> 0 | H69: 3 | I69: 6
A70: L3 | B70: WAS081324 | C70: 2487 lamp power supply | D70: TE | E70: Huazhen | G70: =IF(H70="","",I70-H70) | I70: 2
A71: L3 | B71: 700003639 | C71: 160GB Harddisk | D71: TE | E71: Huazhen | G71: =IF(H71="","",I71-H71) | I71: 2
A72: L3 | B72: 700008988 | C72: 250GB Harddisk | D72: TE | E72: Huazhen | G72: =IF(H72="","",I72-H72) | I72: 4
A73: L3 | B73: Harddisk for Richport | C73: Harddisk for Richport | D73: TE | E73: Huazhen | F73: HDD for PC | G73: =IF(H73="","",I73-H73) | I73: 1
A74: R3 | B74: 700003090 | C74: Lace Power Supply 350W | D74: TE | E74: Huazhen | G74: =IF(I74-H74>0,0,I74-H74) -> 0 | H74: 3 | I74: 3
A75: L3 | B75: 999028048 | C75: NA | D75: Tool | E75: Guan Yee | G75: =IF(H75="","",I75-H75) | I75: 3
A76: L3 | B76: 186002350 | C76: ACQUITY UPLC BEH C18 1.7µm 2.1x50mm Colv | D76: Consumable | F76: 1x used for ColMg PM @L1; YH requested for 2020Q3 MRO | G76: -2 | H76: 9 | I76: 7 | J76: 44019 | K76: -7
A77: L2 | B77: 186006049 | C77: XBridgeR BEH C8 2.5um | D77: Consumable | F77: YH requested for 2020Q3 MRO | G77: 0 | H77: 8 | I77: 8 | J77: 44019 | K77: -8
A78: L3 | B78: WAT035190 | C78: Inline Filter Assy | D78: Tool | E78: Guan Yee | G78: =IF(H78="","",I78-H78) | I78: 1
A79: L3 | B79: 9027905430 | C79: Pin hole aperture tool | D79: Tool | E79: Guan Yee | G79: =IF(H79="","",I79-H79) | I79: 4
A80: L3 | B80: 289001438 | C80: Aperture hole | D80: TE | E80: Huazhen | I80: 1
A81: L3 | B81: WAS207069 | C81: 515 PLUNGER | D81: TE | E81: Huazhen | G81: =IF(I81-H81>0,0,I81-H81) -> 0 | H81: 4 | I81: 4
A82: L3 | B82: WAT022934 | C82: Seal, Clear-100 | D82: TE | E82: Huazhen | G82: =IF(I82-H82>0,0,I82-H82) -> 0 | H82: 4 | I82: 4
A83: L3 | B83: 210000520 | C83: 2 CPU'S for 210000478 | D83: TE | E83: Huazhen | G83: =IF(H83="","",I83-H83) | I83: 1
A84: L3 | B84: 289006760 | C84: ASSY, CARTRIDGE, CM, 18 KPSI (Order at PN 205000877 (2 per), KIT, VALVE CARTRIDGES, SS I-Class CM-A) | D84: TE | E84: Huazhen | G84: =IF(I84-H84>0,0,I84-H84) -> 0 | H84: 2 | I84: 2
A85: L3 | B85: 002261-BJ-BA-00 | C85: Filament Assembly | G85: =IF(H85="","",I85-H85) | I85: 1
A86: L4 | B86: QW2120 | C86: QW2120 barcode scanner | D86: TE | E86: Huazhen | G86: =IF(H86="","",I86-H86) | I86: 3
A87: L4 | B87: Mesur Matic PCBA | C87: NA | D87: TE | E87: Huazhen | G87: =IF(H87="","",I87-H87) | I87: 2
A88: L4 | B88: TBI SN-1X | C88: SHIM | D88: Tool | E88: Guan Yee | G88: =IF(H88="","",I88-H88) | I88: 2
A89: R6 | B89: 205015016 | C89: ACQUITY UPLC ID Cell TUV, Analytical (TUV Flowcell) | D89: TE | E89: Huazhen | F89: Reusable after PM done by Milford | G89: =IF(I93-H93>0,0,I93-H93) -> 0 | H89: 8 | I89: 5
A90: L4 | B90: 779065-01 (NI-6220) | C90: NI PCI-6220 M series DAQ | D90: TE | E90: Huazhen | G90: =IF(I94-H94>0,0,I94-H94) -> 0 | I90: 1
A91: L4 | B91: 1P301-1001-11 (Edgeport) | C91: Edgeport USB to Serial Converter (SN:E40672141) | D91: TE | E91: Huazhen | I91: 4
A92: L4 | B92: 289002450 | C92: TUV Shunts | D92: TE | G92: =IF(I98-H98>0,0,I98-H98) -> 0 | H92: 2 | I92: 3
A93: L4 | B93: 289002226 | C93: Shunt cell, Acquity PDA (PDA Medium Shunts. Order at PN 700002874) | D93: TE | E93: Huazhen | G93: =IF(I99-H99>0,0,I99-H99) -> 0 | H93: =3 -> 3 | I93: =3+K93+M93 -> 4 | J93: 44013 | K93: 3 | L93: 44152 | M93: -2
A94: L4 | B94: 289002149 | C94: PDA Large Shunts | D94: TE | G94: =IF(H94="","",I94-H94) -> 1 | H94: 2 | I94: 3
A95: L4 | B95: 289002219 | C95: PDA Linearity Shunts | D95: TE | G95: =IF(H95="","",I95-H95) -> 0 | H95: 1 | I95: 1
A96: L4 | B96: 289002227 | C96: Assy, Shunt Cell LG Small | D96: TE | G96: =IF(H96="","",I96-H96) -> 0 | H96: 1 | I96: 1 | J96: 44013 | K96: 1
A97: L4 | B97: 700002825 | C97: Shunt Cell, Acquity TUV > K05UPT700 | D97: TE | G97: =IF(H97="","",I97-H97) -> 1 | H97: 2 | I97: 3 | J97: 44013 | K97: 3
A98: L4 | B98: 01038-65 | C98: Weighing Balance Adapter 220V (Adapter only) | D98: TE | E98: Huazhen | G98: =IF(H98="","",I98-H98) | I98: 2
A99: L4 | B99: FA-24PS | C99: 24 Volt Powersupply | D99: TE | E99: Huazhen | G99: =IF(H99="","",I99-H99) | I99: 3
A100: L4 | B100: 71216SN2BL00, C111Q3 | C100: Parker Fluid Control DIV | D100: TE | E100: Huazhen | G100: =IF(H100="","",I100-H100) | I100: 2
...

Sheet Consumable
A1: Location | B1: Part # | C1: Deccription | D1: TE/Tool/Consumable | E1: Remarks | F1: Need to order | G1: Safety Stock | H1: Balance | I1: Date in/out | J1: Quantity | K1: Date in/out | L1: Quantity | M1: Date in/out | N1: Quantity | O1: Date in/out | P1: Quantity | Q1: Date in/out | R1: Quantity | S1: Date in/out | T1: Quantity | U1: Date in/out | V1: Quantity | W1: Date in/out | X1: Quantity | Y1: Date in/out | Z1: Quantity | AA1: Date in/out | AB1: Quantity | AC1: Date in/out | AD1: Quantity | AE1: Date in/out | AF1: Quantity | AG1: Date in/out | AH1: Quantity | AI1: Date in/out | AJ1: Quantity | AK1: Date in/out | AL1: Quantity | AM1: Date in/out | AN1: Quantity | AO1: Date in/out | AP1: Quantity
A2: L1 | B2: 201000197 | C2: I2V IBSM PM Kit (Incomplete set) | D2: PM | H2: 1
A3: L1 | B3: 201000197 | C3: ACQUITY I2V BSM PERFORMANCE MAINT KIT | D3: PM | F3: 0 | G3: 1 | H3: 1
A4: L1 | B4: 201000260 | C4: IBSM PM Kit | D4: PM | H4: 1
A5: L1 | B5: 201000160 | C5: 1525 EF PM Kit (Incomplete set) | D5: PM | H5: 1
A6: L1 | B6: 201000160 | C6: 1525 EF PM Kit | D6: PM | H6: 1
A7: L1 | B7: 201000174 | C7: ACQUITY SAMPLE MGR PERFORM MAINT KIT | D7: PM | F7: 0 | G7: 1 | H7: 1
A8: L1 | B8: 201000281 | C8: ACQUITY PDA/TUV 2489/2998 PERF MAINT KIT | D8: PM | F8: 0 | G8: 1 | H8: 1
A9: L1 | B9: 700002642 | C9: ACQUITY UPLC ABSORBANCE 10MM TEST SOL | D9: Consumable | E9: YH request for Q32020 MRO; It's part of column manager tester PM | F9: 0 | G9: 1 | H9: 1 | I9: 44019 | J9: -1
A10: L2 | B10: 205000610 | C10: Acquity UPLC TUV 5mm SS FC | D10: TE | H10: 1
A11: L3 | B11: WAT097323 | C11: WAT097323 lamp assy | D11: TE | H11: 4
A12: L3 | B12: 700004156 | C12: Cuvette Set | D12: Consumable | F12: 0 | G12: 3 | H12: 6
A13: L3 | B13: 186002350 | C13: ACQUITY UPLC BEH C18 1.7µm 2.1x50mm Colv | D13: Consumable | E13: 1x used for ColMg PM @L1; YH requested for 2020Q3 MRO | F13: -2 | G13: 9 | H13: 7 | I13: 44019 | J13: -7
A14: L2 | B14: 186006049 | C14: XBridgeR BEH C8 2.5um | D14: Consumable | E14: YH requested for 2020Q3 MRO | F14: 0 | G14: 8 | H14: 8 | I14: 44019 | J14: -8
A15: L3 | B15: WAS207069 | C15: 515 PLUNGER | D15: PM | F15: 0 | G15: 4 | H15: 4
A16: L3 | B16: WAT022934 | C16: Seal, Clear-100 | D16: PM | F16: 0 | G16: 4 | H16: 4
A17: R6 | B17: 205015016 | C17: ACQUITY UPLC ID Cell TUV, Analytical (TUV Flowcell) | D17: PM | E17: Reusable after PM done by Milford | F17: -3 | G17: 8 | H17: 5
A18: L4 | B18: 700005269 | C18: PERFORMANCE PLUS HB DEUTERIUM LAMP ASSY | D18: PM | F18: -6 | G18: 6 | H18: 0
A19: L5 | B19: 700009641 | C19: ESI PROBE ASSEMBLY 250mm Qda | D19: Consumable | E19: YH requested for 2020Q3 MRO | H19: 22 | I19: 44019 | J19: -22 | AD19: -1 | AE19: 43732 | AF19: 16 | AG19: 43733 | AH19: -16 | AI19: 43770 | AJ19: 14 | AK19: 43805 | AL19: -1
A20: L5 | B20: 700009768 | C20: Aperture Disk Assembly P Qda | D20: Consumable | E20: YH requested for 2020Q3 MRO | H20: 21 | I20: 44019 | J20: -21
A21: R3 | B21: 700000254 | C21: Performance Plus Sapphire CV CART (2) | D21: PM | F21: -6 | G21: 8 | H21: 2
A22: R3 | B22: WAT025531 | C22: Assy, Solvent Filter | D22: PM | F22: 0 | G22: 2 | H22: 2
A23: R3 | B23: 186003031 | C23: XBridge C18 3.5 um 4.6 x 50 mm Column | D23: Consumable | F23: 0 | G23: 12 | H23: 22 | I23: 43844 | J23: -1 | K23: 43906 | L23: -1 | M23: 44019 | N23: -10
A24: R4 | B24: 186002457 | C24: White, 9mm Screw Cap w/Bonded pre-slit P | D24: Consumable | E24: Passed to Flex as discussion 2020Q3 | F24: 0 | G24: 2 | H24: 2 | I24: 44019 | J24: -2
A25: R4 | B25: 186005827 | C25: Blk Cap 12x32mm vial PSlt PTFE Sil Sept | D25: Consumable | E25: Passed to Flex as discussion 2020Q3 | F25: -1 | G25: 2 | H25: 1 | I25: 44019 | J25: -1
A26: R4 | B26: 186002127 | C26: Green Screw Cap (9mm) w/Bonded Pre-Slit | D26: Consumable | E26: Passed to Flex as discussion 2020Q3 | F26: -1 | G26: 2 | H26: 1 | I26: 44019 | J26: -1
A27: R4 | B27: 186002128 | C27: Red Screw Cap (9mm) w/Bonded Pre-Slit PT | D27: Consumable | E27: Passed to Flex as discussion 2020Q3 | F27: -1 | G27: 2 | H27: 1 | I27: 44019 | J27: -1
A28: R4 | B28: 700003741 | C28: HPLC System UV Test Solutions (Ampules 1, 3, 7, 8 & 9) | D28: Consumable | E28: Passed to Flex as discussion 2020Q3 | F28: 0 | G28: 6 | H28: 6 | I28: 44019 | J28: -6
A29: R4 | B29: 700009330 | C29: PERFORMANCE PLUS HB DEUTERIUM LAMP ASSY | D29: TE | H29: 4
C33: Passed to YH/Venture
C34: Passed to DA/Flex

Sheet Cannot find in cabinet
A1: Location | B1: Part # | C1: Deccription | D1: TE/Tool/Consumable | E1: Remarks | F1: Need to order | G1: Safety Stock | H1: Balance | I1: Date in/out | J1: Quantity | K1: Date in/out | L1: Quantity | M1: Date in/out | N1: Quantity | O1: Date in/out | P1: Quantity | Q1: Date in/out | R1: Quantity | S1: Date in/out | T1: Quantity | U1: Date in/out | V1: Quantity | W1: Date in/out | X1: Quantity | Y1: Date in/out | Z1: Quantity | AA1: Date in/out | AB1: Quantity | AC1: Date in/out | AD1: Quantity | AE1: Date in/out | AF1: Quantity | AG1: Date in/out | AH1: Quantity | AI1: Date in/out | AJ1: Quantity | AK1: Date in/out | AL1: Quantity | AM1: Date in/out | AN1: Quantity | AO1: Date in/out | AP1: Quantity
A2: L3 | B2: WAT046-12 | C2: COMP SCREW 1/8 PEEK | H2: 5
A3: L3 | B3: 002261-BJ-BA-00 | C3: Filament Assembly | H3: 1
A4: L4 | B4: 999041977-04 | C4: Backpressure Verification Sample, Assembly | H4: 0
A5: L6 | B5: RCDDT320-EN-BS | C5: Tester, RCD | H5: 1
A6: L6 | B6: 222563 | C6: ESD Personnel Test Station | H6: 0
A7: R2 | B7: TE82996 Driver | C7: Adapter Control Board (For CEI GTS1 test fixture TE82994-2) | H7: 4
A8: R3 | B8: G14F06201 | C8: Bar Code Scanner QW2100 | H8: 0
B9: 667004297 | C9: SQT Option for Systems on Emp 3 | H9: 0
B10: BVHVU6 | C10: HAND VALVES | H10: 4
B11: BVU60-1212 | C11: MANUAL | H11: 4
